Workbook
Name _: '1.DEKORI'!$A$1:$E$96
Name _: '6. UREDI'!$B$1:$E$47
Name _: '7. WELLNESS'!$A$1:$E$27
Name _: REKAPITULACIJA!$A$1:$D$28
Name __: '1.DEKORI'!$B$1:$E$96
Name __: '3. TAPECIRANJE'!$A$1:$E$50
Name ___: '3. TAPECIRANJE'!$A$1:$E$51
Name ___: '4. BRAVARSKI'!$A$1:$E$70
Name ___: '5. NAMJEŠTAJ RESTORANA'!$A$1:$E$54
Name ____: '5. NAMJEŠTAJ RESTORANA'!$A$1:$E$56
Name ____: '6. UREDI'!$B$1:$E$48
Name _____: '4. BRAVARSKI'!$A$1:$E$72
Name _____: '7. WELLNESS'!$A$1:$E$29
Name ______: '3. TAPECIRANJE'!$A$1:$E$50
Name ______: REKAPITULACIJA!$A$1:$D$28
Name _______: '1.DEKORI'!$B$1:$E$96
Name __________: REKAPITULACIJA!$A$1:$D$28
Name ____________: '7. WELLNESS'!$A$1:$E$27
Name _____________: '1.DEKORI'!$B$1:$E$96
Name _____________: '4. BRAVARSKI'!$A$1:$E$70
Name _____________: '5. NAMJEŠTAJ RESTORANA'!$A$1:$E$54
Name ______________: '3. TAPECIRANJE'!$A$1:$E$51
Name _________________: '6. UREDI'!$B$1:$E$47
Name a: '1.DEKORI'!$1:$1
Name a: '3. TAPECIRANJE'!$1:$1
Name a: '4. BRAVARSKI'!$1:$1
Name a: '5. NAMJEŠTAJ RESTORANA'!$A$1:$E$56
Name aa: '4. BRAVARSKI'!$A$1:$E$72
Name aa: '6. UREDI'!$B$1:$E$48
Name aaa: '7. WELLNESS'!$A$1:$E$29
Name aaa: REKAPITULACIJA!$A$1:$D$28
Name aaaa: '1.DEKORI'!$B$1:$E$98
Name aaaaa: '1.DEKORI'!$1:$1
Name aaaaa: '3. TAPECIRANJE'!$B$1:$E$50
Name aaaaa: '4. BRAVARSKI'!$B$1:$E$70
Name aaaaa: '5. NAMJEŠTAJ RESTORANA'!$A$1:$E$54
Name aaaaa: '6. UREDI'!$B$1:$E$47
Name aaaaa: '7. WELLNESS'!$A$1:$E$27
Name aaaaa: REKAPITULACIJA!$A$1:$D$28
Name aaaaaa: '3. TAPECIRANJE'!$1:$1
Name aaaaaa: '4. BRAVARSKI'!$1:$1
Name aaaaaa: '5. NAMJEŠTAJ RESTORANA'!$1:$1
Name aaaaaa: '6. UREDI'!$1:$1
Name aaaaaa: '7. WELLNESS'!$1:$1
Name aaaaaaa: '6. UREDI'!$1:$1
Name aaaaaaaaa: '1.DEKORI'!$1:$1
Name aaaaaaaaa: '5. NAMJEŠTAJ RESTORANA'!$1:$1
Name aaaaaaaaa: '7. WELLNESS'!$1:$1
Name aaaaaaaaaa: '3. TAPECIRANJE'!$1:$1
Name aaaaaaaaaaa: '4. BRAVARSKI'!$1:$1
Name aaaaaaaaaaaa: '1.DEKORI'!$1:$1
Name aaaaaaaaaaaa: '3. TAPECIRANJE'!$1:$1
Name aaaaaaaaaaaa: '4. BRAVARSKI'!$1:$1
Name aaaaaaaaaaaaa: '5. NAMJEŠTAJ RESTORANA'!$1:$1
Name aaaaaaaaaaaaa: '7. WELLNESS'!$1:$1
Name aaaaaaaaaaaaaa: '6. UREDI'!$1:$1
Name aaaaaaaaaaaaaa: '7. WELLNESS'!$1:$1
Name aaaaaaaaaaaaaaa: '5. NAMJEŠTAJ RESTORANA'!$1:$1
Name aaaaaaaaaaaaaaa: '6. UREDI'!$1:$1
Name aaaaaaaaaaaaaaaa: '3. TAPECIRANJE'!$1:$1

Sheet NASLOV
B5: građevina | C5: VINSKI HOTEL ROXANICH
B9: vrsta projekta | C9: TROŠKOVNIK OPREME
B14: naručitelj | C14: ROXANICH d.o.o
C15: Kosinožići 26, 52446 Nova Vas
C16: OIB: 90993986244
B18: izvršitelj | C18: ARHITEKTONSKI BIRO TURATO d.o.o.
C19: Krešimirova 12
C20: 51000 Rijeka
B23: glavni projektant | C23: dr.sc. IDIS TURATO dipl.ing.arh.
B27: direktor | C27: dr.sc. IDIS TURATO dipl.ing.arh.

Sheet SADRZAJ
B1: SADRŽAJ
B7: 1 | C7: ='1.DEKORI'!C3 -> DEKORI
B9: 2 | C9: ='2.STOLARSKI'!C3 -> STOLARSKI RADOVI SOBA
B11: 3 | C11: ='3. TAPECIRANJE'!C3 -> NABAVA DESIGNERSKOG NAMJEŠTAJA TAPECIRANJE KREVETA
B13: 4 | C13: ='4. BRAVARSKI'!C3 -> BRAVARSKO - STOLARSKI RADOVI IZRADE NAMJEŠTAJA
B15: 5 | C15: ='5. NAMJEŠTAJ RESTORANA'!C3 -> NAMJEŠTAJ I OPREMA RESTORANA
B17: 6 | C17: ='6. UREDI'!C3 -> GENERIČKI NAMJEŠTAJ UREDA
B19: 7 | C19: ='7. WELLNESS'!C3 -> OPREMA WELLNESSA
B21: 8 | C21: ='8. RESTORAN TRS'!D3 -> OPREMA KUHINJE I RESTORANA
B23: 8 | C23: ='8. RESTORAN OPIS'!B1 -> TEHNIČKI OPIS - OPREMA KUHINJE I RESTORANA
B25: 9 | C25: ='9.RASVJETA'!C3 -> RASVJETA

Sheet 1.DEKORI
A1: REDNI BROJ | C1: OPIS | D1: JEDINICA MJERE | E1: KOLIČINA | F1: PROIZVOĐAČ/OPIS | G1: JEDINIČNA CIJENA | H1: UKUPNA CIJENA
A3: 1. | C3: DEKORI
B5: 1.
C6: Napomena: Sve mjere potrebno je obavezno prije izrade pojedinog elementa provjeriti u interijeru.
C9: ZAVJESE
A11: 1. | B11: 1 | C11: Vodilice za lagane zavjese i blackout zavjese (1.2. i 1.4.) u sobama (28) i apartmanima (4)
C12: Izrada, doprema i montaža na građevini dvokanalne aluminijske vodilice s klizačima brojnosti / gustoće odgovarajuće gramaturi tkanine iz stavke i nosivosti svakog pojedinog nosača. Vodilica ima odmak za laganu zavjesu. Proizvod se postavlja prema nacrtu, usklađeno sa zatečenim dimenzijama prostora na mjestu ugradnje / postave.
D13: m1 | E13: 158 | H13: =G13*E13 -> 0
A16: 1. | B16: =B11+1 -> 2 | C16: Lagana zavjesa u sobama (28) i apartmanima (4)
C17: Izrada, doprema i montaža na građevini lagane zavjese tip kao P. FREY GARONNE BLANC 001 ili jednakovrijedno Boja prema odabiru projektanta FR 100% negorivo; 252 g/m2 H 300 perivo na 30 oC i kemijsko čiščenje Nabor: x2 duljina zavjese = Nx2 (N=dužina vodilice iz 1.1.) Boja prema odabiru projektanta Proizvod se postavlja prema nacrtu, usklađeno sa zatečenim dimenzijama prostora na mjestu ugradnje / postave.
C18: Zavjesa u sobama 1-28, h=300 | D18: m1 | E18: 284 | H18: =G18*E18 -> 0
C19: Zavjesa u apartmanu S1, h=150 | D19: m1 | E19: 7 | H19: =G19*E19 -> 0
C20: Zavjesa u apartmanima S2 i S4, h=324 | D20: m1 | E20: =9*2 -> 18 | H20: =G20*E20 -> 0
C21: Zavjesa u apartmanu S3, h=280 | D21: m1 | E21: 7 | H21: =G21*E21 -> 0
A23: 1. | B23: =B16+1 -> 3 | C23: Zavjesa BLACK OUT
C24: Izrada, doprema i montaža na građevini blackout zavjese tip kao SAHCO LIGHT C ili jednakovrijedno Boja prema odabiru projektanta FR 100% negoriv Š 280, 672 g/m2 Nabor x 1,67
C25: Zavjesa u sobama 1-28, h=300 | D25: m1 | E25: 248 | H25: =G25*E25 -> 0
C26: Zavjesa u apartmanu S1, h=150 | D26: m1 | E26: 6.16 | H26: =G26*E26 -> 0
C27: Zavjesa u apartmanima S2 i S4, h=324 | D27: m1 | E27: =7.875 -> 7.875 | H27: =G27*E27 -> 0
C28: Zavjesa u apartmanu S3, h=280 | D28: m1 | E28: 6.16 | H28: =G28*E28 -> 0
A31: 1. | B31: =B23+1 -> 4 | C31: Vodilice za lagane zavjese kreveta na kat
C32: Izrada, doprema i montaža na građevini jednokanalne aluminijske vodilice u RAL-u prema odabiru projektanta, s klizačima brojnosti / gustoće odgovarajuće gramaturi tkanine iz stavke i nosivosti svakog pojedinog nosača. Proizvod se postavlja prema nacrtu, usklađeno sa zatečenim dimenzijama prostora na mjestu ugradnje / postave.
D33: m1 | E33: =3*2*14 -> 84 | H33: =G33*E33 -> 0
A34: 1. | B34: =B31+1 -> 5 | C34: Lagana zavjesa unutra kreveta na kat
C35: Izrada, doprema i montaža na građevini lagane zavjese unutar kreveta tip kao P. FREY GARONNE BLANC 001 ili jednakovrijedno Boja prema odabiru projektanta FR 100% negorivo; 252 g/m2 perivo na 30 oC i kemijsko čiščenje Nabor: x2 Boja prema odabiru projektanta Proizvod se postavlja prema nacrtu, usklađeno sa zatečenim dimenzijama prostora na mjestu ugradnje / postave.
D36: m1 | E36: 84 | H36: =G36*E36 -> 0
A38: 1. | B38: =B34+1 -> 6 | C38: Vodilice za teške zavjese u dvorani
C39: Izrada, doprema i montaža na građevini aluminijske vodilice kao Mottura art 541 s kotačićima brojnosti / gustoće Art 5017 za odgovarajuću gramaturu tkanine iz stavke i nosivosti svakog pojedinog nosača.Spojevi vodilica precizno spojeni poveznom pločom zbog protoka kotačića. Visina dvorane 400 cm. Proizvod se postavlja prema nacrtu, usklađeno sa zatečenim dimenzijama prostora na mjestu ugradnje / postave. Vodilica se izvodi u četri segmenta u obliku slova "L" 6m+6,5m
D40: m1 | E40: 50 | H40: =G40*E40 -> 0
A41: 1. | B41: =B38+1 -> 7 | C41: Teške zavjese u dvorani
C42: Izrada, doprema i montaža na građevini DIMOUT zavjese tip kao CAMATO Cuore FR – ili jednakovrijedno Gramatura 585 g/m2 Sastav 100% Polyesrer FR Š 150 cm Nabor ravni panel sa obostranom tkaninom i vatelinom u sredini Kemisko čiščenje Boja prema odabiru projektanta
C43: h = 300 cm (dim dvorane 11x13m) podjela dvorane na 4 dijela predviđeno 132 m tkanine | D43: m1 | E43: 132 | H43: =G43*E43 -> 0
A45: 1. | B45: =B41+1 -> 8 | C45: Vodilice za zavjese u restoranu
C46: Izrada, doprema i montaža na građevini aluminijske vodilice kao Mottura Kuadro 482 s kotačićima brojnosti / gustoće za odgovarajuću gramaturu tkanine iz stavke i nosivosti svakog pojedinog nosača.Spojevi vodilica precizno spojeni poveznom pločom zbog protoka kotačića. Visina restorana 300 cm. Proizvod se postavlja prema nacrtu, usklađeno sa zatečenim dimenzijama prostora na mjestu ugradnje / postave. Vodilica se izvodi u tri segmenta. Prvi koji okružuje površinu 6m*6,5m i druga dva u obliku slovo "L" 6m+6,5m
D47: m1 | E47: 50 | H47: =G47*E47 -> 0
A49: 1. | B49: =B45+1 -> 9 | C49: Zavjesa RESTORAN
C50: Izrada, doprema i montaža na građevini DIMOUT zavjese tip kao Delius 38182 – ili jednakovrijedno Gramatura 260 g/m2 Sastav 100% Polyesrer FR širina 150 cm Šivano da se ne vidi traka Nabor x 2 Pranje 40 Boja prema odabiru projektanta
C51: h=300 cm (ispod čelične konstrukcije stropa restorana) utrošeno 126 m (150cm) | D51: m1 | E51: 126 | H51: =G51*E51 -> 0
A53: 1. | B53: 10 | C53: Vodilice za zavjese Wine Table
C54: Izrada, doprema i montaža na građevini aluminijske vodilice kao Mottura 541 s kotačićima brojnosti / gustoće za odgovarajuću gramaturu tkanine iz stavke i nosivosti svakog pojedinog nosača.Spojevi vodilica precizno spojeni poveznom pločom zbog protoka kotačića. Visina Wine Bar-a 300 cm. Proizvod se postavlja prema nacrtu, usklađeno sa zatečenim dimenzijama prostora na mjestu ugradnje / postave. Vodilica se izvodi u obliku slova "L" 2m+6,5m
D55: m1 | E55: 9.5 | H55: =G55*E55 -> 0
A59: 1. | B59: 11 | C59: Zavjesa Wine Table
C60: Izrada, doprema i montaža na građevini DIMOUT zavjese tip kao Designers Guild BALLA – ili jednakovrijedno Sastav 58%Viscosa 42%Cotton; Š 136 cm Nabor 200% Podstava Atelier 1963 Z559 Kemisko čiščenje Površina koja se pokriva je 2m+7,5m visina 300 cm
C61: Obračun po metru dužnom utrošene tkanine | D61: m1 | E61: 46.5 | H61: =G61*E61 -> 0
C62: *napomena: tkanina sa dodatnom inpregnacijom za atest o negorivosti. 7000 kn
C65: PREKRIVAČI I JASTUCI
A67: 1. | B67: =B49+1 -> 10 | C67: Jastuci za krevet
C68: Dobava, krojenje, izrada i postavljanje u prostor kvalitetnih dekorativnih jastuka za krevet u sobama tip kao D.GUILD ili jednakovrijedno boje FDG 2732 01 + FDG 2734/04 100% poly: š 142 silikonska ispuna Dim 60cm x 40 cm Boja prema odabiru projektanta
D69: kom | E69: 56 | H69: =G69*E69 -> 0
A71: 1. | B71: =B67+1 -> 11 | C71: Prekrivač kreveta
C72: Dobava, krojenje, izrada i postavljanje u prostor kvalitetnih prekrivača za krevet u sobama tip kao D.GUILD ili jednakovrijedno HINDON 2727 01 7 KOM+ TAVY 2740 01 7 KOM + FDG 2732 01 7 KOM + FDG 2734 /04 7 KOM Dobava, šivanje i postavljanje na objektu prekrivaća Prekrivaći su nepodstavljeni Š 142 cm 100% poly, kemijsko čišćenje Gotova dim 265 x 265 cm Boja prema odabiru projektanta
D73: kom | E73: 28 | H73: =G73*E73 -> 0
C75: SOBE I APARTMANI
A77: 1. | B77: =B71+1 -> 12 | C77: Madrac 200x180x34
C78: Dobava i postava madraca 200x180x34 cm. Madrac koji u osnovi ima pojačanu i povišenu džepičastu žičanu jezgru promjera 2,0 mm. Obloga madraca izrađena je od dugotrajno elastične hladno lijevane pjene . Okomice od PU pjene. Navlaka - teško goriva i antibakterijska tkanina prošivena PES vatom i slojem PU pjene, koja zadovoljava zahtjeve norme BS EN 597-1 /597-2 kao i Oko-Tex standard 100. Tip kao HESPO President ili jednako vrijedno. | D78: kom | E78: 32 | H78: =G78*E78 -> 0
A80: 1. | B80: =B77+1 -> 13 | C80: Madrac 200x180x19
C81: Dobava i postava madraca 200x180x19 cm. Bonell žičana jezgra izrađena od čelične žice promjera 2,4 mm. Obloga od latexiranog kokosa 650 gr/m2. Navlaka-teško goriva tkanina prošivena PES vatom i slojem PU pjene, koja zadovoljava zahtjeve norme BS EN 597-1/ 597-2 kao i Oko-Tex standard 100. Tip kao Hespo Comfort 650 fr ili jednako vrijedno. | D81: kom | E81: 14 | H81: =G81*E81 -> 0
A83: 1. | B83: =B80+1 -> 14 | C83: Elastična podloga 200x90
C84: Dobava i montaža elastične podloge dim 200x90. Izrađena od elemenata iz furnirske ploče i elastičnih letvica sa folijom. Nosači letvica izrađeni su od kvalitetne gume (SBS). Na vanjskim stranicama okvira nalaze se plastične završne kape. U središnjem djelu podnice nalazi se pet duplih elastičnih letvica sa 10 regulatora čvrstoće. Visina podnice: 9 cm Broj letvica:28 Tipp kao HEspo Focus S ili jednako vrijedno | D84: kom | E84: 92 | H84: =G84*E84 -> 0
A86: 1. | B86: =B83+1 -> 15 | C86: Jastuk 80x60 cm
C87: Navlaka jastuka je proštepana i izrađena od 100% pamučne tkanine koja je antibakterijski tretirana. Ispuna jastuka je od 100% poliesterskih, silikoniziranih kuglica. Dimenzija 80x60cm . Tip kao Hespo Medisan ili jednakovrijedan | D87: kom | E87: 100 | H87: =G87*E87 -> 0
A89: 1. | B89: =B86+1 -> 16 | C89: Zaštitne prekrivke 200x180
C90: Antibakterijska pamučna tkanina, vanjski ovoj 100% pamuk, punjena sa PES vatom 100gr/m2. periva na 60 stupnjava. | D90: kom | E90: 52 | H90: =G90*E90 -> 0
A92: 1. | B92: =B89+1 -> 17 | C92: Poplun 200x140
C93: Poplun bijeli antibakterijski, ovitak 100% poliestersko vlakno (Microfibra). Punilo poliestersko vlakno 300 gr/m2.Periv na 40 stupnjeva. Tip kao (...) ili jednakovrijedan
D94: kom | E94: 100 | H94: =G94*E94 -> 0
C96: DEKORI SVEUKUPNO: | H96: =SUM(H2:H95) -> 0

Sheet 2.STOLARSKI
A1: REDNI BROJ | C1: OPIS | D1: JEDINICA MJERE | E1: KOLIČINA | F1: PROIZVOĐAČ/OPIS | G1: JEDINIČNA CIJENA | H1: UKUPNA CIJENA
A3: 2. | C3: STOLARSKI RADOVI SOBA
B5: 1. | C5: Napomena: Sve mjere potrebno je obavezno prije izrade pojedinog elementa provjeriti u interijeru. U cijenu uključena izrada uzornih komada
A7: =A3 -> 2. | B7: 1 | C7: Krevet na kat
C8: Dobava, nabava i montaža kreveta na kat dimenzija 240x240x264. Krevet ima drvenu konstrukciju obloženu MDF-om završno pripremljenu za tapeciranje. Podnice kreveta su iverica sa rupama za prozračivanje (madraci posebna stavka). Za penjanje na gornji kat kreveta nuditi tipske metalne stepenice u završnoj obradi kao mjed (sve prema shemi oprema 2.1.). U cijenu uključena izrada radioničkih nacrta. Prije izrade radioničke dokumentacije nacrte predočiti na ovjeru glavnom projektantu. Izrada uzornih kreveta uključena u cijenu. Uzorni krevet ovjerava glavni projektant.
C9: Uključena je i dobava, krojenje. Izrada tapecirunga kreveta obuhvaćea u stavci TAPECIRANJE 3.10.
C10: 240x240x264 | D10: kom | E10: 14 | H10: =G10*E10 -> 0
C11: Dobava i nabava prirodne tapetarske juneće kože debljine 1.4-1.5 mm debljine - Bruto količina 32m2 po krevetu | D11: m2 | E11: 448 | H11: =G11*E11 -> 0
A13: =A3 -> 2. | B13: =B7+1 -> 2 | C13: Krevet sa stepenicama
C14: Dobava, izrada i montaža kreveta sa stepenicama dimenzija 290x290 (krevet 200x200x90, stepenice 3x30x30x200, pomoćni stolić 2x45x60x20), sve prema shemi. Krevet ima drvenu konstrukciju u MDF-u završno furniranu furnirom mahagonij slaganjem prema shemi i završno lakirano sjajnim transparentnim lakom. Podnica kreveta je iverica sa rupama za prozračivanje (madraci posebna stavka). Krevet bočno ima dva konzola ladičara a sa prednje strane se izvode stepenice u širini kreveta iste obrade. Krevet dolazi sa ladicama na kliznim koračićima. U cijenu uključena izrada radioničkih nacrta. Prije izrade radioničke dokumentacije nacrte predočiti na ovjeru glavnom projektantu. Izrada uzornih kreveta uključena u cijenu. Uzorni krevet ovjerava glavni projektant
C15: Uključena je i dobava, krojenje, izrada i postavljanje drvene završne obloge prema odabiru projektanta.
C16: 290x200x90 + 2x45x60x20 | D16: kom | E16: 14 | H16: =G16*E16 -> 0
A18: =A3 -> 2. | B18: =B13+1 -> 3 | C18: Krevet za apartmane
C19: Dobava, nabava i montaža kreveta tip kao Living Divani Neowall ( Piero Lissoni ) ili jednakovrijedno. Konstrukcija drvena šperploča obloženai poliuretanskom pjenom različite gustoće i dodatnim slojem steriliziranog perja, šivanim u zasebnim džepićima. Drvena fiksna podnica sa elastičnim letvicama dodatno zaštićena 100% pamučnom tkaninom, pričvršena za konstrukcijom patentnim zatvaračem. Završna presvlaka tkanina kat. Media, boje po izboru projektanta, može se potpuno skinuti Dim. 185 x 240 x h.68 / 20 cm
D20: kom | E20: 3 | H20: =G20*E20 -> 0
A22: =A3 -> 2. | B22: =B18+1 -> 4 | C22: Ugradbeni ormar
C23: Dobava, izrada i postavljanje ormara u sobe hotela prema shemi projektanta. Unutrašnjost ormara podijeljena vertikalno i horizontalno. Vertikalno u 2 dijela, jedna polovica je prazna punom visinom sa kružnom horizontalnom šipkom za vješalice (kaputi, haljine, ...). Druga vertikalna polovica je podijeljena sa tri police. Horizontalno je također podijeljen na dva dijela. Gornji manji dio ormara vertikalno nije razdjeljen te je u punoj širini, visine oko 40 cm. Ormar je razdjeljen sa 4 vrata. Gornja dvoja manja vrata te donja dvoja veća vrata. Vrata su napravljena od iverala 18mm pripremljeno za ljepljenje tapete ili folije. Ručkica isfrezana.
C24: Panti na vratima su sa zaustavljačima. Unutrašnjost ormara je napravljena od bijele iverice 19 mm kantirano melaminskom folijom. Poleđina ormara napravljena od bijelog MDF-a 3 mm i pričvrščena vijcima.
C25: Dimenzije 1680 x 2505x 600 mm | D25: kom | E25: 28 | H25: =G25*E25 -> 0
C26: sef u ormaru model kao VITRIFRIGO 2043-ME ili jednakovrijedno: baterijski pokretan sa 4 znamenkastom šifrom-8 znamenkastom master šifrom,vanjskom jedinicom za pristup ukoliko se batrerija isprazni dok je zaključan te ključem za mehaničko otključavanje kao zadnja opcija otvaranja,dakle trostruka zaštita. | D26: kom | E26: 28 | H26: =G26*E26 -> 0
A28: =A3 -> 2. | B28: =B22+1 -> 5 | C28: Nabava i postava keramičkog stolića, dimenzija 60*60*60cm (tip kao I classici di Rex Statuario ili jednakovrijedan), boje prema odabiru projektanta. Stolić ima ugrađene zaokretne kotače radi lakšeg premještanja po prostoru. Obračun po komadu.
C29: sobe | D29: kom | E29: 32 | H29: =G29*E29 -> 0
C30: lobby | D30: kom | E30: 2 | H30: =G30*E30 -> 0
A31: =A3 -> 2. | B31: =B28+1 -> 6 | C31: Dobava izrada i montaža stolića u obliku punog cilindra. Konstrukcija je drvena, obložena laminatom završne obrade kao palisander ili prema odabiru projektanta. Sve prema SHEMA 01. 4.1. Dim. h=40cm, Ø45cm
C32: lobby | D32: kom | E32: 3 | H32: =G32*E32 -> 0
A34: =A3 -> 2. | B34: =B31+1 -> 7 | C34: Dobava izrada i montaža stolića u obliku punog kvadra. Konstrukcija je drvena, obložena laminatom završne obrade kao palisander ili prema odabiru projektanta.Sve prema SHEMA 01. 4.1. Dim. h=40cm, 110x54cm
C35: lobby | D35: kom | E35: 2 | H35: =G35*E35 -> 0
A37: =A3 -> 2. | B37: =B34+1 -> 8 | C37: Dobava izrada i montaža pisaćeg stola s minibarom. Ploča stola od laminiranog stakla, rubovi brušeni, koja na jednoj strani leži na okviru minibara izvedenom iz furnira, a na drugoj umetnuta u nosač u obliku drvenog valjka promjera 300mm. Minibar tip kao Vitrifrigo: model HC40 ili jednakovrijedan. Zapremina 40 lit. Prilagodljive 2 police u vratima i 1 unutarnja također prilagodljiva plastična polica, nogice visine 8 mm. Troškovi energije 0,9 kWh/24 h, indeks energetske učinkovitosti D, razina buke bešuman.
C38: 1.ploča (dim. 160x60x6) | D38: kom | E38: 32 | H38: =G38*E38 -> 0
C39: 2.drveni valjak (zidni nosač) | D39: kom | E39: 32
C40: 3.okvir minibara (iz furnira i vratima u boji mjeda) | D40: kom | E40: 32
C41: 4.minibar | D41: kom | E41: 32 | H41: =G41*E41 -> 0
A43: 2. | B43: =B37+1 -> 9 | C43: Nabava, dobava i ugradnja drvene obloge poda, zida i stropa sjevernog anexa.
C44: Izrada, dobava i ugradnja panela tipa istog ili jednakovrijednog kao Sasmoplan - Eternit, uključivo sa svim potrebnim elementima za montažu panela. Paneli se fiksiraju na pod, zid i strop pomoću tipske potkonstrukcije ukupne debljine slojeva max 10 cm (između potkonstrukcije postavlja se mineralna vuna koja nije dio ove stavke).
C45: Panel se sastoji od upojne jezgre iz mineralnih vlakana. Paneli se fiksiraju na zid pomoću tipske nosive potkonstrukcije i ljepenjem. Za potrebne zvučne/toplinske izloacije mora se ugraditi ili 10cm minelne vune ili akustički voal, a nabava, dobava i ugradnje je u obavezi investitora.
C46: Ton, materijal i izgled završne obrade panela eskalatora atrija po izboru projektanta, a prema dostavljenim uzorcima odabranog proizvođača. Paneli će se ugraditi prema rasporedu panela u dogovoru s projektantom. Oblogu je potrebno je ugraditi u svemu prema uputama proizvođača odabranog tipa panela s originalnim pričvrsnim i spojnim materijalom. U jediničnu cijenu stake uključen je sav potreban rad materijal i pribor, sav potreban spojni i pričvrsni materijal, do pune funkcionalnosti izvedene drvene obloge apartmana Radna skela bez obzira na visinu uračunata je u jediničnu cijenu. Obračun po m² izvedene drvene obloge eskalatora atrija. Klasifikacija panela A1 "nezapaljiv", mogućnost lakiranja. Dimenzije panela 2600 x 1250 mm / 3100 x 1250 mm. Debljina ovisno o različitih debljina odrediti će se u dogovoru s projektantom.
C47: pod | D47: m2 | E47: =18.67*2 -> 37.34 | H47: =G47*E47 -> 0
C48: zid i strop | D48: m2 | E48: =63.81+18.67*2 -> 101.15 | H48: =G48*E48 -> 0
A50: =A3 -> 2. | B50: =B43+1 -> 10 | C50: Ormar s recepcijskim pultom wellnesa
C51: Dobava, izrada i postavljanje ormara u wellnessu hotela prema shemi projektanta (list 9). Unutrašnjost ormara podijeljena je vertikalno i horizontalno. Vertikalno u 2 dijela. Gornji i donji dio jedne vertikalne polovice podjeljen je sa 6 polica za ručnike. Donji dio te vertikalne polovice čine tri police. Druga vertikalna polovica je podijeljena na gornji dio koji čini pet polica te donji dio s ladičarom. Materijal ormara je mediapan debljine cca 2 cm.
C52: Pult visine 120 cm sadrži radni stol na visini 80 cm te dva ladičara. Materijal pulta je mediapan debljine cca 2 cm dok je ploča radnog stola debljine 4 cm.
C53: Max. dim. recepcijskog ormara i pulta ukupno 1680 x 2505x 600 mm | D53: kom | E53: 1 | H53: =G53*E53 -> 0
A55: =A3 -> 2. | B55: =B50+1 -> 11 | C55: Dobava, izrada i montaža posuda za biljke u sobama kockastog oblika. Dim. 40 x 40 x h40. Konstrukcija MDF, vanjska obloga lim paljeni mesing. Unutranji uložak metalna kadica za humus.
D56: kom | E56: 32 | H56: =G56*E56 -> 0
A58: =A3 -> 2. | B58: =B55+1 -> 12 | C58: Dobava i doprema biljnog materijala za vaze (40x40x40cm) u sobama hotela.
C59: Tip kao Ficus benjamin ili jednakovrijedan a prema odabiru projektanta, visina biljke 140 cm, lončić fi 27 cm | D59: kom | E59: 32 | H59: =G59*E59 -> 0
A61: =A3 -> 2. | B61: =B58+1 -> 13 | C61: Dobava, doprema i ugradnja materijala za ispunjavanje vaza. Vaze se ispunjavaju sljedećim slojevima: drenažni sloj(glinopor) debljine 5 cm, geotekstil (stavlja se izmeđ8 drenaže i supstrata te supstrata i malča), supstrat ( tip STENDER B400 ili jednako vrijedan. Specifikacija supstrata: sporootpuštajući, NPK 14-16-18, pH=5.5-6, min.sol 0.9g/l) u preostalom sloju. Količina supstrata uvećava se za 20% radi slijeganja materijala). Na završni sloj - malč u sloju2cm radi čuvanja vlage u vazi ( vulkanski kameni agregat crveno-smeđe boje). Obračun se vrši po komadu ispunjene vaze. Sadnja uračunata.
C62: Izračun materiala po komadu vaze: drenažni sloj 5cm-0.16 m2x0.05m=0.008 m3 (8lit.);geotekstil 0.16 m2x2 puta=0.32 m2; supstrat sloj 33cm- 0.16m2x0.33m=0.053m3x0.2%=0.063m3 (63l-15l lončić sadnice=48lit.); malč sloj 2 cm-0.16m2x0.02m=0.003 m3 (3 lit.) | D62: kom | E62: 32 | H62: =G62*E62 -> 0
A64: 2. | B64: =B61+1 -> 14 | C64: Dobava, izrada i montaža pravokutnog stola u prostoru za pušenje . Ploča od iverice debljine 3 cm i laminirana pod visokim tlakom (HPL - High pressure laminate) u boji prema odabiru projektanta s rubom Laiton lisse i nogom stola od željeza. Boja i završna obrada po izboru projektanta. Izvođač je dužan izraditi prototip na dozvolu i konzultacije s projektantom.
C65: Dimenzije 120 x 60 x 40 cm. | D65: kom | E65: 4 | H65: =G65*E65 -> 0
A67: 2. | B67: =B64+1 -> 15 | C67: Dobava, izrada i montaža pravokutnog stola u prostoru za pušenje. Ploča od iverice debljine 3 cm i laminirana pod visokim tlakom (HPL - High pressure laminate) u boji prema odabiru projektanta s rubom Laiton lisse i nogom stola od željeza. Boja i završna obrada po izboru projektanta. Izvođač je dužan izraditi prototip na dozvolu i konzultacije s projektantom.
C68: Dimenzije 60 x 60 x 40 cm. | D68: kom | E68: 2 | H68: =G68*E68 -> 0
A70: =A3 -> 2. | B70: =B67+1 -> 16 | C70: Nabava, dobava i ugradnja zidnih polica za vina u TRGOVINI
C71: Izrada, dobava i ugradnja zidnih polica za trgovinu iz punog drveta, u boji i teksturi prema odabiru projektanta.
C72: Polica se sastoji od okvira s horizontalnim i vertikalnim podjelama , a sve prema shemi. Niše imaju integriranu LED rasvjetu i uključene su u cijenu stavke. Horizontalna radna ploha izrađena od keramike prema uputi projketanta s okvirom od češljane patinirane mjedi. Donja etaža sa staklenim frontama bez okvira dim 5000x2700x800/500
C73: Police su dimenzija prema shemi izrađene od kaljenog stakla,2 kom po niši.
C74: Tapeta I apliciranje nisu u cijeni - potrebna neto količina cca 38m2 | D74: kom | E74: 1 | H74: =G74*E74 -> 0
A76: =A3 -> 2. | B76: =B70+1 -> 17 | C76: Nabava, dobava i ugradnja police za vina u TRGOVINI
C77: Izrada, dobava i ugradnja "otoka"
C78: Element se sastoji od okvira s horizontalnim i vertikalnim podjelama Niše su obložene HPL-om u boji prema izboru projektanta, imaju integriranu LED rasvjetu i uključene su u cijenu stavke.Pregrade između niše širine 150mm Gornja ploča HPL 38mm u boji prema izboru projektanta s obrubom od češljane i patinirane mjedi. Otklopne staklene fronte bez okvira. dim 3000x2000x900
C79: Police su dimenzija prema shemi, LIST br 17 | D79: kom | E79: 1 | H79: =G79*E79 -> 0
A81: =A3 -> 2. | B81: =B76+1 -> 18 | C81: Dobava, izrada i montaža police za pića ispod prozorima na fasadnom zidu trgovine. Police i vertikalne bočne stranice su od lakiranog mediapana. Okvir čelični lim završne obrade kao mjed. Stražnja strana police s integriranom rasvjetom. Horizontalni razmaci vertikalnih ploča 38mmi. Dimenzije 5000x500x500mm. Završne obrada vanjskih i unutarnjih ploha u HPL-u i boje po izboru projektanta. Bridovi obloženi u češljanu i patiniranu mjed. Izvođač je dužan izvesti policu prema shemi i opisu projektanta. sve prema shemi LIST 18
D82: kom | E82: 1 | H82: =G82*E82 -> 0
A84: =A3 -> 2. | B84: =B81+1 -> 19 | C84: Dobava, izrada i montaža MDF prozorske klupčice u sobama (28soba) završne pbrade prema odabiru projektanta, debljine 30mm, širine 40cm, duljine prema dimenziji prozora. U cijenu uključena prethodna izmjena na licu mjesta, ugradnja, upasivanje, te sav potreban materijal i pribor.
C85: P1: proizvodna mjera: 90 cm | D85: kom | E85: 18 | H85: =G85*E85 -> 0
C86: P2: proizvodna mjera: 90 cm | D86: kom | E86: 29 | H86: =G86*E86 -> 0
C87: P3: proizvodna mjera: 90 cm | D87: kom | E87: 31 | H87: =G87*E87 -> 0
C88: P4: proizvodna mjera: 120 cm | D88: kom | E88: 2 | H88: =G88*E88 -> 0
C89: P7: proizvodna mjera: 120 cm | D89: kom | E89: 1 | H89: =G89*E89 -> 0
C91: STOLARSKI RADOVI SOBA | H91: =SUM(H2:H89) -> 0

Sheet 3. TAPECIRANJE
A1: REDNI BROJ | C1: OPIS | D1: JEDINICA MJERE | E1: KOLIČINA | F1: PROIZVOĐAČ/OPIS | G1: JEDINIČNA CIJENA | H1: UKUPNA CIJENA
A3: 3. | C3: NABAVA DESIGNERSKOG NAMJEŠTAJA TAPECIRANJE KREVETA
B5: 1. | C5: Napomena: Sve mjere potrebno je obavezno prije izrade pojedinog elementa provjeriti u interijeru. Uključeni su nemaještaj lobby-a / recepcije, restorana i lobby - bara te polivalentne dvorane. Za sav namještaj je potrebno dostaviti probni model u mjerilu 1:1.
C7: LOBBY / RECEPCIJA
A9: 3. | B9: 1 | C9: Dobava, izrada i montaža sofe tip kao Living Divani Lipp (Piero Lissoni, 2014) ili jednakovrijedno - leđna konstrukcija i rukonasloni: drveni okvir sa panelima - sjedeća konstrukcija: metalni okvir sa elastičnim trakama - noge: metalne, h.20 cm, epoksi lak boje bronce - čepći na nogama PVC crne boje - ispuna: poliuretanska pjena različite gustoće i akrilna vata prekrivena polietrenom presvlakom - ispuna sjedećih jastuka: sterilizirano gušćje perje u zasebnim odjeljcima, sa središnjim umetkom od poliuretanske pjene različite gustoće - leđni naslon: od poliuretanske pjene različite gustoće sa "capitonne" detaljem - presvlaka leđnog naslona nije skidiva, koža tip kao kat. Natural boje po izboru projektanta - presvlaka sofe: tkanina tip kao Molly 100% new woll, kat. Special boje prema izboru projektanta, skidiva - dim. 280 x 90 x 42/86 cm h - norme. EN 16139:2013; EN16139:2013/AC:2013
D10: kom | E10: 2 | H10: =G10*E10 -> 0
A12: 3. | B12: =B9+1 -> 2 | C12: Dobava, izrada i montaža fotelja u lobbyu tip kao Cassina Lady iconic ( Marco Zanuso ) ili jednakovrijedno - konstrukcija: metalna sa poliuretanskom pjenom različite gustoće - noge: metal u boji Bazalt - presvlaka: tkanina Tartan, crno-bijelo - dim: 77 x 84 x 38/46/78 cm h - norme: UNI EN ISO 14001; UNI EN ISO 9001; BS OHSAS 18001
D13: kom | E13: 6 | H13: =G13*E13 -> 0
A15: =A3 -> 3. | B15: =B12+1 -> 3 | C15: Dobava, izrada i montaža barske stolice tip kao Cassina Cab_B ( Mario Bellini ) ili jednakovrijedno - konstrukcija: metalna - presvlaka: tvrda koža, pigmentirana, boja po odabiru projektanta - oslonac za noge - dim. 55 x 51 x 35/81/112 cm h - norme UNI EN ISO 14001; UNI EN ISO 9001; BS OHSAS 18001
D16: kom | E16: 8 | H16: =G16*E16 -> 0
A18: =A3 -> 3. | B18: =B15+1 -> 4 | C18: Dobava, izrada i montaža fotelja u lobby-u tip kao Living Divanni Lip ( Piero Lissoni ) ili jednakovrijedno - leđna konstrukcija i rukonasloni: drveni okvir sa panelima - sjedeća konstrukcija: drveni okvir sa elastičnim trakama - noge: metalne, h.20 cm, epoksi lak boje bronce - čepći na nogama PVC crne boje - ispuna: poliuretanska pjena različite gustoće i akrilna vata sa "capitonne" detaljem - ispuna sjedećih jastuka: sterilizirano gušćje perje u zasebnim odjeljcima, sa središnjim umetkom od poliuretanske pjene različite gustoće, prekrivena polietrenom presvlakom - presvlaka: tkanina Prestige, pliš, kat. Top boje prema izboru projektanta, skidiva presvlaka sjedećeg jastuka - dim. 77 x 67 x 44/86 cm h
D19: kom | E19: 14 | H19: =G19*E19 -> 0
A21: =A3 -> 3. | B21: =B18+1 -> 5 | C21: Dobava, izrada i montaža fotelja u lobby-u tip kao Cassina Cab ( Mario Bellini ) ili jednakovrijedno - konstrukcija: metalna - presvlaka: tvrda koža, boja po odabiru projektanta - sjedeći jastučić s ispunom u poliuretanskoj pjeni ( CFC free ) - dim. 69 x 62 x 44/60/80 cm h - norme: UNI EN ISO 14001; UNI EN ISO 9001; BS OHSAS 18001
D22: kom | E22: 14 | H22: =G22*E22 -> 0
A24: =A3 -> 3. | B24: =B21+1 -> 6 | C24: Dobava, izrada i montaža fotelje dim 93x77x72 cm tapecirane u kožu,prema uputi projektanta, Sofa inspirirana Wittmann Hoffmann Kubus. Sjedala izrađena od elastične gurtne te spužve debljine 10cm od hladno ljevanje pjene.
D25: kom | E25: 6 | H25: =G25*E25 -> 0
A27: =A3 -> 3. | B27: =B24+1 -> 7 | C27: Dobava, izrada i montaža fotelje dim 166x77x72 cm tapecirane u kožu,prema uputi projektanta, Sofa inspirirana Wittmann Hoffmann Kubus. Sjedala izrađena od elastične gurtne te spužve debljine 10cm od hladno ljevanje pjene.
D28: kom | E28: 6 | H28: =G28*E28 -> 0
C30: SOBE / APARTMANI
A32: =A3 -> 3. | B32: =B27+1 -> 8 | C32: Dobava, izrada i montaža stolice u svim sobama i apartmanima tip kao Cassina Cab_B ( Mario Bellini ) ili jednakovrijedno - stolac s rukonaslonima - konstrukcija: metalna - presvlaka: tvrda koža, pigmentirana, boja po odabiru projektanta - dim. 62 x 52 x 45/64/82 cm h - norma: UNI EN ISO 14001; UNI EN ISO 9001; BS OHSAS 18001
D33: kom | E33: 31 | H33: =G33*E33 -> 0
A36: 3. | B36: =B32+1 -> 9 | C36: Dobava, izrada i montaža fotelja u sobama i apartmanima tip kao Cassina Lady ( Marco Zanuso ) ili jednakovrijedno - konstrukcija: metalna sa poliuretanskom pjenom različite gustoće - noge: metal u boji Bazalt - presvlaka: tkanina tip kao Perbacco, kat. E, boja prema izboru projektanta - sastav tkanine: 6% cotone 59% lino 25% acrilica 4% poliestere 6% poliamm. - dim. 77 x 84 x 38/46/78 cm h - norme: UNI EN ISO 14001; UNI EN ISO 9001; BS OHSAS 18001
D37: kom | E37: 32 | H37: =G37*E37 -> 0
A38: 3. | B38: =B36+1 -> 10 | C38: Dobava, izrada i montaža dvosjeda u apartmanima tip kao Living Divani Neowall ( Piero Lissoni ). Dvosjed je na razvlačenje. Sastoji se od potkonstrukcije od šperploče sa potporama od elastičnih traka. Jastuci su presvučeni hladnom pjenom i poliesterskom vatom, a madrac na rastezanje je od hladne pjene sa metalnim oprugama, a ortopedska podnica od elektrovarene žice . Nogice su od PVC-a. Dvosjed je presvučen tekstilnom prevlakom boje i teksture po izboru projektanta, kategorije Media. Dimenzija madraca 120 x 195 cm.
C39: Dim sofe 190 x 100 x 65 cm. | D39: kom | E39: 2 | H39: =G39*E39 -> 0
D41: kom | E41: 14 | H41: =G41*E41 -> 0
C43: NAMJEŠTAJ WELLNESSA
A45: =A3 -> 3. | B45: =B38+1 -> 11 | C45: Dobava i nabava fotelje uz prijemne pulteve tip kao DePadova Silver ( Vico Magistretti ) ili jednakovrijedno - radni stolac s rukonaslonima na kotačićima - 5-kraka okretna baza na kotačićima - kotačići plastika crne boje, za tvrdu ili mekanu podlogu - podesiva visina sjedenja - konstrukcija: cjevasti aluminij - završna obrada epoksipoliester boja po odabiru arhitekte - okvir sjedalice: ljevani aluminij - sjedalica i leđni naslon polipropilen class E1 boja po odabiru arhitekte, perforirano - dodatni jastučić, tkanina kat. C2, Cotone 2011, boja po odabiru arhitekte - dim. 62 x 57 x 44-50/65-71/78-84 cm h - test vatrootpornosti ( Art. 2 point 2.4 D.M. 26.6.84 )
D46: kom | E46: 4 | H46: =G46*E46 -> 0
C48: RADOVI TAPECIRANJA UKUPNO: | H48: =SUM(H2:H47) -> 0

Sheet 4. BRAVARSKI
A1: REDNI BROJ | C1: OPIS | D1: JEDINICA MJERE | E1: KOLIČINA | F1: PROIZVOĐAČ/OPIS | G1: JEDINIČNA CIJENA | H1: UKUPNA CIJENA
A3: 4. | C3: BRAVARSKO - STOLARSKI RADOVI IZRADE NAMJEŠTAJA
B5: 1. | C5: Napomena: Sve mjere potrebno je obavezno prije izrade pojedinog elementa provjeriti u interijeru. Uključeni su nemaještaj lobby-a / recepcije, restorana i lobby - bara te polivalentne dvorane.. Obavezna izrada oglednog elementa
C7: LOBBY / RECEPCIJA
A9: 4. | B9: 1 | C9: Dobava, izrada i montaža recepcijskog pulta u lobbyu. Iza maske je u pravilnoj mreži postavljeno osvjetljenje. Recepcijski pult uključuje i izradu recepcijske plohe od ultrapas ploče tip kao FunderMax Star Favorit Mona Lisa 21 FH (boja pale jade ili prema odabiru projektanta) u komadu uokvirene čeličnim okvirom završne obrade kao mesing. Nosive vertikale (10 kom nosivih 12x110x0,5 i 35kom 12x110x0,3) iz tankog čeličnog profila završne obrade kao mesing prema shemi. Nosivi centralni element od ultrapas ploča 12x55x110, boja prema odabiru projektanta. Ladičari 12x ispod gornje plohe. Završne obrade svih materijala i boje po izboru projektanta. Izvođač je dužan ponuditi pult prema shemi i opisu projektanta, a izvesti prema radioničkim nacrtima koji su uključeni u cijenu stavke.
D10: kom | E10: 1 | H10: =G10*E10 -> 0
A12: 4. | B12: =B9+1 -> 2 | C12: Dobava, izrada i montaža polica recepcije od masivnog drva dimenzija prema shemi. Policeuokvirene čeličnim čeličnim limom 1mm završne obrade mesing. Police od ultrapas ploča tip kao FunderMax Star Favorit Mona Lisa 21 FH (boja prema odabiru projektanta). Izvođač je dužan ponuditi pult prema shemi i opisu projektanta, a izvesti prema radioničkim nacrtima koje ovjerava projektant, a čija izrada je uključena u cijenu stavke. sve prema shemi LIST 3
D13: kom | E13: 1 | H13: =G13*E13 -> 0
A15: =A3 -> 4. | B15: =B12+1 -> 3 | C15: Dobava, izrada i montaža police za pića u prozorima na stražnjem zidu prostora šanka u lobby baru. Police i vertikalne bočne stranice su od lakiranog mediapana. Okvir čelični lim završne obrade kao mjed. Stražnja strana police pokrivena ogledalima, s integriranom rasvjetom. Horizontalni razmaci staklenih i vertikalnih ploča prema shemi. Dubina police je 350 mm. Završne obrade svih materijala i boje po izboru projektanta. Izvođač je dužan izvesti policu prema shemi i opisu projektanta. sve prema shemi LIST 5
D16: kom | E16: 9 | H16: =G16*E16 -> 0
A18: =A3 -> 4. | B18: =B15+1 -> 4 | C18: Dobava, izrada i montaža šanka i retropulta, prema shemi, sa maskom od mediapana dimenzijaprema shemi, završne obrade kao mjed. Radne plohe su na visini od 800 mm. Gornji i donji dio šanka su od FunderMax Star Favorit Mona Lisa 21 FH ili lakiranog mediapana u visini 150 mm. Boja prema odabiru projektanta. U šank su ugrađeni sudoper, hladnjak, aparat za kavu i svi potrebni ormari (koji nisu sastavni dio stavke). Završne obrade svih materijala i boje po izboru projektanta. Izvođač je dužan izvesti policu prema shemi i opisu projektanta. prema shemi LIST 4 i 5. Detalje uskladiti s nacrtima kuhinje Lohberger koji će naručitelj naknadno dostaviti.
D19: kom | E19: 1 | H19: =G19*E19 -> 0
A21: =A3 -> 4. | B21: =B18+1 -> 5 | C21: Dobava, izrada i montaža niskog okruglog stola u lobby baru prema shemi 6 ZANATSKI 4.6 STOLIĆ LOBBY BAR. Ploča od iverice debljine 3 cm i laminirana pod visokim tlakom (HPL - High pressure laminate) u boji prema odabiru projektanta s rubom Laiton lisse i nogom stola od željeza. Boja i završna obrada po izboru projektanta. Izvođač je dužan izraditi prototip na dozvolu i konzultacije s projektantom. Dimenzije Ø70cm h=30 cm.
D22: kom | E22: 10 | H22: =G22*E22 -> 0
C24: APARTMANI
A27: =A3 -> 4. | B27: =B21+1 -> 6 | C27: Dobava, izrada i montaža niskog okruglog stola u apartmanima tip kao Living Divani Jelly ( Piero Lissoni ) Ploča je od lakiranog mediapana crne boje, a noge od kromirane cijevi, zvjezdaste 4 kraka baze, ploča ø 600 mm h.340 mm
C28: ø 600 mm | D28: kom | E28: 2 | H28: =G28*E28 -> 0
A30: =A3 -> 4. | B30: =B27+1 -> 7 | C30: Dobava, izrada i montaža metalnih stolica na lođama i bakonima hotela tip kao DePadova Silver Outdoor ( Vico Magistretti ) ili jedankovrijedno - stolac s rukonaslonima - konstrukcija: cjevasti aluminij - završna obrada epoksipoliester mat crno - čepći na nogama termoplastični materijal - okvir sjedalice: ljevani aluminij sa zaštitom za vanjsku uporabu - sjedalica i leđni naslon polipropilen class E1 boja crna, perforirano - dim. 61 x 51 x 46/67/80 cm h - test vatrootpornosti ( Art. 2 point 2.4 D.M. 26.6.84 )
D31: kom | E31: 12 | H31: =G31*E31 -> 0
A33: 4. | B33: =B30+1 -> 8 | C33: Dobava, izrada i montaža stola na loggiama hotela tip kao Arrmet Voila ili jednakovrijedan - stol pogodan za vanjsku uporabu - ploča 80 x 80 cm HPL, crna jezgra, laminat , boja crna - centralna noga inox bojano u crno: kvadratnog presjeka 60x60 mm za kvadratnu bazu - baza inox ploca bojana crno 45 x 45 cm
D34: kom | E34: 3 | H34: =G34*E34 -> 0
A36: =A3 -> 4. | B36: =B33+1 -> 9 | C36: Nabava, dobava i postava podnih obloga od aluminijskog sjajnog, poliranog lima debljine 2 mm, ze zidnih od plastike s reflektirajućom folijom, debljina cca 4mm. Lim se pričvršćuje na gotovu ravnu, odmašćenu i očišćenu podlogu. Pod izveden kao protuklizan.
C38: pod aluminijski | D38: m2 | E38: =18.67*2 -> 37.34 | H38: =G38*E38 -> 0
C39: zid i strop | D39: m2 | E39: =63.81+18.67*2 -> 101.15 | H39: =G39*E39 -> 0
C41: POLIVALENTNA DVORANA
A43: 4. | B43: =B36+1 -> 10 | C43: Dobava, izrada i montaža stolice bez rukohvata u polivalentnoj dvorani tip kao DePadova Silver ( Vico Magistretti ) ili jednakovrijedno - konstrukcija: cjevasti aluminij - završna obrada satin anodizirani aluminij - čepći na nogama termoplastični materijal - okvir sjedalice: ljevani aluminij - sjedalica i leđni naslon piolipropilen class E1 boja crna, perforirano - stolica se može slagati jedna na drugu do 6 kom - dim.45 x 51 x 46/80 cm h - test vatrootpornosti ( Art. 2 point 2.4 D.M. 26.6.84 ) - stolac s rukonaslonima
D44: kom | E44: 120 | H44: =G44*E44 -> 0
C45: KLUB
A47: =A3 -> 4. | B47: 11 | C47: Dobava, izrada i montaža šanka i retropulta kluba na etaži garaže, prema shemi, sa maskom od mediapana dimenzijaprema shemi, završne obrade kao mjed. Radne plohe su na visini od 800 mm. Gornji i donji dio šanka su od FunderMax Star Favorit Mona Lisa 21 FH ili lakiranog mediapana u visini 150 mm. Boja prema odabiru projektanta. U šank su ugrađeni sudoper, hladnjak, aparat za led, a u retropult hladnjaci i potrebni ormari (aparat za kavu dobavlja investitor) i svi potrebni ormari. Završne obrade svih materijala i boje po izboru projektanta.
C48: retropult 548x60xh90 | D48: kom | E48: 1 | H48: =G48*E48 -> 0
C49: šank dim 400x60xh120 | D49: kom | E49: 1
C50: sudoper - nije uključeno | D50: kom | E50: 1
C51: hladnjak - nije uključeno | D51: kom | E51: 4
A53: =A3 -> 4. | B53: =B47+1 -> 12 | C53: Dobava, izrada i montaža visokih stolova h=120
C54: Dobava, izrada i montaža pravokutnog stola u restoranu prema shemi. Ploča od iverice debljine 3 cm i laminirana pod visokim tlakom (HPL - High pressure laminate) u boji prema odabiru projektanta s rubom Laiton lisse i nogom stola od željeza. Boja i završna obrada po izboru projektanta. Izvođač je dužan izraditi prototip na dozvolu i konzultacije s projektantom.
C56: Stol dim 60x60xh120 | D56: kom | E56: 12 | H56: =G56*E56 -> 0
A58: =A3 -> 4. | B58: =B53+1 -> 13 | C58: Dobava i montaža tapecirane klupe s naslonom.
C59: Dimenzija prema shemi, izrađena od čelične konstrukcije obloženim MDF pločama s završnim tapeciranjem D. GUILD HINDON 2727 01 ili jednakovrijedno Š 142 cm;100% poly, 50000 martindale.
C60: Klupa na zapadnom zidu | D60: m' | E60: 10.2 | H60: =G60*E60 -> 0
C61: Klupa na istočnom zidu (3x120) | D61: m' | E61: 3.6 | H61: =G61*E61 -> 0
C62: Klupa na istočnom zidu (2x60) | D62: m' | E62: 1.2 | H62: =G62*E62 -> 0
A64: =A3 -> 4. | B64: 14 | C64: Dobava, izrada i montaža DJ pulta kluba na etaži garaže, prema shemi, sa maskom od mediapana dimenzijaprema shemi, završne obrade kao mjed. Radne plohe su na visini od 1400 mm. Gornji i donji diopulta su od FunderMax Star Favorit Mona Lisa 21 FH ili lakiranog mediapana u visini 150 mm. Boja prema odabiru projektanta. Završne obrade svih materijala i boje po izboru projektanta.
C65: DJ pult 170x140xh140 | D65: kom | E65: 1 | H65: =G65*E65 -> 0
A67: 4 | B67: =B64+1 -> 15 | C67: Dobava, izrada i montaža radnog pulta TRGOVINE , 3400+800x600+400x800 Gornji dio pulta HPL prema boji u izboru projektanta.Bridovi u Pravilo raspoređene niše prema dimenziji. Prednje fronte u staklu, pod, stranice i strop u HPL prema izboru projektanta Led rasvjeta u niši. Iznad niše maska od MDF-a lakiranogu u boju prma izboru projektanta
D68: kom | E68: 1 | H68: =G68*E68 -> 0
C70: BRAVARSKI RADOVI UKUPNO | H70: =SUM(H2:H69) -> 0

Sheet 5. NAMJEŠTAJ RESTORANA
A1: REDNI BROJ | C1: OPIS | D1: JEDINICA MJERE | E1: KOLIČINA | F1: PROIZVOĐAČ/OPIS | G1: JEDINIČNA CIJENA | H1: UKUPNA CIJENA
A3: 5. | C3: NAMJEŠTAJ I OPREMA RESTORANA
C5: Napomena: Sve mjere potrebno je obavezno prije izrade pojedinog elementa provjeriti u interijeru. Obavezna izrada oglednom elementa.
C8: NAMJEŠTAJ RESTORANA
A10: =A3 -> 5. | B10: 1 | C10: Dobava i montaža stolice u restoranu tip kao Porro ( Piero Lissoni ) ili jednakovrijedno - stolac s rukonaslonima - konstrukcija: masiv jasen bajcan u crnu boju, otvorene pore - sjedalica: zakrivljena šperploča bajcana u crnu boju, otvorene pore - dim. 58 x 45 x 45/63/75.5 cm h
D11: kom | E11: 22 | H11: =G11*E11 -> 0
A13: =A3 -> 5. | B13: =B10+1 -> 2 | C13: Dobava i montaža stolice u restoranu tip kao tip kao Cassina Cab_B ( Mario Bellini ) ili jednakovrijedno - stolac s rukonaslonima - konstrukcija: metalna - presvlaka: tvrda koža, pigmentirana, boja po odabiru projektanta - dim. 62 x 52 x 45/64/82 cm h - norma: UNI EN ISO 14001; UNI EN ISO 9001; BS OHSAS 18001
D14: kom | E14: 22 | H14: =G14*E14 -> 0
A16: =A3 -> 5. | B16: =B13+1 -> 3 | C16: Dobava montaža stolice u restoranu tip kao tip kao DePadova Marocca ( Vico Magistretti ) ili jednakovrijedno - stolac s rukonaslonima - konstrukcija: masiv bukva - bojana poliuretanskom bojom polu mat crno - sjedalica: šperpolča bukva class E1 - bojana poliuretanskom bojom polu mat crno - dim. 57 x 51 x 46/64/77 cm h
D17: kom | E17: 22 | H17: =G17*E17 -> 0
A19: =A3 -> 5. | B19: =B16+1 -> 4 | C19: Dobava, izrada i montaža pravokutnog stola u restoranu prema shemi 7 ZANATSKI 4.6 STOL RESTORAN. Ploča od iverice debljine 3 cm i laminirana pod visokim tlakom (HPL - High pressure laminate) u boji prema odabiru projektanta s rubom Laiton lisse i nogom stola od željeza. Boja i završna obrada po izboru projektanta. Izvođač je dužan izraditi prototip na dozvolu i konzultacije s projektantom. Dimenzije 800 x 800 x 800 mm.
D20: kom | E20: 30 | H20: =G20*E20 -> 0
A22: =A3 -> 5. | B22: =B19+1 -> 5 | C22: Dobava, izrada i montaža okruglog stola u restoranu prema shemi 7 ZANATSKI 4.6 STOL RESTORAN. Ploča od iverice debljine 3 cm i laminirana pod visokim tlakom (HPL - High pressure laminate) u boji prema odabiru projektanta s rubom tip kao Laiton lisse ili jednakovrijedan i nogom stola od željeza. Boja i završna obrada po izboru projektanta. Izvođač je dužan izraditi prototip na dozvolu i konzultacije s projektantom. Dimenzije ø 1300 mm, visine 800 mm.
D23: kom | E23: 3 | H23: =G23*E23 -> 0
A25: =A3 -> 5. | B25: =B22+1 -> 6 | C25: Dobava, izrada i montaža stolice u Fine dining restoranu tip kao tip kao DePadova Donzella ( Michele De Lucchi ) ili jednakovrijedno - stolac s rukonaslonima - konstrukcija: masiv jasen - završna obrada: bajc boje orah Canaletto, otvorene pore - sjedalica: presvlaka koža kat.E, sa vidljivim proštepom, boje po odabiru projektanta - dim. 63 x 54 x 45/67/74 cm h
D26: kom | E26: 12 | H26: =G26*E26 -> 0
A28: =A3 -> 5. | B28: =B25+1 -> 7 | C28: Dobava, izrada i montaža metalnih stolica na terasi restorana hotela tip kao DePadova Silver Outdoor ( Vico Magistretti ) ili jedankovrijedno - stolac s rukonaslonima - konstrukcija: cjevasti aluminij - završna obrada epoksipoliester mat crno - čepći na nogama termoplastični materijal - okvir sjedalice: ljevani aluminij sa zaštitom za vanjsku uporabu - sjedalica i leđni naslon polipropilen class E1 boja crna, perforirano - dim. 61 x 51 x 46/67/80 cm h - test vatrootpornosti ( Art. 2 point 2.4 D.M. 26.6.84 )
D29: kom | E29: 50 | H29: =G29*E29 -> 0
A31: =A3 -> 5. | B31: =B28+1 -> 8 | C31: Dobava, izrada i montaža stola na terasi restorana hotela tip kao Arrmet Voila ili jednakovrijedan - stol pogodan za vanjsku uporabu - ploča 80 x 80 cm HPL, crna jezgra, laminat , boja crna - centralna noga inox bojano u crno: kvadratnog presjeka 60x60 mm za kvadratnu bazu - baza inox ploca bojana crno 45 x 45 cm
D32: kom | E32: 25 | H32: =G32*E32 -> 0
A34: =A3 -> 5. | B34: =B31+1 -> 9 | C34: Dobava, izrada i montaža posuda za biljke u restoranu pravokutnog oblika. Dim. 100 x 30 x h.72 cm. Konstrukcija MDF, vanjska obloga lim paljeni mesing. Unutranji uložak metalna kadica za humus. Sve na kotačićima. Max nosivost 200 kg
D35: kom | E35: 15 | H35: =G35*E35 -> 0
A37: =A3 -> 5. | B37: =B34+1 -> 10 | C37: Dobava i doprema biljnog materijala za vaze (100 x 30 x h.72 cm) u sobama hotela.
C38: Tip kao Ficus benjamin ili jednakovrijedan, a prema odabiru projektanta, visina biljke 190 cm, lončić fi 31 cm (sadi se jedna sadnica po vazi) | D38: kom | E38: 15 | H38: =G38*E38 -> 0
A40: =A3 -> 5. | B40: =B37+1 -> 11 | C40: Dobava, doprema i ugradnja materijala za ispunjavanje vaza. Vaze se ispunjavaju sljedećim slojevima: drenažni sloj(glinopor) debljine 5 cm, geotekstil (stavlja se izmeđ8 drenaže i supstrata te supstrata i malča), supstrat ( tip STENDER B400 ili jednako vrijedan. Specifikacija supstrata: sporootpuštajući, NPK 14-16-18, pH=5.5-6, min.sol 0.9g/l) u preostalom sloju. Količina supstrata uvećava se za 20% radi slijeganja materijala). Na završni sloj - malč u sloju 2 cm radi čuvanja vlage u vazi ( vulkanski kameni agregat crveno-smeđe boje). Obračun se vrši po komadu ispunjene vaze. Sadnja uračunata.
C41: Izračun materiala po komadu vaze: drenažni sloj 5cm-0.3 m2x0.05m=0.015 m3 (15lit.);geotekstil 0.6 m2x2 puta=1.2 m2; supstrat sloj 33cm- 0.3 m2x0.33m=0.36m3x0.2%=0.43 m3 (430 lit-14lit lončići sadnica=416lit.); malč sloj 2 cm-0.3m2x0.02m=0.006 m3 (6 lit.) | D41: kom | E41: 15 | H41: =G41*E41 -> 0
A43: 5. | B43: =B40+1 -> 12 | C43: Stol šefa kuhinje. Dobava, izrada i montaža stola C oblika u restoranu Ploča od iverice debljine 3 cm i laminirana pod visokim tlakom (HPL - High pressure laminate) u boji prema odabiru projektanta s rubom Laiton lisse i nogama stola od željeza. Boja i završna obrada po izboru projektanta – Okvirne dimenzije (197+453+235x80x75 cm)
D44: kom | E44: 1 | H44: =G44*E44 -> 0
A46: 5 | B46: =B43+1 -> 13 | C46: Izrada dobava i ugradnja vješalica za kapute iz kovanog željeza za restoran. Vješalice dolaze na pozadini iz punog drveta 5x60cm lakirana i obrađena prema odabiru projektanta. Vješalice postavljene na razmaku od 40cm.
D47: m1 | E47: 5 | H47: =G47*E47 -> 0
A48: 5 | B48: =B46+1 -> 14 | C48: Nabava, dobava i postavljanje vješalice za kapute tip kao PROSTORIA SIMETRIA ili jednakovrijedan.
D49: kom | E49: 3 | H49: =G49*E49 -> 0
A50: =A3 -> 5. | B50: =B48+1 -> 15 | C50: Nabava, dobava i ugradnja drvenih dovratnika u punoj štirini zida debljine 60cm iz punog drveta, završne obrade boje i teksture po odabiru projektanta kao obloga s ukladama na poziciji V13 i V14 na prolazu LOBBY BAR - RESTORAN. Dovratnici imaju uklade s podjeloma na 3 polja. Nadvoj ima jedno polje.
C51: Dovratnik za vrata V13 90x225, širina zida 60cm | D51: kom | E51: 2 | H51: =G51*E51 -> 0
C52: Dovratnika za vrata V14 150x225, širina zida 60cm | D52: kom | E52: 1 | H52: =G52*E52 -> 0
C54: UKUPNO NAMJEŠTAJ I OPREMA RESTORANA | H54: =SUM(H2:H53) -> 0

Sheet 6. UREDI
A1: REDNI BROJ | C1: OPIS | D1: JEDINICA MJERE | E1: KOLIČINA | F1: PROIZVOĐAČ/OPIS | G1: JEDINIČNA CIJENA | H1: UKUPNA CIJENA
A3: 6. | C3: GENERIČKI NAMJEŠTAJ UREDA
C5: Napomena: Sve mjere potrebno je obavezno prije izrade pojedinog elementa provjeriti u interijeru.
A7: 6. | B7: 1 | C7: Dobava i nabava uredske fotelje, tip kao DePadova Silver (Vico Magistretti ) ili jednakovrijedno - radni stolac s rukonaslonima na kotačićima - 5-kraka okretna baza na kotačićima - kotačići plastika crne boje, za tvrdu ili mekanu podlogu - podesiva visina sjedenja - konstrukcija: cjevasti aluminij - završna obrada epoksipoliester mat crno - okvir sjedalice: ljevani aluminij - sjedalica i leđni naslon polipropilen class E1 boja crna, perforirano - dodatni jastučić, tkanina kat. C2, Cotone 2011, boja crna - dim. 62 x 57 x 44-50/65-71/78-84 cm h - test vatrootpornosti ( Art. 2 point 2.4 D.M. 26.6.84 )
D8: kom | E8: 2 | H8: =G8*E8 -> 0
A10: =A3 -> 6. | B10: =B7+1 -> 2 | C10: Dobava i nabava pokretnog ladičara, na kotačićima tip kao Porro Fractal ( Piero Lissoni ) ili jednakovrijedno - ladičar na kotačićima, sa 3 ladice, bravica za zaključavanje - završna obrada ladičara: mat lak crne ili bijele boje - bez ručki, s bočnim utorima za otvaranje
D11: kom | E11: 2 | H11: =G11*E11 -> 0
A13: =A3 -> 6. | B13: =B10+1 -> 3 | C13: Dobava i nabava radnog stola tip kao Porro Fractal ( Piero Lissoni ) ili jednakovrijedno - radni stol sa dodatnom daktilo plohom - na ploči stola izveden je otvor za kablove, metalni poklopac - noge stola: aluminij "L" presjeka termolakirano crno ili bijelo - ploča stola : MDF mat lak crne ili bijele boje - dim. stol: 160 x 80 x 74 cm h; daktilo: 140 x 43 x 74 cm h
D14: kom | E14: 2 | H14: =G14*E14 -> 0
A16: =A3 -> 6. | B16: =B13+1 -> 4 | C16: Dobava i nabava ormara s dvokrilnim, zaokretnim vratima od prozirnog stakla. Izvedba iz iverala sa završnim laminatom u boji i tonu prema odabiru projektanata. Vrata se zaključavaju pomoću cilindrične bravice. Unutrašnjost ormara opremljena je s tri police podesive visine. Postoji mogućnost slaganja ormara jedan na drugi. Komplet uključuje set podesivih nogica koje omogućuju prilagodbu neravnim podovima.
C17: Dimenzije ormara su 90x45 cm. Visina je 162 cm.
D18: kom | E18: 1 | H18: =G18*E18 -> 0
A20: =A3 -> 6. | B20: =B16+1 -> 5 | C20: Dobava i nabava ormara s dvokrilnim, punim, zaokretnim vratima. Izvedba iz iverala sa završnim laminatom u boji i tonu prema odabiru projektanata. Vrata su bočno obrađena ABSom u multiline efektu, zaključavaju se pomoću cilindrične bravice. Unutrašnjost ormara opremljena je s tri police podesive visine.
C21: Komplet uključuje set podesivih nogica koje omogućuju prilagodbu neravnim podovima.
C22: Dimenzije ormara su 90x47 cm. Visina je 162 cm.
D23: kom | E23: 2 | H23: =G23*E23 -> 0
A25: =A3 -> 6. | B25: =B20+1 -> 6 | C25: Dobava i nabava posude za otpatke tip kao Danese Koro ( Enzo Mari ) ili jednakovrijedno - materijal Polyprpylene crne boje - Ø26 x 27 cm h
D26: kom | E26: 2 | H26: =G26*E26 -> 0
A28: =A3 -> 6. | B28: =B25+1 -> 7 | C28: Dobava i nabava slobodnostojeće vješalice sa stalkom za kišobrane tip kao Danese Humphrey basic ( Paolo Rizzatto ) ili jednakovrijedno - materijal baze i stupa metal crne boje - materijal kukica prozirni polikarbonat - dim. Ø30 x 176 cm h
D29: kom | E29: 2 | H29: =G29*E29 -> 0
A31: =A3 -> 6. | B31: =B28+1 -> 8 | C31: Dobava i nabava uredske stolice tip kao DePadova Silver (Vico Magistretti) ili jednalovrijedno - stolac s rukonaslonima - konstrukcija: cjevasti aluminij - završna obrada epoksipoliester mat crno - čepći na nogama termoplastični materijal - okvir sjedalice: ljevani aluminij - sjedalica i leđni naslon piolipropilen class E1 boja crna, perforirano - dodatni jastučić, tkanina kat. C2, Cotone 2011, boja crna - dim. 61 x 51 x 46/67/80 cm h - test vatrootpornosti ( Art. 2 point 2.4 D.M. 26.6.84 )
C32: * napomena. 2 kom uz stol + 4 kom uz stol za sastanke x 2 | D32: kom | E32: 12 | H32: =G32*E32 -> 0
A34: 6. | B34: 9. | C34: Dobava i nabava stola za sastanke tip kao Porro Fractal ( Piero Lissoni ) ili jednakovrijedno - noge stola: aluminij "L" presjeka termolakirano crno ili bijelo - ploča stola : MDF mat lak crne ili bijele boje - dim. stol: 160 x 80 x 74 cm
D35: kom | E35: 2 | H35: =G35*E35 -> 0
A37: 6. | B37: 10. | C37: Ormar garderobni Z izvedbe, tip kao GOZ4 ili jednakovrijedno Ormar je u cijelosti metalne izvedbe - lakirani lim u boji po izboru projektanta /RAL 7035, siva/. Podnožje ormara postavlja se u posebne vodilice montažnog stalka tj. klupice - st. I/4.2.B. Svaki dio ormara zatvara se dvokrilnim «Z» vratima čije svako krilo odgovara jednom pretincu i ima vlastitu cilindričnu bravicu. Ukupan broj vrata je 4. Unutrašnjost svakog pretinca opremljena je nosačem vješalice. Dimenzija ormara je 800x500 mm. Visina ormara je 1800 mm.
D38: kom | E38: 10 | H38: =G38*E38 -> 0
A40: 6. | B40: 11. | C40: Klupica za garderobne ormare, montira se uz st. 6.10. Okvir sa sjedištem. Posebno oblikovan montažni stalak na koji se postavlja ormar u posebne vodilice. Stalak je u širini dva ormarića - 800 mm. Osnovna konstrukcija je metalna, sjedište se izvodi od masivnih drvenih letvica. Boju i ton završnih obrada po izboru projektanta. Dimenzija klupice je 800x800 mm. Visina klupice je 400 mm, a ormarić je 13 cm niže na postolju pa je lakše dohvatiti gornji dio ormara.
D41: kom | E41: 10 | H41: =G41*E41 -> 0
A43: 6. | B43: 12. | C43: Dobava i montaža vješalice / zidna kukica tip kao Danese Hang Up ( Paolo Rizzatto ) ili jednakovrijedno - materijal kukica prozirni polikarbonat - dim. 6 x 15 x 19.5 cm h
D44: kom | E44: 30 | H44: =G44*E44 -> 0
C47: NAMJEŠTAJ UREDA | H47: =SUM(H2:H46) -> 0

Sheet 7. WELLNESS
A1: REDNI BROJ | C1: OPIS | D1: JEDINICA MJERE | E1: KOLIČINA | F1: PROIZVOĐAČ/OPIS | G1: JEDINIČNA CIJENA | H1: UKUPNA CIJENA
A3: 7. | C3: OPREMA WELLNESSA
B5: 1. | C5: Napomena: Sve mjere potrebno je obavezno prije izrade pojedinog elementa provjeriti u interijeru.
A7: 7. | C7: NAMJEŠTAJ WELLNESSA
A9: 7. | B9: 1 | C9: Ormar recepcijski pult wellnesa
C10: Dobava, izrada i postavljanje ormara u wellnessu hotela prema shemi projektanta (list 9). Unutrašnjost ormara podijeljena je vertikalno i horizontalno. Vertikalno u 2 dijela. Jedna polovica je u gornjem dijelu prazna punom visinom sa kružnom horizontalnom šipkom za vješalice (kaputi, haljine, ...) i razdijeljena je sa 2 vrata. Donji dio te vertikalne polovice čine tri police. Druga vertikalna polovica je podijeljena na gornji dio koji čini pet polica te donji dio s ladičarom. Materijal ormara je mediapan debljine cca 2 cm. Pult visine 120 cm sadrži radni stol na visini 80 cm te dva ladičara. Materijal pulta je mediapan debljine cca 2 cm dok je ploča radnog stola debljine 4 cm. MDF lakiran u PU lak, polumat, RAL prema odabiru projektanta. Radna ploha pulta s završnim furnirom prema odabiru projektanta Dimenzije 1680 x 2505x 600 mm
D11: kom | E11: 1 | H11: =G11*E11 -> 0
A13: =A3 -> 7. | B13: =B9+1 -> 2 | C13: Dobava, izrada i montaža police od mediapana debljine 5 cm. Konstrukcija polica je nevidljiva konzola pričvršćena na stražnji zid svakih 30 cm duljine police. Polica ima 4 i prva se nalazi 1200 mm iznad završne kote poda, a dimenzija jedne police je 50 X 300 X 2700 mm. /prema shemi i nacrtu/
D14: kom | E14: 1 | H14: =G14*E14 -> 0
A15: =A3 -> 7. | B15: =B13+1 -> 3 | C15: Dobava i montaža Vješalice / zidna kukica tip kao Danese Hang Up ( Paolo Rizzatto ) ili jednakovrijedno - materijal kukica prozirni polikarbonat - dim. 6 x 15 x 19.5 cm h
D16: kom | E16: 60 | H16: =G16*E16 -> 0
A18: =A3 -> 7. | B18: =B15+1 -> 4 | C18: Dobava i nabava posude za otpatke tip kao Danese Koro ( Enzo Mari ) ili jednakovrijedno - materijal Polyprpylene bijele boje - Ø26 x 27 cm h
D19: kom | E19: 5 | H19: =G19*E19 -> 0
A21: 7. | B21: =B18+1 -> 5 | C21: Dobava, izrada i montaža ležaljki oko bazena tip kao Living Divani Ile Club ( Piero Lissoni ) ili jednakovrijedno - ležaljka outdoor - konstrukcija: metalna sa elastičnim remenima, AISI 316 mat satin, kvadratični presjek - leđni naslon: šperploča sa podiznim mehanizmom u 5 pozicija zaustavljanja - madrac: poliuretanska pjena DRYFEEL S. sa poliesterskom presvlakom - presvlaka: tkanina Natte 100% akril, kat. Media, boja prema odabiru projektanta - dim. 85 x 188 x 22/37/70-82 cm h
D22: kom | E22: 10 | H22: =G22*E22 -> 0
C23: SUNČALIŠTE
A24: 7. | B24: =B21+1 -> 6 | C24: Dobava, izrada i montaža suncobrana oko bazena tip kao Kettal model ref. 1628000 / 1697 ili jednakovrijedno. Aluminijska konstrukcija bojana Manganese, a sjenilo tkanina boje River Sand. Tkanina otpornosti 100.000 ciklusa, 1000 Decitex, Otpornost U.v. En-581-4, brzo sušenje, otpornost na habanje 30.000 ciklusa. Baza aluminijska bojana Manganese dim 60x60 cm, 19 kg, antioksidirajuća, vatrootpornost M1, otpornost na opterećenje En-1421
D25: kom | E25: 6 | H25: =G25*E25 -> 0
C27: OPREMA WELLNESSA | H27: =SUM(H2:H26) -> 0

Sheet 8. RESTORAN TRS
A1: REDNI BROJ | D1: OPIS | E1: JEDINICA MJERE | F1: KOLIČINA | G1: JEDINIČNA CIJENA | H1: UKUPNA CIJENA
A3: 8. | D3: OPREMA KUHINJE I RESTORANA
D4: Napomena: Specifikacija svake stavke nalazi se u prilogu Tehnički opis
B5: 1. | E5: OPREMA KUHINJE
C6: 1 | D6: Radno mjesto 1 | E6: komplet | F6: 1 | H6: =G6*F6 -> 0
C7: 2 | D7: Radno mjesto 2 | E7: komplet | F7: 1 | H7: =G7*F7 -> 0
C8: 3 | D8: Radno mjesto 3 | E8: komplet | F8: 1 | H8: =G8*F8 -> 0
C9: 4 | D9: Radno mjesto 4 | E9: komplet | F9: 1 | H9: =G9*F9 -> 0
C10: 5 | D10: Radno mjesto 5 | E10: komplet | F10: 1 | H10: =G10*F10 -> 0
B12: 2. | E12: CHEFS TABLE
C13: 1 | D13: Sjedeće mjesto 1 | E13: komplet | F13: 1 | H13: =G13*F13 -> 0
C14: 2 | D14: Sjedeće mjesto 2 | E14: komplet | F14: 1 | H14: =G14*F14 -> 0
C15: 3 | D15: Sjedeće mjesto 3 | E15: komplet | F15: 1 | H15: =G15*F15 -> 0
C16: 4 | D16: Sjedeće mjesto 4 | E16: komplet | F16: 1 | H16: =G16*F16 -> 0
C17: 5 | D17: Sjedeće mjesto 5 | E17: komplet | F17: 1 | H17: =G17*F17 -> 0
C18: 6 | D18: Sjedeće mjesto 6 | E18: komplet | F18: 1 | H18: =G18*F18 -> 0
C19: 7 | D19: Sjedeće mjesto 7 | E19: komplet | F19: 1 | H19: =G19*F19 -> 0
C20: 8 | D20: Sjedeće mjesto 8 | E20: komplet | F20: 1 | H20: =G20*F20 -> 0
C21: 9 | D21: Sjedeće mjesto 9 | E21: komplet | F21: 1 | H21: =G21*F21 -> 0
C22: 10 | D22: Sjedeće mjesto 10 | E22: komplet | F22: 1 | H22: =G22*F22 -> 0
B24: 3. | E24: OPREMA RESTORANA
C25: 1 | D25: Sjedeće mjesto 1 | E25: komplet | F25: 1 | H25: =G25*F25 -> 0
C26: 2 | D26: Sjedeće mjesto 2 | E26: komplet | F26: 1 | H26: =G26*F26 -> 0
C27: 3 | D27: Sjedeće mjesto 3 | E27: komplet | F27: 1 | H27: =G27*F27 -> 0
C28: 4 | D28: Sjedeće mjesto 4 | E28: komplet | F28: 1 | H28: =G28*F28 -> 0
C29: 5 | D29: Sjedeće mjesto 5 | E29: komplet | F29: 1 | H29: =G29*F29 -> 0
C30: 6 | D30: Sjedeće mjesto 6 | E30: komplet | F30: 1 | H30: =G30*F30 -> 0
C31: 7 | D31: Sjedeće mjesto 7 | E31: komplet | F31: 1 | H31: =G31*F31 -> 0
C32: 8 | D32: Sjedeće mjesto 8 | E32: komplet | F32: 1 | H32: =G32*F32 -> 0
C33: 9 | D33: Sjedeće mjesto 9 | E33: komplet | F33: 1 | H33: =G33*F33 -> 0
C34: 10 | D34: Sjedeće mjesto 10 | E34: komplet | F34: 1 | H34: =G34*F34 -> 0
C35: 11 | D35: Sjedeće mjesto 11 | E35: komplet | F35: 1 | H35: =G35*F35 -> 0
C36: 12 | D36: Sjedeće mjesto 12 | E36: komplet | F36: 1 | H36: =G36*F36 -> 0
... C88: 64 | D88: Sjedeće mjesto 64 | E88: komplet | F88: 1 | H88: =G88*F88 -> 0
B90: 4. | E90: SERVISNA OPREMA SALE RESTORANA
C91: 1 | D91: Servisna oprema sale restorana | E91: komplet | F91: 1 | H91: =G91*F91 -> 0
D93: OPREMA RESTORANA UKUPNO

Sheet 8. RESTORAN OPIS
B1: TEHNIČKI OPIS - OPREMA KUHINJE I RESTORANA
A3: OPREMA KUHINJE - Radno mjesto 1
B4: TROŠKOVNIK NAZIV | C4: NAZIV ROBE USLUGE | D4: MATERIJAL | E4: DIMENZIJA | F4: TEŽINA | G4: JMJ | H4: KOM
B5: OPREMA KUHINJE | C5: kao DEMEYERE LONAC VISOKI 28 CM ili jednakovrijedno | D5: INOX , SILVANOX | E5: min 28 cm | F5: min 4,50 kg | G5: KOM | H5: 1
B6: OPREMA KUHINJE | C6: kao STAUB COCOTTE OVAL SENF 29 CM ili jednakovrijedno | D6: GIZA | E6: min 29 cm | F6: min 6,3 kg | G6: KOM | H6: 1
B7: OPREMA KUHINJE | C7: kao STAUB COCOTTE OVAL SENF 27 CM ili jednakovrijedno | D7: GIZA | E7: min 27 cm | F7: min 5,30 kg | G7: KOM | H7: 1
B8: OPREMA KUHINJE | C8: kao GLOBAL SET OD 5 NOŽEVA NA STAL ili jednakovrijedno | D8: MOLYBDENUM/VANADIUM SS | F8: min 2,21 kg | G8: KOM | H8: 1
B9: OPREMA KUHINJE | C9: kao DEMEYERE LONAC VISOKI 24 CM ili jednakovrijedno | D9: SILVANOX | E9: min 24 cm | F9: min 3,45 kg | G9: KOM | H9: 1
B10: OPREMA KUHINJE | C10: kao STAUB COCOTTE OVAL CHERRY 37CM ili jednakovrijedno | D10: GIZA | E10: min 37 cm | F10: min 9,10 kg | G10: KOM | H10: 1
B11: OPREMA KUHINJE | C11: kao DEMEYERE SAUTEUSE 24 CM INDUST ili jednakovrijedno | D11: INOX , SILVANOX | E11: min 24 cm | F11: min 1,96 kg | G11: KOM | H11: 1
B12: OPREMA KUHINJE | C12: kao DEMEYERE KOOKPAN SA POKL. 24CM ili jednakovrijedno | D12: INOX , SILVANOX | E12: min 24 cm | F12: min 2,90 kg | G12: KOM | H12: 1
B13: OPREMA KUHINJE | C13: kao GLOBAL NOŽIĆ POM.ZA ČIŠĆ. 5CM ili jednakovrijedno | D13: MOLYBDENUM/VANADIUM SS | E13: min 5 cm | F13: min 0,10 kg | G13: KOM | H13: 1
B14: OPREMA KUHINJE | C14: kao GLOBAL NOŽ CARVING 22CM ili jednakovrijedno | D14: MOLYBDENUM/VANADIUM SS | E14: min 22 cm | F14: min 0,21 kg | G14: KOM | H14: 1
B15: OPREMA KUHINJE | C15: kao GLOBAL VILICA KUHARSKA RAVNA ili jednakovrijedno | D15: MOLYBDENUM/VANADIUM SS | E15: min 30,5 cm | F15: min 0,15 kg | G15: KOM | H15: 1
B16: OPREMA KUHINJE | C16: kao GLOBAL NOŽ ZA FILETIRANJE 21CM ili jednakovrijedno | D16: MOLYBDENUM/VANADIUM SS | E16: min 21 cm | F16: min 0,23 kg | G16: KOM | H16: 1
B17: OPREMA KUHINJE | C17: kao GLOBAL KAMEN ZA OŠTRENJE ili jednakovrijedno | D17: MOLYBDENUM/VANADIUM SS | E17: min 210x70 cm | F17: min 0,86 kg | G17: KOM | H17: 1
B18: OPREMA KUHINJE | C18: kao STAUB MINI TEGAME OKRUGLA CRNA ili jednakovrijedno | D18: GIZA | E18: min 10 cm | F18: min 1 kg | G18: KOM | H18: 4
B19: OPREMA KUHINJE | C19: kao STAUB COC.MINI ROUND 10CM ŽUTA ili jednakovrijedno | D19: GIZA | E19: min 10 cm | F19: min 1 kg | G19: KOM | H19: 2
B20: OPREMA KUHINJE | C20: kao STAUB COCC.MINI ROUND 10CM ZEL ili jednakovrijedno | D20: GIZA | E20: min 10 cm | F20: min 1 kg | G20: KOM | H20: 2
... B24: OPREMA KUHINJE | C24: kao FALK CLASSIC MINI SAUCIER 8 CM ili jednakovrijedno | D24: BAKAR + INOX | E24: min 8 cm | F24: min 0,36 kg | G24: KOM | H24: 2
B25: OPREMA KUHINJE | C25: kao TURK ŽELJEZNA TAVA 16 CM ili jednakovrijedno | D25: KOVANO ŽELJEZO | E25: min 16 cm | G25: KOM | H25: 4
B26: OPREMA KUHINJE | C26: kao TURK ŽELJEZNA TAVA ZA SERV. 20 ili jednakovrijedno | D26: KOVANO ŽELJEZO | E26: min 20 cm | G26: KOM | H26: 1
B27: OPREMA KUHINJE | C27: kao TURK ŽELJEZNA TAVA ZA SERV. 24 ili jednakovrijedno | D27: KOVANO ŽELJEZO | E27: min 24 cm | G27: KOM | H27: 1
B28: OPREMA KUHINJE | C28: kao TURK LYONNAISE 20 CM ili jednakovrijedno | D28: KOVANO ŽELJEZO | E28: min 20 cm | G28: KOM | H28: 1
B29: OPREMA KUHINJE | C29: kao TURK LYONNAISE 24 CM ili jednakovrijedno | D29: KOVANO ŽELJEZO | E29: min 24 cm | G29: KOM | H29: 1
B30: OPREMA KUHINJE | C30: kao TURK LYONNAISE 32 CM ili jednakovrijedno | D30: KOVANO ŽELJEZO | E30: min 32 cm | G30: KOM | H30: 1
B31: OPREMA KUHINJE | C31: kao TURK BLINIS TAVA 12 CM ili jednakovrijedno | D31: KOVANO ŽELJEZO | E31: min 12 cm | G31: KOM | H31: 3
B32: OPREMA KUHINJE | C32: kao TURK ŽELJEZNA TAVA ZA SERV 28 ili jednakovrijedno | D32: KOVANO ŽELJEZO | E32: min 28 cm | G32: KOM | H32: 1
B33: OPREMA KUHINJE | C33: kao TURK PODMETAČ 24 CM ili jednakovrijedno | D33: DRVO | E33: min 24 cm | G33: KOM | H33: 1
B34: OPREMA KUHINJE | C34: kao DEMEYERE WOK 36 CM ili jednakovrijedno | D34: INOX , SILVANOX | E34: min 36 cm | F34: min 2,74 kg | G34: KOM | H34: 1
B35: OPREMA KUHINJE | C35: kao FALK CLASSIC PEKAČ TAVA 16 CM ili jednakovrijedno | D35: BAKAR + INOX | E35: min 16 cm | F35: min 0,93, kg | G35: KOM | H35: 2
B36: OPREMA KUHINJE | C36: kao FALK CLASSIC POKLOPAC 24 CM ili jednakovrijedno | D36: BAKAR + INOX | E36: min 24 cm | F36: min 0,53 kg | G36: KOM | H36: 1
B37: OPREMA KUHINJE | C37: kao FALK CLASSIC SAUT. BOMBE 24 CM ili jednakovrijedno | D37: BAKAR + INOX | E37: min 24 cm | F37: min 2,60 kg | G37: KOM | H37: 1
B38: OPREMA KUHINJE | C38: kao FALK CLASSIC SAUT. BOMBE 28 CM ili jednakovrijedno | D38: BAKAR + INOX | E38: min 28 cm | F38: min 3,54 kg | G38: KOM | H38: 1
B39: OPREMA KUHINJE | C39: kao FALK CLASSIC LONAC 28 CM ili jednakovrijedno | D39: BAKAR + INOX | E39: min 28 cm | F39: min 4,55 kg | G39: KOM | H39: 1
B40: OPREMA KUHINJE | C40: kao FALK CLASS GRATIN OVAL 40 X 26 ili jednakovrijedno | D40: BAKAR + INOX | E40: min 40 x 60 cm | F40: min 3,15 kg | G40: KOM | H40: 1
B41: OPREMA KUHINJE | C41: kao PADERNO LOPATICA KUHARSKA ili jednakovrijedno | D41: INOX 18/10 , PLASTIKA | E41: min 13,5 x 7 cm | F41: min 0,15 kg | G41: KOM | H41: 1
B42: OPREMA KUHINJE | C42: kao PADERNO PREŠA ZA ČEŠNJAK ili jednakovrijedno | D42: INOX 18/10 | E42: min 2,7 cm | F42: min 0,09 kg | G42: KOM | H42: 1
B43: OPREMA KUHINJE | C43: kao PADERNO ŠKARE KUHINJSKE ili jednakovrijedno | D43: INOX 18/10 , PLASTIKA | E43: min 24 cm | F43: min 0,39 kg | G43: KOM | H43: 1
B44: OPREMA KUHINJE | C44: kao PADERNO PRSTEN MOUSSE ili jednakovrijedno | D44: INOX 18/10 | E44: min 8 cm | F44: min 0,06 kg | G44: KOM | H44: 2
B45: OPREMA KUHINJE | C45: kao PADERNO POKLOPAC ZA GN 1/6 ili jednakovrijedno | D45: INOX 18/10 | F45: min 0,18 kg | G45: KOM | H45: 1
B46: OPREMA KUHINJE | C46: kao PADERNO GRABILICA ili jednakovrijedno | D46: INOX 18/10 | E46: min 12 cm | F46: min 0,45 kg | G46: KOM | H46: 1
B47: OPREMA KUHINJE | C47: kao PADERNO GN 1/6 ili jednakovrijedno | D47: INOX 18/10 | F47: min 0,17 kg | G47: KOM | H47: 2
B48: OPREMA KUHINJE | C48: kao PADERNO GN 1/1 53X325X65 ili jednakovrijedno | D48: INOX 18/10 | E48: min 53x325x65 cm | F48: min 1,32 kg | G48: KOM | H48: 1
B49: OPREMA KUHINJE | C49: kao PADERNO REŠETKA GN 1/2 ili jednakovrijedno | D49: INOX 18/10 | F49: min 0,12 kg | G49: KOM | H49: 1
B50: OPREMA KUHINJE | C50: kao PADERNO POKLOPAC ZA GN 1/2 BIJ ili jednakovrijedno | D50: INOX 18/10 | F50: min 0,16 kg | G50: KOM | H50: 1
B51: OPREMA KUHINJE | C51: kao PADERNO GN 1/9 ili jednakovrijedno | D51: INOX 18/10 | F51: min 0,08 kg | G51: KOM | H51: 1
B52: OPREMA KUHINJE | C52: kao PADERNO GN 1/4 ili jednakovrijedno | D52: INOX 18/10 | F52: min 0,27 kg | G52: KOM | H52: 1
B53: OPREMA KUHINJE | C53: kao PADERNO POKLOPAC ZA GN 2/4 ili jednakovrijedno | D53: INOX 18/10 | F53: min 1,04 kg | G53: KOM | H53: 1
B54: OPREMA KUHINJE | C54: kao PADERNO REŠETKA ZA GN 1/1 ili jednakovrijedno | D54: INOX 18/10 | F54: min 0,25 kg | G54: KOM | H54: 1
B55: OPREMA KUHINJE | C55: kao PADERNO LIJEVAK PP ili jednakovrijedno | D55: PLASTIKA | F55: min 0,04 kg | G55: KOM | H55: 1
B56: OPREMA KUHINJE | C56: kao PADERNO LJUŠTILICA ili jednakovrijedno | D56: INOX 18/10 | E56: min 5x4 cm | F56: min 0,05 kg | G56: KOM | H56: 2
B57: OPREMA KUHINJE | C57: kao PADERNO NOŽ ZA SRŽ JABUKE ili jednakovrijedno | D57: INOX 18/10 , PLASTIKA | E57: min 21,5 cm | F57: min 0,12 kg | G57: KOM | H57: 1
B58: OPREMA KUHINJE | C58: kao PADERNO LONAC NISKI 32 CM ili jednakovrijedno | D58: INOX 18/10 | E58: min 32 cm | F58: min 3,17 kg | G58: KOM | H58: 1
B59: OPREMA KUHINJE | C59: kao PADERNO CHINOISE CJEDILO ili jednakovrijedno | D59: INOX 18/10 | E59: min 20 cm | F59: min 0,39 kg | G59: KOM | H59: 1
B60: OPREMA KUHINJE | C60: kao PADERNO CJEDILO INOX ili jednakovrijedno | D60: INOX 18/10 | E60: min 40 cm | F60: min 2,72 kg | G60: KOM | H60: 1
B61: OPREMA KUHINJE | C61: kao PADERNO LONAC NISKI 36 CM ili jednakovrijedno | D61: INOX 18/10 | E61: min 36 cm | F61: min 4,44 kg | G61: KOM | H61: 1
B62: OPREMA KUHINJE | C62: kao PADERNO TAVA 36 CM ili jednakovrijedno | D62: INOX 18/10 | E62: min 36 kg | F62: min 3,4 kg | G62: KOM | H62: 1
B63: OPREMA KUHINJE | C63: kao PADERNO TAVA 32 CM ili jednakovrijedno | D63: INOX 18/10 | E63: min 32 cm | F63: min 2,81 kg | G63: KOM | H63: 1
B64: OPREMA KUHINJE | C64: kao PADERNO CJEDILO ili jednakovrijedno | D64: INOX 18/10 | E64: min 24 cm | F64: min 1,08 kg | G64: KOM | H64: 1
B65: OPREMA KUHINJE | C65: kao PADERNO LONAC 40 CM 2000 ili jednakovrijedno | D65: INOX 18/10 | E65: min 40 cm | F65: min 8 kg | G65: KOM | H65: 1
B66: OPREMA KUHINJE | C66: kao PADERNO NOŽ ZA GULJENJE ŠPAROG ili jednakovrijedno | D66: INOX 18/10 | E66: min 23,5 cm | F66: min 0,05 kg | G66: KOM | H66: 1
B67: OPREMA KUHINJE | C67: kao PADERNO SET NASTAVCI ZA DEKORA ili jednakovrijedno | D67: INOX 18/10 | E67: min 2x10 mm | F67: min 0,17 kg | G67: KOM | H67: 1
... B76: OPREMA KUHINJE | C76: kao PADERNO KOŠARA PRIBOR ZA JELO ili jednakovrijedno | D76: PLASTIKA | E76: min 500x500x103H mm | F76: min 1,58 kg | G76: KOM | H76: 1
B77: OPREMA KUHINJE | C77: kao PADERNO ZAŠTITNA RUKAVICA LARG ili jednakovrijedno | D77: METAL ,PLASTIKA | F77: min 0,41 kg | G77: KOM | H77: 1
B78: OPREMA KUHINJE | C78: kao PADERNO LONAC 50 CM 2000 SERIE ili jednakovrijedno | D78: INOX 18/10 | E78: min 50 cm | F78: min 15,62 kg | G78: KOM | H78: 1
B79: OPREMA KUHINJE | C79: kao PADERNO MJEŠALICA ZA JAJA ili jednakovrijedno | D79: PLASTIKA , INOX 18/10 | F79: min 0,25 kg | G79: KOM | H79: 1
B80: OPREMA KUHINJE | C80: kao PADERNO REZAČ ZA TIJESTO 10/1 ili jednakovrijedno | D80: PLASTIKA | E80: min 110x80 cm | F80: min 0,1 kg | G80: KOM | H80: 1
B81: OPREMA KUHINJE | C81: kao PADERNO DRESIR VREĆICE ili jednakovrijedno | D81: PLASTIKA | E81: min 40x22 cm | F81: min 0,75 kg | G81: KOM | H81: 1
B82: OPREMA KUHINJE | C82: kao PADERNO KALUP ZA KUGLOF ili jednakovrijedno | D82: ALUMINIJ , TEFLON | E82: min 22 cm | F82: min 0,338 kg | G82: KOM | H82: 1
B83: OPREMA KUHINJE | C83: kao SAMBONET HVATALJKA GRILL ili jednakovrijedno | D83: INOX 18/10 | E83: min 40 cm | F83: min 0,17 kg | G83: KOM | H83: 1
B84: OPREMA KUHINJE | C84: kao PADERNO FORMA ZA KOLAČE UZDUŽN ili jednakovrijedno | D84: ALUMINIJ , TEFLON | E84: min 31x12 cm | F84: min 0,25 kg | G84: KOM | H84: 1
B85: OPREMA KUHINJE | C85: kao PADERNO MUTILICA 35 CM ili jednakovrijedno | D85: INOX 18/10 , PLASTIKA | E85: min 35 cm | F85: min 0,17 kg | G85: KOM | H85: 1
B86: OPREMA KUHINJE | C86: kao PADERNO ŠKARE KUHINJSKE ili jednakovrijedno | D86: INOX 18/10 | E86: min 20 cm | F86: min 0,24 kg | G86: KOM | H86: 1
B87: OPREMA KUHINJE | C87: kao PADERNO POKLOPAC ZA GN 1/1 ili jednakovrijedno | D87: INOX 18/10 | F87: min 0,98 kg | G87: KOM | H87: 1
B88: OPREMA KUHINJE | C88: kao PADERNO GN 1/3 PERFORIRANA ili jednakovrijedno | D88: INOX 18/10 | F88: min 0,24 kg | G88: KOM | H88: 1
B89: OPREMA KUHINJE | C89: kao PADERNO GN 1/6 ili jednakovrijedno | D89: INOX 18/10 | F89: min 0,19 kg | G89: KOM | H89: 2
B90: OPREMA KUHINJE | C90: kao PADERNO GN 1/3 ili jednakovrijedno | D90: INOX 18/10 | E90: min 325x18x20 cm | F90: min 0,95 kg | G90: KOM | H90: 1
B91: OPREMA KUHINJE | C91: kao PADERNO GN 2/4 ili jednakovrijedno | D91: INOX 18/10 | E91: min 53x16,2x15 cm | F91: min 1,16 kg | G91: KOM | H91: 1
B92: OPREMA KUHINJE | C92: kao PADERNO SITO ZA BRAŠNO ili jednakovrijedno | D92: INOX 18/10 | E92: min 25,5 cm | F92: min 0,21 kg | G92: KOM | H92: 1
B93: OPREMA KUHINJE | C93: kao PADERNO POKLOPAC ZA GN 1/3 ili jednakovrijedno | D93: INOX 18/10 | F93: min 0,09 kg | G93: KOM | H93: 1
B94: OPREMA KUHINJE | C94: kao PADERNO RIBEŽ 4 STRANE ili jednakovrijedno | D94: INOX 18/10 | E94: min 10x8 cm | F94: min 0,28 kg | G94: KOM | H94: 1
B95: OPREMA KUHINJE | C95: kao PADERNO PRSTEN ZA KOLAČE ili jednakovrijedno | D95: INOX 18/10 | E95: min 20 cm | F95: min 0,53 kg | G95: KOM | H95: 1
B96: OPREMA KUHINJE | C96: kao PADERNO POKLOPAC GN 1/9 ili jednakovrijedno | D96: INOX 18/10 | F96: min 0,04 kg | G96: KOM | H96: 1
B97: OPREMA KUHINJE | C97: kao PADERNO POKLOPAC ZA GN 1/6 ili jednakovrijedno | D97: INOX 18/10 | F97: min 0,06 kg | G97: KOM | H97: 1
B98: OPREMA KUHINJE | C98: kao PADERNO VILICA KUHARSKA ili jednakovrijedno | D98: INOX 18/10 , PLASTIKA | E98: min 17 cm | F98: min 0,26 kg | G98: KOM | H98: 1
B99: OPREMA KUHINJE | C99: kao PADERNO GRABILICA ili jednakovrijedno | D99: INOX 18/10 | E99: min 38 cm | F99: min 0,23 kg | G99: KOM | H99: 1
A108: OPREMA KUHINJE - Radno mjesto 2
B109: TROŠKOVNIK NAZIV | C109: NAZIV ROBE USLUGE | D109: MATERIJAL | E109: DIMENZIJA | F109: TEŽINA | G109: JMJ | H109: KOM
B110: OPREMA KUHINJE | C110: kao DEMEYERE LONAC VISOKI 28 CM ili jednakovrijedno | D110: INOX , SILVANOX | E110: min 28 cm | F110: min 4,50 kg | G110: KOM | H110: 1
B111: OPREMA KUHINJE | C111: kao STAUB COCOTTE OKRUGLA 30CM CRV ili jednakovrijedno | D111: GIZA | E111: min 30 cm | F111: min 8,90 kg | G111: KOM | H111: 1
B112: OPREMA KUHINJE | C112: kao DEMEYERE SAUCE PAN 16 CM INDUS ili jednakovrijedno | D112: INOX , SILVANOX | E112: min 16 cm | F112: min 1,24 kg | G112: KOM | H112: 1
B113: OPREMA KUHINJE | C113: kao DEMEYERE SAUCE PAN 18 CM INDUS ili jednakovrijedno | D113: INOX , SILVANOX | E113: min 18 cm | F113: min 1,48 kg | G113: KOM | H113: 1
B114: OPREMA KUHINJE | C114: kao DEMEYERE SAUTEUSE 20 CM INDUS ili jednakovrijedno | D114: INOX , SILVANOX | E114: min 20 cm | F114: min 1,45 kg | G114: KOM | H114: 1
B115: OPREMA KUHINJE | C115: kao DEMEYERE SAUTEUSE 24 CM INDUST ili jednakovrijedno | D115: INOX , SILVANOX | E115: min 24 cm | F115: min 1,96 kg | G115: KOM | H115: 1
B116: OPREMA KUHINJE | C116: kao DEMEYERE KOOKPAN SA POKL. 24CM ili jednakovrijedno | D116: INOX , SILVANOX | E116: min 24 cm | F116: min 2,90 kg | G116: KOM | H116: 1
B117: OPREMA KUHINJE | C117: kao GLOBAL NOŽIĆ POM.ZA ČIŠĆ. 5CM ili jednakovrijedno | D117: MOLYBDENUM/VANADIUM SS | E117: min 5 cm | F117: min 0,10 kg | G117: KOM | H117: 1
B118: OPREMA KUHINJE | C118: kao GLOBAL NOŽ CARVING 22CM ili jednakovrijedno | D118: MOLYBDENUM/VANADIUM SS | E118: min 22 cm | F118: min 0,21 kg | G118: KOM | H118: 1
B119: OPREMA KUHINJE | C119: kao GLOBAL VILICA KUHARSKA RAVNA ili jednakovrijedno | D119: MOLYBDENUM/VANADIUM SS | E119: min 30,5 cm | F119: min 0,15 kg | G119: KOM | H119: 1
B120: OPREMA KUHINJE | C120: kao GLOBAL NOŽ ZA PRŠUT/LOSOS 31CM ili jednakovrijedno | D120: MOLYBDENUM/VANADIUM SS | E120: min 31 cm | F120: min 0,15 kg | G120: KOM | H120: 1
...

Sheet 9.RASVJETA
A1: REDNI BROJ | C1: OPIS | D1: JEDINICA MJERE | E1: KOLIČINA | F1: PROIZVOĐAČ/OPIS | G1: JEDINIČNA CIJENA | H1: UKUPNA CIJENA
A3: 9. | C3: RASVJETA
C5: • stavke uljučuju pripremu podloga za ispravno postavljanje završnih podnih obloga
C6: • stavke uljučuju sav potreban materijal i rad za izvedbu završnih podnih obloga.
C7: • obrada i izvođenje završnih podnih obloga prema uputama proizvođača
C8: • OPĆI UVJETI su sastavni dio ovog troškovnika
C10: RASVJETA SOBE
C12: SOBE
A13: =A3 -> 9. | B13: 1 | C13: Zidna metalna konzolna svjetiljka sa dva zgloba, jedan zglob uza zid za horizontalno pomicanje svjetiljke, jedan zglob uz sjenilo za vertikalno pomicanje sjenila; ukupna visina svjetiljke 50 cm, širina 45 cm; metalno sjenilo zvonolikog oblika (aluminij ili mesing) promjera 14-22 cm, dubina sjenila 11-19 cm; boja na zahtjev; tip kao Luminis Rox ili jednakovrijedan. | D13: kom | E13: 32 | H13: =G13*E13 -> 0
A15: =A3 -> 9. | B15: =B13+1 -> 2 | C15: Zidna metalna konzolna svjetiljka sa dva zgloba, jedan zglob uza zid za horizontalno pomicanje svjetiljke, jedan zglob uz sjenilo za vertikalno pomicanje sjenila; pri podnožju svjetiljke kružni držač za vidljiv dekorativni tekstilni kabel; ukupna visina svjetiljke 36 cm, širina 60 cm; metalno sjenilo zvonolika oblika (aluminij ili mesing) promjera 14-22 cm, dubina sjenila 11-19 cm; boja na zahtjev; tip kao Luminis Alias ili jednakovrijedan | D15: kom | E15: 32 | H15: =G15*E15 -> 0
A17: =A3 -> 9. | B17: =B15+1 -> 3 | C17: Stolna metalna svjetiljka uspravnog cilindričnog tijela; metalno (aluminij ili mesing) zvonoliko sjenilo; kružno postolje promjera 10-20 cm; boja na zahtjev, tip kao Luminis Rox | D17: kom | E17: 16 | H17: =G17*E17 -> 0
A19: =A3 -> 9. | B19: =B17+1 -> 4 | C19: Stolna metalna svjetiljka sa zglobom za pomicanje sjenila, ukupne visine 47-57 cm, širine 30-45 cm; metalno zvonoliko sjenilo (aluminij ili mesing); aluminijsko tijelo savijeno na dva mjesta pod kutom i sa poprečnim vodoravnim valjkastim završetkom; boja na zahtjev; tip kao Luminis Alias | D19: kom | E19: 16 | H19: =G19*E19 -> 0
A21: =A3 -> 9. | B21: =B19+1 -> 5 | C21: Stajaća metalna svjetiljka sa dva izvora svjetla; jedan izvor svjetla na vrhu svjetiljke za indirektnu rasvjetu, ugrađeni LED modul 3W 300lm; drugi izvor svjetla za direktnu rasvjetu na visini 110 cm od poda, metalno sjenilo stožastog oblika promjera 29-33 cm; aluminijsko tijelo svjetiljke, ukupna visina 200 cm; kružno podnožje svjetiljke promjera 10 cm, visine 6 cm; boja na zahtjev; tip kao Luminis Duo | D21: kom | E21: 16 | H21: =G21*E21 -> 0
A23: =A3 -> 9. | B23: =B21+1 -> 6 | C23: Stajaća metalna svjetiljka za direktnu rasvjetu; aluminijsko tijelo svjetiljke, ukupna visina 177 cm; nosač sjenila u obliku kružnog luka, promjer 97 cm; metalno sjenilo (aluminij ili mesing) oblika produžene polukugle, promjera 24-29 cm, dubine 14-17 cm; kružno podnožje promjera 30 cm; boja na zahtjev; tip kao Luminis Alias | D23: kom | E23: 16 | H23: =G23*E23 -> 0
A25: =A3 -> 9. | B25: =B23+1 -> 7 | C25: Stropno/zidne lampe u svim KUPAONICAMA soba tip kao Nemo Aquarius ( M. Barbaglia, M. Colombo ) ili jednakovrijedno. Dim Ø25 h.10 cm; 16W LED board 115/230V 2560lm/3000K dimmable, TRIAC AQU LDH 31. IP55 Struktura staklo/chrome.
D26: kom | E26: 32 | H26: =G26*E26 -> 0
A28: =A3 -> 9. | B28: =B25+1 -> 8 | C28: Rasvjetno tijelo kod ogledala kupaonice sobe, tip kao keramička zidna lampa Flaminia, Archivio, model MAKE-UP, šifra artikla MKLP ili jednakovrijedno.
D29: kom | E29: 32 | H29: =G29*E29 -> 0
C31: HODNICI NA PRVOM I DRUGOM KATU
A33: =A3 -> 9. | B33: =B28+1 -> 9 | C33: Zidna metalna konzolna svjetiljka sa zglobom za horizontalno pomicanje; metalno sjenilo zvonolikog oblika (aluminij ili mesing) promjera 14-22 cm, dubina sjenila 11-19 cm; boja na zahtjev; tip kao Luminis Vast | D33: kom | E33: 72 | H33: =G33*E33 -> 0
C35: LOBBY
A37: =A3 -> 9. | B37: =B33+1 -> 10 | C37: Stolna metalna svjetiljka uspravnog cilindričnog tijela; metalno (aluminij ili mesing) zvonoliko sjenilo; kružno postolje promjera 10-20 cm; boja na zahtjev, tip kao Luminis Rox ili jednakovrijedan | D37: kom | E37: 4 | H37: =G37*E37 -> 0
A39: =A3 -> 9. | B39: =B37+1 -> 11 | C39: Stajaća metalna svjetiljka sa dva izvora svjetla; jedan izvor svjetla na vrhu svjetiljke za indirektnu rasvjetu, ugrađeni LED modul 3W 300lm; drugi izvor svjetla za direktnu rasvjetu na visini 110 cm od poda, metalno sjenilo stožastog oblika promjera 29-33 cm; aluminijsko tijelo svjetiljke, ukupna visina 200 cm; kružno podnožje svjetiljke promjera 10 cm, visine 6 cm; boja na zahtjev; tip kao Luminis Duo ili jednakovrijedan | D39: kom | E39: 2 | H39: =G39*E39 -> 0
A41: =A3 -> 9. | B41: =B39+1 -> 12 | C41: Stajaća metalna svjetiljka za direktnu rasvjetu; aluminijsko tijelo svjetiljke, ukupna visina 177 cm; nosač sjenila u obliku kružnog luka, promjer 97 cm; metalno sjenilo (aluminij ili mesing) oblika produžene polukugle, promjera 24-29 cm, dubine 14-17 cm; kružno podnožje promjera 30 cm; boja na zahtjev; tip kao Luminis Alias ili jednakovrijedan | D41: kom | E41: 4 | H41: =G41*E41 -> 0
A43: =A3 -> 9. | B43: =B41+1 -> 13 | C43: Zidna metalna konzolna svjetiljka sa dva zgloba, jedan zglob uza zid za horizontalno pomicanje svjetiljke, jedan zglob uz sjenilo za vertikalno pomicanje sjenila; ukupna visina svjetiljke 50 cm, širina 45 cm; metalno sjenilo zvonolikog oblika (aluminij ili mesing) promjera 14-22 cm, dubina sjenila 11-19 cm; boja na zahtjev; tip kao Luminis Rox ili jednakovrijedan | D43: kom | E43: 4 | H43: =G43*E43 -> 0
C45: LOBBY BAR
A47: =A3 -> 9. | B47: =B43+1 -> 14 | C47: Viseća svjetiljka s metalnim sjenilom (aluminij ili mesing) zvonolikog ili stožastog oblika promjera 14-30 cm; kabel presvučen tekstilnom oblogom; boja kabela i sjenila po izboru, tip kao Luminis Rox ili jednakovrijedan | D47: KOM | E47: 24 | H47: =G47*E47 -> 0
A49: =A3 -> 9. | B49: =B47+1 -> 15 | C49: Stajaća metalna svjetiljka sa dva izvora svjetla; jedan izvor svjetla na vrhu svjetiljke za indirektnu rasvjetu, ugrađeni LED modul 3W 300lm; drugi izvor svjetla za direktnu rasvjetu na visini 110 cm od poda, metalno sjenilo stožastog oblika promjera 29-33 cm; aluminijsko tijelo svjetiljke, ukupna visina 200 cm; kružno podnožje svjetiljke promjera 10 cm, visine 6 cm; boja na zahtjev; tip kao Luminis Duo ili jednakovrijedan | D49: kom | E49: 4 | H49: =G49*E49 -> 0
A51: =A3 -> 9. | B51: =B49+1 -> 16 | C51: Stajaća metalna svjetiljka za direktnu rasvjetu; aluminijsko tijelo svjetiljke, ukupna visina 177 cm; nosač sjenila u obliku kružnog luka, promjer 97 cm; metalno sjenilo (aluminij ili mesing) oblika produžene polukugle, promjera 24-29 cm, dubine 14-17 cm; kružno podnožje promjera 30 cm; boja na zahtjev; tip kao Luminis Alias ili jednakovrijedan | D51: kom | E51: 4 | H51: =G51*E51 -> 0
A53: =A3 -> 9. | B53: =B51+1 -> 17 | C53: Zidna metalna konzolna svjetiljka sa zglobom za horizontalno pomicanje; metalno sjenilo zvonolikog oblika (aluminij ili mesing) promjera 14-22 cm, dubina sjenila 11-19 cm; boja na zahtjev; tip kao Luminis Vast ili jednakovrijedan | D53: kom | E53: 6 | H53: =G53*E53 -> 0
C55: RESTAURANT
A57: =A3 -> 9. | B57: =B53+1 -> 18 | C57: Stropna metalna svjetiljka sa 3 neosvisne konzole; dužina konzole 100 cm; metalno zvonoliko sjenilo (aluminij ili mesing) promjera 14-22 cm; boja po izboru, tip kao Luminis Vast ili jednakovrijedan | D57: kom | E57: 12 | H57: =G57*E57 -> 0
A59: =A3 -> 9. | B59: =B57+1 -> 19 | C59: Zidna metalna konzolna svjetiljka sa zglobom za horizontalno pomicanje; metalno sjenilo zvonolikog oblika (aluminij ili mesing) promjera 14-22 cm, dubina sjenila 11-19 cm; boja na zahtjev; tip kao Luminis Vast ili jednakovrijedan | D59: kom | E59: 6 | H59: =G59*E59 -> 0
A61: =A3 -> 9. | B61: =B59+1 -> 20 | C61: Stajaća metalna svjetiljka sa dva izvora svjetla; jedan izvor svjetla na vrhu svjetiljke za indirektnu rasvjetu, ugrađeni LED modul 3W 300lm; drugi izvor svjetla za direktnu rasvjetu na visini 110 cm od poda, metalno sjenilo stožastog oblika promjera 29-33 cm; aluminijsko tijelo svjetiljke, ukupna visina 200 cm; kružno podnožje svjetiljke promjera 10 cm, visine 6 cm; boja na zahtjev; tip kao Luminis Duo ili jednakovrijedan | D61: kom | E61: 6 | H61: =G61*E61 -> 0
A63: =A3 -> 9. | B63: =B61+1 -> 21 | C63: Stajaća metalna svjetiljka za direktnu rasvjetu; aluminijsko tijelo svjetiljke, ukupna visina 177 cm; nosač sjenila u obliku kružnog luka, promjer 97 cm; metalno sjenilo (aluminij ili mesing) oblika produžene polukugle, promjera 24-29 cm, dubine 14-17 cm; kružno podnožje promjera 30 cm; boja na zahtjev; tip kao Luminis Alias ili jednakovrijedan | D63: kom | E63: 6 | H63: =G63*E63 -> 0
C65: WELLNESS
A67: =A3 -> 9. | B67: =B63+1 -> 22 | C67: Dobava i nabava prenosive svjetiljke tip kao DePadova Firefly ( Alexander Åhnebrink ) ili jednakovrijedno - multifunkcionalna prenosiva svjetiljka - punjiva putem micro USB 2.0 porta - baza: crna termoplastika - unutarnje sjenilo: zamućeno staklo - vanjsko sjenilo: zatamnjeno staklo - držač prenosive svjtiljke: kravlja koža sa krom detaljem - dim.Ø16 x 36 cm h
D68: kom | E68: 10 | H68: =G68*E68 -> 0
C70: RASVJETA UKUPNO | H70: =SUM(H9:H69) -> 0

Sheet REKAPITULACIJA
B2: REKAPITULACIJA OPREME
D6: UKUPNO
B8: 1 | C8: ZAVJESE I TEKSTIL | D8: ='1.DEKORI'!H96 -> 0
B10: 2 | C10: STOLARSKI RADOVI NAMJEŠTAJA U SOBI | D10: ='2.STOLARSKI'!H91 -> 0
B12: 3 | C12: NABAVA DESIGNERSKOG NAMJEŠTAJA I TAPECIRANJE KREVETA NA KAT | D12: ='3. TAPECIRANJE'!H48 -> 0
B14: 4 | C14: ='4. BRAVARSKI'!C3 -> BRAVARSKO - STOLARSKI RADOVI IZRADE NAMJEŠTAJA | D14: ='4. BRAVARSKI'!H70 -> 0
B16: 5 | C16: NAMJEŠTAJ RESTORANA STOLOVI I STOLICE | D16: ='5. NAMJEŠTAJ RESTORANA'!H54 -> 0
B18: 6 | C18: GENERIČKI NAMJEŠTAJ I OPREMA UREDA | D18: ='6. UREDI'!H47 -> 0
B20: 7 | C20: OPREMA WELLNESSA | D20: ='7. WELLNESS'!H27 -> 0
B22: 8 | C22: OPREMA RESTORANA | D22: ='8. RESTORAN TRS'!H93 -> 0
B24: 9 | C24: RASVJETA | D24: ='9.RASVJETA'!H70 -> 0
C26: OPREMA SVEUKUPNO | D26: =SUM(D8:D25) -> 0
