Workbook
Name b: #REF!
Name b: #REF!
Name b: #REF!
Name b: #REF!
Name b: #REF!
Name b: #REF!
Name BETONSKI_I_ARM.BETONSKI_RADOVI: #REF!
Name BETONSKI_I_ARM.BETONSKI_RADOVI: #REF!
Name BETONSKI_I_ARM.BETONSKI_RADOVI: #REF!
Name BETONSKI_I_ARM.BETONSKI_RADOVI: #REF!
Name BETONSKI_I_ARM.BETONSKI_RADOVI: #REF!
Name BRAVARIJA_SKLONIŠTA: #REF!
Name BRAVARIJA_SKLONIŠTA: #REF!
Name BRAVARIJA_SKLONIŠTA: #REF!
Name BRAVARIJA_SKLONIŠTA: #REF!
Name BRAVARIJA_SKLONIŠTA: #REF!
Name cijenik: [1]List1!$1:$1048576
Name CRNA_BRAVARIJA: #REF!
Name CRNA_BRAVARIJA: #REF!
Name CRNA_BRAVARIJA: #REF!
Name CRNA_BRAVARIJA: #REF!
Name CRNA_BRAVARIJA: #REF!
Name CRNA_BRAVARIJA: #REF!
Name č: #REF!
Name č: #REF!
Name č: #REF!
Name č: #REF!
Name č: #REF!
Name ČELIČNA_KONSTRUKCIJA: #REF!
Name ČELIČNA_KONSTRUKCIJA: #REF!
Name ČELIČNA_KONSTRUKCIJA: #REF!
Name ČELIČNA_KONSTRUKCIJA: #REF!
Name ČELIČNA_KONSTRUKCIJA: #REF!
Name DIMNJACI: #REF!
Name DIMNJACI: #REF!
Name DIMNJACI: #REF!
Name DIMNJACI: #REF!
Name DIMNJACI: #REF!
Name DIZALA: #REF!
Name DIZALA: #REF!
Name DIZALA: #REF!
Name DIZALA: #REF!
Name DIZALA: #REF!
Name E: #REF!
Name E: #REF!
Name E: #REF!
Name E: #REF!
Name E: #REF!
Name f: #REF!
Name f: #REF!
Name f: #REF!
Name f: #REF!
Name f: #REF!
Name FASADERSKI_RADOVI: #REF!
Name FASADERSKI_RADOVI: #REF!
Name FASADERSKI_RADOVI: #REF!
Name FASADERSKI_RADOVI: #REF!
Name FASADERSKI_RADOVI: #REF!
Name INOX_BRAVARIJA: #REF!
Name INOX_BRAVARIJA: #REF!

Sheet NASLOV
B5: građevina | C5: VINSKI HOTEL ROXANICH
B9: vrsta projekta | C9: TROŠKOVNIK ZANATSKIH RADOVA - IZDVOJENO
B14: naručitelj | C14: ROXANICH d.o.o
C15: Kosinožići 26, 52446 Nova Vas
C16: OIB: 90993986244
B18: izvršitelj | C18: ARHITEKTONSKI BIRO TURATO d.o.o.
C19: Krešimirova 12
C20: 51000 Rijeka
B23: glavni projektant | C23: dr.sc. IDIS TURATO dipl.ing.arh.
B27: direktor | C27: dr.sc. IDIS TURATO dipl.ing.arh.

Sheet SADRZAJ
B1: SADRŽAJ
B3: TROŠKOVNIK ZANATSKIH RADOVA
B6: B | C6: ZANATSKI RADOVI
B8: 1 | C8: LIČILAČKI RADOVI
B10: 2 | C10: SANITARIJE
B12: 3 | C12: KERAMIČARSKI RADOVI
B14: 4 | C14: ='04_TERRAZZO'!C3 -> TERRAZZO PODOVI
B16: 5 | C16: ='05_PARKETARSKI'!C3 -> PARKETARSKI RADOVI
B18: 6 | C18: ='06_TEPISONI'!C3 -> RADOVI POLAGANJA TEPISONA

Sheet 01_LICILACKI
A1: REDNI BROJ | C1: OPIS | D1: JEDINICA MJERE | E1: KOLIČINA RADOVA | F1: PROIZVOĐAČ/OPIS | G1: JEDINIČNA CIJENA | H1: UKUPNA CIJENA
A3: 1 | C3: LIČILAČKI RADOVI I OBRADE BETONA
A6: 1. | B6: 1 | C6: Patiniranje AB zidova
C7: Patiniranje armiranobetonskih podova / zidova. Podloga arm. betona se patinira se voskom / lakom do boje i tona dogovorenog s projektantom / investitorom. Potrebno je dobro očistiti i pripremiti podlogu betona. Upotrebljena sredstva u skladu su s požarnim i sanitarnim uvjetima za zgradu.
C8: površina zida SOBA | D8: m2 | E8: 450 | H8: =G8*E8 -> 0
C9: površina stropova SOBA | D9: m2 | E9: =297+(158+90+48)*2+72 -> 961 | H9: =G9*E9 -> 0
C10: poršina patiniranja JAVNIH PROSTORA | D10: m2 | E10: =13*3.3+31*10+13.5*3.55+24*14 -> 736.825 | H10: =G10*E10 -> 0
C11: površina stropova JAVNIH PROSTORA | D11: m2 | E11: 120 | H11: =G11*E11 -> 0
A13: 1. | B13: =B6+1 -> 2 | C13: Ličilačko - dekorativni radovi zida sobe
C14: Dobava, nabava i izvedba profilacija zidova sobe tip kao Orac Decor P8020, P4020, SX118, C217, a sve prema priloženoj shemi polaganja. Profilacije se dobavljaju kao gotove te režu i montiraju, te liče u jednakoj boji kao i zid. Sve u RAL-u prema odabiru projektanta. U cijenu uključen sav materijal i pribor, FD500 - ljepilo za spajanje profila i zida i FX200 - ljepilo za spajanje profilacija na bazi polyuretana.
C15: P4020 ORAC 200 x 5 x 3 | D15: kom | E15: 510 | H15: =G15*E15 -> 0
C16: P8020 ORAC LUXXUS 200 x 6 x 2,5 | D16: kom | E16: 56 | H16: =G16*E16 -> 0
C17: SX118 ORAC 200 x 14 x 1,8 | D17: kom | E17: 56 | H17: =G17*E17 -> 0
C18: C217 200 x15,5 x 10,5 | D18: kom | E18: 56 | H18: =G18*E18 -> 0
C19: FDP500 | D19: kom | E19: 156 | H19: =G19*E19 -> 0
C20: FX200 | D20: kom | E20: 13 | H20: =G20*E20 -> 0
C21: dobava i montaža | E21: =SUM(E15:E18) -> 678 | H21: =G21*E21 -> 0
A23: 1. | B23: =B13+1 -> 3 | C23: Zidna tapeta na bloku kupaonice
C24: Dobava, nabava i ugradnja (ljepljenje) strukturirane papirne zidne tapete tip kao Muramour (digital wall coverings) ili jednakovrijedno na gipskartonske zidove kupaonice, vrata kupaonice, vrata ugradbenog ormara i strop kupaonskog bloka prema priloženoj shemi. Tapeta je savitljiva, lako prijanja na podlogu. Tapeta je reljefne površine prema odabiru projektanta, ima odličnu otpornost na svjetlo. Polaganje prema uputstvima proizvođača.
C25: tepate na zidovima | D25: m2 | E25: =20*28*1.2+106.5 -> 778.5 | H25: =G25*E25 -> 0
C26: tapete na stropovima | D26: m2 | E26: 75 | H26: =G26*E26 -> 0
C27: dobava i montaža | D27: m2 | E27: =SUM(E25:E26) -> 853.5 | H27: =G27*E27 -> 0
A29: 1. | B29: =B23+1 -> 4 | C29: Ličenje tavelice na kosom krovu
C30: Ličenje tavelica prije ugradnje postojećih tavelica koje dobavlja investitora (postojeće tavelice stare zgrade vinarije). Ličenje pojedinačne tavelice u obliku trokuta. Veličina tavelice 25x12cm | D30: m2 | E30: 550 | H30: =G30*E30 -> 0
A32: 1. | B32: =B29+1 -> 5 | C32: Zidna tapeta na zidovima TRGOVINE
C33: Dobava, nabava i ugradnja (ljepljenje) strukturirane papirne zidne tapete tip kao Muramour (digital wall coverings) ili jednakovrijedno na zidove trgovine. Tapeta je savitljiva, lako prijanja na podlogu. Tapeta je reljefne površine prema odabiru projektanta, ima odličnu otpornost na svjetlo. Polaganje prema uputstvima proizvođača.
C34: tepate na zidovima | D34: m2 | E34: 138 | H34: =G34*E34 -> 0
C37: LIČILAČKI RADOVI UKUPNO | H37: =SUM(H4:H36) -> 0

Sheet 02_SANITAR
A1: REDNI BROJ | C1: OPIS | D1: JEDINICA MJERE | E1: KOLIČINA RADOVA | F1: PROIZVOĐAČ/OPIS | G1: JEDINIČNA CIJENA | H1: UKUPNA CIJENA
A3: 2. | C3: SANITARNA OPREMA - smještajni dio
A6: =A3 -> 2. | B6: 1 | C6: Dobava, nabava i ugradnja podne keramičke wc školjke tip kao Flaminia Efi dim. 55x35x38,5 cm art. 6011 ili jednakovrijedan sa odvodom u zid u kompletu s pripadajućim wc sjedalom sa sistemom "softclose" art. 23/CR s kromiranim vijcima te setom za montažu art. 9001. Stavka uključuje pričvrsni, brtveni i spojni materijal potreban za ugradnju.
C7: -dobava opreme i potrebnog materijala za kompletiranje stavke
D8: kom | E8: 28 | H8: =E8*G8 -> 0
C9: dobava i montaža | D9: kom | E9: 28 | H9: =E9*G9 -> 0
A11: =A3 -> 2. | B11: =B6+1 -> 2 | C11: Dobava, nabava i ugradnja visokomontažnog keramičkog vodokotlića tip kao Flaminia Efi art. 6008 ili jednakovrijedan dim. 21x50x32 cm za ispiranje podne wc školjke Efi. U kompletu se isporučuje i kromirana izljevna cijev za spoj školjke i vodokotlića art. 6015/C. Stavka uključuje pričvrsni, brtveni i spojni materijal potreban za ugradnju.
C12: -dobava opreme i potrebnog materijala za kompletiranje stavke
D13: kom | E13: 28 | H13: =E13*G13 -> 0
C14: dobava i montaža | D14: kom | E14: 28 | H14: =E14*G14 -> 0
A16: =A3 -> 2. | B16: =B11+1 -> 3 | C16: Dobava, nabava i ugradnja keramičkog umivaonika tip kao Flaminia Efi 70 art. 6006 ili jednakovrijedan dimenzije 70X54x28 cm u kompletu sa sifonom Geberit 151.034.21.1. Umivaonik se ugrađuje na keramički stalak art. 6009 dim. 25,5x65 cm koji je u cijeni stavke, te se fiksira na zid setom za montažu art. 9002. Stavka uključuje pričvrsni, brtveni i spojni materijal potreban za ugradnju.
C17: -dobava opreme i potrebnog materijala za kompletiranje stavke
D18: kom | E18: 28 | H18: =E18*G18 -> 0
C19: dobava i montaža | D19: kom | E19: 28 | H19: =E19*G19 -> 0
A21: =A3 -> 2. | B21: =B16+1 -> 4 | C21: Dobava, nabava i ugradnja štedne stojeće dvoručne armature za umivaonik tip kao Hansgrohe Axor Montreux art. 16505000 ili jednakovrijedan. Završna obrada krom. Armatura ima štedni perlator sa sistemom uštede vode 5 l/min. Duljina izljeva je 117 mm, visina 159 mm u kompletu s odvodnim setom i šipkom za zatvaranje. Ugrađuje se na umivaonik Efi. Stavka uključuje kutne ventile s filterom te pričvrsni, brtveni i spojni materijal potreban za ugradnju.
C22: -dobava opreme i potrebnog materijala za kompletiranje stavke
D23: kom | E23: 28 | H23: =E23*G23 -> 0
C24: dobava i montaža | D24: kom | E24: 28 | H24: =E24*G24 -> 0
A26: =A3 -> 2. | B26: =B21+1 -> 5 | C26: Dobava i ugradnja zidne nadžbukne armature tip kao Hansgrohe Axor Montreux art. 16261000 za tuš kadu s diverterom u kompletu s tuš rozetom i ručkom za tuširanje. Termostatska armatura ima protok 20 l/min sa sigurnosnim zaporom kod 38˚C te ima mogućnost ograničenja maksimalne temperature na kartuši. U stavci je uključena tuš nosač 90cm prilagodljiva kuta u kompletu sa tuš ručka Axor Monteux promjera fi 100 mm s tuš cijevi duljine 160 cm art. 27982000. Stavka uključuje pričvrsni, brtveni i spojni materijal potreban za ugradnju.
C27: -dobava opreme i potrebnog materijala za kompletiranje stavke
D28: kom | E28: 28 | H28: =E28*G28 -> 0
C29: dobava i montaža | D29: kom | E29: 28 | H29: =E29*G29 -> 0
A31: =A3 -> 2. | B31: =B26+1 -> 6 | C31: Dobava, nabava i ugradnja čelične pravokutne tuš kade tip kao Bette BetteFloor dim. 150x80 cm art. 5937 ili jednakovrijedan, s protukliznom površinom koja se ugrađuje u nivou poda. Tuš kada u boji prema odabiru projektanta u kompletu s sifonom u boji tuš kade protoka 0,65 l/s, promjera 90 mm s visinom sifoniranja 50 mm. Stavka uključuje pričvrsni, brtveni i spojni materijal potreban za ugradnju.
C32: -dobava opreme i potrebnog materijala za kompletiranje stavke
D33: kom | E33: 28 | H33: =E33*G33 -> 0
C34: dobava i montaža | D34: kom | E34: 28 | H34: =E34*G34 -> 0
A36: =A3 -> 2. | B36: =B31+1 -> 7 | C36: Dobava, nabava i ugradnja staklene stijene sa fiksnom stijenom i krilnim vratima tip kao Novellini Kuadra H+HFA. Staklena stijena visine 200 cm sastoji se od fiksne stijene širine 87 cm u kombinaciji sa krilnim vratima (kut otvaranja 180 *) širine 37 cm koja su montirana na fiksnu stijenu. Tuš vrata izvedena s aluminijskim kromiranim profilima te ostakljena sigurnosnim transparentnim staklom debljine 8 mm. Staklo kabine izvedeno posebnim Crystal clear tretmanom zbog lakšeg čišćenja i održavanja. Prije narudžbe na objektu je potrebno uzeti točne mjere. U stavci uključeno i silikoniranje spojeva. Stavka uključuje pričvrsni, brtveni i spojni materijal potreban za ugradnju.
C37: -dobava opreme i potrebnog materijala za kompletiranje stavke
D38: kom | E38: 28 | H38: =E38*G38 -> 0
C39: dobava i montaža | D39: kom | E39: 28 | H39: =E39*G39 -> 0
C41: SANITARNA GALANTERIJA
A43: =A3 -> 2. | B43: =B36+1 -> 8 | C43: Dobava i ugradnja kromiranog držača rolo papira s poklopcem tip kao Inda A32260CR. Stavka uključuje pričvrsni, brtveni i spojni materijal potreban za ugradnju.
C44: -dobava opreme i potrebnog materijala za kompletiranje stavke
C45: -istovar i skladištenje te transport na mjesto montaže, te montaža
D46: kom | E46: 28 | H46: =E46*G46 -> 0
C47: dobava i montaža | D47: kom | E47: 28 | H47: =E47*G47 -> 0
A49: =A3 -> 2. | B49: =B43+1 -> 9 | C49: Dobava i ugradnja kromiranog držača rezervnog rolo papira tip kao Inda A32250CR. Stavka uključuje pričvrsni, brtveni i spojni materijal potreban za ugradnju.
C50: -dobava opreme i potrebnog materijala za kompletiranje stavke
D51: kom | E51: 28 | H51: =E51*G51 -> 0
C52: dobava i montaža | D52: kom | E52: 28 | H52: =E52*G52 -> 0
...

Sheet 03 KERAMIČARSKI
A1: REDNI BROJ | C1: OPIS | D1: JEDINICA MJERE | E1: KOLIČINA RADOVA | F1: PROIZVOĐAČ/OPIS | G1: JEDINIČNA CIJENA | H1: UKUPNA CIJENA
A3: 3. | C3: KERAMIČARSKI RADOVI
C4: Naponema: W=wellness, SA=Sjeverni Anex, JA=Južni Anex CS=Centralno stubište
C6: ETAŽA -1
A8: =A3 -> 3. | B8: 1 | C8: prostor wellness-a - pod
C9: Nabava i postava protukliznih gres keramičkih pločica "A" kvalitete, dimenzija 80*80cm (tip kao Matieres di Rex ili jednakovrijedan), boje prema odabiru projektanta, postavljene u poboljšano cementno ljepilo C2TE. Pločice su ravno rezanih rubova, retificirane, debljine 10mm. Uključiti dobavu i izvedbu rubnog sokla iz keramike visine 10cm, obračun po m1 sokla. Pločice moraju biti R10B protuklizne obrade. Postava prema upustvima proizvođača.
C10: površina poda wellness-a | D10: m2 | E10: 84.6 | H10: =G10*E10 -> 0
C11: duljina sokla | D11: m1 | E11: 20 | H11: =G11*E11 -> 0
C12: trošak ugradnje i postavljanja | D12: m2 | E12: =E10+E11*0.1 -> 86.6 | H12: =G12*E12 -> 0
A14: =A3 -> 3. | B14: =B8+1 -> 2 | C14: prostor wellness-a - zid
C15: Nabava i postava protukliznih gres keramičkih pločica "A" kvalitete, dimenzija 120*240cm (tip kao Matieres di Rex ili jednakovrijedan), boje prema odabiru projektanta, postavljene u poboljšano cementno ljepilo C2TE. Pločice su ravno rezanih rubova, retificirane, debljine 6mm. Uključiti dobavu i izvedbu rubnog sokla iz keramike visine 10cm, obračun po m1 sokla. Postava prema upustvima proizvođača.
C16: površina zida wellness-a | D16: m2 | E16: 24 | H16: =G16*E16 -> 0
C17: duljina sokla | D17: m1 | E17: 4.32 | H17: =G17*E17 -> 0
C18: trošak ugradnje i postavljanja | D18: m2 | E18: =E16+E17*0.1 -> 24.432 | H18: =G18*E18 -> 0
A20: =A3 -> 3. | B20: =B14+1 -> 3 | C20: sanitarije bazena - pod i zid
C21: Nabava i postava protukliznih gres keramičkih pločica "A" kvalitete, dimenzija 80*80cm (tip kao Matieres di Rex ili jednakovrijedan), boje prema odabiru projektanta, postavljene u poboljšano cementno ljepilo C2TE. Pločice su ravno rezanih rubova, retificirane, debljine 10mm. Uključiti dobavu i izvedbu rubnog sokla iz keramike visine 10cm, obračun po m1 sokla. Pločice moraju biti R10B protuklizne obrade. Postava prema upustvima proizvođača.
C22: površina poda | D22: m2 | E22: 21.5 | H22: =G22*E22 -> 0
C23: površina zida | D23: m2 | E23: 52 | H23: =G23*E23 -> 0
C24: trošak ugradnje i postavljanja | D24: m2 | E24: =SUM(E22:E23) -> 73.5 | H24: =G24*E24 -> 0
A26: =A3 -> 3. | B26: =B20+1 -> 4 | C26: sanitarije kluba - pod i zid
C27: Nabava i postava protukliznih gres keramičkih pločica "A" kvalitete, dimenzija 25*25 cm (tip kao Vouge Graph ili jednakovrijedan), boje prema odabiru projektanta neutral C, postavljene u poboljšano cementno ljepilo. Pločice su ravno rezanih rubova, retificirane, debljine 10mm. Zid se oblaže pločicama do 2 m visine od gotovog poda. Uključiti dobavu i izvedbu rubnog sokla iz keramike visine 10cm, obračun po m1 sokla. Pločice na podu moraju biti primjerene protuklizne obrade R10.Postava prema upustvima proizvođača.
C28: površina poda | D28: m2 | E28: =8.37 -> 8.37 | H28: =G28*E28 -> 0
C29: površina zida | D29: m2 | E29: 26 | H29: =G29*E29 -> 0
C30: duljina sokla | D30: m' | E30: 4 | H30: =G30*E30 -> 0
C31: trošak ugradnje i postavljanja | D31: m2 | E31: =SUM(E28:E29)+4*0.1 -> 34.77 | H31: =G31*E31 -> 0
A33: =A3 -> 3. | B33: =B26+1 -> 5 | C33: kuhinja, pekarnica, hladna komora - zid i pod
C34: Nabava i postava protukliznih gres keramičkih pločica "A" kvalitete. Za pod dimenzija 30x30 cm deb. 7,6mm (tip kao Caesar Industria ili jednakovrijedan), postavljene u poboljšano cemantno ljepilo C2TE. Pločice su ravno rezanih rubova, protukliznosti R12. Za zid dimenzija 20x20 cm (tip kao Vouge Ghiaccio), boje prema odabiru projektanta, postavljene u poboljšano cemantno ljepilo C2TE. Pločice je glazirana gres keramika debljine 7,6 mm. Uključiti dobavu i izvedbu rubnog sokla iz ker. pločica iste vrste kao pod, visine 15cm, obračun po m1 sokla. Zid se oblaže pločicama do 2 m visine od gotovog poda na vanjskim kutevima na spoju postavlja se rubna lajsna. Pločice na podu moraju biti primjerene protuklizne obrade za upotrebu u kuhinji te primjerene otpornosti na udarce. Postava prema upustvima proizvođača.
C35: površina poda | D35: m2 | E35: 55 | H35: =G35*E35 -> 0
C36: površina zida | D36: m2 | E36: =72.27+81.55+81.25 -> 235.07 | H36: =G36*E36 -> 0
C37: duljina sokla ispod elemenata kuhinje (h=15cm) | D37: m1 | E37: 82 | H37: =G37*E37 -> 0
C38: trošak ugradnje i postavljanja | D38: m2 | E38: =SUM(E35:E36)+E37*0.15 -> 302.37 | H38: =G38*E38 -> 0
A40: =A3 -> 3. | B40: =B33+1 -> 6 | C40: sanitarije hotelskih soba - pod i zid (+1, +2)
C41: Nabava i postava gres keramičkih pločica "A" kvalitete, dimenzija 25*25cm deb.10mm (tip kao Vouge Confetti ili jednakovrijedan), boje prema odabiru projektanta, postavljene u poboljšano cementno ljepilo C2TE. Pločice su ravno rezanih rubova, retificirane. Zid se oblaže pločicama do 2 m visine od gotovog poda. Pločice na podu moraju biti primjerene protuklizne obrade. Postava prema upustvima proizvođača.
C42: površina poda - kao Vouge Confetti fondo base | D42: m2 | E42: 119.69 | H42: =G42*E42 -> 0
C43: površina zida - kao Vouge Confetti Decoro | D43: m2 | E43: 425 | H43: =G43*E43 -> 0
C44: trošak ugradnje i postavljanja | D44: m2 | E44: =SUM(E42:E43) -> 544.69 | H44: =G44*E44 -> 0
A46: =A3 -> 3. | B46: =B40+1 -> 7 | C46: sanitarije i hodnik hotelskih apartmana - pod i zid (ULAZNI KUBUS)
C47: Nabava i postava gres keramičkih pločica "A" kvalitete, dimenzija 80*80cm deb.10mm (tip kao Rex alabastro Bamboo ili jednakovrijedan), boje prema odabiru projektanta, postavljene u poboljšano cementno ljepilo C2TE, pločice u prostoru tuša dimenzija 3*15cm ( tip kao Rex alabastro Bamboo ili jednakovrijedan) Pločice su ravno rezanih rubova, retificirane.Pločice su ravno rezanih rubova, retificirane. Zid se oblaže pločicama dimenzija 160*320cm debljine 6mm (tip kao Rex alabastro Bamboo) do 2,8 m visine od gotovog poda. Pločice na podu moraju biti primjerene protuklizne obrade. Postava prema upustvima proizvođača.
C48: Keramičkim pločicama se oblaže pod, zid, strop ulaznog dijela u ravnini kupaonice = ulazni kubus
C49: površina poda - kao Rex Alabasto Bamboo 80x80 | D49: m2 | E49: 22.6 | H49: =G49*E49 -> 0
...

Sheet 04_TERRAZZO
A1: REDNI BROJ | C1: OPIS | D1: JEDINICA MJERE | E1: KOLIČINA RADOVA | F1: PROIZVOĐAČ/OPIS | G1: JEDINIČNA CIJENA | H1: UKUPNA CIJENA
A3: 4. | C3: TERRAZZO PODOVI
A6: =A3 -> 4. | B6: 1 | C6: terrazo lobby bara, cigar sobe, dvorane
C7: Dobava, nabava i izvođenje klasičnih brušenih podova nanošenjem visokoopteretivne mase miješane s agregatom granulata i u boji po odabiru projektanta. Potrebno je koristiti agregat crvene boje (terakota) što većih mogućih dimenzija.U jediničnu cijenu uključiti brušenje, zapunjavanje pora, ponovno brušenje i poliranje do potpune graltkoće, te završni transparentni premaz. U stavku uključiti izradu terrazza različitih boja, sve prema shemi i prema odabiru projektanta. U cijenu uključen sav potreban materijal i probor.
C9: terrazzo lobby bara | D9: m2 | E9: 99 | H9: =G9*E9 -> 0
C10: cigar sobe | D10: m2 | E10: 21 | H10: =G10*E10 -> 0
C11: terrazzo dvorana | D11: m2 | E11: 148 | H11: =G11*E11 -> 0
C12: terrazzo JA | D12: m2 | E12: 24 | H12: =G12*E12 -> 0
C14: PODOPOLAGAČKI RADOVI | H14: =SUM(H4:H13) -> 0

Sheet 05_PARKETARSKI
A1: REDNI BROJ | C1: OPIS | D1: JEDINICA MJERE | E1: KOLIČINA RADOVA | F1: PROIZVOĐAČ/OPIS | G1: JEDINIČNA CIJENA | H1: UKUPNA CIJENA
A3: 5. | C3: PARKETARSKI RADOVI
C5: • stavke uljučuju pripremu podloga za ispravno postavljanje završnih podnih obloga
C6: • stavke uljučuju sav potreban materijal i rad za izvedbu završnih podnih obloga (izrada sokla, postavljanje kutnih letvica, lakiranje brušenje, kitanje, fugiranje...)
C7: • obrada i izvođenje završnih podnih obloga prema uputama proizvođača
C8: • OPĆI UVJETI su sastavni dio ovog troškovnika
A10: 5. | B10: 1 | C10: parket_SOBE
C11: Dobava i polaganje parketa kao završne podne obloge. Masivni parket izrađen od cjelovitog drva, oblik parketa francuski vez (kraće stranice pod kutom 45°) svaki element ima utor i pero na svakoj strani te na licu mikro faze (skošenja rubova) sa sve 4 strane (45°, 1mm), površinski obrađen UV otvrdnjavajućim lakom. Vrsta drveta hrast. Dimenzija 495x70x14. Parketni elementi su površinski obrađeni UV otvrdnjavajućim lakom (Bona) u 6 slojeva i namijenjeni za uporabu srednjeg/visokog intenziteta. Parket je proizveden prema usklađenoj tehničkoj specifikaciji HRN EN 14342:2008. Relativni sadržaj vlage je 9+/-2%. Masivni parket izrađen od cjelovitog drva hrasta, dimenzija 440/70/14 mm (dulj. x šir. x deb.), lakirana UV otvrdnjavajućim lakom, namijenjen postavljanju lijepljenjem ili čavlanjem na nosivu podlogu u interijerima.
C12: Do 5% elemenata mogu se razlikovati od deklariranog Reakcija na vatru obzirom na minimalnu prosječnu gustoću i minimalnu ukupnu debljinu Cfl-s1 691kg/m3 10 mm Emisija formaldehida E1 Emisija pentaklorfenola < 5 ppm Sila loma (maksimalno opterećenje) i raspon NPD Klizavost 86 Toplinska vodljivost 0,172 W/m K Biološka otpornost Razred 2
C13: Postavlja se na čvrstu suhu (<1,8% vlage - mjereno CM metodom) i niveliranu podlogu, upotrebom pimera Sika MB primer te trajnoelasticnog ljepila Sika T-45, te postava i silikoniranje završnih kutnih lajsni - u cijenu postave ukljuceno završno cišcenje te voskanje poda. Parket je visoke kvalitete. Stavka uključuje i sve nivelacijske podloge, te sve potrebne međuslojeve za postavu poda i površinsku zaštitu drva. U cijenu stavke uključiti dobavu i postavu rubnog sokla. Materijal, detalje završetka i općeniti izgled parketa uskladiti s projektantom. Završna obrada i boja parketa i sokla prema izboru projetanta.
C14: SOBE
C15: površina poda | D15: m2 | E15: 640 | H15: =G15*E15 -> 0
C16: montaža parketa | D16: m2 | E16: =E15 -> 640 | H16: =G16*E16 -> 0
C17: rubna lajsna | D17: m1 | E17: 430 | H17: =G17*E17 -> 0
C18: montaža rubne lajsne | D18: m1 | E18: 430 | H18: =G18*E18 -> 0
A20: 5. | B20: =B10+1 -> 2 | C20: parket_RESTORAN
C21: Dobava i polaganje parketa kao završne podne obloge. Masivni parket izrađen od cjelovitog drva, oblik parketa francuski vez (kraće stranice pod kutom 45°) svaki element ima utor i pero na svakoj strani te na licu mikro faze (skošenja rubova) sa sve 4 strane (45°, 1mm), površinski obrađen UV otvrdnjavajućim lakom. Vrsta drveta hrast. Dimenzija 495x70x14. Parketni elementi su površinski obrađeni UV otvrdnjavajućim lakom (Bona) u 6 slojeva i namijenjeni za uporabu srednjeg/visokog intenziteta. Parket je proizveden prema usklađenoj tehničkoj specifikaciji HRN EN 14342:2008. Relativni sadržaj vlage je 9+/-2%. Masivni parket izrađen od cjelovitog drva hrasta, dimenzija 440/70/14 mm (dulj. x šir. x deb.), lakirana UV otvrdnjavajućim lakom, namijenjen postavljanju lijepljenjem ili čavlanjem na nosivu podlogu u interijerima. Do 5% elemenata mogu se razlikovati od deklariranog Reakcija na vatru obzirom na minimalnu prosječnu gustoću i minimalnu ukupnu debljinu Cfl-s1 691kg/m3 10 mm Emisija formaldehida E1 Emisija pentaklorfenola < 5 ppm Sila loma (maksimalno opterećenje) i raspon NPD Klizavost 86 Toplinska vodljivost 0,172 W/m K Biološka otpornost Razred 2
C22: Postavlja se na čvrstu suhu (<1,8% vlage - mjereno CM metodom) i niveliranu podlogu, upotrebom pimera Sika MB primer te trajnoelasticnog ljepila Sika T-45, te postava i silikoniranje završnih kutnih lajsni - u cijenu postave ukljuceno završno cišcenje te voskanje poda. Parket je visoke kvalitete. Stavka uključuje i sve nivelacijske podloge, te sve potrebne međuslojeve za postavu poda i površinsku zaštitu drva. U cijenu stavke uključiti dobavu i postavu rubnog sokla. Materijal, detalje završetka i općeniti izgled parketa uskladiti s projektantom. Završna obrada i boja parketa i sokla prema izboru projetanta.
C23: RESTORAN
C24: površina poda | D24: m2 | E24: 142 | H24: =G24*E24 -> 0
C25: dobava i montaža | D25: m2 | E25: =E24 -> 142 | H25: =G25*E25 -> 0
A27: 5. | B27: =B20+1 -> 3 | C27: parket_HODNICI 1. i 2. KAT
C28: HODNICI 1. I 2. KAT
C29: Dobava i polaganje parketa kao završne podne obloge. Masivni parket izrađen od cjelovitog drva, oblik parketa francuski vez (kraće stranice pod kutom 45°) svaki element ima utor i pero na svakoj strani te na licu mikro faze (skošenja rubova) sa sve 4 strane (45°, 1mm), površinski obrađen UV otvrdnjavajućim lakom. Vrsta drveta hrast. Dimenzija 495x70x14. Parketni elementi su površinski obrađeni UV otvrdnjavajućim lakom (Bona) u 6 slojeva i namijenjeni za uporabu srednjeg/visokog intenziteta. Parket je proizveden prema usklađenoj tehničkoj specifikaciji HRN EN 14342:2008. Relativni sadržaj vlage je 9+/-2%. Masivni parket izrađen od cjelovitog drva hrasta, dimenzija 440/70/14 mm (dulj. x šir. x deb.), lakirana UV otvrdnjavajućim lakom, namijenjen postavljanju lijepljenjem ili čavlanjem na nosivu podlogu u interijerima. Do 5% elemenata mogu se razlikovati od deklariranog Reakcija na vatru obzirom na minimalnu prosječnu gustoću i minimalnu ukupnu debljinu Cfl-s1 691kg/m3 10 mm Emisija formaldehida E1 Emisija pentaklorfenola < 5 ppm Sila loma (maksimalno opterećenje) i raspon NPD Klizavost 86 Toplinska vodljivost 0,172 W/m K Biološka otpornost Razred 2
C30: Postavlja se na čvrstu suhu (<1,8% vlage - mjereno CM metodom) i niveliranu podlogu, upotrebom pimera Sika MB primer te trajnoelasticnog ljepila Sika T-45, te postava i silikoniranje završnih kutnih lajsni - u cijenu postave ukljuceno završno cišcenje te voskanje poda. Parket je visoke kvalitete. Stavka uključuje i sve nivelacijske podloge, te sve potrebne međuslojeve za postavu poda i površinsku zaštitu drva. U cijenu stavke uključiti dobavu i postavu rubnog sokla. Materijal, detalje završetka i općeniti izgled parketa uskladiti s projektantom. Završna obrada i boja parketa i sokla prema izboru projetanta.
C31: površina poda | D31: m2 | E31: 164 | H31: =G31*E31 -> 0
C32: dobava i montaža | D32: m2 | E32: =E31 -> 164 | H32: =G32*E32 -> 0
C33: dužina rubnog holkera | D33: m1 | E33: 100 | H33: =G33*E33 -> 0
C34: dobava i montaža | D34: m1 | E34: 100 | H34: =G34*E34 -> 0
A36: 5. | B36: =B27+1 -> 4 | C36: ured na recepciji
C37: Dobava i polaganje parketa kao završne podne obloge. Masivni parket izrađen od cjelovitog drva, oblik parketa francuski vez (kraće stranice pod kutom 45°) svaki element ima utor i pero na svakoj strani te na licu mikro faze (skošenja rubova) sa sve 4 strane (45°, 1mm), površinski obrađen UV otvrdnjavajućim lakom. Vrsta drveta hrast. Dimenzija 495x70x14. Parketni elementi su površinski obrađeni UV otvrdnjavajućim lakom (Bona) u 6 slojeva i namijenjeni za uporabu srednjeg/visokog intenziteta. Parket je proizveden prema usklađenoj tehničkoj specifikaciji HRN EN 14342:2008. Relativni sadržaj vlage je 9+/-2%. Masivni parket izrađen od cjelovitog drva hrasta, dimenzija 440/70/14 mm (dulj. x šir. x deb.), lakirana UV otvrdnjavajućim lakom, namijenjen postavljanju lijepljenjem ili čavlanjem na nosivu podlogu u interijerima. Do 5% elemenata mogu se razlikovati od deklariranog Reakcija na vatru obzirom na minimalnu prosječnu gustoću i minimalnu ukupnu debljinu Cfl-s1 691kg/m3 10 mm Emisija formaldehida E1 Emisija pentaklorfenola < 5 ppm Sila loma (maksimalno opterećenje) i raspon NPD Klizavost 86 Toplinska vodljivost 0,172 W/m K Biološka otpornost Razred 2
C38: Postavlja se na čvrstu suhu (<1,8% vlage - mjereno CM metodom) i niveliranu podlogu, upotrebom pimera Sika MB primer te trajnoelasticnog ljepila Sika T-45, te postava i silikoniranje završnih kutnih lajsni - u cijenu postave ukljuceno završno cišcenje te voskanje poda. Parket je visoke kvalitete. Stavka uključuje i sve nivelacijske podloge, te sve potrebne međuslojeve za postavu poda i površinsku zaštitu drva. U cijenu stavke uključiti dobavu i postavu rubnog sokla. Materijal, detalje završetka i općeniti izgled parketa uskladiti s projektantom. Završna obrada i boja parketa i sokla prema izboru projetanta.
C39: površina poda | D39: m2 | E39: 24 | H39: =G39*E39 -> 0
C40: dobava i montaža | D40: m2 | E40: 24 | H40: =G40*E40 -> 0
C41: dužina rubnog holkera | D41: m1 | E41: 19 | H41: =G41*E41 -> 0
C42: dobava i montaža | D42: m1 | E42: 19 | H42: =G42*E42 -> 0
A44: 5. | B44: =B36+1 -> 5 | C44: drveni pod LOBBY
C45: Nabava, dobava i ugradnja (polaganje) drvene podne obloge. Pod iz kocki hrast kocka 10x10xmin1,5cm, rubovi su kantirani 45°. Kocke od poprečno rezane hrastove grede sa vidljivim koncentričnim godovima. Kocke se lijepe pod visokim tlakom i temperaturom na drvenu ploču (šperploča WBP) debljine minimanlno 10 mm formata 120x50cm. Donja strana ploče je furnir 0,8 mm. Kocke su bajcane u orah ton. Završni ton prema dobavljenom uzorku, a prema odabiru projektanta.
C46: LOBBY
C47: površina poda | D47: m2 | E47: 52 | H47: =G47*E47 -> 0
...

Sheet 06_TEPISONI
A1: REDNI BROJ | C1: OPIS | D1: JEDINICA MJERE | E1: KOLIČINA RADOVA | F1: PROIZVOĐAČ/OPIS | G1: JEDINIČNA CIJENA | H1: UKUPNA CIJENA
A3: 6. | C3: RADOVI POLAGANJA TEPISONA
C5: • stavke uljučuju pripremu podloga za ispravno postavljanje završnih podnih i zidnih obloga
C6: • stavke uljučuju sav potreban materijal i rad za izvedbu završnih zidnih podnih obloga.
C7: • obrada i izvođenje završnih podnih obloga prema uputama proizvođača
C8: • OPĆI UVJETI su sastavni dio ovog troškovnika
A11: =A3 -> 6. | B11: 1 | C11: tepisoni
C12: Dobava i ugradnja tepisona kao završnog sloja u sobama hotela na pod i zid ispod i iza kreveta. Obloga se postavlja na niveliranu podlogu. Materijal mora udovoljavati protupožarnim normama, te biti otporan na habanje. Boja i uzorak prema izboru projektanta. Obavezno predočenje uzorka prije ugradnje.
C13: Kvalitetni tepison tip kao Regeneracija Point ili jednakovrijedan - sastava flora 100% RUNSKA VUNA i poleđine od POLIPROPILENA. Strukture je velura (šišano) i bukle (čvorano), dobiven ručnim taftanjem.Tepison je obrađen protiv gorenja po normi HRN EN 13501-1. Dobavljiv u 182 boje. Ukupna težina 4.600g/m2, težina flora 3.300h/m2, ukupne visin tepiha min 19mm, (visine flora min 12mm). Boja i uzorak po izboru projektanta. Prije ugradnje obavezno predočiti uzorak projektantu na potvrdu. Stavka sadrži jednokratno nanošenje mase za izravnavanje. Sve kompletno izvedeno sa svim veznim i pomoćnim materijalom.
C14: tepisi u 28 soba | D14: m2 | E14: 390 | H14: =SUM(E14*G14) -> 0
C15: tepisi u apartmanima 2, 3 i 4(pod, zid, strop) | D15: m2 | E15: 290 | H15: =SUM(E15*G15) -> 0
C16: dobava i montaža | D16: m2 | E16: =SUM(E14:E15) -> 680 | H16: =G16*E16 -> 0
C18: 6. RADOVI POLAGANJA TEPISONA SVEUKUPNO | H18: =SUM(H4:H16) -> 0

Sheet 07_STAKLARSKI
A1: REDNI BROJ | C1: OPIS | D1: JEDINICA MJERE | E1: KOLIČINA RADOVA | F1: PROIZVOĐAČ/OPIS | G1: JEDINIČNA CIJENA | H1: UKUPNA CIJENA
A3: 7. | C3: STAKLARSKI RADOVI
C5: • stavke uljučuju pripremu podloga za ispravno postavljanje završnih zidnih obloga
C6: • stavke uljučuju sav potreban materijal i rad za izvedbu završnih zidnih obloga.
C7: • obrada i izvođenje završnih podnih obloga prema uputama proizvođača
C8: • OPĆI UVJETI su sastavni dio ovog troškovnika
A11: =A3 -> 7. | B11: 1 | C11: ogledalo na vratima i zidu
C12: Nabava, dobava i ugradnja 6 mm clear ogledala brušenog ruba na ulazna vrata sobe i zida. Ogledalo se ljepi na punu dimenziju vratnog krila. (na ogledalu potrebno ostaviti rupe za postavljanje kvake i ključanice. Podloga prije ljepljenja mora biti suha i dovloljno ravna, bez masnoće i prljavštine i dovoljno suha.
C14: ukupna površina ogledala | D14: m2 | E14: 113.57 | H14: =SUM(E14*G14) -> 0
C15: dobava i montaža | D15: m2 | E15: 113.57 | H15: =G15*E15 -> 0
C17: staklena pregrada između kupaonice i sobe apartmana hotela
A18: =A11 -> 7. | B18: =B11+1 -> 2 | C18: Dobava, nabava i ugradnja staklene pregrade između kupaonice i sobe. Kaljeno staklo ugrađuje se u za to predviđeni okvir od U čeličnih profila. U stavku uključen sav potreban pribor za ugradnju i brtve.
C20: dim 145x280cm (S1) | D20: kom | E20: 1 | H20: =G20*E20 -> 0
C21: dim 170x150cm (S3) | D21: kom | E21: 1 | H21: =G21*E21 -> 0
C22: dim 180x220cm (S2 i S4) | D22: kom | E22: 2 | H22: =G22*E22 -> 0
C24: 7. STAKLARSKI RADOVI UKUPNO | H24: =SUM(H7:H23) -> 0

Sheet B_ZANATSKI REKAP
B2: REKAPITULACIJA ZANATSKIH RADOVA
B6: B | C6: ZANATSKI RADOVI | D6: Ukupno
B9: 1 | C9: LIČILAČKI RADOVI | D9: ='01_LICILACKI'!H37 -> 0
B11: 2 | C11: SANITARIJE | D11: ='02_SANITAR'!H362 -> 0
B13: 3 | C13: KERAMIČARSKI RADOVI | D13: ='03 KERAMIČARSKI'!H160 -> 0
B15: 4 | C15: ='04_TERRAZZO'!C3 -> TERRAZZO PODOVI | D15: ='04_TERRAZZO'!H14 -> 0
B17: 5 | C17: ='05_PARKETARSKI'!C3 -> PARKETARSKI RADOVI | D17: ='05_PARKETARSKI'!H50 -> 0
B19: 6 | C19: ='06_TEPISONI'!C3 -> RADOVI POLAGANJA TEPISONA | D19: ='06_TEPISONI'!H18 -> 0
B21: 7 | C21: STAKLARSKI RADOVI | D21: ='07_STAKLARSKI'!H24 -> 0
C23: ZANATSKI RADOVI SVEUKUPNO | D23: =SUM(D9:D21) -> 0
