Workbook

Sheet 1. RUŠENJE
A2: TROŠKOVNIK
B6: OPĆI UVJETI
B9: Ponuđena jedinična cijena mora sadržavati sav rad, korištenje alata i pribora, zaštite ljudi, objekata, prolaznika i sl. Jedinična cijena sadržava sve potrebne vertikalne i horizontalne transporte, utovare, istovare i ostale potrebne manipulacije od mjesta rada do gradilišne deponije koju će izvođač odrediti u suglasnosti s nadzornim inženjerom.
B10: Izvođač je dužan pri izvedbi radova koristiti samo ona sredstva, alate i postupke koji neće ugroziti stabilnost objekta ili oštećivanje ostale materijale i konstrukcije.
B11: Izvođač je dužan uključiti u jediničnu cijenu rada sve mjere za pažljivo izvođenje radova kako bi se dio opreme koju odredi investitor ili nadzorni inženjer mogla sačuvati za daljnju uporatrebu.
B12: Izvođač je dužan pregledati konstrukciju i materijale koji su navedeni u opisima te upozoriti na eventualna odstupanja isključuvo proje početka izvedbe
B13: Izvođač je pri izvođenju radova utovara i odvoza šute dužan provoditi mjere zaštite od zagađenja okoliša kao i sva potrebna čišćenja prometnica u svrhu dovođenja u ispravno stanje, što je također sadržano u jediničnoj cijeni. Količina porušenog materijala je obračunata bez koeficijenta rastresitosti pa je kod odvoza treba uzeti u obračun u okviru jedinične cijene.Izvršiti zbrinjavanje opasnog otpada u skladu sa Pravilnikom o načinu i postupcima gospodarenja otpadom koji sadrži azbest (N.N:36/2016.)
B14: U stavkama rušenja na visini uračunati potrebnu pomoćnu skelu za sigurniji pristup i sigurno uklanjanje dijelova krovne konstrukcije i zidova.
B16: Napomena: prije početka radova rušenja i demontaže izvršiti isklapanje elektroenergetskog priključka objekta i svih instalacija koje se vežu na građevinu u postupku rušenja. Za sva oštećenja nastala ukoliko zaštita nije provedena ili zbog nepažljivog transporta u objektu ili/i okolišu , odgovoran je izvođač i snosi posljedice propuštanja prethodnih mjera. Sve pozicije sadrže troškove transporta po objektu, utovar na kamione, odvoz i zbrinjavanje na deponiju građevinskog otpada.
B17: Investitor će prethodno ukloniti svu pokretnu opremu u objektu i predati izvođaču objekt prazan od pokretne opreme.
A19: R.br. | B19: TEKSTUALNI OPIS STAVKE | C19: JEDINICA MJERE | D19: KOLIČINA | E19: JEDINIČNA CIJENA | F19: UKUPNA CIJENA | G19: NAPOMENA
A21: A | B21: DEMONTAŽE I RUŠENJA
A24: 1. | B24: Pažljivo rušenje,demontaža krovnog pokrova od azbest-cementnih ploča (salonit) na koti 3,00m do 6,00m nad okolnim terenom. Pokrov pažljivo demontirati i utovariti, odvesti i zbrinuti na deponiju građevinskog materijala do 10,0km sve u skladu sa Pravilnikom o načinu i postupcima gospodarenja otpadom koji sadrži azbest N.N. 69/2016. Obračun po m2.
C25: m2 | D25: 530 | F25: =D25*E25 -> 0
A27: 2. | B27: Pažljivo rušenje,demontaža limarskih oluka,vertikala i opšava. Limarske elemente demontirati, utovariti i odvesti na deponiju građevinskog materijala do 10,0km.Obračun po m.
C28: m | D28: 110 | F28: =D28*E28 -> 0
A30: 3. | B30: Pažljivo rušenje,demontaža mrežnih okvira na prozorima veličine do 3,0m2. Mreže demontirati, utovariti i odvesti na deponiju građevinskog materijala do 10,0km.Obračun po kom.
C31: kom | D31: 15 | F31: =D31*E31 -> 0
A33: 4. | B33: Demontaža fasadnih limenih natpisnih panela dimenzije 2,50x1,70m (3kom) na istočnom pročelju zajedno sa krovnim reflektorima (kom6). Panele demontirati, utovariti i odvesti na deponiju građevinskog materijala do 10,0km.Obračun po kom.
B34: panel | C34: kom | D34: 3 | F34: =D34*E34 -> 0
B35: reflektor | C35: kom | D35: 6 | F35: =D35*E35 -> 0
A37: 5. | B37: Demontaža fasadnog limenog natpisnog panela dimenzije 5,00x2,00m (1kom) na sjevernom pročelju zajedno sa krovnim reflektorima (kom3). Panel demontirati, utovariti i odvesti na deponiju građevinskog materijala do 10,0km.Obračun po kom.
B38: panel | C38: kom | D38: 1 | F38: =D38*E38 -> 0
B39: reflektor | C39: kom | D39: 3 | F39: =D39*E39 -> 0
A41: 6. | B41: Pažljivo rušenje,demontaža spuštenog stropa ovješenog o krovnu konstrukciju od drvenih rešetki i drvenih greda na koti 3,00m do 4,00m nad podom. Elementi spuštenog stropa od lesonita pažljivo demontirati, utovariti i odvesti na deponiju građevinskog materijala do 10,0km.Obračun po m2.
C42: m2 | D42: 450 | F42: =D42*E42 -> 0
A44: 7. | B44: Pažljivo rušenje,demontaža krovne konstrukcije od drvenih rešetki,drvenih greda,daščane oplate na koti 3,00m do 6,00m nad okolnim terenom. Drvene grede i drvene rešetke pažljivo demontirati i utovariti i odvesti na deponiju građevinskog materijala do 10,0km.Obračun po m2.
C45: m2 | D45: 530 | F45: =D45*E45 -> 0
A47: 8. | B47: Pažljiva demontaža svih prozora i vrata komplet sa okvirima,staklom, roletama,škurama i klupicama. Utovar i odvoz na deponiju građevinskog materijala do 10,0km.Obračun po kom.
B48: otvori < 3,0m2 | C48: kom | D48: 30 | F48: =D48*E48 -> 0
B49: otvori > 3,0m2 | C49: kom | D49: 17 | F49: =D49*E49 -> 0
A51: 9. | B51: Pažljiva demontaža metalnih vrata komplet sa okvirom i vodilicama dim.cca 4,0x5,50m. Utovar i odvoz na gradilišnu deponiju . Obračun po kom.
C52: kom | D52: 1 | F52: =D52*E52 -> 0
A54: 10. | B54: Rušenje zidova od kamena i opeke debljine cca 50,0cm sa utovarom i odvozom na deponiju građ. materijala do 10,0km. Zidovi visine 3,0 do 6,0m nad okolnim terenom do prizemlja.U sklopu zidova porušiti i sve nadvoje,serklaže i dimnjake. Obračun u kompaktnom stanju bez koeficijenta rastresitosti po m3.
C55: m3 | D55: 600 | F55: =D55*E55 -> 0
A57: 11. | B57: Rušenje pregradnih zidova debljine d=20,0-35,0cm od kamena i opeke sa utovarom i odvozom na deponiju građ. materijala do 10,0km. Zidovi visine 4,0 do 5,0m nad okolnim terenom do prizemlja.U sklopu zidova porušiti i sve nadvoje i serklaže. Obračun u kompaktnom stanju bez koeficijenta rastresitosti po m3.
C58: m3 | D58: 60 | F58: =D58*E58 -> 0
A60: 12. | B60: Završno čišćenje terena i okoliša i ravnanje terena na kotu postojeće betonske podloge na koti 0.00 (kota okolnog terena.) Okoliš pripremiti za izvedbu novog objekta. Obračun paušalno
C61: paušalno | D61: 1 | F61: =D61*E61 -> 0
B65: REKAPITULACIJA:
B67: 1. RUŠENJE | C67: = | F67: =SUM(F25:F61) -> 0
B69: UKUPNO: | C69: = | F69: =SUM(F67:F67) -> 0
B70: PDV: | C70: = | F70: =F69*0.25 -> 0
B71: SVEUKUPNO: | C71: = | F71: =F69+F70 -> 0

Sheet 2. GRAĐEVINSKI
A8: TROŠKOVNIK GRAĐEVINSKIH I OBRTNIČKIH RADOVA ZA IZGRADNJU ZGRADE
A9: INVESTITOR: INDI-METAL d.o.o. Vodnjan GRAĐEVINA : GOSPODARSKA GRAĐEVINA - bravarska radionca i uprava LOKACIJA: k.č.br.1942/7 k.o. Vodnjan
A11: R.br. | B11: TEKSTUALNI OPIS STAVKE | C11: JEDINICA MJERE | D11: KOLIČINA | E11: JEDINIČNA CIJENA | F11: UKUPNA CIJENA
A12: 1/ | B12: PRIPREMNI RADOVI
A14: 1 | B14: Izrada i montaža obavještajne ploče (dim. 120x90 m) s podacima o građevini, investitoru, odobrenju za građenje, projektantu, nadzoru i izvoditelju radova. Uklanjanje ploče po dovršetku radova uključeno u cijenu.
C15: kom | D15: 1 | F15: =E15*D15 -> 0
A17: 2 | B17: Geodetsko iskolčenje zgrade.
C18: paušalno | D18: 1 | F18: =E18*D18 -> 0
A19: 3 | B19: Izrada kvalitetne nanosne skele od drvenih stupova 10/10 cm i daske deb. 48 mm, te ocrtavanje temelja zgrade, parkirališta i staza. Rad podrazumijeva osiguranje gabaritnih točaka građevine i visinskih kota na adekvatnim pozicijama.
C20: m' | D20: 340 | F20: =E20*D20 -> 0
A22: 1/ | B22: PRIPREMNI RADOVI UKUPNO: | E22: Kn | F22: =SUM(F14:F21) -> 0
A24: 2/ | B24: ZEMLJANI RADOVI
B26: Kao podloga za obračun količina radova koristi se premjer postojećeg stanja izveden po ovlaštenom geodetu, od te razine obračunavaju izvedeni radovi. Nakon završenog iskopa do kote određene projektom, vrši se kontrola visine iskopa po ovlaštenom geodetu, a po kojem će biti premjerena i visina konačno izvedenog nasipa. Ove podloge su, pored nacrta ostalih nacrta iz glavnog projekta, osnova za obračun radova.
B27: Izvoditelj radova je dužan iskolčiti sve glavne osi građevine i osigurati od oštećenja na granicama parcele. Uz te osi treba vezati i iskolčiti i visinske točke (repere). O izvršenim radovima je izvoditelj dužan sastaviti zapisnik, ovjeren po ovlaštenom geometru. Svi navedeni radovi sadržani su u jediničnim cijenama ove grupe radova i neće biti posebno obračunati.
A29: 1 | B29: Strojni iskop tla za temelje stupova sa odlaganjem materijala uz iskop i u zaleđe potpornog zida na zapadnoj granici parcele na udaljenosti cca 50 m od iskopa. Iskop se vrši u terenu III, IV ktg. Kopanje se vrši do stjenske podloge koja se prema geomeh.izvješću nalazi na aps.koti +121,8-123,4 m, a eventualna dodatna dublja kopanja, radi nezadovoljavajuće kvalitete tla, naknadno će se definirati u dogovoru s projektantom konstrukterom i nadzornim inženjerom. Stavka uključuje sav potreban materijal, alat, strojeve i transport. Obračun po m3 iskopanog materijala u sraslom stanju.
B30: III-IV ktg | C30: m3 | D30: 1310 | F30: =E30*D30 -> 0
A31: 2 | B31: Strojni iskop tla za temeljne trake zidova sa odlaganjem materijala uz iskop i u zaleđe potpornog zida na zapadnoj granici parcele na udaljenosti cca 50m od iskopa.Iskop se vrši u terenu III-IV ktg.Kopanje do kote +123,70m (cca 50,0cm ispod buduće kote temelja), a eventualna dodatna dublja kopanja, radi nezadovoljavajuće kvalitete tla, naknadno će se definirati u dogovoru s projektantom konstrukterom i nadzornim inženjerom. Stavka uključuje sav potreban materijal, alat, strojeve i transport. Obračun po m3 iskopanog materijala u sraslom stanju.
B32: III-IV ktg | C32: m3 | D32: 50 | F32: =E32*D32 -> 0
A35: 3 | B35: Izrada tamponskog sloja ispod temelja stupova i temeljnih traka u slojevima 2x25,0 cm s kvalitetnim drobljenim kamenim materijalom veličine zrna od 0 - 63 mm, jednolične mješavine.Tamponski sloj nabiti do postizanja stišljivosti podloge Ms = 40,00 MN/m2.Stavka je predviđena ispod temelja koji nisu iskopom dosegli stjensku podlogu pa se vrši zamjena materijala ispod temelja u debljini minimalno 50,0cm.
C36: m3 | D36: 60 | F36: =D36*E36 -> 0
A38: 4 | B38: Zatrpavanje oko temeljnih traka i temelja stupova materijalom od iskopa i dovozom čistog, zdravog lomljenog kamena s propisnim strojnim nabijanjem. Nasipavanje izvesti do kote +125,30m u slojevima od max 30,0cm. Obračun u sraslom stanju po m3.
B39: materijal iz iskopa | C39: m3 | D39: 810 | F39: =E39*D39 -> 0
B40: doveženi kameni materijal | C40: m3 | D40: 304 | F40: =E40*D40 -> 0
A42: 5 | B42: Dovoz i razastiranje zemljanog materijala oko objekta kao podloga zelenih površina. Nasipavanje izvesti do visinskih kota iz situacionog nacrta u skladu sa kotama buduće prometnice uz objekt. Obračun u sraslom stanju po m3.
C43: m3 | D43: 750 | F43: =E43*D43 -> 0
A44: 6 | B44: Izrada kamenog tamponskog sloja na koti +125.30m ispod temeljne ploče, debljine 25 cm s kvalitetnim drobljenim kamenim materijalom veličine zrna od 0 - 63 mm, jednolične mješavine.Tamponski sloj strojno nabijati do postizanja stišljivosti podloge minim.Ms = 40,00 MN/m2. Obračun po m2.
C45: m2 | D45: 2500 | F45: =E45*D45 -> 0
A47: 7 | B47: Odvoz neadekvatnog preostalog materijala od iskopa na deponij građevinskog materijala udaljen do 10km.Obračun u sraslom stanju. Obračun po m3.
C48: m3 | D48: 150 | F48: =E48*D48 -> 0
A50: 8 | B50: Strojni iskop tla za temeljne stope samostalne čelične nadstrešnice i konzolne nadstrešnice kolnih ulaza. Sve prema napomeni iz prethodne stavke. Obračun po m3 iskopanog materijala u sraslom stanju.
B51: III-IV ktg | C51: m3 | D51: 13.6 | F51: =E51*D51 -> 0
A53: 2/ | B53: ZEMLJANI RADOVI UKUPNO: | E53: Kn | F53: =SUM(F30:F52) -> 0
A55: 3/ | B55: BETONSKI I ARMIRANO-BETONSKI RADOVI
B57: Betonski i armirano betonski radovi izvodit će se prema glavnom i izvedbenom projektu, pridržavajući se i primjenjujući važeće propise i standarde. Jedinična cijena treba obuhvatiti sav rad i materijal sa transportima za izvedbu pojedine stavke troškovnika i to: - sav potreban rad, uključujući transport - sav potreban materijal - zaštitu betonske i armirano betonske konstrukcije od djelovanja atmosferskih nepogoda, vrućina, hladnoća i svu potrebnu njegu betona - potrebna nabijanja i vibriranja - ispitivanje cementa, agregata i uzoraka betona Izvođač radova je dužan prije početka radova izraditi Plan uzimanja uzoraka za ispitivanje očvrslog betona.
A58: 1 | B58: Dobava materijala i betoniranje trakastih temelja betonom C30/37, dimenzija 50x60cm, prema nacrtnoj dokumentaciji. Stavka uključuje sav potreban materijal, rad i transport, izradu oplate, te ugradbu betona autopumpom. Armatura je obračunata zasebnom stavkom. Obračun po 1m³ ugrađenog betona i m2 oplate.
B59: beton | C59: m3 | D59: 35 | F59: =D59*E59 -> 0
B60: oplata | C60: m2 | D60: 150 | F60: =D60*E60 -> 0
A62: 2 | B62: Dobava materijala i betoniranje nadtemeljnih zidova betonom C25/30, prema nacrtnoj dokumentaciji. Stavka uključuje sav potreban materijal, rad i transport, izradu oplate, te ugradbu betona autopumpom. Armatura je obračunata zasebnom stavkom. Obračun po 1m³ ugrađenog betona i m2 oplate.
B63: beton | C63: m3 | D63: 8 | F63: =D63*E63 -> 0
B64: oplata | C64: m2 | D64: 50 | F64: =D64*E64 -> 0
A66: 3 | B66: Betoniranje podne ploče uredskog prostora debljine 10,0cm. Betoniranje se vrši betonom C25/30 na odgovarajućem nabijenom kamenom tamponu. U cijeni obračunati armiranje čeličnim vlaknima ( cca. 30kg/m3). Obuhvaćena je nabavka, ugradnja, zbijanje, njegovanje betona.
B67: beton | C67: m3 | D67: 33 | F67: =E67*D67 -> 0
B68: oplata | C68: m2 | D68: 15 | F68: =D68*E68 -> 0
A70: 4 | B70: Betoniranje podložnog betona prosječno 10 cm ispod temeljnih stopa betonom C25/30, armaturom B500B sa izradom potrebne rubne oplate.
B71: beton | C71: m3 | D71: 26 | F71: =D71*E71 -> 0
A73: 5 | B73: Betoniranje temeljnih stopa debljine 50 cm betonom C30/37, armaturom B500B, u četverostranoj oplati.
B74: beton | C74: m3 | D74: 127 | F74: =D74*E74 -> 0
B75: oplata | C75: m2 | D75: 190 | F75: =D75*E75 -> 0
A77: 6 | B77: Betoniranje nadvoja otvora zidova d=25,0cm betonom C25/30, armaturom B500B, u glatkoj oplati.Armatura je obračunata zasebnom stavkom. Obračun po 1m³ ugrađenog betona i m2 oplate.
B78: beton | C78: m3 | D78: 3.5 | F78: =D78*E78 -> 0
B79: oplata | C79: m2 | D79: 40 | F79: =D79*E79 -> 0
A81: 7 | B81: Betoniranje horizontalnog serklaža na zidovima d=25,0cm betonom C25/30, armaturom B500B, u glatkoj oplati.Armatura je obračunata zasebnom stavkom. Obračun po 1m³ ugrađenog betona i m2 oplate.
B82: beton | C82: m3 | D82: 15 | F82: =D82*E82 -> 0
B83: oplata | C83: m2 | D83: 100 | F83: =D83*E83 -> 0
A85: 8 | B85: Betoniranje vertikalnih serklaža u zidovima d=25,0cm betonom C25/30, armaturom B500B, u glatkoj oplati.Armatura je obračunata zasebnom stavkom. Obračun po 1m³ ugrađenog betona i m2 oplate.
B86: beton | C86: m3 | D86: 6 | F86: =D86*E86 -> 0
B87: oplata | C87: m2 | D87: 45 | F87: =D87*E87 -> 0
A89: 9 | B89: Betoniranje međukatne ploče uredskog prostora debljine 20,0cm. Betoniranje se vrši betonom C25/30 u glatkoj oplati.Obuhvaćena je nabavka, ugradnja, zbijanje, njegovanje betona. Armatura se obračunava zasebno.
B90: beton | C90: m3 | D90: 60 | F90: =E90*D90 -> 0
B91: oplata | C91: m2 | D91: 330 | F91: =D91*E91 -> 0
A93: 10 | B93: Dobava, savijanje i ugradnja betonskog čelika bez obzira na profil i složenost do izvedbe kompletne izvedbene dokumentacije
B94: rebrasti čelik B500B | C94: kg | D94: 19000 | F94: =D94*E94 -> 0
B95: mrežni čelik B500B | C95: kg | D95: 21000 | F95: =D95*E95 -> 0
A97: 11 | B97: Betoniranje temeljnih stopa samostalne nadstrešnice i konzolne nadstrešnice kolnih ulaza betonom C25/30, armaturom B500B, u četverostranoj oplati.
B98: beton | C98: m3 | D98: 6.5 | F98: =D98*E98 -> 0
B99: oplata | C99: m2 | D99: 28 | F99: =D99*E99 -> 0
A101: 12 | B101: Betoniranje podne ploče samostalne nadstrešnice i ploče za boksove plina, d= 18cm, betonom C25/30, u četverostranoj oplati. U cijeni obračunati armiranje čeličnim vlaknima ( cca. 30kg/m3). Obuhvaćena je nabavka, ugradnja, zbijanje, njegovanje betona.
B102: beton | C102: m3 | D102: 22 | F102: =D102*E102 -> 0
B103: oplata | C103: m2 | D103: 13 | F103: =D103*E103 -> 0
A105: 3/ | B105: BETONSKI I ARMIRANOBETONSKI RADOVI UKUPNO: | F105: =SUM(F57:F104) -> 0
A107: 4/ | B107: ZIDARSKI RADOVI
B109: Sve radove izvođač mora izvoditi prema troškovniku i glavnom projektu, solidno i stručno, prema pravilima dobrog zanata, Pravilniku o ocjenjivanju sukladnosti, ispravama o sukladnosti i označavanju građevinskih proizvoda (NN 103/08, 147/09, 87/10, 129/11), Pravilniku o tehničkim mjerama i uvjetima za završne radove u zgradarstvu (Sl.list br. 21/90), Tehničkom propisu za zidane konstrukcije (NN 01/07), Tehničkom propisu o racionalnoj upotrebi energije i toplinskoj zaštiti u zgradama (NN 97/14, 130/14) sa pripadajućim normama, Tehničkom propis o građevnim proizvodima (NN 33/10, 87/10, 146/10, 81/11, 100/11, 130/12, 81/13), te svim ostalim hrvatskim i europskim tehničkim propisima i normama i priznatim tehničkim pravilima, a osobito :
B110: EN 1015-7, zapreminska masa i poroznost svježeg morta EN 1015-3, konzistencija svježeg morta EN 1015-11, tlačna i savojna vlačna čvrstoča morta EN 771-1, EN 772-1, EN 7723, EN 772-13, EN 772-16, HRN EN 14063-1:2008, tlačna čvrstoća opeke, na mjestu primjene oblikovani proizvodi od lakoagregatne eksp. gline
B111: HRN B.C1.030, B.C8.030, građevinski gips HRN B.C1.020, B.C8.030, građevinsko vapno HRN B.C8.015,022 – 026, cement HRN B.C8.011, portland cement HRN B.C8.030, pijesak HRN U.M2.010, U.M2.012, mortovi
B112: HRN EN 1008, HRN EN 13139;2003+AC;2006, voda i pijesak HRN EN 197-1:2003, cement HRN EN 459-1:2001, vapno
B113: Prilikom izvođenja zidova zgrada izvođač se mora pridržavati slijedećih mjera: - zidanje se mora izvoditi sa pravilnim zidarskim vezovima, a preklop mora iznositi najmanje jednu četvrtinu dužine zidnog elementa, - debljina ležajnica ne smije biti veća od 15 mm, a širina sudarnica ne smije biti manja od 10 mm niti veća od 15 mm, - ako se zida za vrijeme zime treba zidove zaštiti od mraza, - zidovi čije izvođenje nije završeno prije nastupanja zimskih mrazova moraju se zaštiti na odgovarajući način, - svako naknadno bušenje ili izrada užljebina u zidovima zgrade koje nije bilo predviđeno projektom, može se izvoditi samo ako je prethodnim statičkim proračunom utvrđeno da nosivost zida poslije tog bušenja odnosno izrade žlijeba nije manja od propisane nosivosti. - za vrijeme zidanja opeku kvasiti vodom, a pri zidanju cementnim mortom opeka mora ležati u vodi neposredno prije zidanja
A115: 1 | B115: Doprema, montaža, korištenje, demontaža i odvoz fasadne skele za vrijeme izvođenja radova svih izvođača radova. Skelu montirati u skladu sa Pravilnikom o zaštiti na radu u graditeljstvu.
C116: m2 | D116: 1690 | F116: =E116*D116 -> 0
A118: 2 | B118: Zidanje nosivih vanjskih i unutarnjih zidova Porotherm blok opekom 25S P+E u produžnom mortu M5 ili profi ljepilu. Obračun se vrši po m3 izvedenog zida, a svi otvori i serklaži se odbijaju.
C119: m3 | D119: 140 | F119: =E119*D119 -> 0
A121: 3 | B121: Krpanje kanala u zidovima i zaštita cijevi instalacija položenih po podu produžnim odnosno cementnim mortom. Obračun po m'.
C122: m' | D122: 300 | F122: =E122*D122 -> 0
A124: 4 | B124: Izrada cementne podloge sa polipropilenskim vlaknima unutarnjih prostorija povrh toplinske izolacije poda. Površina strojno zaglađena, dilatiranje izvesti ispod vratnog krila. Obračun po m2 izvedenog estriha.
B125: prizemlje - d=5cm | C125: m2 | D125: 298 | F125: =E125*D125 -> 0
B126: kat- d= 6cm | C126: m2 | D126: 308 | F126: =E126*D126 -> 0
A128: 5 | B128: Zidarska pripomoć u vrijednosti 10 % od zidarskih radova. | F128: =E128 -> 0
A130: 6 | B130: Dobava materijala i izvedba unutarnje vapneno-cementne strojne žbuke ,uključivo s postavom kutnih vodilica, zaštitom stolarije, rabiciranjem na potrebnim mjestima, čišćenje prostora i skelom.
C131: m2 | D131: 618 | F131: =E131*D131 -> 0
A133: 7 | B133: Dobava materijala i izvedba vanjske cementne žbuke na zaštitinim zidovima boksova ,uključivo s postavom kutnih vodilica, zaštitom , rabiciranjem na potrebnim mjestima, čišćenje prostora i skelom.
C134: m2 | D134: 35 | F134: =E134*D134 -> 0
A136: 4/ | B136: ZIDARSKI RADOVI UKUPNO: | E136: Kn | F136: =SUM(F111:F135) -> 0
A138: 5/ | B138: BRAVARSKI RADOVI
B140: Čeličnu konstrukciju izraditi od čelika S235JR komplet sa vijcima kl.8.8. U jediničnoj cijeni stavke, obuhvaćena je radionička izrada, doprema, postava i montaža, svih elemenata čelične konstrukcije, sva potrebna spojna sredstva (vijci, podložne pločice), sva potrebna zavarivanja u radioni i na gradilištu, antikorozivna zaštita, pomoćna skela pri montaži. Zaštitu čelične konstrukcije treba izvesti u skladu sa klasifikacijom prema standardu HRN EN ISO12944 za kategoriju korozije C3-srednja. Antikorozivnu zaštitu i farbanje izvesti kako slijedi: Trajnost sistema AKZ 5-15 god. - srednja Tehnologija Sačmarenje Sa 2,5 prema ISO 8501-1:1988. primer ukupno 30 μm suhog filma epoxi premaz ukupno 150 μm suhog filma završni vinil lak ukupno 50 μm suhog filma RAL završnog laka prema projektantu
A141: 1 | B141: 1. Izrada, dobava, postava i montaža, čelične konstrukcije ulazne nadstrešnice, koja se sastoji od slijedećih elemenata: -čeličnih nosača HEA 100 -čeličnih stupova HEA 100 -čelični limovi d=8,d=10,(ležajne i sidrene ploče) u betonsku konstrukciju Čeličnu konstrukciju izraditi prema radioničkim nacrtima i detaljima iz izvedbenog projekta. Obračun po kg.
B142: stupovi HEA 100 | C142: kg | D142: 300 | F142: =D142*E142 -> 0
B143: limovi 8-10mm | C143: kg | D143: 50 | F143: =D143*E143 -> 0
A145: 2 | B145: Izrada, dobava i montaža, čelične konstrukcije vodilice krovnih T gredica za nalijeganje termopanela, koja se sastoji od slijedećih elemenata: -HOP 50/30/3,2 mm AKZ prema općem opisu.Obračun po kg.
B146: 50/30/3,2 | C146: kg | D146: 3500 | F146: =D146*E146 -> 0
A148: 3 | B148: Izrada, dobava, postava i montaža, čelične konstrukcije samostalne nadstrešnice, koja se sastoji od slijedećih elemenata: -čeličnih nosača IPE 140 i IPE 200 -čeličnih stupova IPE 200, stabilizacija fi12 mm -čelični limovi d=10,d=15,(ležajne i sidrene ploče ) u betonsku konstrukciju Čeličnu konstrukciju izraditi prema nacrtima i detaljima iz projekta. Stavkom predvidjeti detalje, vijke i ankere. Obračun po kg.
B149: čelični profili | C149: kg | D149: 1800 | F149: =D149*E149 -> 0
...

Sheet 3. VODA I KANALIZACIJA
A2: TROŠKOVNIK DOVODA I ODVODA VODE I HIDRANTSKE MREŽE
A3: INVESTITOR: INDI-METAL d.o.o. Vodnjan GRAĐEVINA : GOSPODARSKA GRAĐEVINA - bravarska radionca i uprava LOKACIJA: k.č.br.1942/7 k.o. Vodnjan
B4: Opća napomena: Svi radovi se trebaju izvesti stručno, solidno, čisto I precizno , u svemu prema nacrtima, opisima, tehničkim uvjetima, propisima I upustvima gradskog vodovoda I kanalizacije I upustvima nadzornog inženjera. Svi radovi se podrazumijevaju s nabavkom svih predmeta I svega potrebnog glavnog I pomoćnog materijala, prijenosom, uporabom alata I skela, obilježavanjem, isjecanjem žljebova I probijanjem otvora I rupa u konstruktivnim elementima zgrade, namještanjem I učvršćivanjem svih dijelova I ispitivanjem instalacije. Uzorci svih predmeta I materijala moraju se prethodno prikazati nadzornom inženjeru radi odobrenja.Neodobreni predmeti moraju se odmah ukloniti sa gradilišta.
A5: R.br. | B5: TEKSTUALNI OPIS STAVKE | C5: JEDINICA MJERE | D5: KOLIČINA | E5: JEDINIČNA CIJENA | F5: UKUPNA CIJENA
A6: 1/ | B6: VODOVODNI PRIKLJUČAK
A8: 1 | B8: Izrada vodovodnog priključka na glavnu vodovodnu cijev. U cijenu dobava i montaža ogrlice na vanjskoj vodovodnoj cijevi, potreban fiting kao i ventil sa ugradbenom garniturom i okruglom kapom na površini.U cijenu je uključeno obzidavanje ugradbene garniture.Obračun po komadu izvedenog priključka. (izvodi gradski vodovod).Priključak izvesti sa cijevi nodularnog lijeva DN100. Dobava i ugradba industrijskog vodomjera DN80 za hidrantsku mrežu i DN20 za sanitarnu vodu. Obračun po komadu kompletno izvedenog priključka ( izvodi Vodovod) | C8: kom | D8: 1 | F8: =E8*D8 -> 0
A10: 1/ | B10: VODOVODNI PRIKLJUČAK UKUPNO: | F10: =F8 -> 0
A13: 2/ | B13: GRAĐEVINSKI RADOVI
A15: 1 | B15: Iskop kanala. Kombinirano strojno-ručni iskop sa mjestimičnim pikamiranjem u raznim kategorijama terena. Sav iskop izvesti prema uputstvu danom u tehničkom opisu.U jediničnoj cijeni predviđene su i sve zaštitne i sigurnosne mjere duž trase (zaštita okolnih građevina i prometnica, izvedba pješačkih prelaza preko rovova kao i sva potrebna razupiranja kanala). Kanali za fekalnu kanalizaciju su dimenzija širine 80 cm, dubine 60-200cm (prosječno 130,0 cm). Kanali za oborinsku odvodnju širine 80cm, dubine 60-100cm ( prosječno 80cm). Kanali za dovod vode su dimenzija širine 50cm, dubine 80cm.
B16: fek.kanalizacija III-VII ktg 118m3
B17: oborinska odvodnja III-VII ktg 94m3
B18: dovod vode i hidrantska III-VII ktg 82m3
C19: m3 | D19: 297 | F19: =E19*D19 -> 0
A21: 2 | B21: Planiranje dna kanala.Planiranje dna kanala sa križevima između dva vertikalna loma sa točnošcu +/- 3cm. Sva eventualna udubljenja potrebno je ispuniti kamenom sitneži do 8.0mm promjera i strojno nabiti.Obračun po m2.
C22: m2 | D22: 366 | F22: =E22*D22 -> 0
A24: 3 | B24: Posteljica i obloga kanalizacijskih i vodovodnih cijevi. Izrada posteljice i obloge od neagresivnog pijeska u debljini 15cm ispod i 15cm iznad tjemena cijevi za kanalizacijske i 10 cm ispod i 15 cm iznad za vodovodne cijevi. Obračun po m3 izvedene podloge.
C25: m3 | D25: 105.5 | F25: =E25*D25 -> 0
A27: 4 | B27: Zatrpavanje kanala.Zatrpavanje cijevi u slojevima od 30cm uz potrebno vlaženje i nabijanje ručnim nabijačima. Prvi sloj od 30cm izvoditi isključivo zemljom od iskopa bez primjesa kamena. Ostale slojeve može se zatrpavati i strojno, s time da se u nasip ne ubacuju komadi kamena veči od 20cm. Višak materijala isplanirati uzduž rova ili odvesti na deponiju. Obračun po m3.
C28: m3 | D28: 188.83 | F28: =E28*D28 -> 0
A30: 5 | B30: Razastiranje preostalog materijala od iskopa na parceli uzduž iskopa i grubo razastiranje istog. Povećanje volumena uslijed rastresitosti usvojeno je 30%.Obračun po m3 odvezenog materijala.
C31: m3 | D31: 137.2 | F31: =E31*D31 -> 0
A33: 6 | B33: Nepredviđeni radovi na zemljanim radovima. Procjenjuje se u veličini od 10% od ukupnih zemljanih radova. Obračun po stvarno utvrđenim nepredviđenim radovima ovjerenim od nadzornog inženjera.
C34: paušalno | D34: 1 | F34: =E34*D34 -> 0
A36: 2/ | B36: GRAĐEVINSKI RADOVI UKUPNO: | E36: Kn | F36: =SUM(F16:F35) -> 0
A39: 3/ | B39: BETONSKI I ARMIRANOBETONSKI RADOVI
A41: 1 | B41: Izrada vodomjernog okna velič. 150/350cm, dubine 160cm. Poklopac se predviđa od ljevanog željeza vel. 60x60cm, nosiv.150kN . U cijenu je uračunato: - iskop u III-VII kat. - izrada, montaža i demontaža dvostrane oplate stijenki zidova, - izrada, montaža i demontaža jednostrane oplate ležišta poklopca (pokrovne ploče okna) - dobava betona i izrada stijenki zidova - ugradba i dobava armature od betonskog željeza u - dobava betona i izrada pokrovne ploče - ugradba i dobava lijevano željeznog poklopca - izrada i ugradba penjalica od betonskog željeza fi20mm na razmaku 30cm, uključivo sa antikorozivnom zaštitom. Obračun po komadu kompletno izvedenog okna. | C41: kom | D41: 1 | F41: =E41*D41 -> 0
A43: 2 | B43: Izrada upojnog bunara izvedenog od vodonepropusnog betona ,svijetlih dimenzija 1,4 x1,4m, dubine 1,5 m. Dno bunara izvodi se od sloja šljunka debljine 50 cm, a gornja ploča od armiranog betona sa rešetkastim poklopcem od lijevanog željeza dim. 60x60cm. Jediničnom cijenom obuhvatiti sve materijale i radove:iskope, oplatu, armaturu, beton, ugradba i spajanje cijevi na upojnu jamu.
C44: kom | D44: 5 | F44: =E44*D44 -> 0
A46: 3/ | B46: BETONSKI I ARMIRANOBETONSKI RADOVI UKUPNO: | E46: Kn | F46: =SUM(F41:F45) -> 0
A49: 4/ | B49: DOVOD VODE
B50: Za izradu unutarnje vodoopskrbe koristiti PE cijevi I. klase, dok je za izradu vanjske vodoopskrbe potrebno koristiti PEHD cijevi za propisani tlak. Sve vertikale i horizontale vodoopskrbe potrebno je učvrstiti za zid odgovarajućim obujmnicama sa gumenom brtvom na svakih 100 cm kako bi se spriječila vibracija i prenošenje zvuka iz instalacija na konstrukciju. Prodore kroz betonsku ploču potrebno je dilatirati omatanjem cijevi na mjestu prodora sa bitumenskom trakom. Nakon montaže cjevovod ispitati na vodonepropusnost, te nakon dobivanje pozitivnog rezultata na vodonepropusnost mogu se cijevi malih promjera ugraditi sa cementnim mortom uz rabiciranje sa mrežicom. Izljevna mjesta postaviti na propisani položaj i na propisanu visinu.
A52: 1 | B52: Nabava, doprema i ugradba PE cijevi sa svim potrebnim fitinzima, fazonskim komadima i brtvenim materijalom, te propisanom izolacijom ( u zidnim šlicevima filcom, a u ploči dvostrukim ovojem dekorodal trake. Cijevi za vodu izolirati spužvastom izolacijom Armafleks debljine od 4- 13 mm, . Cijenom obuhvatitit komplet s izolacijom, kukama, obujmicama i sitnim mareijalom, te izradom zidnih usjeka. Obračun po m' izvedenog cjevovoda. Alternativno, moguća ugradnja polipropilenskih cijevi. Obračunat unutarnji promjer cijevi.
B53: f 20 | C53: m | D53: 11 | F53: =E53*D53 -> 0
B54: f 15 | C54: m | D54: 95 | F54: =E54*D54 -> 0
A56: 2 | B56: Dobava i ugradba PEHD cijevi sa izolacijom, spojnim i brtvenim materijalom, za spoj objekta na javnu vodovodnu mrežu. Opcija pocinčane cijevi. Temeljni razvod, obračunat unutarnji promjer cijevi.
B57: f 100 | C57: m | D57: 58 | F57: =E57*D57 -> 0
B58: f 75 | C58: m | D58: 53 | F58: =E58*D58 -> 0
B59: f 50 | C59: m | D59: 76 | F59: =E59*D59 -> 0
B60: f 25 | C60: m | D60: 35 | F60: =E60*D60 -> 0
A62: 3 | B62: Dobava i ugradba podžbuknih propusnih ventila sa kapom i rozetom. Obračun po kom.
B63: f 25 | C63: kom | D63: 1 | F63: =E63*D63 -> 0
B64: f 20 | C64: kom | D64: 2 | F64: =E64*D64 -> 0
B65: f 15 | C65: kom | D65: 6 | F65: =E65*D65 -> 0
A67: 4 | B67: Dobava i ugradba kutnog ventila za spoj na mrežu. Obračun po kom.
B68: f 15 | C68: kom | D68: 34 | F68: =E68*D68 -> 0
A70: 5 | B70: Dezinfekcija i ispitivanje vodovodne mreže na vodonepropusnost. Obračun po m. | C70: m | D70: 199 | F70: =E70*D70 -> 0
A72: 6 | B72: Pribavljanje atesta o ispravnosti vode, izdanog od ovlaštene institucije. | C72: paušalno | D72: 1 | F72: =E72*D72 -> 0
A74: 4/ | B74: DOVOD VODE UKUPNO: | F74: =SUM(F53:F73) -> 0
A77: 5/ | B77: ODVOD VODE
B79: Za izradu unutarnje i vanjske odvodnje koristiti PVC kanalizacione cijevi i PVC okna. U sve utore na cijevima i fazonskim komadima prije spajanja ugraditi odgovarajuće gumene brtve. Sve vertikale odvodnje potrebno je učvrstiti za zid odgovarajućim obujmnicama sa gumenom brtvom na svakih 100 cm kako bi se spriječila vibracija i prenošenje zvuka iz instalacija na konstrukciju. Prodore kroz betonsku ploču potrebno je dilatirati omatanjem cijevi na mjestu prodora sa užetom od tervola. Nakon montaže cjevovod ispitati na vodonepropusnost. Nakon dobivanje pozitivnog rezultata na vodo nepropusnost mogu se cijevi malih promjera ugraditi sa cementnim mortom uz rabiciranje sa mrežicom. Uljevna mjesta i podne sifona postaviti na propisanu visinu.
A81: 1 | B81: Dobava i ugradba plastičnih kanalizacijskih PVC cijevi sa svim potrebnim fazonskim komadima za horizontalnu i vertikalnu kanalizaciju. Obračun po m’.
B82: Ø200 | C82: m | D82: 55 | F82: =E82*D82 -> 0
B83: Ø150 | C83: m | D83: 315 | F83: =E83*D83 -> 0
B84: Ø 100 | C84: m | D84: 35 | F84: =E84*D84 -> 0
B85: Ø50 | C85: m | D85: 33.7 | F85: =E85*D85 -> 0
A87: 2 | B87: Dobava i ugradba prijelaznog elementa sa oborinske vertikalne u temeljnu oborinsku pvc mrežu. Obračunu po komadu spoja.
C88: kom | D88: 10 | F88: =E88*D88 -> 0
A90: 3 | B90: Dobava i ugradba tipskog PEHD revizionog okna prosječne širine 60cm, dubine 80cm. U cijenu uključena dobava i ugradba okna, lijevanoželjezni poklopac B125 dim. Ø60cm, , potreban iskop i svi spojni elementi za spoj cijevi i šahta. Obračun po komadu izvedenpk okna.
C91: kom | D91: 6 | F91: =E91*D91 -> 0
A93: 4 | B93: Dobava i ugradba tipskog PEHD revizionog okna prosječne širine 80cm, dubine do 200cm. U cijenu uključena dobava i ugradba okna, lijevanoželjezni poklopac B125 dim. Ø60cm, , potreban iskop i svi spojni elementi za spoj cijevi i šahta. Obračun po komadu izvedenog kontrolnog okna.
C94: kom | D94: 4 | F94: =E94*D94 -> 0
A96: 5 | B96: Dobava i ugradnja tpskog PEHD točkastog slivnika sa lijenaoželjeznom rešetkom za teški promet i odvodnjom Ø150 mm. U cijenu uključiti iskop i sve potrebne elemente za dovođenje u funkciju. Obračun po komadu.
C97: kom | D97: 2 | F97: =E97*D97 -> 0
A99: 6 | B99: Dobava i ugradba slivnog kanala od polimerbetona DN 125, kompletno sa pokrovnom lijevanoželjeznom rešetkom za teški promet i odvodom te potrebnim iskopom i podbetonom. Duljina slivnika 7,0m. Obračun po komadu.
C100: kom | D100: 1 | F100: =E100*D100 -> 0
A102: 7 | B102: Dobava i ugradba tipskog separatora naftnih derivata za ugradnju teren. Protok Q=20 l/s sa pročišćavanjem min.4 l/s (sa bypassom) . Separator sa otvorom i elementom za uzorkovanje izlazne vode. U cijenu uključen potreban iskop , podbeton, lijevano željezi poklopci B125 i svi potrebni elementi za dovođenje u funkciju. Obračun po komadu.
C103: kom | D103: 1 | F103: =E103*D103 -> 0
A105: 8 | B105: Dobava i montaža plastičnog podnog top sifona (u sanitarijama) zajedno sa kromiranom rešetkom 15x15 cm i PVC konusom fi 75
C106: kom | D106: 6 | F106: =E106*D106 -> 0
A108: 9 | B108: Dobava i ugradba ventilacijske glave od pocinčanog lima. Obračun po kom.
B109: Ø100 | C109: kom | D109: 2 | F109: =E109*D109 -> 0
A111: 10 | B111: Ispitivanje instalacije na nepropusnost. Nakon ispitivanja istalacije sastaviti zapisik u prisutnosti nadzornog inženjera.
C112: paušalno | D112: 1 | F112: =E112*D112 -> 0
A114: 11 | B114: Funkcionalno ispitivanje kanalizacije po završetku svih radova kako bi se ustanovila prohodnost cijevi.Nakon ispitivanja istalacije sastaviti zapisik u prisutnosti nadzornog inženjera.
C115: paušalno | D115: 1 | F115: =E115*D115 -> 0
A117: 5/ | B117: ODVOD VODE UKUPNO: | E117: Kn | F117: =SUM(F82:F116) -> 0
A120: 6/ | B120: SANITARNI UREĐAJI
A122: 1 | B122: Dobava i ugradnja umivaonika I klase keramički za klasičnog korisnika sa sifonom. Dimenzie 60*45 cm. Umivaonik ravnih doljeh rubova za mogućnost ugradnje konzolno na zid, i za postavljanje na ploču. Obračun po komadu. | C122: kom | D122: 9 | F122: =E122*D122 -> 0
A124: 2 | B124: Dobava i ugradnja montažnog ugradbenog nosača wc konzolne školjke sa ugradbenim dvokoličinskim vodokotlićem. U cijenu uključeno pripadajuće tipkalo i sav potrebno za dovođenje u funkciju.Obračun po komadu. | C124: kom | D124: 5 | F124: =E124*D124 -> 0
A126: 3 | B126: Dobava i ugradnja konzolne WC keramičke školjke, I klasa za klasičnog korisnika. U cijeni manžeta i vijci za pričvršćenje.
C127: kom | D127: 5 | F127: =E127*D127 -> 0
A129: 4 | B129: Dobava i ugradba ugradbenog nosača za pisoar , uključivo sa ispiračem na potisak.. U cijenu uključeno sve potrebno za dovođenje u funkciju. | C129: kom | D129: 4 | F129: =E129*D129 -> 0
A131: 5 | B131: Dobava i ugradnja keramičkog pisoara I klasa za klasičnog korisnika. U cijeni manžeta i vijci za pričvršćenje. | C131: kom | D131: 4 | F131: =E131*D131 -> 0
A133: 6 | B133: Dobava i ugradnja keramičke tuš kade, dimenzije 90/90 cm, bijela, I klase, | C133: kom | D133: 3 | F133: =E133*D133 -> 0
A135: 7 | B135: Dobava i montaža mješalice za za umivaonik sa otvaranjem na senzor kvalitete kao proizvod Grohe ili jednakovrijedno. | C135: kom | D135: 9 | F135: =E135*D135 -> 0
B136: Jednakovrijedno: ___________________________________
A138: 9 | B138: Dobava i montaža tipkala za ispiranje pisoara. | C138: kom | D138: 4 | F138: =E138*D138 -> 0
A140: 10 | B140: Dobava i montaža jednoručne mješalice sa slavinom i telefon - tušem, te zidnom klizačem, sve kvalitete i karakteristika kao Grohe. | C140: kom | D140: 3 | F140: =E140*D140 -> 0
A142: 11 | B142: Dobava i postavljanje WC daske od tvrde plastike, bijele boje, I klase zajedno s vijcima i gumenom podloškom za klasičnog korisnika | C142: kom | D142: 5 | F142: =E142*D142 -> 0
A144: 12 | B144: Dobava i montaža vrata za tuš kadu širine 90cm, od kaljenog stakla. | C144: kom | D144: 3 | F144: =E144*D144 -> 0
A146: 13 | B146: Dobava i ugradnja stojeće mješalice za ugradnju na sudoper. | C146: kom | D146: 1 | F146: =E146*D146 -> 0
A148: 14 | B148: Dobava i ugradnja slavine za perilicu posuđa. | C148: kom | D148: 1 | F148: =E148*D148 -> 0
A150: 15 | B150: Dobava i ugradnja sifona za sudoper sa elementom za prihvat voda iz perilice za posuđe. | C150: kom | D150: 1 | F150: =E150*D150 -> 0
A152: 16 | B152: Dobava i ugradnja stojećeg el bojlera tople vode vel. 200l. | C152: kom | D152: 1 | F152: =E152*D152 -> 0
A154: 6/ | B154: SANITARNI UREĐAJI UKUPNO: | E154: Kn | F154: =SUM(F122:F153) -> 0
A157: 7/ | B157: HIDRANTI
A159: 1 | B159: Dobava i ugradnja vanjskog nadzemnog hidranta No 80 sa svim potrebnim elementima za dovođenje u funkciju. Obračun po komadu izvedenog hidranta. | C159: kom | D159: 1 | F159: =E159*D159 -> 0
A161: 2 | B161: Dobava i ugradnja unutarnjih zidnih hidranata fi 50mmu ormariću crvene boje i oznake slova H zajedno sa pripadajućom cijevi promjera 50mm i mlaznicom promjera 12mm. | C161: kom | D161: 6 | F161: =E161*D161 -> 0
A163: 3 | B163: Dobava i ugradba pocinčane cijevi sa izolacijom u dijelu unutar terena, spojnim i brtvenim materijalom, za spoj unutarnjeg hidranta na temeljni dovod od PEHD ili pocinčane cijevi. Obračunat unutarnji promjer cijevi.
B164: Ø50 | C164: m' | D164: 15 | F164: =E164*D164 -> 0
...

Sheet 4. OKOLIŠ
A2: 1. TROŠKOVNIK OKOLIŠA
A3: INVESTITOR: INDI-METAL d.o.o. Vodnjan GRAĐEVINA : GOSPODARSKA GRAĐEVINA - bravarska radionca i uprava LOKACIJA: k.č.br.1942/7 k.o. Vodnjan
A5: R.br. | B5: TEKSTUALNI OPIS STAVKE | C5: JEDINICA MJERE | D5: KOLIČINA | E5: JEDINIČNA CIJENA | F5: UKUPNA CIJENA
A6: 1/ | B6: PRIPREMNI RADOVI:
A8: 1 | B8: Terensko iskolčenje objekta. Radom je obuhvaćeno prenošenje svih grafičkih i numeričkih podataka sa nacrta na teren, tj. iskolčenje objekta na terenu. Obračun po satu rada, na bazi satnice za VKV radnika.
C9: sat | D9: 17 | F9: =E9*D9 -> 0
A11: 2 | B11: Osiguranje profila-osovine po pravcu i visini. Rad obuhvaća postavljanje osiguranja u stranu van pojasa kojeg će zahvatiti građevinski radovi.Osiguranje se izvodi na najprikladniji način (na čvrste objekte, pomoćne točke i sl.) te se o tome vodi zapisnik. Obračun po kom osiguranog profila
C12: kom | D12: 48 | F12: =E12*D12 -> 0
A14: 1/ | B14: PRIPREMNI RADOVI UKUPNO: | E14: Kn | F14: =SUM(F9:F13) -> 0
A17: 2/ | B17: ZEMLJANI RADOVI:
A19: 1 | B19: Nabijanje ležišnog tla. Ležišno se tlo nabija na dijelovima ispod nasipa kao i poslije iskopa zasjeka i usjeka do kote posteljice uz primjenu pogodnih mehaničkih sredstava u zavisnosti od geomehaničkih karakteristika tla. Kontrola kvalitete ležišnog tla zasjeka i usjeka otkopanog do kote posteljice vrši se probnom pločom promjera 30 cm pri čemu se zahtijeva minimalna vrijednost modula stišljivosti Me min = 20 MN/m2. Obračun po m2 nabijenog podtla.
C20: m2 | D20: 1585 | F20: =E20*D20 -> 0
A22: 2 | B22: Široki otkop u zasjeku ili usjeku. Mašinsko otkopavanje se vrši u svemu prema projektiranim profilima i upisanim kotama. Redoslijed izvršenja iskopa mora se tako podesiti da se ne formiraju džepovi u kojima bi se voda u slučaju kiše zadržavala, već da u svakoj fazi bude omogućeno pravilno oticanje. Projektirane kosine zasjeka i eventualno nasipa u poprečnim profilima su orjentacione. Tokom rada, u zavisnosti od kategorije i drugih karakteristika tla, nadzorni organ definitivno određuje nagibe kosina prema kojima će izvođač izvršiti otkopavanje. Projektirani otkopi moraju se izvršiti do kote posteljice, a sa pravilnim nagibima kosina koje odgovaraju projektiranim, odnosno tokom rada izmjenjenim. Točnost otkopa +- 5 cm. Više otkopane količine ne plaćaju se, a potrebno popravljanje preko tolerancije +- 5 cm izvođač će izvesti o svom trošku. Obračun po m3 otkopa u sraslom stanju
C23: m3 | D23: 470 | F23: =E23*D23 -> 0
A25: 3 | B25: Izrada nasipa. Materijal za izradu nasipa razastire se u slojevima od 20 - 30 cm, te nabija mehaničkim sredstvima. Svaki nabijeni sloj mora se ispitati, a slijedeći nanositi samo onda ako je prethodni dao dobre rezultate. Za nasipe koji se rade od kamenog ili drobljenog materijala vrši se kontrola zbijenosti pojedinih slojeva sa probnom pločom promjera 30 cm. Traži se modul stišljivosti Me = 40 MN/m2. Ispitivanje pločom treba vršiti na materijalima čije su vlažnosti optimalne. Obračun po m3 izrađenog nasipa sa materijalom iz otkopa i pozajmišta.
C26: m3 | D26: 835 | F26: =E26*D26 -> 0
A28: 4 | B28: Planiranje i valjanje posteljice. Posteljica se planira i nabija na cijeloj širini planuma poslije izvršenog nabijanja nasipa i posteljice zasjeka i usjeka. Neravnine treba izravnati grejderom ili ručno, a udubine ispuniti materijalom od kojeg je izvršen nasip, tako da posteljica poslije valjanja dobije projektirane uzdužne i poprečne nagibe sa tolerancijom +- 2 cm. Valjanjem glatkim valjkom mora se postići ravna površina, kako bi se omogućilo pravilno odvodnjavanje zastorske vode kao i posteljice. Kontrola zbijenosti gotove posteljice vrši se pločom promjera 30 cm i traži se modul stišljivosti Me = 20 - 40 MN/m2 u zavisnosti od vrste ugrađenog materijala. Obračun po m2 planiranja i valjanja.
C29: m2 | D29: 1585 | F29: =E29*D29 -> 0
A31: 5 | B31: Strojni iskop tla za temelj potpornog zida sa odlaganjem materijala u zaleđe potpornog zida. Iskop se vrši u terenu III, IV ktg. Kopanje se vrši do stjenske podloge koja se prema geomeh.izvješću nalazi na aps.koti +121,8-123,4 m. Stavka uključuje sav potreban materijal, alat, strojeve i transport. Obračun po m3 iskopanog materijala u sraslom stanju.
B32: III-IV ktg | C32: m3 | D32: 120 | F32: =E32*D32 -> 0
A34: 6 | B34: Strojni iskop tla za temelj ogradnog zida sa odlaganjem materijala uz iskop. Iskop se vrši u terenu III, IV ktg. Stavka uključuje sav potreban materijal, alat, strojeve i transport. Obračun po m3 iskopanog materijala u sraslom stanju.
B35: III-IV ktg | C35: m3 | D35: 140 | F35: =E35*D35 -> 0
A37: 7 | B37: Odvoz viška materijala. Višak materijala od širokog otkopa i iskopa humusa razastire se po predmetnoj građevinskoj čestici. Višak kamenog iskopa koristi se na gradilištu za izradu nasipa.U cijenu je uključeno razastiranje materijala na gradilištu. Obračun po m3 .
C38: m3 | D38: 470 | F38: =E38*D38 -> 0
A40: 2/ | B40: ZEMLJANI RADOVI UKUPNO: | E40: Kn | F40: =SUM(F19:F39) -> 0
A43: 3/ | B43: ARMIRANOBETONSKI I TESARSKI RADOVI:
A45: 1 | B45: Dobava i ugradba betonskih rubnjaka parkirališta i prometnice ispred upravnog dijela. U cijeni je obuhvaćena dobava tipskih rubnjaka dimenzija prema detalju proizvedenih od betona C 30/37, iskop temelja, betoniranje podloge i stražnjeg zidića, te ugradbu rubnjaka. Rubnjaci moraju biti ugrađeni točno po projektiranoj liniji. Za ugrađene rubnjake izvođač je dužan podnijeti atest o kvaliteti. U zoni križanja valja ugrađivati tipske rubnjake dužine 33 cm. Obračun po m1 ugrađenih rubnjaka.
B46: rubnjaci dimenzije 15 / 25 / 100 cm | C46: m' | D46: 350 | F46: =E46*D46 -> 0
A48: 2 | B48: Dobava materijala i betoniranje temelja potpornog zida d=40,0cm betonom C25/30, prema nacrtnoj dokumentaciji. Stavka uključuje sav potreban materijal, rad i transport, izradu oplate, te ugradbu betona autopumpom. Armatura je obračunata zasebnom stavkom. Obračun po 1m³ ugrađenog betona i m2 oplate.
B49: beton | C49: m3 | D49: 28 | F49: =D49*E49 -> 0
B50: armatura | C50: kg | D50: 1500 | F50: =D50*E50 -> 0
B51: oplata | C51: m2 | D51: 50 | F51: =D51*E51 -> 0
A53: 3 | B53: Dobava materijala i betoniranje potpornog zida d=25,0cm betonom C25/30, prema nacrtnoj dokumentaciji. Stavka uključuje sav potreban materijal, rad i transport, izradu oplate, te ugradbu betona autopumpom. Armatura je obračunata zasebnom stavkom. Obračun po 1m³ ugrađenog betona i m2 oplate.
B54: beton | C54: m3 | D54: 22 | F54: =D54*E54 -> 0
B55: armatura | C55: kg | D55: 1500 | F55: =D55*E55 -> 0
B56: oplata | C56: m2 | D56: 200 | F56: =D56*E56 -> 0
A58: 4 | B58: Dobava materijala i betoniranje temelja ogradnog zida dim. 50/50cm, prosječne visine 30cm, betonom C25/30, prema nacrtnoj dokumentaciji. Stavka uključuje sav potreban materijal, rad i transport, izradu oplate, te ugradbu betona autopumpom. Armatura je obračunata zasebnom stavkom. Obračun po 1m³ ugrađenog betona i m2 oplate.
B59: beton | C59: m3 | D59: 95 | F59: =D59*E59 -> 0
B60: armatura | C60: kg | D60: 3800 | F60: =D60*E60 -> 0
B61: oplata | C61: m2 | D61: 380 | F61: =D61*E61 -> 0
A63: 5 | B63: Dobava materijala i betoniranje ogradnog zida betonom C25/30 d=20,0cm, prema nacrtnoj dokumentaciji. Stavka uključuje sav potreban materijal, rad i transport, izradu oplate, te ugradbu betona autopumpom. Armatura je obračunata zasebnom stavkom. Obračun po 1m³ ugrađenog betona i m2 oplate.
B64: beton | C64: m3 | D64: 32 | F64: =D64*E64 -> 0
B65: armatura | C65: kg | D65: 1920 | F65: =D65*E65 -> 0
B66: oplata | C66: m2 | D66: 320 | F66: =D66*E66 -> 0
A68: 3/ | B68: ARMIRANOBETONSK I TESARSKI RADOVI UKUPNO: | E68: Kn | F68: =SUM(F45:F67) -> 0
A71: 4/ | B71: GORNJI STROJ PROMETNICE
A73: 1 | B73: Izrada tamponskog sloja. Donji nosivi sloj od tamponskog materijala izvodi se na mjestima i u sloju predviđenim projektom. Za tamponske slojeve se rabi nevezani granulirani kameni materijal - tamponski materijal 0 - 63 mm jednolike mješavine. Na odgovarajuće pripremljen planum donjeg stroja nanosi se navoženjem sa čela ili bočnim izvrtanjem tamponski sloj. Nakon toga se vrši sabijanje valjcima po čitavoj širini od donjeg prema gornjem rubu. Ispitivanje potrebne zbijenosti se vrši kružnom pločom promjera 30 cm pri čemu modul stišljivosti mora iznositi najmanje Me = 100 MN/m2. Za odstupanje do najviše 10 % na dolje potrebna je suglasnost investitora. Odstupanje visine planuma dozvoljeno je najviše +- 1.5 cm mjereno profilnom letvom od 4 m. Obračun po m2 ugrađenog tampona.
B74: visina tampona 30cm | C74: m2 | D74: 1585 | F74: =E74*D74 -> 0
A76: 2 | B76: Izrada veznog sloja asfalta. Na pripremljenu podlogu nanosi se finišerom vruč i asfaltni sloj AC 16 base 50/70 AG6 M2-E u projektiranoj debljini, te valja odgovarajućim valjcima. Masa se priprema prema recepturi institucije ovlaštene za kontrolu kvalitete izvedenih radova. Izvođač je dužan voditi tekuću kontrolu materijala i proizvodnje vruće asfaltne mase i ugrađivanja. Obračun radova po m2 ugrađenog veznog sloja asfalta.
B77: debljina sloja 5cm | C77: m2 | D77: 1585 | F77: =E77*D77 -> 0
A79: 3 | B79: Čišćenje i špricanje asfalta emulzijom. Prije nanošenja habajućeg sloja asfalta, potrebno je postojeći asfalt očistiti od nečistoća i prešpricati ga emulzijom u količini od 0, 5 lit/m2. Obračun po m2 očišćenog i prešpricanog asfalta.
C80: m2 | D80: 1585 | F80: =E80*D80 -> 0
A82: 4 | B82: Izrada habajućeg sloja asfalta. Na nosivi ili vezni sloj polaže se finišerima vruća asfaltna mješavina - habajući asfaltni sloj AC 8 surf 50/70 AG4 M3-E u projektiranoj debljini, te valja lakšim valjcima. Masa se priprema prema recepturi institucije ovlaštene za kontrolu kvalitete izvedenih radova. Izvođač je dužan voditi tekuću kontrolu materijala i proizvodnje vruće asfaltne mase i ugrađivanja. Obračun po m2 ugrađenog habajućeg sloja asfalta.
B83: mješavina AB 8, debljina sloja 3 cm | C83: m2 | D83: 1585 | F83: =E83*D83 -> 0
A85: 4/ | B85: GORNJI STROJ PROMETNICE UKUPNO: | E85: Kn | F85: =SUM(F73:F84) -> 0
A88: 5/ | B88: SIGNALIZACIJA I OPREMA
A90: 1 | B90: Obilježavanje linija na kolovozu i parking mjesta. Boja za linije mora biti otporna na habanje i atmosferilije. Linija se obilježava u svemu prema projektu, odnosno odredbama nadzornog inženjera. Bijela linija širine 10cm. Obračun po m1 obojene linije.
C91: m' | D91: 250 | F91: =E91*D91 -> 0
A93: 2 | B93: Izrada i montaža dvorišnih klizna vrata od bojanih čeličnih cijevi. Vrata dim. 6.,0m x 2,0m. Vrata opremljena automatikom za otvaranje vrata. Obračun po komadu , komplet dovedeno u funkciju.
C94: kom | D94: 1 | F94: =E94*D94 -> 0
A96: 3 | B96: Izrada, dobava i ugradba čelične ograde koja se sastoji od čeličnih stupova i segmenata od čeličnih okvira sa ispunom od čelične mreže. Segmenti dim. 2,0 x 2,0m. Sve navedeno toplopocinčano. Obračun po m' ograde.
C97: m | D97: 420 | F97: =E97*D97 -> 0
A99: 5/ | B99: SIGNALIZACIJA I OPREMA UKUPNO: | E99: Kn | F99: =SUM(F90:F98) -> 0
B101: REKAPITULACIJA:
B103: 1. PRIPREMNI RADOVI | C103: = | F103: =F14 -> 0
B104: 2. ZEMLJANI RADOVI | C104: = | F104: =F40 -> 0
B105: 3. ARMIRANOBETONSKI I TESARSKI RADOVI | C105: = | F105: =F68 -> 0
B106: 4. GORNJI STROJ PROMETNICE | C106: = | F106: =F85 -> 0
B107: 5. SIGNALIZACIJA I OPREMA | C107: = | F107: =F99 -> 0
B109: UKUPNO: | C109: = | F109: =SUM(F103:F107) -> 0
B110: PDV: | C110: = | F110: =F109*0.25 -> 0
B111: SVEUKUPNO: | C111: = | F111: =F109+F110 -> 0

Sheet 5. PRIKLJUČAK NA PROMETNICU
A1: TROŠKOVNIK PRIKLJUČKA NA PROMETNICU
A7: R.br. | B7: TEKSTUALNI OPIS STAVKE | C7: JEDINICA MJERE | D7: KOLIČINA | E7: JEDINIČNA CIJENA | F7: UKUPNA CIJENA
B9: PRIPREMNI RADOVI
A11: 1. 1. | B11: Terensko iskolčenje objekta._x000D_ Radom je obuhvaćeno prenošenje svih grafičkih i numeričkih podataka sa nacrta na teren, tj. iskolčenje objekta na terenu._x000D_ Obračun po satu rada, na bazi satnice za VKV radnika._x000D_
C12: sat | D12: 3 | F12: =SUM(D12*E12) -> 0
A13: 1. 2. | B13: Osiguranje profila-osovine po pravcu i visini._x000D_ Rad obuhvaća postavljanje osiguranja u stranu van pojasa kojeg će zahvatiti građevinski radovi.Osiguranje se izvodi na najprikladniji način (na čvrste objekte, pomoćne točke i sl.) te se o tome vodi zapisnik._x000D_ Obračun po kom osiguranog profila._x000D_
C14: kom | D14: 4 | F14: =SUM(D14*E14) -> 0
A15: 1. 3. | B15: Vađenje starih ivičnjaka._x000D_ Vađenje postojećih betonskih ili kamenih ivičnjaka sa utovarom u kamion i odvozom na deponiju._x000D_ Obračun po m1 izvađenog ivičnjaka._x000D_
C16: m1 | D16: 18 | F16: =SUM(D16*E16) -> 0
A17: 1. 4. | B17: Frezanje linija ili oznaka sa asfalta pogodnom frezom, te čišćenje površine nakon završenog frezanja._x000D_
B18: - linija širine 10 cm. Obračun po metru dužnom.
C19: m1 | D19: 18 | F19: =SUM(D19*E19) -> 0
A20: 1. 5. | B20: Rezanje asfaltnih površina strojem za rezanje asfalta._x000D_ Obracun po m1 izrezanog asfalta._x000D_
C21: m1 | D21: 20 | F21: =SUM(D21*E21) -> 0
B23: PRIPREMNI RADOVI | F23: =SUM(F9:F21) -> 0
B25: ZEMLJANI RADOVI
A27: 2. 1. | B27: Nabijanje ležišnog tla._x000D_ Ležišno se tlo nabija na dijelovima ispod nasipa kao i poslije iskopa zasjeka i usjeka do kote posteljice uz primjenu pogodnih mehaničkih sredstava u zavisnosti od geomehaničkih karakteristika tla. Kontrola kvalitete ležišnog tla zasjeka i usjeka otkopanog do kote posteljice vrši se probnom pločom promjera 30 cm pri čemu se zahtijeva minimalna vrijednost modula stišljivosti Me min = 20 MN/m2. Ispitivanje pločom treba vršiti na materijalima čije su vlažnosti optimalne. Zbijenost sraslog ležišnog tla se ispituje i po standardnom Proktorovom postupku._x000D_ Obračun po m2 nabijenog podtla._x000D_
C28: m2 | D28: 92 | F28: =SUM(D28*E28) -> 0
A29: 2. 2. | B29: Široki otkop u zasjeku ili usjeku._x000D_ Mašinsko otkopavanje se vrši u svemu prema projektiranim profilima i upisanim kotama. Redoslijed izvršenja iskopa mora se tako podesiti da se ne formiraju džepovi u kojima bi se voda u slučaju kiše zadržavala, već da u svakoj fazi bude omogućeno pravilno oticanje._x000D_ Projektirane kosine zasjeka i eventualno nasipa u poprečnim profilima su orjentacione. Tokom rada, u zavisnosti od kategorije i drugih karakteristika tla, nadzorni organ definitivno određuje nagibe kosina prema kojima će izvođač izvršiti otkopavanje. Projektirani otkopi moraju se izvršiti do kote posteljice, a sa pravilnim nagibima kosina koje odgovaraju projektiranim, odnosno tokom rada izmjenjenim. Točnost otkopa +- 5 cm. Više otkopane količine ne plaćaju se, a potrebno popravljanje preko tolerancije +- 5 cm izvođač će izvesti o svom trošku._x000D_ Obračun po m3 otkopa u sraslom stanju
B30: - bez obzira na kategoriju tla.
C31: m3 | D31: 28 | F31: =SUM(D31*E31) -> 0
A32: 2. 3. | B32: Izrada nasipa._x000D_ Materijal za izradu nasipa razastire se u slojevima od 20 - 30 cm, te nabija mehaničkim sredstvima. Svaki nabijeni sloj mora se ispitati, a slijedeći nanositi samo onda ako je prethodni dao dobre rezultate. Za nasipe koji se rade od kamenog ili drobljenog materijala vrši se kontrola zbijenosti pojedinih slojeva sa probnom pločom promjera 30 cm. Traži se modul stišljivosti Me = 40 MN/m2. Ispitivanje pločom treba vršiti na materijalima čije su vlažnosti optimalne._x000D_ Obračun po m3 izrađenog nasipa sa materijalom iz otkopa i pozajmišta._x000D_
C33: m3 | D33: 3 | F33: =SUM(D33*E33) -> 0
A34: 2. 4. | B34: Planiranje i valjanje posteljice._x000D_ Posteljica se planira i nabija na cijeloj širini planuma poslije izvršenog nabijanja nasipa i posteljice zasjeka i usjeka. Neravnine treba izravnati grejderom ili ručno, a udubine ispuniti materijalom od kojeg je izvršen nasip, tako da posteljica poslije valjanja dobije projektirane uzdužne i poprečne nagibe sa tolerancijom +- 2 cm. Valjanjem glatkim valjkom mora se postići ravna površina, kako bi se omogućilo pravilno odvodnjavanje zastorske vode kao i posteljice. Kontrola zbijenosti gotove posteljice vrši se pločom promjera 30 cm i traži se modul stišljivosti Me = 20 - 40 MN/m2 u zavisnosti od vrste ugrađenog materijala._x000D_ Obračun po m2 planiranja i valjanja._x000D_
C35: m2 | D35: 90 | F35: =SUM(D35*E35) -> 0
A36: 2. 5. | B36: Izrada zemljanih bankina._x000D_ Rad obuhvaća nasipavanje, planiranje i nabijanje bankina sa materijalom iz iskopa ili pozajmista. Napredovanje izrade bankina treba uskladiti sa izradom gornjeg stroja. Humus se ne smije upotrijebiti za izradu jezgre bankine već samo za gornji sloj debljine 20 cm. Zbijenost jezgre bankine ispituje se po standardnom Proktorovom postupku, pri ćemu se zahtijeva zbijenost od 90 % maksimalne laboratorijske zbijenosti._x000D_ Obračun po m2 izrađene bankine._x000D_
C37: m2 | D37: 11 | F37: =SUM(D37*E37) -> 0
A38: 2. 6. | B38: Odvoz viška materijala na deponiju._x000D_ Višak materijala od širokog otkopa i iskopa humusa odvozi se na odlagalište koje še odrediti nadzorni organ u dogovoru s investitorom. U cijenu je uključen utovar, istovar i planiranje materijala na deponiji, te naknada za deponirani materijal._x000D_ Obračun po m3 odvezenog materijala u sraslom stanju._x000D_
B39: - transportna dužina 10 km
C40: m3 | D40: 25 | F40: =SUM(D40*E40) -> 0
B42: ZEMLJANI RADOVI | F42: =SUM(F25:F40) -> 0
B44: GORNJI STROJ
A46: 3. 1. | B46: Izrada tamponskog sloja._x000D_ Donji nosivi sloj od tamponskog materijala izvodi se na mjestima i u sloju predviđenim projektom. Za tamponske slojeve se rabi nevezani granulirani kameni materijal - tamponski materijal 0 - 63 mm jednolike mješavine. Na odgovarajuće pripremljen planum donjeg stroja nanosi se navoženjem sa čela ili bočnim izvrtanjem tamponski sloj. Nakon toga se vrši sabijanje valjcima po čitavoj širini od donjeg prema gornjem rubu. Ispitivanje potrebne zbijenosti se vrši kružnom pločom promjera 30 cm pri čemu modul stišljivosti mora iznositi najmanje Me = 100 MN/m2. Za odstupanje do najviše 10 % na dolje potrebna je suglasnost investitora._x000D_ Odstupanje visine planuma dozvoljeno je najviše +- 1.5 cm mjereno profilnom letvom od 4 m._x000D_ Obračun po m2 ugrađenog tampona._x000D_
B47: - debljina sloja - 30 cm.
C48: m2 | D48: 98 | F48: =SUM(D48*E48) -> 0
A49: 3. 2. | B49: Izrada veznog sloja asfalta._x000D_ Na pripremljenu podlogu nanosi se finišerom vruč i asfaltni sloj AC 16 base 50/70 AG6 M2-E u projektiranoj debljini, te valja odgovarajućim valjcima. Masa se priprema prema recepturi institucije ovlaštene za kontrolu kvalitete izvedenih radova. Izvođač je dužan voditi tekuću kontrolu materijala i proizvodnje vruće asfaltne mase i ugrađivanja._x000D_ Obračun radova po m2 ugrađenog veznog sloja asfalta._x000D_
B50: - debljina sloja - 5 cm.
C51: m2 | D51: 90 | F51: =SUM(D51*E51) -> 0
A52: 3. 3. | B52: Čišćenje i špricanje asfalta emulzijom._x000D_ Prije nanošenja habajućeg sloja asfalta, potrebno je postojeći asfalt očistiti od nečistoća i prešpricati ga emulzijom u količini od 0, 5 lit/m2._x000D_ Obračun po m2 očišćenog i prešpricanog asfalta._x000D_
C53: m2 | D53: 90 | F53: =SUM(D53*E53) -> 0
A54: 3. 4. | B54: Izrada habajućeg sloja asfalta._x000D_ Na nosivi ili vezni sloj polaže se finišerima vruća asfaltna mješavina - habajući asfaltni sloj AC 8 surf 50/70 AG4 M3-E u projektiranoj debljini, te valja lakšim valjcima._x000D_ Masa se priprema prema recepturi institucije ovlaštene za kontrolu kvalitete izvedenih radova. Izvođač je dužan voditi tekuću kontrolu materijala i proizvodnje vruće asfaltne mase i ugrađivanja._x000D_ Obračun po m2 ugrađenog habajućeg sloja asfalta._x000D_
B55: - mješavina AB 8, debljina sloja 3 cm.
C56: m2 | D56: 90 | F56: =SUM(D56*E56) -> 0
B58: GORNJI STROJ | F58: =SUM(F44:F56) -> 0
B60: OBJEKTI
A62: 4. 1. | B62: Dobava i ugradba betonskih rubnjaka._x000D_ U cijeni je obuhvaćena dobava tipskih rubnjaka dimenzija prema detalju proizvedenih od betona C 30/37, iskop temelja, betoniranje podloge i stražnjeg zidića, te ugradbu rubnjaka._x000D_ Rubnjaci moraju biti ugrađeni točno po projektiranoj liniji. Za ugrađene rubnjake izvođač je dužan podnijeti atest o kvaliteti. U zoni križanja valja ugrađivati tipske rubnjake dužine 33 cm._x000D_ Obračun po m1 ugrađenih rubnjaka._x000D_
B63: - rubnjaci dimenzije 15 / 25 / 100 cm
C64: m1 | D64: 32 | F64: =SUM(D64*E64) -> 0
B66: OBJEKTI | F66: =SUM(F60:F64) -> 0
B68: SIGNALIZACIJA
A70: 5. 1. | B70: Postavljanje prometnih znakova._x000D_ Znakovi se postavljaju na stupove okruglog presjeka. Vrsta i broj znakova određena je projektom signalizacije, kako bi se postigla maksimalna sigurnost prometa. U cijenu ulaze svi troškovi nabave i ugradbe znakova._x000D_ Obračun po kom postavljenog znaka._x000D_
B71: - prometni znaci - obični.
C72: kom | D72: 2 | F72: =SUM(D72*E72) -> 0
A73: 5. 2. | B73: Obilježavanje linija na kolovozu._x000D_ Boja za linije mora biti otporna na habanje i atmosferilije. Linija se obilježava u svemu prema projektu, odnosno odredbama nadzornog organa._x000D_ Obračun po m1 obojene linije._x000D_
B74: - bijela linija širine 10 cm.
C75: m1 | D75: 10 | F75: =SUM(D75*E75) -> 0
A76: 5. 3. | B76: Bojanje oznaka na kolovozu._x000D_ Oznake na kolovozu (zebre, strelice, natpisi) izvode se bijelom bojom otpornom na habanje i atmosferilije, u svemu prema projektu, odnosno odredbama nadzornog organa._x000D_ Obračun po m2 izvedenih oznaka._x000D_
C77: m2 | D77: 14 | F77: =SUM(D77*E77) -> 0
B79: SIGNALIZACIJA | F79: =SUM(F68:F77) -> 0
B81: REKAPITULACIJA:
B83: 1. PRIPREMNI RADOVI | C83: = | F83: =F23 -> 0
B84: 2. ZEMLJANI RADOVI | C84: = | F84: =F42 -> 0
B85: 3. GORNJI STROJ | C85: = | F85: =F58 -> 0
B86: 4. OBJEKTI | C86: = | F86: =F66 -> 0
B87: 5. SIGNALIZACIJA | C87: = | F87: =F79 -> 0
B89: UKUPNO: | C89: = | F89: =SUM(F83:F87) -> 0
B90: PDV: | C90: = | F90: =F89*0.25 -> 0
B91: SVEUKUPNO: | C91: = | F91: =F89+F90 -> 0

Sheet REKAPITULACIJA
B2: REKAPITULACIJA:
B4: 1. RUŠENJE | C4: = | F4: ='1. RUŠENJE'!F69 -> 0
B5: 2. GRAĐEVINSKI | C5: = | F5: ='2. GRAĐEVINSKI'!F489 -> 0
B6: 3. VODA I KANALIZACIJA | C6: = | F6: ='3. VODA I KANALIZACIJA'!F180 -> 0
B7: 4. OKOLIŠ | C7: = | F7: ='4. OKOLIŠ'!F109 -> 0
B8: 5. PRIKLJUČAK NA PROMETNICU | C8: = | F8: ='5. PRIKLJUČAK NA PROMETNICU'!F89 -> 0
B10: UKUPNO: | C10: = | F10: =SUM(F4:F8) -> 0
B11: PDV: | C11: = | F11: =F10*0.25 -> 0
B12: SVEUKUPNO: | C12: = | F12: =F10+F11 -> 0
