Workbook

Sheet 1. HALA
A1: GRAĐEVINSKI RADOVI
A3: R.B. | B3: OPIS STAVKE | C3: J.M. | D3: KOL. | E3: J.C. | F3: UKUPNO
A4: 1. | B4: PRIPREMNI RADOVI
B6: Uređenje gradilišta Izvođač je dužan izvesti prema planu izvođenja radova koju je dužan dostaviti prije početka gradnje. Prilikom izrade sheme organizacije gradilišta predvidjeti: prostorije za svoje urede, osiguranje gradilišta ogradom ili drugim elementima za sigurnost ljudi te zaštitu prometa i objekata, postaviti natpisnu ploču, postaviti dovoljan broj skladišta, pomoćnih radnih prostorija, nadstrešnica, odrediti i urediti prometne i parkirališne površine za vozila, građevnu mehanizaciju i slično te opremu. Izvođač je dužan gradilište sa svim prostorijama i inventarom čistiti i održavati.
B7: Pripremni radovi i radovi na organizaciji gradilišta neće biti obračunati posebno, već su obuhvaćeni u ponudbenoj cijeni. Uključivo svi troškovi prijevoza i komunalne naknade deponije. Izvodi se po nalogu i odobrenju nadzornog inženjera.
A8: 1.1. | B8: Ravnanje terena te priprema za iskolčenje. | C8: m2 | D8: 2000 | F8: =SUM(D8*E8) -> 0
A9: 1.2. | B9: Geodetski radovi – iskolčenje svih potrebnih točaka, visina i osi tijekom gradnje. Izrada iskolčenja i elaborata iskolčenja od strane ovlaštenog geodeta. Stavka obuhvaća sve potrebne geodetske radnje od strane ovlaštenog geodeta. Iskolčenje objekta obuhvaća sva geodetska mjerenja kojima se podaci s projekta prenose na teren (vertikalno i horizontalno), obnavljanje i održavanje iskolčenih oznaka na terenu za sve vrijeme građenja. Elaborat iskolčenja potrebno je izraditi u skladu s Zakonom o gradnji, predati kao digitalnu snimku u .dwg formatu na CD-u uz tri (3) primjerka uvezanog elaborata. Obračun za komplet radova. | C9: kom | D9: 1 | F9: =SUM(D9*E9) -> 0
A10: 1.4. | B10: Uklanjanje zatečene manipulativne betonske obloge na parceli. Za debljinu ploče uzima se 20 cm. | C10: m3 | D10: 234.07 | F10: =SUM(D10*E10) -> 0
B12: 1. PRIPREMNI RADOVI UKUPNO: | F12: =SUM(F8:F10) -> 0
A15: 2. | B15: ZEMLJANI RADOVI
A17: 2.1. | B17: Skidanje sloja humusa prosječne debljine 30 cm, sa odlaganjem iskopanog humusa na stranu, te profiliranje i valjanje planuma. Obračun po m3 u sraslom stanju. Humus se iskopava isključivo strojno, ručno eventualno po potrebi, iskopani humus utovara na vozilo i odvozi na deponiju do 10km. Uključiti taksu za deponiju. | C17: m3 | D17: 385.68 | F17: =SUM(D17*E17) -> 0
A19: 2.2. | B19: Površinski iskop zemlje III i IV ktg. dubine 25 cm ispod zgrade sa odlaganjem iskopanog materijala na stranu. Otkopanim materijalom u završnoj fazi radova izvršiti humusiranje na mjestu zelenih površina. Iskop vršiti isključivo strojno, u cijenu uključiti utovar iskopanog materijala i prijevoz na gradilišnu deponiju. | C19: m3 | D19: 332.35 | F19: =SUM(D19*E19) -> 0
A21: 2.3. | B21: Široki iskopi u tlu III kategorije (80 % strojno, 20% ručno) za temeljne stope sa odlaganjem iskopanog materijala na stranu radi kasnije uporabe ili odvozom na privremenu deponiju na udaljenosti do 50 m. Obračun po m3 iskopanog materijala. Pokos građevinske jame zaštiti folijom kako bi se spriječilo ispiranje tla i kontakt pokosa s vodom. | C21: m3 | D21: 243.12 | F21: =SUM(D21*E21) -> 0
A23: 2.4. | B23: Široki iskopi u tlu III kategorije (80% strojno, 20% ručno) za temeljne trake širine 60 cm sa odlaganjem iskopanog materijala na stranu radi kasnije uporabe ili odvozom na privremenu deponiju na udaljenosti do 50 m. Obračun po m3 iskopanog materijala. | C23: m3 | D23: 74.52 | F23: =SUM(D23*E23) -> 0
A25: 2.5. | B25: Široki iskopi u tlu III kategorije (80% strojno, 20% ručno) za temeljne ploče sa odlaganjem iskopanog materijala na stranu radi kasnije uporabe ili odvozom na privremenu deponiju na udaljenosti do 50 m. Obračun po m3 iskopanog materijala. | C25: m3 | D25: 719.65 | F25: =SUM(D25*E25) -> 0
A27: 2.6. | B27: Ručno planiranje dna iskopa točnošću ± 2 cm o Ms = 20 MN/m2. U cijenu uključeno svo potrebno zbijanje i planiranje sukladno projektu. | C27: m2 | D27: 398.78 | F27: =SUM(D27*E27) -> 0
A29: 2.7. | B29: Ugradnja talpi
B30: Ugradnja, korištenje te vađenje čeličnih talpi duljine 12m. Stavka obuhvaća sve radove na dopremi talpi sa privremenog odlagališta te ugradnju do projektom tražene dubine korištenje do prestanka potrebe za talpama te vađenje talpi i odvoz sa utovarom talpi. | C30: m2 | D30: 1042.08 | F30: =SUM(D30*E30) -> 0
A32: 2.8. | B32: Crpljene podzemne vode iz građevinske jame
B33: Obračun po satu crpljenja vode | C33: h | D33: 300 | F33: =SUM(D33*E33) -> 0
A35: 2.9. | B35: Dobava, nasipanje, razastiranje i nabijanje tampon sloja šljunka d=10 cm ispod temeljnih stopa, temeljnih traka i temeljnih ploča. U cijeni uključeno nabijanje podloge odgovarajućom mehanizacijom do zbijenosti Me = 40 MN/m2. Obračun po m3 ugrađenog materijala u zbijenom stanju.
B36: Rad | C36: m3 | D36: 39.87 | F36: =SUM(D36*E36) -> 0
B37: Materijal | C37: m3 | D37: 39.87 | F37: =SUM(D37*E37) -> 0
A39: 2.10. | B39: Izrada donjeg nosivog sloja od mehanički zbijenog zrnatog kamenog materijala kontinuiranog granulometrijskog sastava 0/60mm min debljine d=60 cm ispod podne ploče, oko temelja nakon betoniranja. Kameni materijal ispod podne ploče uvaljati i zbiti na modul zbijenosti Mz = 80 MN/m2 . Obračun po m3 ugrađenog materijala u zbijenom stanju . | C39: m3 | D39: 734.65 | F39: =SUM(D39*E39) -> 0
B41: 2. ZEMLJANI RADOVI UKUPNO: | F41: =SUM(F17:F40) -> 0
A44: 3. | B44: BETONSKI I AB RADOVI
B46: Kod izvedbe betonskih i armirano betonskih radova treba se u svemu pridržavati postojećih propisa, standarda te statičkog proračuna. U cijenu radova Izvođač treba uključiti izradu projekta betona, sva potrebna ispitivanja betona i dokumentacija vezana na betonske i armirano-betonske radove potrebna za tehnički pregled građevine.
A47: 3.1. | B47: Izrada armirano betonskih temeljnih traka betonom C30/37 CX2 u odgovarajućoj oplati ili u iskopu dimenzija prema danom projektu. U temeljima pripremiti otvore za instalacije i postaviti temeljnu kanalizaciju. U cijeni je uključena izrada odnosno dobava i prijevoz betona, te strojna ugradba i njega sviježeg betona. Obračun po m3.
C48: m3 | D48: 44.8 | F48: =SUM(D48*E48) -> 0
A50: 3.2. | B50: Izrada armirano betonskih temeljnih stopa betonom C30/37 CX2 u odgovarajućoj oplati ili u iskopu dimenzija prema danom projektu. U temeljima pripremiti otvore za instalacije i postaviti temeljnu kanalizaciju. U cijeni je uključena izrada odnosno dobava i prijevoz betona, te strojna ugradba i njega sviježeg betona. Obračun po m3.
C51: m3 | D51: 118.74 | F51: =SUM(D51*E51) -> 0
A53: 3.3. | B53: Izrada armirano betonskih temeljnih ploča betonom C30/37 CX2 u odgovarajućoj oplati ili u iskopu dimenzija prema danom projektu s dodatkom za vodoneprospunost. U cijeni je uključena izrada odnosno dobava i prijevoz betona, te strojna ugradba i njega sviježeg betona. Obračun po m3.
C54: m3 | D54: 57.71 | F54: =SUM(D54*E54) -> 0
A56: 3.4. | B56: Izrada podložnog betona C30/37 u iskopu d=5 cm. U cijenu je uključena izrada odnosno dobava i prijevoz betona, te strojna ugradba i njega svježeg betona. Obračun po m3.
B57: pod | C57: m3 | D57: 78.78 | F57: =SUM(D57*E57) -> 0
B58: zid | C58: m3 | D58: 12.58 | F58: =SUM(D58*E58) -> 0
B59: opata | C59: m2 | D59: 72.57 | F59: =SUM(D59*E59) -> 0
A61: 3.5. | B61: Izrada armirano betonskih nadtemelja - AB zidova jame, betonom C30/37 CX2 u odgovarajućoj oplati ili u iskopu dimenzija prema danom projektu. U nadtemeljima pripremiti otvore za instalacije i postaviti temeljnu kanalizaciju. U cijeni je uključena izrada odnosno dobava i prijevoz betona, te strojna ugradba i njega sviježeg betona. Obračun po m3.
A62: a) | B62: Beton | C62: m3 | D62: 61.81 | F62: =SUM(D62*E62) -> 0
A63: b) | B63: Oplata | C63: m2 | D63: 72.57 | F63: =SUM(D63*E63) -> 0
...

Sheet 2.NISKOGRADNJA
B2: 2. TROŠKOVNIK IZGRADNJE PARKIRNE POVRŠINE
B3: REKAPITULACIJA GRAĐEVINSKIH RADOVA
A5: 1. | B5: PRIPREMNI RADOVI | F5: =H32 -> 0
A6: 2. | B6: ZEMLJANI RADOVI | F6: =H48 -> 0
A7: 3. | B7: BETONSKI RADOVI | F7: =H59 -> 0
A8: 4. | B8: ASFALTERSKI RADOVI | F8: =H67 -> 0
A9: 5. | B9: MONTAŽERSKI RADOVI | F9: =H75 -> 0
A10: 6. | B10: OSTALI RADOVI | F10: =H82 -> 0
B12: UKUPNO GRAĐEVINSKIH RADOVA | E12: =SUM(F5:F10) -> 0
B14: U CIJENE NIJE UKLJUČEN PDV (25%)
B21: GRAĐEVINSKI RADOVI | E21: jed. mjere | F21: količina | G21: jed. cijena | H21: ukupno
A23: 1. | B23: PRIPREMNI RADOVI
B25: Za sve radove treba primjenjivati tehničke propise i građevinske norme. Izvedba radova treba biti prema nacrtima, općim uvjetima i opisu radova, detaljima i prema pravilima struke. Moguća odstupanja treba prethodno dogovoriti s stručnim nadzorom i projektantom za svaku pojedinu situaciju. Svi nekvalitetni radovi imaju se otkloniti i zamijeniti ispravnim, bez bilo kakve odštete od strane investitora.
A26: 1.1. | B26: Iskolčenje prometnih površina i kanala oborinske odvodnje. Rad obuhvaća sve radove na snimanju, obilježavanju i lociranju elemenata iskolčenja situacijski i visinski upisivanjem oznaka i osiguranja. Stavkom je obuhvaćena i izrada elaborata iskolčenja sa prikazom svih objekata na trasi predmetnih građevina i drugim izvedbenim detaljima. Elaborat izraditi i predati nadzornom inženjeru prije početka radova. | E26: m2 | F26: =941+269+19+540.34 -> 1769.34 | H26: =ROUND(F26*G26,2) -> 0
A28: 1.2. | B28: Sječa šiblja i trnja f 3-5 cm (40%) i 5-10 cm (60%) sa skupljanjem na hrpe i paljenjem, gusto obraslo. | E28: m2 | F28: =1645.43+335.6-145.47 -> 1835.56 | H28: =ROUND(F28*G28,2) -> 0
A30: 1.3. | B30: Uređenje gradilišta i osiguranje nesmetanog odvijanja prometa vozila i pješaka. Stavka obuhvaća dovoz, postavljanje u pogonsko stanje, demontiranje i odvoz svih uređaja, postrojenja, pribora, građevinskih strojeva, transportnih sredstava, oplata, ukrućenja, uređaja opskrbe, prostorija za smještaj i rukovođenje radova opisanih projektom. Stavka nadalje obuhvaća i uređenje gradilišta i dovođenje u prvobitno stanje površina lokacija korištenih kao radne i skladišne površine. U ove radove ubraja se i obnova svih korištenih pristupa i cesta do lokacije gradilišta, korištenje privremenih deponija, priključaka vode i struje i sl. | E30: m2 | F30: 1769.34 | H30: =ROUND(F30*G30,2) -> 0
B32: UKUPNO PRIPREMNI RADOVI : | H32: =SUM(H26:H31) -> 0
A34: 2. | B34: ZEMLJANI RADOVI
A36: 2.1. | B36: Strojni široki iskop bagerom u zemljanom materijalu ''C'' kat., za potrebe uređenja posteljice prometnih površina, drenažnih rovova, otvorenih vodotoka i cijevnih propusta sve prema normalnim profilima i dubinama prema projektu. Iskopani materijal deponirati na privremenu deponiju prebacivanjem bagerom. | E36: m3 | F36: 1238.54 | H36: =ROUND(F36*G36,2) -> 0
A38: 2.2. | B38: Strojno planiranje posteljice prometnih površina na točnost +/- 2 cm, te guranje viška zemlje na udaljenost do 10 m. | E38: m2 | F38: 1769.34 | H38: =ROUND(F38*G38,2) -> 0
A40: 2.3. | B40: Sloj mehanički stabiliziranog zrnatog kamenog materijala debljine d=60 cm, bez veziva, u novoj kolničkoj konstrukciji. Stavka obuhvaća dobavu i ugradnju drobljenog kamenog materijala veličine zrna 0-63mm. Zahtijevi kakvoće su: stupanj zbijenosti Sz=100%, modul stišljivosti Ms=100 MN/m². Na potezu ugradnje lomljenog kamena geotekstil 400 g/m2 ojačati geomrežom 40/40.
B42: kamena posteljica 0-63mm | E42: m3 | F42: 1061.61 | H42: =ROUND(F42*G42,2) -> 0
B43: geomreža 40/40 | E43: m2 | F43: 1769.34 | H43: =ROUND(F43*G43,2) -> 0
B44: geotekstil 400 g/m2 | E44: m2 | F44: 1769.34 | H44: =ROUND(F44*G44,2) -> 0
A46: 2.4. | B46: Utovar viška iskopanog zemljanog materijala sa privremene deponije u kamione, odvoz na udaljenost od 2 km i razastiranje u slojevima do 30 cm. | E46: m3 | F46: =F36 -> 1238.54 | H46: =ROUND(F46*G46,2) -> 0
B48: UKUPNO ZEMLJANI RADOVI : | H48: =SUM(H36:H47) -> 0
A51: 3. | B51: BETONSKI RADOVI
A53: 3.1. | B53: Nabava i montaža betonskih rubnjaka za konstrukciju kolnika dimenzija 15x25x100 cm. Reške između rubnjaka ispuniti cementnim mortom 1:2. | E53: m' | F53: =(26.99+34.7+10+26.9+1.37+5.27+5.27+2.36)*1.2 -> 135.432 | H53: =ROUND(F53*G53,2) -> 0
A55: 3.2. | B55: Betoniranje podložnog sloja betonskih rubnjaka debljine 15 cm, betonom razreda čvrstoće C 30/37, spravljenog sa cementom CEM I ≥ 320 kg/m3, vodocementnim faktorom v/c< 0,5, maksimalnom frakcijom agregata 16 - 32 mm i količinom mikropora 3 - 5 %, koji zadovoljava uvjete razreda izloženosti XF3, i mora zadovoljiti uvjete otpornosti na djelovanje soli i mraza. U cijenu je uračunata nabava gotovog betona iz tvornice betona, prijevoz do mjesta ugradnje automješalicom s udaljenosti do 20 km, te strojna ugradnja betona s potrebnim prinašanjem kombiniranim strojem. | E55: m3 | F55: =135.43*0.15*0.25 -> 5.078625 | H55: =ROUND(F55*G55,2) -> 0
A57: 3.3. | B57: Betoniranje podložnog sloja polimer betonskih elemenata za odvodnju debljine 20 cm, betonom razreda čvrstoće C 30/37, spravljenog sa cementom CEM I ≥ 320 kg/m3, vodocementnim faktorom v/c< 0,5, maksimalnom frakcijom agregata 16 - 32 mm i količinom mikropora 3 - 5 %, koji zadovoljava uvjete razreda izloženosti XF3, i mora zadovoljiti uvjete otpornosti na djelovanje soli i mraza. U cijenu je uračunata nabava gotovog betona iz tvornice betona, prijevoz do mjesta ugradnje automješalicom s udaljenosti do 20 km, te strojna ugradnja betona s potrebnim prinašanjem kombiniranim strojem. | E57: m3 | F57: =(24.91+26.97)*0.2*0.6 -> 6.2256 | H57: =ROUND(F57*G57,2) -> 0
B59: UKUPNO BETONSKI RADOVI : | H59: =SUM(H53:H58) -> 0
A61: 4. | B61: ASFALTERSKI RADOVI
A63: 4.1. | B63: Nabava i ugradnja bitumeniziranog nosivog sloja BNS AC32 base za kolničku konstrukciju manipulativnih površina debljine sloja d =8,0 cm. | E63: m2 | F63: 1769.34 | H63: =ROUND(F63*G63,2) -> 0
A65: 4.2. | B65: Nabava i ugradnja habajućeg sloja od asfaltbetona AC 11 surf za kolničku konstrukciju manipulativnih površina debljine sloja d=4,0 cm. | E65: m2 | F65: 1769.34 | H65: =ROUND(F65*G65,2) -> 0
B67: UKUPNO ASFALTERSKI RADOVI : | H67: =SUM(H63:H66) -> 0
A69: 5. | B69: MONTAŽERSKI RADOVI
A72: 5.1. | B72: Dobava i montaža kanalica za linijsku odvodnju oborinskih voda, svjetla širina kanala je od 50 cm.
B73: kanalica | E73: m' | F73: 135.43 | H73: =ROUND(F73*G73,2) -> 0
B75: UKUPNO MONTAŽERSKI RADOVI : | H75: =SUM(H71:H74) -> 0
A77: 6. | B77: OSTALI RADOVI
...

Sheet 3.VODA
B5: REKAPITULACIJA VODOVODA I KANALIZACIJE
A7: 1. | B7: INSTALACIJA VODOVODA | D7: =F44 -> 0
A9: 2. | B9: KANALIZACIJA S KROVNIH POVRŠINA | D9: =F66 -> 0
A11: 3. | B11: KANALIZACIJA S PROMETNIH POVRŠINA | D11: =F84 -> 0
A13: 4. | B13: ZEMLJANI I GRAĐEVINSKI RADOVI | D13: =F107 -> 0
B16: UKUPNO : | C16: =SUM(D7:D15) -> 0
B17: PDV_25%: | D17: =C16*0.25 -> 0
B18: SVEUKUPNO | D18: =C16+D17 -> 0
A24: St. | B24: O P I S S T A V K E | C24: Jed. | D24: Kol. | E24: CIJENA | F24: IZNOS
C25: mj. | E25: (kn) | F25: (kn)
A27: 1. | B27: INSTALACIJA VODOVODA
A29: 1. | B29: Dobava i ugradnja vanjskih vodovodnih cijevi
B30: PEHD Ø25, sa svim potrebnim fazonskim i spojnim elementima i brtvenim materijalom, te izrada instalacije u zgradi prema priloženoj shemi. Cijevi zaštititi prema uputama iz tehničkog opisa | C30: m | D30: =(1.22+13.89+32.82+2)*1.2 -> 59.916 | F30: =D30*E30 -> 0
A32: 2. | B32: Dobava PEHD cijevi sa svim potrebnim fazonskim i spojnim elementima i brtvenim materijalom, te izrada instalacije u zgradi prema priloženoj shemi. Cijevi zaštititi prema uputama iz tehničkog opisa
B33: Ø25 (1") | C33: m | D33: =(0.57+3.85+1.93+1.5)*1.2 -> 9.42 | F33: =D33*E33 -> 0
A35: 3. | B35: Dobava i ugradnja zapornih ravnih ventila uzidne izvedbe sa kromiranom rozetom i kapicom, NO 25
C36: kom | D36: 2 | F36: =D36*E36 -> 0
A38: 4. | B38: Tlačna proba izvedene instalacije tlakom vode 10 bara
B39: u trajanju min. 10 sati. | C39: kom | D39: 1 | F39: =D39*E39 -> 0
A41: 5. | B41: Ispiranje i dezinfekcija vodovodne instalacije od strane ovlaštenog poduzeća i ispitivanje higijenske ispravnosti vode od ovlaštenog poduzeća.
C42: kom | D42: 1 | F42: =D42*E42 -> 0
B44: UKUPNO: | F44: =SUM(F29:F42) -> 0
A48: St. | B48: O P I S S T A V K E | C48: Jed. | D48: Kol. | E48: CIJENA | F48: IZNOS
C49: mj. | E49: (kn) | F49: (kn)
A51: 2. | B51: KANALIZACIJA S KROVNIH POVRŠINA
A53: 1. | B53: Dobava kanalizacijskih tvrdih PVC cijevi sa naglavnim spojevima i svim potrebnim fazonskim komadima, spojnim i brtvenim materijalom i izrada instalacije kanalizacije prema tlorisu.
B54: Komplet sa ovjesnim materijalom od čeličnih pocinčanih traka i obujmica.
B55: PVC f 110 | C55: m | D55: =(6*3.67)*1.2 -> 26.424 | F55: =D55*E55 -> 0
B56: PVC f 125 | C56: m | D56: =(47.65+1.97+34.81+3.69+46.14)*1.2 -> 161.112 | F56: =D56*E56 -> 0
A58: 2. | B58: Dobava i ugradnja cijevi za odvodnju krovne vode
B59: - ljevano željezo f125, višine 1,00 m od terena | C59: kom. | D59: 8 | F59: =D59*E59 -> 0
B60: vertikalni oluk ø 110 | C60: m | D60: =((4*6.14)+(4*12.14))*1.2 -> 87.744 | F60: =D60*E60 -> 0
B61: krovni oluk za prihvat oborinskih voda | C61: m | D61: =(41.23*2)*1.2 -> 98.952 | F61: =D61*E61 -> 0
A63: 3. | B63: Dobava materijala i izrada revizionog okna oborinske kanalizacije sa krovišta
B64: MB 25 u glatkoj oplati s vodonepropusnim vratima od čeličnog lima | C64: kom | D64: 2 | F64: =D64*E64 -> 0
B66: UKUPNO: | F66: =SUM(F55:F65) -> 0
A69: St. | B69: O P I S S T A V K E | C69: Jed. | D69: Kol. | E69: CIJENA | F69: IZNOS
C70: mj. | E70: (kn) | F70: (kn)
A72: 3. | B72: KANALIZACIJA S PROMETNIH POVRŠINA
B74: Nakon dovršene izgradnje obavezno je ispitivanje instalacije kanalizacije na nepropusnost prema tehničkim opisu, sa dovođenjem u ispravno stanje na mjestima propuštanja.
...

Sheet 4.ELEKTRO
A1: Red. broj | B1: V R S T A R A D O V A | C1: Jed. mjere | D1: Količina | E1: Jedinična cijena | F1: UKUPNO
B2: ELEKTROTEHNIČKE INSTALACIJE
B4: Troškovnikom se predviđa nabava potrebnog materijala, postavljanje kako je to navedeno u pojedinim stavkama, ispitivanje i puštanje u ispravan rad.
B6: E.1.1. ELEKTROINSTALACIJE
A8: 1. | B8: Demontaža postojećg transformatora snage 100 kVA te predaja na mjesto koje odredi investitor, uključivo isključivanje transformatorske stanice, odspajanje postojećih srednjenaponskih i niskonaponkih vodova, signalnih vodova | C8: kom
B9: - komplet | C9: kom | D9: 1 | F9: =D9*E9 -> 0
A11: 2. | B11: Nabava, isporuka, montaža i spajanje preklopivog energetskog transformatora nazivne snage 400 kVA, bez konzervatora, prijenosnog omjera 10(20)/0,4 kV, grupa spoja Dyn5, napon kratkog spoja uk=4%, ručne regulacije napona u beznaponskom stanju ±2,5 i ±5 %. Napon transformatora u praznim hodu 420V. | C11: kom
B12: - komplet | C12: kom | D12: 1 | F12: =D12*E12 -> 0
A14: 3. | B14: Dobava potrebnog materijala i alata za bušenje rova za polaganje kabela ispod prometnice. Bušenje rova izvesti specijalnom hidrauličnom bušilicom za istovremeno utiskivanje PEHD cijevi potrebnog promjera za ugradnju kabela. Stavkom je obuhvaćen iskop jame za bušaču garnituru, ugradnju PEHD cijevi, doprema materijala i alata, montaža bušilice, bušenje horizontalonog rova s utiskivanjem PEHD cijevi, demontaža bušilice te odvoz iste.
B15: – PEHD cijev Ø160 mm | C15: m¹ | D15: 28 | F15: =D15*E15 -> 0
A17: 4. | B17: Iskop i zatrpavanje rova za polaganje napojnog kabela. Rov mora biti širine 0,4 m1 i dubine 0,8 m1. Nakon polaganja kabela zatrpavanje izraditi u slojevima sa nabijanjem zemlje. U stavku uračunati odvoz viška materijala na deponiju. | C17: m3 | D17: 21 | F17: =D17*E17 -> 0
A19: 5. | B19: Nabava, isporuka i postavljanje plastične trake za upozorenje 40 cm iznad kabela. Na traci je potreban natpis “POZOR ENERGETSKI KABEL” | C19: m1 | D19: 20 | F19: =D19*E19 -> 0
A21: 6. | B21: Nabava, isporuka i postavljanje vinidurit štitnika za mehaničku zaštitu kabela. | C21: m1 | D21: 20 | F21: =D21*E21 -> 0
A23: 7. | B23: Nabava, isporuka i polaganje podzemnih kabela od KTS SPO-E, te od SPO-E do razdjelnice GR, kabel se polaže u već iskopani rov dnosno provlači kroz već položene cijevi, izrada završnica, spajanje i ispitivanje.
B24: – NA2XY-0 0,6/1 Kv 4x150 mm2 | C24: m1 | D24: 110 | F24: =D24*E24 -> 0
A26: 8. | B26: Nabava, isporuka i montaža razdjelnog ormara SPO-E. Ormar treba biti samostojeći, poliesterki,poliester ojačan staklenim vlaknima, antiplakatni, uključivo temeljna ploča i poliesterko postolje, IP55, klase zaštite I.. U ormar montirati slijedeću opremu:
B27: – prekidač snage 250A, 4p, 400/230V, 36 kA
B28: Prekidač mora biti opremljen:
B29: - Nadstrujnom zaštitnom jedinicom s dva stupnja zaštite: zaštita od preopterećenja i zaštita od kratkog spoja, s mogućnošću vremenskog zatezanja svakog pojedinog stupnja zasebno. Nadstrujna zaštita mora imati LSI karakteristiku isklapanja. Prekidač mora imati mogućnost daljinskog (poželjno automatskog) resetiranja nakon isklopa prekidača uslijed prorade zaštite.
B30: - najmanje dva pomoćna kontakta signalizacije položaja prekidača
B31: - pomoćnim kontaktom signalizacije prorade nadstrujne zaštite
B32: - elektromotornim pogonom 48 VDC
B33: - uklopnim i isklopnim svicima 48 VDC
B34: - isklopni svitak se mora napajati preko uređaja za besprekidno napajanje
B35: - raspon podešenja praga prorade IR u odnosu na nazivnu struju prekidača IN (minimalno): IR = 0.5-1 x IN
B36: - podesivost vremenskog člana tR: prema preporukama proizvođača
B37: - raspon podešenja praga prorade ISD u odnosu na podešenu vrijednost zaštite od preopterećenja IR (minimalno): ISD = 2-10 x IR
B38: - podesivost vremenskog člana tSD (minimalno): 0-0.3 s
... B47: Sve pristupačne dijelove pod naponom prekriti izolacijskom pločom sa kabelskim uvodnicama, rednim stezaljkama, Cu sabirnicama, spojnim vodom P/MJ odgovarajućeg presjeka i boje izolacije, natpisnim i upozornim pločicama, potrebnim materijalom za izradu i montažu te dokumentacijom za izradu i održavanje
B48: – komplet | C48: kom | D48: 1 | F48: =D48*E48 -> 0
A50: 9. | B50: Nabava, isporuka, montaža razdjelnog ormara GR. Ormar treba biti u limenoj izvedbi, samostojeći, klase zaštite I, s vratima i bravicom, stupnja zaštite min. IP44. U razdjelni ormar treba ugraditi: | C50: 3500 | D50: 1 | E50: =C50*D50 -> 3500
B51: – zaštitni prekidač, 250A, 3P, 690V, 50Hz, 25 kA, fiksni, sa podesivom termomagnetskom zaštitnom jedinicom nazivne vrijednosti 200A, uključivo okidač za daljinsko isklapanje, kom 1,00 | C51: 1000 | D51: 1 | E51: =C51*D51 -> 1000
B52: – zaštitni prekidač, 250A, 3P, 690V, 50Hz, 25 kA, fiksni, sa podesivom termomagnetskom zaštitnom jedinicom nazivne vrijednosti 160A, kom 3,00 | C52: 1000 | D52: 1 | E52: =C52*D52 -> 1000
B53: – zaštitni uređaj diferencijalne struje (FID) 40/4/0,03 A, kom 4,00 | C53: 350 | D53: 1 | E53: =C53*D53 -> 350
B54: – niskonaponski jednopolni automatski osigurač karakteristike C2A, kom 3,00 | C54: 25 | D54: 3 | E54: =C54*D54 -> 75
B55: – niskonaponski jednopolni automatski osigurač karakteristike B6A, kom 2,00 | C55: 25 | D55: 3 | E55: =C55*D55 -> 75
B56: – niskonaponski jednopolni automatski osigurač karakteristike B10A, kom 6,00 | C56: 20 | D56: 16 | E56: =C56*D56 -> 320
B57: – niskonaponski jednopolni automatski osigurač karakteristike B16A, kom 3,00 | C57: 20 | D57: 6 | E57: =C57*D57 -> 120
B58: – niskonaponski tropolni automatski osigurač karakteristike C10, kom 1,00 | C58: 150 | D58: 1 | E58: =C58*D58 -> 150
B59: – niskonaponski tropolni automatski osigurač karakteristike C50, kom 3,00 | C59: 150 | D59: 1 | E59: =C59*D59 -> 150
...

Sheet 5.TEHNOLOGIJA
B2: REKAPITULACIJA TEHNOLOGIJA
A4: 1. | B4: Proizvodna linija | D4: =F56 -> 0
A6: 2. | B6: Betonara | D6: =F74 -> 0
B10: UKUPNO : | C10: =SUM(D4:D9) -> 0
B11: PDV_25%: | D11: =C10*0.25 -> 0
B12: SVEUKUPNO | D12: =C10+D11 -> 0
A18: St. | B18: O P I S S T A V K E | C18: Jed. | D18: Kol. | E18: CIJENA | F18: IZNOS
C19: mj. | E19: (kn) | F19: (kn)
A21: 1. | B21: PROIZVODNA LINIJA -automat za izradu betonskih cijevi
A23: 1. | B23: Za potrebe proizvodnje proizvoda betonske galanterije u pogon će se instalirati automat za okrugla okna.
B24: Stroj će se sastojati od: uređaja za čišćenje i podmazivanje čeličnih prstenova, transportne trake, spremnika betona, distributera, prese, glave prese, unutarnjog kalupa dimenzija 600/1500, 800/1500, 1000/1500 i 1200/1500, pripadajućih vanjskih kalupa za definirani proizvodni asortiman, žiga, središnjeg vibratora i čelične palete.
B25: Tehničke karakteristike stroja:
B26: Svrha:
B27: *proizvodnja betonskih dijelova okna (konusnih dijelova, ravnih dijelova, ravnih dijelova sa stupaljkama i donjih dijelova okna sa ili bez plastične podnice)
B28: Mjere stroja:
B29: * max 2600x9000x10000 mm (osnova stroja)
B30: Težina osnovnog stroja:
B31: * max 20 t
B32: Napon priključka:
B33: * max 500 V
B34: Priključna snaga:
B35: * osnovni stroj: max 80kw
... B54: 1000 - 150kom
C55: kom | D55: 1 | F55: =D55*E55 -> 0
B56: UKUPNO: | F56: =F55 -> 0
A58: St. | B58: O P I S S T A V K E | C58: Jed. | D58: Kol. | E58: CIJENA | F58: IZNOS
C59: mj. | E59: (kn) | F59: (kn)
A60: 2. | B60: BETONARA
A61: 1.
B62: Predviđen je automatizirani proces proizvodnje betonske galanterije sa doziranjem agragata, cementa, vode i potrebnih aditiva u planetarni protustrujni mikser sa dodatnom opremom, te prijevoz/transport svježe proizvedene smjese betona pokretnom trakom do stroja-automata za proizvodnju okruglih cijevi (okana) i poklopaca šahtova.
B63: Betonara će se sastojati od:
B64: *SILOSI ZA CEMENT
B65: (2 silosa, svaki kapaciteta min 60 t; visina ispusta iz silosa 1200 mm; pužni transporter cca 10 m duljine, 2kom)
B66: *UREĐAJ ZA SERIJSKO DOZIRANJE I RAKOM ZA VAGANJE
B67: (kapacitet punjenja min 4 x 25m3/box; silosni donji dio s po 2 pneumatski upravljanog poklopca za doziranje za svaku frakciju; senzor za silosne poklopce otvori-zatvori; vibrator; traka za mjerenje 800 mm širine, HBM analogni dijelovi za vaganje; stabilna čelična konstrukcija; gumirani pogonski bubanj; pogon s min 2x7,5 kW motorom; stražnji zatezni bubanj s osovinom; gumirane donje role za vođenje, postranično upravljanje; gumirano skidanje trake; kosi postranični čelični lim; isključivanje za nuždu sa konopom)
B68: *PLANETARNA PROTUSTRUJNA MIJEŠALICA
B69: Uz uređaj a serijsko doziranje instalirati će se planetarna prostustrujna mješalica za beton. Kruta konstrukcija iz profiliranog čelika s platformom za miješalicu, osloncima za podupiranje i podnožjem. Podest sa obje strane mješalice sa limenim omotačem i rukohvatom. Stepenice za penjanje do miješalice širine 800 mm sa rukohvatom,
B70: (suho punjenje min L=1500; ispust/punjenje čvrstog betona min L=1000; pogon miksera max 45kW, pogon hidraulike min 2,2kW; zvijezde u mikseru 2 kom; lopatice u mikseru 2kom; pomoć pri pražnjenju 1 kom; otirač 1 kom)
C71: kom | D71: 1 | F71: =D71*E71 -> 0
B74: UKUPNO: | F74: =SUM(F62:F72) -> 0

Sheet REKAPITULACIJA
B3: REKAPITULACIJA:
B7: 1. Građevinski radovi | F7: ='1. HALA'!F149 -> 0
B9: 2. Manipulativna površina | F9: ='2.NISKOGRADNJA'!$E$12 -> 0
B11: 3. Vodovod i kanalizacija | F11: ='3.VODA'!$C$16 -> 0
B13: 4. Elektrotehnički radovi | F13: ='4.ELEKTRO'!$C$250 -> 0
B15: 5. Tehnologija | F15: ='5.TEHNOLOGIJA'!$C$10 -> 0
B18: UKUPNO: | F18: =SUM(F6:F16) -> 0
B20: PDV (25%): | F20: =0.25*F18 -> 0
B22: SVEUKUPNO: | F22: =F18+F20 -> 0
