Workbook

Sheet 1. HALA
A1: GRAĐEVINSKI RADOVI
A3: R.B. | B3: OPIS STAVKE | C3: J.M. | D3: KOL. | E3: J.C. | F3: UKUPNO
A4: 1. | B4: PRIPREMNI RADOVI
B6: Uređenje gradilišta Izvođač je dužan izvesti prema planu izvođenja radova koju je dužan dostaviti prije početka gradnje. Prilikom izrade sheme organizacije gradilišta predvidjeti: prostorije za svoje urede, osiguranje gradilišta ogradom ili drugim elementima za sigurnost ljudi te zaštitu prometa i objekata, postaviti natpisnu ploču, postaviti dovoljan broj skladišta, pomoćnih radnih prostorija, nadstrešnica, odrediti i urediti prometne i parkirališne površine za vozila, građevnu mehanizaciju i slično te opremu. Izvođač je dužan gradilište sa svim prostorijama i inventarom čistiti i održavati.
B7: Pripremni radovi i radovi na organizaciji gradilišta neće biti obračunati posebno, već su obuhvaćeni u ponudbenoj cijeni. Uključivo svi troškovi prijevoza i komunalne naknade deponije. Izvodi se po nalogu i odobrenju nadzornog inženjera.
A8: 1.1. | B8: Ravnanje terena te priprema za iskolčenje. | C8: m2 | D8: 2000 | F8: =SUM(D8*E8) -> 0
A9: 1.2. | B9: Geodetski radovi – iskolčenje svih potrebnih točaka, visina i osi tijekom gradnje. Izrada iskolčenja i elaborata iskolčenja od strane ovlaštenog geodeta. Stavka obuhvaća sve potrebne geodetske radnje od strane ovlaštenog geodeta. Iskolčenje objekta obuhvaća sva geodetska mjerenja kojima se podaci s projekta prenose na teren (vertikalno i horizontalno), obnavljanje i održavanje iskolčenih oznaka na terenu za sve vrijeme građenja. Elaborat iskolčenja potrebno je izraditi u skladu s Zakonom o gradnji, predati kao digitalnu snimku u .dwg formatu na CD-u uz tri (3) primjerka uvezanog elaborata. Obračun za komplet radova. | C9: kom | D9: 1 | F9: =SUM(D9*E9) -> 0
A10: 1.4. | B10: Uklanjanje zatečene manipulativne betonske obloge na parceli. Za debljinu ploče uzima se 20 cm. | C10: m3 | D10: 234.07 | F10: =SUM(D10*E10) -> 0
B12: 1. PRIPREMNI RADOVI UKUPNO: | F12: =SUM(F8:F10) -> 0
A15: 2. | B15: ZEMLJANI RADOVI
A17: 2.1. | B17: Skidanje sloja humusa prosječne debljine 30 cm, sa odlaganjem iskopanog humusa na stranu, te profiliranje i valjanje planuma. Obračun po m3 u sraslom stanju. Humus se iskopava isključivo strojno, ručno eventualno po potrebi, iskopani humus utovara na vozilo i odvozi na deponiju do 10km. Uključiti taksu za deponiju. | C17: m3 | D17: 385.68 | F17: =SUM(D17*E17) -> 0
A19: 2.2. | B19: Površinski iskop zemlje III i IV ktg. dubine 25 cm ispod zgrade sa odlaganjem iskopanog materijala na stranu. Otkopanim materijalom u završnoj fazi radova izvršiti humusiranje na mjestu zelenih površina. Iskop vršiti isključivo strojno, u cijenu uključiti utovar iskopanog materijala i prijevoz na gradilišnu deponiju. | C19: m3 | D19: 332.35 | F19: =SUM(D19*E19) -> 0
A21: 2.3. | B21: Široki iskopi u tlu III kategorije (80 % strojno, 20% ručno) za temeljne stope sa odlaganjem iskopanog materijala na stranu radi kasnije uporabe ili odvozom na privremenu deponiju na udaljenosti do 50 m. Obračun po m3 iskopanog materijala. Pokos građevinske jame zaštiti folijom kako bi se spriječilo ispiranje tla i kontakt pokosa s vodom. | C21: m3 | D21: 243.12 | F21: =SUM(D21*E21) -> 0
A23: 2.4. | B23: Široki iskopi u tlu III kategorije (80% strojno, 20% ručno) za temeljne trake širine 60 cm sa odlaganjem iskopanog materijala na stranu radi kasnije uporabe ili odvozom na privremenu deponiju na udaljenosti do 50 m. Obračun po m3 iskopanog materijala. | C23: m3 | D23: 74.52 | F23: =SUM(D23*E23) -> 0
A25: 2.5. | B25: Široki iskopi u tlu III kategorije (80% strojno, 20% ručno) za temeljne ploče sa odlaganjem iskopanog materijala na stranu radi kasnije uporabe ili odvozom na privremenu deponiju na udaljenosti do 50 m. Obračun po m3 iskopanog materijala. | C25: m3 | D25: 719.65 | F25: =SUM(D25*E25) -> 0
A27: 2.6. | B27: Ručno planiranje dna iskopa točnošću ± 2 cm o Ms = 20 MN/m2. U cijenu uključeno svo potrebno zbijanje i planiranje sukladno projektu. | C27: m2 | D27: 398.78 | F27: =SUM(D27*E27) -> 0
A29: 2.7. | B29: Ugradnja talpi
B30: Ugradnja, korištenje te vađenje čeličnih talpi duljine 12m. Stavka obuhvaća sve radove na dopremi talpi sa privremenog odlagališta te ugradnju do projektom tražene dubine korištenje do prestanka potrebe za talpama te vađenje talpi i odvoz sa utovarom talpi. | C30: m2 | D30: 1042.08 | F30: =SUM(D30*E30) -> 0
A32: 2.8. | B32: Crpljene podzemne vode iz građevinske jame
B33: Obračun po satu crpljenja vode | C33: h | D33: 300 | F33: =SUM(D33*E33) -> 0
A35: 2.9. | B35: Dobava, nasipanje, razastiranje i nabijanje tampon sloja šljunka d=10 cm ispod temeljnih stopa, temeljnih traka i temeljnih ploča. U cijeni uključeno nabijanje podloge odgovarajućom mehanizacijom do zbijenosti Me = 40 MN/m2. Obračun po m3 ugrađenog materijala u zbijenom stanju.
B36: Rad | C36: m3 | D36: 39.87 | F36: =SUM(D36*E36) -> 0
B37: Materijal | C37: m3 | D37: 39.87 | F37: =SUM(D37*E37) -> 0
A39: 2.10. | B39: Izrada donjeg nosivog sloja od mehanički zbijenog zrnatog kamenog materijala kontinuiranog granulometrijskog sastava 0/60mm min debljine d=60 cm ispod podne ploče, oko temelja nakon betoniranja. Kameni materijal ispod podne ploče uvaljati i zbiti na modul zbijenosti Mz = 80 MN/m2 . Obračun po m3 ugrađenog materijala u zbijenom stanju . | C39: m3 | D39: 734.65 | F39: =SUM(D39*E39) -> 0
B41: 2. ZEMLJANI RADOVI UKUPNO: | F41: =SUM(F17:F40) -> 0
A44: 3. | B44: BETONSKI I AB RADOVI
B46: Kod izvedbe betonskih i armirano betonskih radova treba se u svemu pridržavati postojećih propisa, standarda te statičkog proračuna. U cijenu radova Izvođač treba uključiti izradu projekta betona, sva potrebna ispitivanja betona i dokumentacija vezana na betonske i armirano-betonske radove potrebna za tehnički pregled građevine.
A47: 3.1. | B47: Izrada armirano betonskih temeljnih traka betonom C30/37 CX2 u odgovarajućoj oplati ili u iskopu dimenzija prema danom projektu. U temeljima pripremiti otvore za instalacije i postaviti temeljnu kanalizaciju. U cijeni je uključena izrada odnosno dobava i prijevoz betona, te strojna ugradba i njega sviježeg betona. Obračun po m3.
C48: m3 | D48: 44.8 | F48: =SUM(D48*E48) -> 0
A50: 3.2. | B50: Izrada armirano betonskih temeljnih stopa betonom C30/37 CX2 u odgovarajućoj oplati ili u iskopu dimenzija prema danom projektu. U temeljima pripremiti otvore za instalacije i postaviti temeljnu kanalizaciju. U cijeni je uključena izrada odnosno dobava i prijevoz betona, te strojna ugradba i njega sviježeg betona. Obračun po m3.
C51: m3 | D51: 118.74 | F51: =SUM(D51*E51) -> 0
A53: 3.3. | B53: Izrada armirano betonskih temeljnih ploča betonom C30/37 CX2 u odgovarajućoj oplati ili u iskopu dimenzija prema danom projektu s dodatkom za vodoneprospunost. U cijeni je uključena izrada odnosno dobava i prijevoz betona, te strojna ugradba i njega sviježeg betona. Obračun po m3.
C54: m3 | D54: 57.71 | F54: =SUM(D54*E54) -> 0
A56: 3.4. | B56: Izrada podložnog betona C30/37 u iskopu d=5 cm. U cijenu je uključena izrada odnosno dobava i prijevoz betona, te strojna ugradba i njega svježeg betona. Obračun po m3.
B57: pod | C57: m3 | D57: 78.78 | F57: =SUM(D57*E57) -> 0
B58: zid | C58: m3 | D58: 12.58 | F58: =SUM(D58*E58) -> 0
B59: opata | C59: m2 | D59: 72.57 | F59: =SUM(D59*E59) -> 0
A61: 3.5. | B61: Izrada armirano betonskih nadtemelja - AB zidova jame, betonom C30/37 CX2 u odgovarajućoj oplati ili u iskopu dimenzija prema danom projektu. U nadtemeljima pripremiti otvore za instalacije i postaviti temeljnu kanalizaciju. U cijeni je uključena izrada odnosno dobava i prijevoz betona, te strojna ugradba i njega sviježeg betona. Obračun po m3.
A62: a) | B62: Beton | C62: m3 | D62: 61.81 | F62: =SUM(D62*E62) -> 0
A63: b) | B63: Oplata | C63: m2 | D63: 72.57 | F63: =SUM(D63*E63) -> 0
A65: 3.6. | B65: Betoniranje a.b.podne ploče d=20 cm (d=30) betonom C 30/37 cx2 na prethodno izvedenom sloju materijala iz iskopa i kamenog nabačaja betonom C25/30, te odgovarajućom armaturnom mrežom danom u statičkom računu. U ploči predvidjeti otvore za instalacije. Stavkom obuhvatiti izradu dilatacija dubine do 1/3 debljine ploče i širine 1 cm u poljima veličine cca 500/455 sa ulaganjem trake polistirena u svježi beton . U st. uključeno spravljanje , dobava , ugradba i njega svježeg betona. Završna obrada površine jest posip kvarcnim pijeskom uz obradu helikopterom i treba ju uključiti u cijenu stavke.
A66: a) | B66: Beton | C66: m3 | D66: 240.25 | F66: =SUM(D66*E66) -> 0
A67: b) | B67: Oplata | C67: m2 | D67: 22.6 | F67: =SUM(D67*E67) -> 0
A69: 3.7. | B69: Betoniranje a.b. ploče za betonaru d=25cm betonom xC 30/37. U st. uključeno spravljanje , dobava , ugradba i njega svježeg betona. Stavka armature nije uračunata u cijenu.
A70: a) | B70: Beton | C70: m3 | D70: 9.47 | F70: =SUM(D70*E70) -> 0
A71: b) | B71: Oplata | C71: m2 | D71: 44.64 | F71: =SUM(D71*E71) -> 0
A73: 3.8. | B73: Dobava sitnozrnatog betona (veličina zrna 4-8 mm) C 30/37 i zaljevanje postavljenog i fiksiranog sidra i papučice stupa . | C73: m3 | D73: 2 | F73: =D73*E73 -> 0
B75: 3. BETONSKI I AB RADOVI UKUPNO: | F75: =SUM(F48:F73) -> 0
A78: 4. | B78: ARMIRAČKI RADOVI
B80: Za armaturni čelik Izvođač je dužan priložiti izjave o svojstvima. Prije betoniranja nadzorni inženjer za konstrukciju treba pregledati montiranu armaturu i upisom u građevinski dnevnik odobriti betoniranje. Ugradnja i savijanje armature u svemu prema statičkom proračunu i planovima armature.
A81: 4.1. | B81: Izrada i ugradnja armaturnih korpi od armaturnih šipki Ra 400/500
C82: kg | D82: =0.4*(D48+D51+D54+D57+D58+D62+D66+D70)*150 -> 37448.4 | F82: =SUM(D82*E82) -> 0
A83: 4.2. | B83: Sječenje i ugradnja armaturnih mreža MAG 500/560
C84: kg | D84: =0.6*(D48+D51+D54+D57+D58+D62+D66+D70)*150 -> 56172.6 | F84: =SUM(D84*E84) -> 0
B86: 4. ARMIRAČKI RADOVI UKUPNO: | F86: =SUM(F82:F84) -> 0
A90: 5. | B90: IZOLATERSKI RADOVI
B92: Dobava, doprema i ugradnja. Svi materijali za izolaciju trebaju odgovarati važećim tehničkim propisima. Materijal za izolaciju moraju odgovarati važećim standardima. U cijenu treba uračunati i sva testiranja izolacije na licu mjesta koja se rade po nalogu nadzornog inženjera. Takvo ispitivanje ne amnestira Izvođača od odgovornosti za nedostatke u garantnom roku. Ukoliko se za izolaciju upotrebljava materijal koji ne odgovara navedenim propisima Izvođač radova mora predočiti ateste i odrediti prema kojim su standardima izvršena ispitivanja.
A93: 5.1. | B93: Izvođenje hidroizolacije ispod AB podne ploče ekološkom jednoslojnom membranom na bazi bentonita. Hidroizolacijske membrane se slobodno polažu na pripremljenu tucaničku podlogu u skaldu s uputstvima proizvođača te se preklapaju preko temeljnih stopa i traka minimalno 10 cm. Hidroizolacija je debljine 6,4 mm (u suhom stanju) i sastoji se od min.4,80 kg bentonita po m2 između dva prošivena polipropilenska geotekstila (tkani i netkani). Rubovi membrana se preklapaju najmanje 10 cm, membrana treba prelaziti najmanje 30 cm ispred susjedne membrane, a rubovi trebaju biti odmaknuti najmanje 25 cm od najbližeg radnog prekida u betonu. Međusobni preklopi se osiguravaju klamanjem ili čavlićima sa rondelom. Mjesta prodora (npr. gromobranske instalacije) se brtve bentonitnom pastom, uz "zakrpu". Uglove i druga kritična mjesta dodatno ojačati granulama i "zakrpom". Izvoditelj treba imati radnike obučene za rad s materijalom. Obračun po m2 razvijene površine.
C94: m2 | D94: 1674.24 | F94: =SUM(D94*E94) -> 0
B96: 5. IZOLATERSKI RADOVI UKUPNO: | F96: =SUM(F93:F94) -> 0
A100: 6. | B100: KROVOPOKRIVAČKI I LIMARSKI RADOVI
A102: 6.1. | B102: Pokrivanje krovišta panelom sa svim spojnim sredstvima (trapezno profilirani pocinčani lim d=0,06 cm, lamelirana mineralna vuna d=12,0 cm, trapezno profilirani pocinčani lim d=0,06 cm.). U cijeni je sav potreban rad i materijal. | C102: m2 | D102: 1353.66 | F102: =SUM(D102*E102) -> 0
A104: 6.2. | B104: Izrada, dobava i montaža opšava sljemena od bojenog pocinčanog lima debljine 0,50 mm, razvijene šinine 600 mm. Osim sljemenog lima stavka obuhvaća podsljemenjak, sve brtve, gumice, toplinsku izolaciju spoja u sljemenu i spojna sredstva, odnosno sve elemente opšava sljemena po m' prema detalju proizvođača panela. | C104: m' | D104: 50 | F104: =SUM(D104*E104) -> 0
A106: 6.3. | B106: Izrada, dobava i montaža unutarnjih lajsni na spojevima krovnih i zidnih panela izrađeni od pocinčanog lima debljine 0,50 mm, razvijene širine 330 mm. Stavka obuhvaća sve brtve, gumice, toplinsku izolaciju, spojna sredstva, odnosno sve elemente potrebne za izradu do potpune gotovosti. | C106: m' | D106: 230 | F106: =SUM(D106*E106) -> 0
A108: 6.4. | B108: Izrada, dobava i montaža rubnih opšava krova (vjetarlajsne) od bojenog pocinčanog lima debljine 0,50 mm, razvijene širine 500 mm. U cijenu je uračunat i pribor za montažu. | C108: m' | D108: 131 | F108: =SUM(D108*E108) -> 0
A110: 6.5. | B110: Dobava i izrada fasadne obloge od aluminijskih zidnih termopanela s ispunom od kamene vune debljine d=10 cm . U cijeni je sav potreban rad i materijal. | C110: m2 | D110: 1820 | F110: =SUM(D110*E110) -> 0
A112: 6.6. | B112: Izrada, dobava i montaža opšava spoja zidnih panela i podne ploče od bojenog pocinčanog lima debljine 0,50 mm, razvijene širine 300 mm. U cijenu je uračunat i pribor za montažu. | C112: m' | D112: 165 | F112: =SUM(D112*E112) -> 0
A114: 6.7. | B114: Izrada, dobava i montaža opšava vertikalnih zidnih panela na spojevima i rubovima objekta izrađenih od bojenog pocinčanog lima debljine 0,50 mm, razvijene širine 400 mm. U cijenu je uračunat i pribor za montažu. | C114: m' | D114: 90 | F114: =SUM(D114*E114) -> 0
A116: 6.8. | B116: Izrada, dobava i montaža opšava spoja prozora, vrata i panela na vanjskoj strani objekta od bojenog pocinčanog lima debljine 0,50 mm, razvijene širine 300 mm. U cijenu je uračunat i pribor za montažu | C116: m' | D116: 370 | F116: =SUM(D116*E116) -> 0
B118: 6. KROVOPOKRIVAČKI I LIMARSKI RADOVI UKUPNO: | F118: =SUM(F102:F116) -> 0
A121: 7. | B121: BRAVARSKI RADOVI
B123: Svi radovi moraju biti izrađeni u skladu sa zahtjevima važećih standarda i u skladu sa uzancama zanata u građevinarstvu, te prema Tehničkom propisu za prozore i vrata Odluci o popisu normi bitnih za primjenu Tehničkog propisa za prozore i vrata, Tehničkom propisu o racionalnoj upotrebi energije i toplinskoj zaštiti u zgradama i prema podacima iz projekta. Svi bravarski radovi moraju se izvesti prema nacrtima, opisu troškovnika i uputama projektanta ili nadzornog inženjera. Izvođač radova dužan je dobaviti i montirati te u cijenu ukalkulirati sav potreban okov za besprijekornu upotrebu pojedinog bravarskog elementa bez obzira da li je u pojedinim stavkama sve iskazano.
B124: Sve mjere za stolariju obavezno kontrolirati na licu mjesta. Obratiti pažnju na čisoću ugradbe U cijenu po kom , odnosno po m2 za sve stavke stolarskih radova uračunati dobavu i ugradbu , sav potreban okov, ustakljenje IZO staklom i sve potrebne opšave. Sve stalo prema tehničkim uvjetima za stolarske radove .
B125: Ugradnja uključuje nabavu, dopremu , stolarsku ugradnju, stolarsko spajanje kod ugradnje složenijih stavki sa svim potrebnim pomoćnim materijalom i priborom ( pokrovne letvice, sidra,purpen, bitrax traka i dr. ).
A126: 7.1. | B126: Aluminijska stolarija se izvodi od profila sa prekinutim termičkim mostom. Ostakljenje se izvodi IZO staklom 6+12+6 mm - refleksija 20%. Okov unutar okvira sa svim sigurnosnim elementima.U cijenu uključiti sav potreban rad, pričvrsni , spojni materijal i dr. do pune gotovosti.
A127: a) | B127: rolo vrata 550/400 cm | C127: kom | D127: 1 | F127: =SUM(D127*E127) -> 0
A128: b) | B128: rolo vrata 600/750 cm | C128: kom | D128: 2 | F128: =SUM(D128*E128) -> 0
A129: c) | B129: dvokrilno otklopni prozor 450/100 | C129: kom | D129: 15 | F129: =SUM(D129*E129) -> 0
A130: d) | B130: dvokrilno otklopni prozor 500/100 | C130: kom | D130: 5 | F130: =SUM(D130*E130) -> 0
A131: e) | B131: rolo vrata 470/400 cm | C131: kom | D131: 1 | F131: =SUM(D131*E131) -> 0
A132: f) | B132: vrata 90/200 | C132: kom | D132: 3 | F132: =SUM(D132*E132) -> 0
A134: 7.2. | B134: Dobava, izrada i montaža nosive čelične konstrukcije koja se sastoji od dvostrešnih dvozglobnih portalnih okvira od IPE i HEA profila, sekundarnih nosača pokrova i vjetrovnih spregova, u svemu prema nacrtima i statičkom proračunu. Kvaliteta čelika S235 J2. U cijenu su uključeni, svi spojni elementi i zaštita od korozije bojanjem temeljnim i završnim premazom. NAPOMENA: U CIJENU NIJE URAČUNAT VATROOTPORNI PREMAZ
B135: SVEUKUPNO ČELIK: | C135: kg | D135: 61105 | F135: =SUM(D135*E135) -> 0
B137: 7. BRAVARSKI RADOVI UKUPNO: | F137: =SUM(F135,F127:F132) -> 0
B139: REKAPITULACIJA
A141: 1. | B141: PRIPREMNI RADOVI: | F141: =F12 -> 0
A142: 2. | B142: ZEMLJANI RADOVI: | F142: =F41 -> 0
A143: 3. | B143: BETONSKI I AB RADOVI: | F143: =F75 -> 0
A144: 4. | B144: ARMIRAČKI RADOVI: | F144: =F86 -> 0
A145: 5. | B145: IZOLATERSKI RADOVI: | F145: =F96 -> 0
A146: 6. | B146: KROVOPOKRIVAČKI I LIMARSKI RADOVI: | F146: =F118 -> 0
A147: 7. | B147: BRAVARSKI RADOVI: | F147: =F137 -> 0
A149: UKUPNO: | F149: =SUM(F141:F147) -> 0
A150: PDV 25%: | F150: =0.25*F149 -> 0
A151: SVEUKUPNO: | F151: =F149+F150 -> 0

Sheet 2.NISKOGRADNJA
B2: 2. TROŠKOVNIK IZGRADNJE PARKIRNE POVRŠINE
B3: REKAPITULACIJA GRAĐEVINSKIH RADOVA
A5: 1. | B5: PRIPREMNI RADOVI | F5: =H32 -> 0
A6: 2. | B6: ZEMLJANI RADOVI | F6: =H48 -> 0
A7: 3. | B7: BETONSKI RADOVI | F7: =H59 -> 0
A8: 4. | B8: ASFALTERSKI RADOVI | F8: =H67 -> 0
A9: 5. | B9: MONTAŽERSKI RADOVI | F9: =H75 -> 0
A10: 6. | B10: OSTALI RADOVI | F10: =H82 -> 0
B12: UKUPNO GRAĐEVINSKIH RADOVA | E12: =SUM(F5:F10) -> 0
B14: U CIJENE NIJE UKLJUČEN PDV (25%)
B21: GRAĐEVINSKI RADOVI | E21: jed. mjere | F21: količina | G21: jed. cijena | H21: ukupno
A23: 1. | B23: PRIPREMNI RADOVI
B25: Za sve radove treba primjenjivati tehničke propise i građevinske norme. Izvedba radova treba biti prema nacrtima, općim uvjetima i opisu radova, detaljima i prema pravilima struke. Moguća odstupanja treba prethodno dogovoriti s stručnim nadzorom i projektantom za svaku pojedinu situaciju. Svi nekvalitetni radovi imaju se otkloniti i zamijeniti ispravnim, bez bilo kakve odštete od strane investitora.
A26: 1.1. | B26: Iskolčenje prometnih površina i kanala oborinske odvodnje. Rad obuhvaća sve radove na snimanju, obilježavanju i lociranju elemenata iskolčenja situacijski i visinski upisivanjem oznaka i osiguranja. Stavkom je obuhvaćena i izrada elaborata iskolčenja sa prikazom svih objekata na trasi predmetnih građevina i drugim izvedbenim detaljima. Elaborat izraditi i predati nadzornom inženjeru prije početka radova. | E26: m2 | F26: =941+269+19+540.34 -> 1769.34 | H26: =ROUND(F26*G26,2) -> 0
A28: 1.2. | B28: Sječa šiblja i trnja f 3-5 cm (40%) i 5-10 cm (60%) sa skupljanjem na hrpe i paljenjem, gusto obraslo. | E28: m2 | F28: =1645.43+335.6-145.47 -> 1835.56 | H28: =ROUND(F28*G28,2) -> 0
A30: 1.3. | B30: Uređenje gradilišta i osiguranje nesmetanog odvijanja prometa vozila i pješaka. Stavka obuhvaća dovoz, postavljanje u pogonsko stanje, demontiranje i odvoz svih uređaja, postrojenja, pribora, građevinskih strojeva, transportnih sredstava, oplata, ukrućenja, uređaja opskrbe, prostorija za smještaj i rukovođenje radova opisanih projektom. Stavka nadalje obuhvaća i uređenje gradilišta i dovođenje u prvobitno stanje površina lokacija korištenih kao radne i skladišne površine. U ove radove ubraja se i obnova svih korištenih pristupa i cesta do lokacije gradilišta, korištenje privremenih deponija, priključaka vode i struje i sl. | E30: m2 | F30: 1769.34 | H30: =ROUND(F30*G30,2) -> 0
B32: UKUPNO PRIPREMNI RADOVI : | H32: =SUM(H26:H31) -> 0
A34: 2. | B34: ZEMLJANI RADOVI
A36: 2.1. | B36: Strojni široki iskop bagerom u zemljanom materijalu ''C'' kat., za potrebe uređenja posteljice prometnih površina, drenažnih rovova, otvorenih vodotoka i cijevnih propusta sve prema normalnim profilima i dubinama prema projektu. Iskopani materijal deponirati na privremenu deponiju prebacivanjem bagerom. | E36: m3 | F36: 1238.54 | H36: =ROUND(F36*G36,2) -> 0
A38: 2.2. | B38: Strojno planiranje posteljice prometnih površina na točnost +/- 2 cm, te guranje viška zemlje na udaljenost do 10 m. | E38: m2 | F38: 1769.34 | H38: =ROUND(F38*G38,2) -> 0
A40: 2.3. | B40: Sloj mehanički stabiliziranog zrnatog kamenog materijala debljine d=60 cm, bez veziva, u novoj kolničkoj konstrukciji. Stavka obuhvaća dobavu i ugradnju drobljenog kamenog materijala veličine zrna 0-63mm. Zahtijevi kakvoće su: stupanj zbijenosti Sz=100%, modul stišljivosti Ms=100 MN/m². Na potezu ugradnje lomljenog kamena geotekstil 400 g/m2 ojačati geomrežom 40/40.
B42: kamena posteljica 0-63mm | E42: m3 | F42: 1061.61 | H42: =ROUND(F42*G42,2) -> 0
B43: geomreža 40/40 | E43: m2 | F43: 1769.34 | H43: =ROUND(F43*G43,2) -> 0
B44: geotekstil 400 g/m2 | E44: m2 | F44: 1769.34 | H44: =ROUND(F44*G44,2) -> 0
A46: 2.4. | B46: Utovar viška iskopanog zemljanog materijala sa privremene deponije u kamione, odvoz na udaljenost od 2 km i razastiranje u slojevima do 30 cm. | E46: m3 | F46: =F36 -> 1238.54 | H46: =ROUND(F46*G46,2) -> 0
B48: UKUPNO ZEMLJANI RADOVI : | H48: =SUM(H36:H47) -> 0
A51: 3. | B51: BETONSKI RADOVI
A53: 3.1. | B53: Nabava i montaža betonskih rubnjaka za konstrukciju kolnika dimenzija 15x25x100 cm. Reške između rubnjaka ispuniti cementnim mortom 1:2. | E53: m' | F53: =(26.99+34.7+10+26.9+1.37+5.27+5.27+2.36)*1.2 -> 135.432 | H53: =ROUND(F53*G53,2) -> 0
A55: 3.2. | B55: Betoniranje podložnog sloja betonskih rubnjaka debljine 15 cm, betonom razreda čvrstoće C 30/37, spravljenog sa cementom CEM I ≥ 320 kg/m3, vodocementnim faktorom v/c< 0,5, maksimalnom frakcijom agregata 16 - 32 mm i količinom mikropora 3 - 5 %, koji zadovoljava uvjete razreda izloženosti XF3, i mora zadovoljiti uvjete otpornosti na djelovanje soli i mraza. U cijenu je uračunata nabava gotovog betona iz tvornice betona, prijevoz do mjesta ugradnje automješalicom s udaljenosti do 20 km, te strojna ugradnja betona s potrebnim prinašanjem kombiniranim strojem. | E55: m3 | F55: =135.43*0.15*0.25 -> 5.078625 | H55: =ROUND(F55*G55,2) -> 0
A57: 3.3. | B57: Betoniranje podložnog sloja polimer betonskih elemenata za odvodnju debljine 20 cm, betonom razreda čvrstoće C 30/37, spravljenog sa cementom CEM I ≥ 320 kg/m3, vodocementnim faktorom v/c< 0,5, maksimalnom frakcijom agregata 16 - 32 mm i količinom mikropora 3 - 5 %, koji zadovoljava uvjete razreda izloženosti XF3, i mora zadovoljiti uvjete otpornosti na djelovanje soli i mraza. U cijenu je uračunata nabava gotovog betona iz tvornice betona, prijevoz do mjesta ugradnje automješalicom s udaljenosti do 20 km, te strojna ugradnja betona s potrebnim prinašanjem kombiniranim strojem. | E57: m3 | F57: =(24.91+26.97)*0.2*0.6 -> 6.2256 | H57: =ROUND(F57*G57,2) -> 0
B59: UKUPNO BETONSKI RADOVI : | H59: =SUM(H53:H58) -> 0
A61: 4. | B61: ASFALTERSKI RADOVI
A63: 4.1. | B63: Nabava i ugradnja bitumeniziranog nosivog sloja BNS AC32 base za kolničku konstrukciju manipulativnih površina debljine sloja d =8,0 cm. | E63: m2 | F63: 1769.34 | H63: =ROUND(F63*G63,2) -> 0
A65: 4.2. | B65: Nabava i ugradnja habajućeg sloja od asfaltbetona AC 11 surf za kolničku konstrukciju manipulativnih površina debljine sloja d=4,0 cm. | E65: m2 | F65: 1769.34 | H65: =ROUND(F65*G65,2) -> 0
B67: UKUPNO ASFALTERSKI RADOVI : | H67: =SUM(H63:H66) -> 0
A69: 5. | B69: MONTAŽERSKI RADOVI
A72: 5.1. | B72: Dobava i montaža kanalica za linijsku odvodnju oborinskih voda, svjetla širina kanala je od 50 cm.
B73: kanalica | E73: m' | F73: 135.43 | H73: =ROUND(F73*G73,2) -> 0
B75: UKUPNO MONTAŽERSKI RADOVI : | H75: =SUM(H71:H74) -> 0
A77: 6. | B77: OSTALI RADOVI
A79: 6.1. | B79: Nabava materijala i izradu oznaka horizontalne signalizacije kolnika.
B80: puna crta, š=15 cm, bijela | E80: m' | F80: 80 | H80: =G80*F80 -> 0
B82: UKUPNO OSTALI RADOVI : | H82: =SUM(H79:H81) -> 0

Sheet 3.VODA
B5: REKAPITULACIJA VODOVODA I KANALIZACIJE
A7: 1. | B7: INSTALACIJA VODOVODA | D7: =F44 -> 0
A9: 2. | B9: KANALIZACIJA S KROVNIH POVRŠINA | D9: =F66 -> 0
A11: 3. | B11: KANALIZACIJA S PROMETNIH POVRŠINA | D11: =F84 -> 0
A13: 4. | B13: ZEMLJANI I GRAĐEVINSKI RADOVI | D13: =F107 -> 0
B16: UKUPNO : | C16: =SUM(D7:D15) -> 0
B17: PDV_25%: | D17: =C16*0.25 -> 0
B18: SVEUKUPNO | D18: =C16+D17 -> 0
A24: St. | B24: O P I S S T A V K E | C24: Jed. | D24: Kol. | E24: CIJENA | F24: IZNOS
C25: mj. | E25: (kn) | F25: (kn)
A27: 1. | B27: INSTALACIJA VODOVODA
A29: 1. | B29: Dobava i ugradnja vanjskih vodovodnih cijevi
B30: PEHD Ø25, sa svim potrebnim fazonskim i spojnim elementima i brtvenim materijalom, te izrada instalacije u zgradi prema priloženoj shemi. Cijevi zaštititi prema uputama iz tehničkog opisa | C30: m | D30: =(1.22+13.89+32.82+2)*1.2 -> 59.916 | F30: =D30*E30 -> 0
A32: 2. | B32: Dobava PEHD cijevi sa svim potrebnim fazonskim i spojnim elementima i brtvenim materijalom, te izrada instalacije u zgradi prema priloženoj shemi. Cijevi zaštititi prema uputama iz tehničkog opisa
B33: Ø25 (1") | C33: m | D33: =(0.57+3.85+1.93+1.5)*1.2 -> 9.42 | F33: =D33*E33 -> 0
A35: 3. | B35: Dobava i ugradnja zapornih ravnih ventila uzidne izvedbe sa kromiranom rozetom i kapicom, NO 25
C36: kom | D36: 2 | F36: =D36*E36 -> 0
A38: 4. | B38: Tlačna proba izvedene instalacije tlakom vode 10 bara
B39: u trajanju min. 10 sati. | C39: kom | D39: 1 | F39: =D39*E39 -> 0
A41: 5. | B41: Ispiranje i dezinfekcija vodovodne instalacije od strane ovlaštenog poduzeća i ispitivanje higijenske ispravnosti vode od ovlaštenog poduzeća.
C42: kom | D42: 1 | F42: =D42*E42 -> 0
B44: UKUPNO: | F44: =SUM(F29:F42) -> 0
A48: St. | B48: O P I S S T A V K E | C48: Jed. | D48: Kol. | E48: CIJENA | F48: IZNOS
C49: mj. | E49: (kn) | F49: (kn)
A51: 2. | B51: KANALIZACIJA S KROVNIH POVRŠINA
A53: 1. | B53: Dobava kanalizacijskih tvrdih PVC cijevi sa naglavnim spojevima i svim potrebnim fazonskim komadima, spojnim i brtvenim materijalom i izrada instalacije kanalizacije prema tlorisu.
B54: Komplet sa ovjesnim materijalom od čeličnih pocinčanih traka i obujmica.
B55: PVC f 110 | C55: m | D55: =(6*3.67)*1.2 -> 26.424 | F55: =D55*E55 -> 0
B56: PVC f 125 | C56: m | D56: =(47.65+1.97+34.81+3.69+46.14)*1.2 -> 161.112 | F56: =D56*E56 -> 0
A58: 2. | B58: Dobava i ugradnja cijevi za odvodnju krovne vode
B59: - ljevano željezo f125, višine 1,00 m od terena | C59: kom. | D59: 8 | F59: =D59*E59 -> 0
B60: vertikalni oluk ø 110 | C60: m | D60: =((4*6.14)+(4*12.14))*1.2 -> 87.744 | F60: =D60*E60 -> 0
B61: krovni oluk za prihvat oborinskih voda | C61: m | D61: =(41.23*2)*1.2 -> 98.952 | F61: =D61*E61 -> 0
A63: 3. | B63: Dobava materijala i izrada revizionog okna oborinske kanalizacije sa krovišta
B64: MB 25 u glatkoj oplati s vodonepropusnim vratima od čeličnog lima | C64: kom | D64: 2 | F64: =D64*E64 -> 0
B66: UKUPNO: | F66: =SUM(F55:F65) -> 0
A69: St. | B69: O P I S S T A V K E | C69: Jed. | D69: Kol. | E69: CIJENA | F69: IZNOS
C70: mj. | E70: (kn) | F70: (kn)
A72: 3. | B72: KANALIZACIJA S PROMETNIH POVRŠINA
B74: Nakon dovršene izgradnje obavezno je ispitivanje instalacije kanalizacije na nepropusnost prema tehničkim opisu, sa dovođenjem u ispravno stanje na mjestima propuštanja.
A75: 1. | B75: Dobava kanalizacijskih tvrdih PVC cijevi sa naglavnim spojevima i svim potrebnim fazonskim komadima, spojnim i brtvenim materijalom i izrada instalacije kanalizacije prema tlorisu.
B76: Komplet sa ovjesnim materijalom od čeličnih pocinčanih traka i obujmica.
B77: PVC f 125 | C77: m | D77: =(19.06+2.87)*1.2 -> 26.316 | F77: =D77*E77 -> 0
B78: PVC f 250 | C78: m | D78: =(3.25+2.67+57.48+9.05+21.49)*1.2 -> 112.728 | F78: =D78*E78 -> 0
A80: 2. | B80: Dobava i ugradnja revizijskog okna za prihvat oborinskih voda
B81: sa ljevanom željeznom rešetkom za prihvat oborinskih voda nosivosti 50 kN | C81: kom | D81: 5 | F81: =D81*E81 -> 0
B84: UKUPNO: | F84: =SUM(F75:F83) -> 0
A88: St. | B88: O P I S S T A V K E | C88: Jed. | D88: Kol. | E88: CIJENA | F88: IZNOS
C89: mj. | E89: (kn) | F89: (kn)
A91: 4. | B91: ZEMLJANI I GRAĐEVINSKI RADOVI
B93: Iskolčenje svih potrebnih točaka, visina i osi tijekom gradnje. Izrada iskolčenja i elaborata iskolčenja od strane ovlaštenog geodeta. Stavka obuhvaća sve potrebne geodetske radnje od strane ovlaštenog geodeta. Iskolčenje objekta obuhvaća sva geodetska mjerenja kojima se podaci s projekta prenose na teren (vertikalno i horizontalno), obnavljanje i održavanje iskolčenih oznaka na terenu za sve vrijeme građenja. Elaborat iskolčenja potrebno je izraditi u skladu s Zakonom o gradnji, predati kao digitalnu snimku u .dwg formatu na CD-u uz tri (3) primjerka uvezanog elaborata. Obračun za komplet radova.
A94: 1. | B94: Iskolčenje trase instalacije vode i kanalizacije. | C94: m | D94: =D55+D56+D77+D78 -> 326.58 | F94: =D94*E94 -> 0
A96: 2. | B96: Strojni iskop zemlje III kat. za rovove u koje se polažu vodovodne cijevi i planiranje dna
B97: rova sa potrebnim padom širina iskopa rova 0,6-0,8 m, dubina do 1,6 m. | C97: m³ | D97: =D94*0.8*1.6 -> 418.0224 | F97: =D97*E97 -> 0
A99: 3. | B99: Dobava i ugradnja podloge cijevi od riječnog pijeska debljine cca 10 cm, te zasipavanje cca 10 cm iznad cijevi | C99: m³ | D99: =D94*0.8*0.1 -> 26.1264 | F99: =D99*E99 -> 0
A101: 4. | B101: Zatrpavanje kanalskih rovova zemljom iz iskopa u slojevima cca 30 cm sa nabijanjem. | C101: m³ | D101: 311.45 | F101: =D101*E101 -> 0
A103: 5. | B103: Izrada i betoniranje pokrova, dna i zidova nepropusne sabirne septičke jame s taložnicom veličine V=25 m3 u jednostranoj oplati 40 m2, uključivo armaturu debljine stijenki 20 cm. Od betona MB 35 sa aditivima za nepropusnost i pripadajućom armaturom. Na jami izvesti penjalice te okno za pražnjenje i kontrolno okno. Dimenzije l x s x h =5,5x2,7x1,7 m | C103: kom. | D103: 1 | F103: =D103*E103 -> 0
A105: 6. | B105: Utovar, odvoz i istovar viška zemlje iz iskopa na deponiju udaljenosti do 15 km. | C105: m³ | D105: =D99+2.5+22.623+55.308 -> 106.5574 | F105: =D105*E105 -> 0
B107: UKUPNO: | F107: =SUM(F94:F106) -> 0

Sheet 4.ELEKTRO
A1: Red. broj | B1: V R S T A R A D O V A | C1: Jed. mjere | D1: Količina | E1: Jedinična cijena | F1: UKUPNO
B2: ELEKTROTEHNIČKE INSTALACIJE
B4: Troškovnikom se predviđa nabava potrebnog materijala, postavljanje kako je to navedeno u pojedinim stavkama, ispitivanje i puštanje u ispravan rad.
B6: E.1.1. ELEKTROINSTALACIJE
A8: 1. | B8: Demontaža postojećg transformatora snage 100 kVA te predaja na mjesto koje odredi investitor, uključivo isključivanje transformatorske stanice, odspajanje postojećih srednjenaponskih i niskonaponkih vodova, signalnih vodova | C8: kom
B9: - komplet | C9: kom | D9: 1 | F9: =D9*E9 -> 0
A11: 2. | B11: Nabava, isporuka, montaža i spajanje preklopivog energetskog transformatora nazivne snage 400 kVA, bez konzervatora, prijenosnog omjera 10(20)/0,4 kV, grupa spoja Dyn5, napon kratkog spoja uk=4%, ručne regulacije napona u beznaponskom stanju ±2,5 i ±5 %. Napon transformatora u praznim hodu 420V. | C11: kom
B12: - komplet | C12: kom | D12: 1 | F12: =D12*E12 -> 0
A14: 3. | B14: Dobava potrebnog materijala i alata za bušenje rova za polaganje kabela ispod prometnice. Bušenje rova izvesti specijalnom hidrauličnom bušilicom za istovremeno utiskivanje PEHD cijevi potrebnog promjera za ugradnju kabela. Stavkom je obuhvaćen iskop jame za bušaču garnituru, ugradnju PEHD cijevi, doprema materijala i alata, montaža bušilice, bušenje horizontalonog rova s utiskivanjem PEHD cijevi, demontaža bušilice te odvoz iste.
B15: – PEHD cijev Ø160 mm | C15: m¹ | D15: 28 | F15: =D15*E15 -> 0
A17: 4. | B17: Iskop i zatrpavanje rova za polaganje napojnog kabela. Rov mora biti širine 0,4 m1 i dubine 0,8 m1. Nakon polaganja kabela zatrpavanje izraditi u slojevima sa nabijanjem zemlje. U stavku uračunati odvoz viška materijala na deponiju. | C17: m3 | D17: 21 | F17: =D17*E17 -> 0
A19: 5. | B19: Nabava, isporuka i postavljanje plastične trake za upozorenje 40 cm iznad kabela. Na traci je potreban natpis “POZOR ENERGETSKI KABEL” | C19: m1 | D19: 20 | F19: =D19*E19 -> 0
A21: 6. | B21: Nabava, isporuka i postavljanje vinidurit štitnika za mehaničku zaštitu kabela. | C21: m1 | D21: 20 | F21: =D21*E21 -> 0
A23: 7. | B23: Nabava, isporuka i polaganje podzemnih kabela od KTS SPO-E, te od SPO-E do razdjelnice GR, kabel se polaže u već iskopani rov dnosno provlači kroz već položene cijevi, izrada završnica, spajanje i ispitivanje.
B24: – NA2XY-0 0,6/1 Kv 4x150 mm2 | C24: m1 | D24: 110 | F24: =D24*E24 -> 0
A26: 8. | B26: Nabava, isporuka i montaža razdjelnog ormara SPO-E. Ormar treba biti samostojeći, poliesterki,poliester ojačan staklenim vlaknima, antiplakatni, uključivo temeljna ploča i poliesterko postolje, IP55, klase zaštite I.. U ormar montirati slijedeću opremu:
B27: – prekidač snage 250A, 4p, 400/230V, 36 kA
B28: Prekidač mora biti opremljen:
B29: - Nadstrujnom zaštitnom jedinicom s dva stupnja zaštite: zaštita od preopterećenja i zaštita od kratkog spoja, s mogućnošću vremenskog zatezanja svakog pojedinog stupnja zasebno. Nadstrujna zaštita mora imati LSI karakteristiku isklapanja. Prekidač mora imati mogućnost daljinskog (poželjno automatskog) resetiranja nakon isklopa prekidača uslijed prorade zaštite.
B30: - najmanje dva pomoćna kontakta signalizacije položaja prekidača
B31: - pomoćnim kontaktom signalizacije prorade nadstrujne zaštite
B32: - elektromotornim pogonom 48 VDC
B33: - uklopnim i isklopnim svicima 48 VDC
B34: - isklopni svitak se mora napajati preko uređaja za besprekidno napajanje
B35: - raspon podešenja praga prorade IR u odnosu na nazivnu struju prekidača IN (minimalno): IR = 0.5-1 x IN
B36: - podesivost vremenskog člana tR: prema preporukama proizvođača
B37: - raspon podešenja praga prorade ISD u odnosu na podešenu vrijednost zaštite od preopterećenja IR (minimalno): ISD = 2-10 x IR
B38: - podesivost vremenskog člana tSD (minimalno): 0-0.3 s
... B47: Sve pristupačne dijelove pod naponom prekriti izolacijskom pločom sa kabelskim uvodnicama, rednim stezaljkama, Cu sabirnicama, spojnim vodom P/MJ odgovarajućeg presjeka i boje izolacije, natpisnim i upozornim pločicama, potrebnim materijalom za izradu i montažu te dokumentacijom za izradu i održavanje
B48: – komplet | C48: kom | D48: 1 | F48: =D48*E48 -> 0
A50: 9. | B50: Nabava, isporuka, montaža razdjelnog ormara GR. Ormar treba biti u limenoj izvedbi, samostojeći, klase zaštite I, s vratima i bravicom, stupnja zaštite min. IP44. U razdjelni ormar treba ugraditi: | C50: 3500 | D50: 1 | E50: =C50*D50 -> 3500
B51: – zaštitni prekidač, 250A, 3P, 690V, 50Hz, 25 kA, fiksni, sa podesivom termomagnetskom zaštitnom jedinicom nazivne vrijednosti 200A, uključivo okidač za daljinsko isklapanje, kom 1,00 | C51: 1000 | D51: 1 | E51: =C51*D51 -> 1000
B52: – zaštitni prekidač, 250A, 3P, 690V, 50Hz, 25 kA, fiksni, sa podesivom termomagnetskom zaštitnom jedinicom nazivne vrijednosti 160A, kom 3,00 | C52: 1000 | D52: 1 | E52: =C52*D52 -> 1000
B53: – zaštitni uređaj diferencijalne struje (FID) 40/4/0,03 A, kom 4,00 | C53: 350 | D53: 1 | E53: =C53*D53 -> 350
B54: – niskonaponski jednopolni automatski osigurač karakteristike C2A, kom 3,00 | C54: 25 | D54: 3 | E54: =C54*D54 -> 75
B55: – niskonaponski jednopolni automatski osigurač karakteristike B6A, kom 2,00 | C55: 25 | D55: 3 | E55: =C55*D55 -> 75
B56: – niskonaponski jednopolni automatski osigurač karakteristike B10A, kom 6,00 | C56: 20 | D56: 16 | E56: =C56*D56 -> 320
B57: – niskonaponski jednopolni automatski osigurač karakteristike B16A, kom 3,00 | C57: 20 | D57: 6 | E57: =C57*D57 -> 120
B58: – niskonaponski tropolni automatski osigurač karakteristike C10, kom 1,00 | C58: 150 | D58: 1 | E58: =C58*D58 -> 150
B59: – niskonaponski tropolni automatski osigurač karakteristike C50, kom 3,00 | C59: 150 | D59: 1 | E59: =C59*D59 -> 150
B60: – niskonaponski tropolni automatski osigurač karakteristike C80A, kom 1,00 | C60: 200 | D60: 1 | E60: =C60*D60 -> 200
B61: – sklopnik jednopolni (za rasvjetu), 20 A, ugradnja na šinu, kom 1,00, u shemi oznaka K1 | C61: 100 | D61: 5 | E61: =C61*D61 -> 500
B62: – minijaturni zaštitni prekidač C10A, 3P, 25 kA, ugradnja na šinu, kom 2,00, u shemi oznaka F9, F10 | C62: 100 | D62: 5 | E62: =C62*D62 -> 500
... B67: – katodni odvodnici prenapona, Typ I+II 40 kA, 400V, 3P+N, ili jednakovrijedan, kom 1,00 | C67: 500 | D67: 1 | E67: =C67*D67 -> 500
B68: – sabirnice, uvodnice, spojni materijal, oznake i dr., komplet, kom 1,00 | E68: =C68*D68 -> 0
B69: Na vrata razdjelnice ugraditi: | E69: =C69*D69 -> 0
B70: – lampice za ugradnju na vrata, transparent 230V, kom 3,00 | C70: 150 | D70: 1 | E70: =C70*D70 -> 150
B71: – grebenastu sklopku 0-1-2, jednopolna, 230V, 10A, tip kao GN10-251-U Končar, u shemi oznaka Q5,Q6, kom 1,00 | C71: 150 | D71: 1 | E71: =C71*D71 -> 150
B72: – grebenastu sklopku 1-0-2, jednopolna, 230V, 10A, tip kao GN10-51-U, u shemi oznaka Q7, kom 1,00 | C72: 150 | D72: 1 | E72: =C72*D72 -> 150
B73: Sve pristupačne dijelove pod naponom prekriti izolacijskom pločom. Ormar opremiti kabelskim uvodnicama, rednim stezaljkama, Cu sabirnicama, spojnim vodovima P/MJ odgovarajućeg presjeka i boje izolacije, natpisnim i upozornim pločicama, potrebnim materijalom za izradu i montažu te dokumentacijom za izradu i održavanje | E73: =SUM(E50:E72) -> 11090
B74: – komplet | C74: kom | D74: 1 | F74: =D74*E74 -> 0
A77: 10. | B77: Nabava, isporuka, montaža i spajanje uređaja za kompenzaciju jalove energije, uključivo ormar za smještaj opreme, sa slijedećim karakteristikama:
B78: – automatski neprigušeni kompenzacijski uređaj za kompenzaciju jalove energije u mrežama s malim udjelom viših harmonika, snage 100 kVAR, nazivnog napona 400V 50 HZ, broj i snaga stupnjeva 4x25, sekvenca 1:1:1:1, Umax = Un +10%, Imax= In*1,3,; tolerancija kapaciteta -5%/+10%. | C78: kom | D78: 1 | F78: =D78*E78 -> 0
A80: 11. | B80: Nabava, isporuka, montaža i spajanje svijetiljki:
B81: – Reflektor LED svjetiljka za vanjsku rasvjetu aluminijskog kućišta, asimetrična optika, temperature boje izvora svjetlosti 4000K, Ra>75, snage max 38W (LED izvor + driver), efektivni svjetlosni tok ili svjetlosni tok svjetiljke s uračunatim gubicima u optičkom sustavu minimalno 16000lm, životni vijek Led modula L80B10 50.000 radnih sati uz 80% održavanja inicijalnog svjetlosnog toka, integrirana prenaponska zaštita od 10kV, zaštita IP65, IK08, u shemama oznaka A1 | C81: kom | D81: 2 | F81: =D81*E81 -> 0
B82: – Svjetiljka nadgradna, LED izvor svjetlosti, kućište od polikarbonata, optički pokrov od polikarbonata, inox kopče, širokosnopna optika (VWB), efektivni svjetlosni tok ili svjetlosni tok svjetiljke s uračunatim gubicima u optičkom sustavu minimalno 8000 lm, snaga sistema max 58W (LED izvor + driver), ukupna svjetlosna iskoristivost svjetiljke min 137 lm/W, Ra≥80, životni vijek L80B50≥50.000h, temperatura boje svjetlosti 4000K, temperaturno radno područje -25 °C do +45 °C, zaštita od zaprljanja IP66, mehanička zaštita IK08, u nacrtima oznaka A2 | C82: kom | D82: 14 | F82: =D82*E82 -> 0
B83: – Svjetiljka nadgradna, LED izvor svjetlosti, kućište od polikarbonata, optički pokrov od polikarbonata, inox kopče, širokosnopna optika (VWB), efektivni svjetlosni tok ili svjetlosni tok svjetiljke s uračunatim gubicima u optičkom sustavu minimalno 3500 lm, snaga sistema max 25W (LED izvor + driver), ukupna svjetlosna iskoristivost svjetiljke min 140 lm/W, Ra≥80, životni vijek L80B50≥50.000h, temperatura boje svjetlosti 4000K, temperaturno radno područje -25 °C do +45 °C, zaštita od zaprljanja IP66, mehanička zaštita IK08, u shemama oznaka A3 | C83: kom | D83: 20 | F83: =D83*E83 -> 0
B84: – Svjetiljka nadgradna, LED izvor svjetlosti, plastično kućište, difuzor od polikarbonata, efektivni svjetosni tok ili svjetlosni tok svjetiljke s uračunatim gubicima u optičkom sustavu minimalno 2930lm, snaga sistema max 27W (LED izvor+driver), ukupna svjetlosna iskoristivost svjetiljke min 108 lm/W, uzvrata boje Ra≥80, temperatura boje svjetlosti 4000K, zaštita od zaprljanja IP54, mehanička zaštita IK10, životni vijek L80B20≥50000h, rad na temperaturi okoline +35 °C, u shemama oznaka A4 | C84: kom | D84: 2 | F84: =D84*E84 -> 0
B85: – Reflektor LED svjetiljka za vanjsku rasvjetu aluminijskog kućišta, asimetrična optika, temperature boje izvora svjetlosti 4000K, Ra>75, snaga sistema max 27W (LED izvor+driver) 38W, efektivni svjetosni tok ili svjetlosni tok svjetiljke s uračunatim gubicima u optičkom sustavu minimalno 4200lm, životni vijek Led modula L80B10 50.000 radnih sati uz 80% održavanja inicijalnog svjetlosnog toka, integrirana prenaponska zaštita od 10kV, zaštita IP65, IK08, u shemama oznaka A5 | C85: kom | D85: 4 | F85: =D85*E85 -> 0
B86: – Nadgradna svjetiljka sigurnosne rasvjete, izvor LED min 360lm, 240V, 50Hz, 3W, simetrična optika, autonomija 3h, pripravni spoj, s polikarbonatnim kućištem, LED indikacija rada na mreži i na ugrađenoj bateriji, ugrađen elektronički sklop koji štiti od potpunog pražnjenja baterije, zaštita od zaprljanja IP65,u shemama oznaka P1 | C86: kom | D86: 9 | F86: =D86*E86 -> 0
B87: – Nadgradna svjetiljka sigurnosne rasvjete za osvjetljavanje piktograma, izvor LED, 240V, 50Hz, 1W, autonomija 3h, stalni spoj, s polikarbonatnim kućištem, LED indikacija rada na mreži i na ugrađenoj bateriji, ugrađen elektronički sklop koji štiti od potpunog pražnjenja baterije, zaštita od zaprljanja IP65,u shemama oznaka P2 | C87: kom | D87: 3 | F87: =D87*E87 -> 0
A89: 12. | B89: Nabava, isporuka i ugradnja protupožarnih tipkala Jpr-10. | C89: kom | D89: 2 | F89: =D89*E89 -> 0
A91: 13. | B91: Nabava, isporuka voda, razvodnih i montažnih OG kutija, odstojnih obujmica, komplet potrebnog instalacijskog materijala, obilježavanje linija, polaganje voda, uvlačenje u već položene cijevi, na obujmice, izrada završnica, spajanje i ispitivanje:
B92: - NYM-J 3x1,5 mm2 | C92: m1 | D92: 240 | F92: =D92*E92 -> 0
B93: - NYM-J 4x1,5 mm2 | C93: m1 | D93: 200 | F93: =D93*E93 -> 0
B94: - NYY 2x2,5 mm2 | C94: m1 | D94: 5 | F94: =D94*E94 -> 0
B95: - NYY-J 5x2,5 mm2 | C95: m1 | D95: 5 | F95: =D95*E95 -> 0
B96: - NYY-J 5x6 mm2 | C96: m1 | D96: 120 | F96: =D96*E96 -> 0
B97: - NYY-J 3x1,5 mm2 | C97: m1 | D97: 180 | F97: =D97*E97 -> 0
B98: - FG7R 1x95 mm2 | C98: m1 | D98: 40 | F98: =D98*E98 -> 0
B99: - H07V-K 1x50 mm2 | C99: m1 | D99: 25 | F99: =D99*E99 -> 0
B100: - NYY 4x95 mm2 | C100: m1 | D100: 25 | F100: =D100*E100 -> 0
B101: - H07V-K 1x6 mm2 | C101: m1 | D101: 10 | F101: =D101*E101 -> 0
A103: 14. | B103: Nabava i isporuka savitljivih tvrdih plastičnih cijevi, polaganje nadžbukno, uključivo odstojne obujmice i pričvrsni pribor:
B104: – tvrda plastična cijev 16 mm (unutarnji promjer) | C104: m1 | D104: 250 | F104: =D104*E104 -> 0
B105: – tvrda plastična cijev 29 mm (unutarnji promjer) | C105: m1 | D105: 50 | F105: =D105*E105 -> 0
A107: 15. | B107: Nabava, isporuka, montaža na zid i spajanje mikroinstalacijskog materijala, zaštite od prašine i prskajuće vode (IP44)
B108: – izmjenična sklopka 10A, 250V | C108: kom | D108: 2 | F108: =D108*E108 -> 0
A110: 16. | B110: Nabava, isporuka, montaža i spajanje mikroinstalacijskog materijala - set industrijskih priključnica u zajedničkom kućištu, sa zaštitom od prašine i prskajuće vode (min. IP44), modularni sustav koji sadrži slijedeće elemente:
B111: – baza za prednju ploču 12 modula, kom 1,00
B112: – prednja ploča za 1x16(32)A priključnicu, kom 1,00
B113: – prednja ploča za 2x16A priključnicu, kom 1,00
B114: – niskonaponski tropolni automatski osigurač karakteristike C16A, kom 1,00
B115: – niskonaponski jednopolni automatski osigurač karakteristike C16A, kom 2,00
B116: – trofazna priključnica 16A za montažu na panel, industrijska, s poklopcem, N+PE, kom 1,00
B117: – jednofazna priključnica 16A šuko za montažu na panel, s poklopcem, N+PE, kom 2,00
B118: – komplet | C118: kom | D118: 5 | F118: =D118*E118 -> 0
A120: 17. | B120: Nabava, isporuka i ugradnja perforiranih metalnih kanalica ugradnja dijelom na zid, dijelom ovjesiti na stropnu konstrukciju hale, uključivo poklopci, nosači, konzole i sav sitni materijal.
B121: – kanal 200/60+poklopac | C121: m1 | D121: 20 | F121: =D121*E121 -> 0
B122: – kanal 100/60+poklopac | C122: m1 | D122: 30 | F122: =D122*E122 -> 0
B123: – kanal 50/30+poklopac | C123: m1 | D123: 100 | F123: =D123*E123 -> 0
A125: 18. | B125: Dobava, isporuka i ugradnja svog sitnog neimenovanog materijala (kao što su oznake, prijelazne kutije i dr.) do potpunog kompletiranja instalacije
B126: – komplet | C126: kom | D126: 1 | F126: =D126*E126 -> 0
A128: 19. | B128: Ispitivanje instalacije sa izradom protokola o mjerenju
B129: – komplet | C129: kom | D129: 1 | F129: =D129*E129 -> 0
B130: UKUPNO 1.1.: | F130: =SUM(F8:F129) -> 0
B132: 1.2 INSTALACIJE SUNČANE ELEKTRANE
A134: 1. | B134: Nabava, isporuka i ugradnja:
B135: - polikristalni fotonaponski modul minimalne nominalne snage 280W (+5W/-0W), 6x10 monokristalnih ćelija, s bypass diodama, IP67, težina do 18,8 kg, efikasnost ≥ 16,8
B136: - komplet | C136: kom | D136: 187 | F136: =D136*E136 -> 0
...

Sheet 5.TEHNOLOGIJA
B2: REKAPITULACIJA TEHNOLOGIJA
A4: 1. | B4: Proizvodna linija | D4: =F56 -> 0
A6: 2. | B6: Betonara | D6: =F74 -> 0
B10: UKUPNO : | C10: =SUM(D4:D9) -> 0
B11: PDV_25%: | D11: =C10*0.25 -> 0
B12: SVEUKUPNO | D12: =C10+D11 -> 0
A18: St. | B18: O P I S S T A V K E | C18: Jed. | D18: Kol. | E18: CIJENA | F18: IZNOS
C19: mj. | E19: (kn) | F19: (kn)
A21: 1. | B21: PROIZVODNA LINIJA -automat za izradu betonskih cijevi
A23: 1. | B23: Za potrebe proizvodnje proizvoda betonske galanterije u pogon će se instalirati automat za okrugla okna.
B24: Stroj će se sastojati od: uređaja za čišćenje i podmazivanje čeličnih prstenova, transportne trake, spremnika betona, distributera, prese, glave prese, unutarnjog kalupa dimenzija 600/1500, 800/1500, 1000/1500 i 1200/1500, pripadajućih vanjskih kalupa za definirani proizvodni asortiman, žiga, središnjeg vibratora i čelične palete.
B25: Tehničke karakteristike stroja:
B26: Svrha:
B27: *proizvodnja betonskih dijelova okna (konusnih dijelova, ravnih dijelova, ravnih dijelova sa stupaljkama i donjih dijelova okna sa ili bez plastične podnice)
B28: Mjere stroja:
B29: * max 2600x9000x10000 mm (osnova stroja)
B30: Težina osnovnog stroja:
B31: * max 20 t
B32: Napon priključka:
B33: * max 500 V
B34: Priključna snaga:
B35: * osnovni stroj: max 80kw
... B54: 1000 - 150kom
C55: kom | D55: 1 | F55: =D55*E55 -> 0
B56: UKUPNO: | F56: =F55 -> 0
A58: St. | B58: O P I S S T A V K E | C58: Jed. | D58: Kol. | E58: CIJENA | F58: IZNOS
C59: mj. | E59: (kn) | F59: (kn)
A60: 2. | B60: BETONARA
A61: 1.
B62: Predviđen je automatizirani proces proizvodnje betonske galanterije sa doziranjem agragata, cementa, vode i potrebnih aditiva u planetarni protustrujni mikser sa dodatnom opremom, te prijevoz/transport svježe proizvedene smjese betona pokretnom trakom do stroja-automata za proizvodnju okruglih cijevi (okana) i poklopaca šahtova.
B63: Betonara će se sastojati od:
B64: *SILOSI ZA CEMENT
B65: (2 silosa, svaki kapaciteta min 60 t; visina ispusta iz silosa 1200 mm; pužni transporter cca 10 m duljine, 2kom)
B66: *UREĐAJ ZA SERIJSKO DOZIRANJE I RAKOM ZA VAGANJE
B67: (kapacitet punjenja min 4 x 25m3/box; silosni donji dio s po 2 pneumatski upravljanog poklopca za doziranje za svaku frakciju; senzor za silosne poklopce otvori-zatvori; vibrator; traka za mjerenje 800 mm širine, HBM analogni dijelovi za vaganje; stabilna čelična konstrukcija; gumirani pogonski bubanj; pogon s min 2x7,5 kW motorom; stražnji zatezni bubanj s osovinom; gumirane donje role za vođenje, postranično upravljanje; gumirano skidanje trake; kosi postranični čelični lim; isključivanje za nuždu sa konopom)
B68: *PLANETARNA PROTUSTRUJNA MIJEŠALICA
B69: Uz uređaj a serijsko doziranje instalirati će se planetarna prostustrujna mješalica za beton. Kruta konstrukcija iz profiliranog čelika s platformom za miješalicu, osloncima za podupiranje i podnožjem. Podest sa obje strane mješalice sa limenim omotačem i rukohvatom. Stepenice za penjanje do miješalice širine 800 mm sa rukohvatom,
B70: (suho punjenje min L=1500; ispust/punjenje čvrstog betona min L=1000; pogon miksera max 45kW, pogon hidraulike min 2,2kW; zvijezde u mikseru 2 kom; lopatice u mikseru 2kom; pomoć pri pražnjenju 1 kom; otirač 1 kom)
C71: kom | D71: 1 | F71: =D71*E71 -> 0
B74: UKUPNO: | F74: =SUM(F62:F72) -> 0

Sheet REKAPITULACIJA
B3: REKAPITULACIJA:
B7: 1. Građevinski radovi | F7: ='1. HALA'!F149 -> 0
B9: 2. Manipulativna površina | F9: ='2.NISKOGRADNJA'!$E$12 -> 0
B11: 3. Vodovod i kanalizacija | F11: ='3.VODA'!$C$16 -> 0
B13: 4. Elektrotehnički radovi | F13: ='4.ELEKTRO'!$C$250 -> 0
B15: 5. Tehnologija | F15: ='5.TEHNOLOGIJA'!$C$10 -> 0
B18: UKUPNO: | F18: =SUM(F6:F16) -> 0
B20: PDV (25%): | F20: =0.25*F18 -> 0
B22: SVEUKUPNO: | F22: =F18+F20 -> 0
