Workbook

Sheet Troškovnik
A1: SUNČANA ELEKTRANA MARLEX 2
A7: POSEBNI TEHNIČKI UVJETI Ugovor za izradu instalacija sklapa se temeljem troškovnika izrađenog prema ovom projektu, a u skladu sa važećim propisima. Cijenom pojedine stavke troškovnika izvoditelj je dužan obuhvatiti izradu instalacije prema troškovniku, tehničkom opisu, nacrtima i ovim uvjetima. U cijenu je dužan uračunati: • cijenu rada i materijala za izradu instalacije opisane stavkom • transportne i troškove uskladištenja materijala • dnevnice, terenske dodatke, troškove osiguranja i sl. • troškove pribavljanja atestne dokumentacije i dokaza kakvoće upotrebljenog materijala • troškove ispitivanja instalacije • troškove izrade projektne dokumentacije izvedenog stanja. Kakvoća ugrađenog materijala treba udovoljavati zahtjeve hrvatskih normi, odnosno stranih, ako isti ne postoje u okviru hrvatskih. Radove treba izvesti u skladu s važećim, zakonima, propisima i pravilnicima, savjesno, uredno i prema pravilima struke i zanata. Radi normalnog odvijanja radova investitor je dužan osigurati prostorije za smještaj alata i materijala izvoditelja, ako ugovorom o gradnji nije drugačije dogovoreno, te osigurati radnu snagu za transport teških predmeta, probijanja većih proboja, izgradnju velikih konzola i pričvrsnika i slično, a što nije obuhvaćeno troškovnikom i pojavilo se kao potreba uslijed specifičnosti gradilišta. Iste radove može izvesti i izvoditelj uz posebnu naknadu. Svaka stavka svjetiljaka podrazumjeva njenu dobavu, montažu i spajanje na podlogu. Način montaže ako nije dan posebnim detaljem, podrazumjeva montažu na način koji određuje isporučitelj svjetiljke. Izvoditelj je dužan montažu izvesti tako da se postigne njen stabilan i čvrst položaj i nakon višestruke izmjene sijalica ili dijelova, koji se uporabom normalno troše.
A8: Svakom stavkom razdjelnice obuhvaćena je nabava specificiranog materijala prema stavci troškovnika, izrada razdjelnice u skladu sa važećim propisima i tehničkim opisom, dobava razdjelnice na gradilište, montaža na način opisan u tehničkom opisu, te spajanje svih dolaznih i odlaznih kabela.
A9: Ovisno o tipu i izvedbi, razdjelnicu treba obojiti temeljnom i dekorativnom bojom, izraditi i postaviti oznake elemenata razdjelnice u skladu sa jednopolnom shemom i tehničkim opisom, predvidjeti sitni spojni materijal, plastične kanale, nosač rednih stezaljki, vodiče za ožičenje glavnih i pomoćnih strujnih krugova, natpis o prisutnosti napona prema hrvatskim normama, natpis sa nazivom razdjelnice, natpisne pločice iznad komandno-signalnih elemenata, jednopolnu i strujnu shemu zaštićenu crnim koricama i plastičnom folijom. Sve oznake na razdjelnici trebaju biti izrađene na način koji osigurava trajnu čitljivost teksta i prijamljivost pločice. Razdjelnice treba ispitati glede ispravnosti montaže i funkcionalnosti svakog elementa ponaosob i čitave razdjelnice kao jedne funkcionalne cjeline.
A10: Nakon završetka svih radova izvoditelj je dužan provesti sva potrebna mjerenja, a posebno: - izolacijski otpor električne instalacije - neprekinutost zaštitnog vodiča - otpor uzemljenja i o tome sastaviti pismeno izvješće.
B13: NAPOMENA:
B14: 1) Svaka stavka troškovnika podrazumijeva dobavu, montažu tj. ugradnju i spajanje, te dovođenje u stanje pune pogonske funkcionalnosti, osim ako u stavci nije posebno opisan obuhvat posla. 2) U cijenu također ukalkulirati sav potreban spojni, montažni i ostali materijal. Primijeniti najnovije važeće propise i hrvatske norme za pojedine vrste instalacije. Tipovi opreme navedeni su u troškovniku.
B15: 3) Zahtjevi definirani tehničkim specifikacijama predstavljaju minimalne tehničke karakteristike koje ponuđena roba mora zadovoljavati. Kod svih stavki gdje se navodi određen naziv i/ili model (tip) proizvoda i/ili proizvođač, moguće je nuditi jednakovrijedan proizvod. U slučaju nuđenja jednakovrijednog proizvoda u odnosu na navedeni, ponuditelj je dužan dokazati jednakovrijednost tehničkih karakteristika tog proizvoda bilo kojim prikladnim sredstvom koji se prilaže uz ponudu. Ponuditelj OBAVEZNO POPUNJAVA stupac "Ponuđene specifikacije" upisujući točne karakteristike ponuđene robe sukladno traženim specifikacijama, izbjegavajući pri tome popunjavanje stupca samo riječima kao što su npr. "zadovoljava", "DA" ili "odgovara traženom".
A16: Rd.br. | B16: Opis stavke | E16: Jed.mj. | F16: Kol. | G16: Jed. cijena (HRK) | H16: Iznos (HRK)
B18: A. OPREMA ELEKTRANE
C19: Tražene specifikacije | D19: Ponuđene specifikacije
A20: 1 | B20: Fotonaponski panel | C20: Standardni energentski fotonaponski modul: Broj ćelija: 60 ćelija, 156x156 mm Vrsta ćelije: polikristalni silicij Nazivna snaga modula: 270Wp Dimenzije modula [mm]: 1640x992x40, +/- 3% 15 godina proizvođačkog jamstva na fotonaponske module 12 godina jamstvo na 90% izlazne snage fotonaponkih modula 25 godina jamstvo na 80% izlazne snage fotonaponskih modula | E20: kom | F20: 546 | H20: =F20*G20 -> 0
A22: 2 | B22: Fotonaponski DC/AC inverter | C22: Nazivna AC snaga invertera: 25,00 kW Nazivna AC struja invertera: 36,10 A Učinkovitost „European efficiency (ηEU)“: 98,00% ili više Broj MPPT ulaza: 1 Minimalni ulazni DC napon: 580V Maksimalna dozvoljena struja kratkog spoja DC polja: 71,60 A Ukupni faktor harmoničkog izobličenja: <2,00% Integrirana prenaponska zaštita tip 1 Integrirani osigurači na DC ulazima Stupanj zaštite: IP66 ili više Masa invertera: 36,00kg ili manje | E22: kom | F22: 4 | H22: =F22*G22 -> 0
A24: 3 | B24: Fotonaponski DC/AC inverter | C24: Fotonaponski DC/AC inverter Nazivna AC snaga invertera: 20,00 kW Nazivna AC struja invertera: 28,90 A Učinkovitost „European efficiency (ηEU)“: 97,90% ili više Broj MPPT ulaza: 2 Minimalni ulazni DC napon: 200V Maksimalna dozvoljena struja kratkog spoja DC polja: 49,50A/40,50A Ukupni faktor harmoničkog izobličenja: 1,30% Integrirana prenaponska zaštita tip 1 Stupanj zaštite: IP66 ili više Masa invertera: 44,00kg ili manje | E24: kom | F24: 1 | H24: =F24*G24 -> 0
A26: 4 | B26: Sustav aluminijske potkonstrukcije za prihvat 316 panela. Vrsta krova: ravni krov, bez bušenja ovojnice krova Sadrži sljedeće elemente: | C26: Sustav aluminijske potkonstrukcije za prihvat 316 panela. Vrsta krova: ravni krov, bez bušenja ovojnice krova Sadrži sljedeće elemente:
A27: 04a | B27: Aluminijski profil, duljine 6200mm | C27: Aluminijski profil, duljine 6200mm | E27: kom | F27: 95 | H27: =F27*G27 -> 0
A29: 04b | B29: Spojnica za aluminijski profil | C29: Spojnica za aluminijski profil | E29: kom | F29: 76 | H29: =F29*G29 -> 0
A31: 04c | B31: Prednji i zadnji nosač modula | C31: Prednji i zadnji nosač modula | E31: set | F31: 380 | H31: =F31*G31 -> 0
A33: 04d | B33: Lim za zatvaranje stražnje strane | C33: Lim za zatvaranje stražnje strane | E33: kom | F33: 316 | H33: =F33*G33 -> 0
A35: 04e | B35: Srednja spojnica za modul | C35: Srednja spojnica za modul | E35: set | F35: 488 | H35: =F35*G35 -> 0
A37: 04f | B37: Završna spojnica za modul | C37: Završna spojnica za modul | E37: set | F37: 288 | H37: =F37*G37 -> 0
A39: 04g | B39: EPDM podloga | C39: EPDM podloga | E39: kom | F39: 380 | H39: =F39*G39 -> 0
A41: 04h | B41: Vijak s bimetalnom glavom | C41: Vijak s bimetalnom glavom | E41: kom | F41: 760 | H41: =F41*G41 -> 0
A43: 5 | B43: Sustav aluminijske potkonstrukcije za prihvat 230 panela: Vrsta krova: kosi krov, trapezni lim, bez bušenja ovojnice krova. Sadrži sljedeće elemente: | C43: Sustav aluminijske potkonstrukcije za prihvat 230 panela: Vrsta krova: kosi krov, trapezni lim, bez bušenja ovojnice krova. Sadrži sljedeće elemente:
A44: 05a | B44: Aluminijski profil, duljine 550mm | C44: Aluminijski profil, duljine 550mm | E44: kom | F44: 876 | H44: =F44*G44 -> 0
A46: 05b | B46: Završna spojnica za modul | C46: Završna spojnica za modul | E46: set | F46: 128 | H46: =F46*G46 -> 0
A48: 05c | B48: Srednja spojnica za modul | C48: Srednja spojnica za modul | E48: set | F48: 428 | H48: =F48*G48 -> 0
A50: 05d | B50: Vijak za aluminijski nosač | C50: Vijak za aluminijski nosač | E50: kom | F50: 3504 | H50: =F50*G50 -> 0
A52: 05e | B52: EPDM traka | C52: EPDM traka | E52: kom | F52: 30 | H52: =F52*G52 -> 0
A55: 6 | B55: Web komunikacija za nadzor rada elektrane | C55: Web komunikacija za nadzor rada elektrane - LAN, 10/100 MBit - Wireless standard 802.11 b/g/n/ - Modbus RTU SunSpec - Temperatura okoline u kojoj može normalno funkcionirati od -20°C do +65°C - Vizualizacija nadzora rada elektrane preko Internet portala - Mogućnost praćenja rada elektrane u realnom vremenu preko računala i mobitela | E55: komplet | F55: 1 | H55: =F55*G55 -> 0
A57: 7 | B57: Montaža i spajanje opreme iz stavki 01. - 06. do pune pogonske funkcionalnosti. | C57: Montaža i spajanje opreme iz stavki 01. - 06. do pune pogonske funkcionalnosti. | E57: komplet | F57: 1 | H57: =F57*G57 -> 0
B59: UKUPNO A | H59: =SUM(H20:H57) -> 0
B61: B. ELEKTRO RAZDJELNICE
B63: OPĆE NAPOMENE:
B64: Za uvod kabela treba ugraditi siluminske (plastične) brtvenice odgovarajućeg promjera ovisno o promjeru kabela. Na donju stranu razdjelnica koje se ugrađuju na zid treba ugraditi čep za odvod kondenzata.
B65: U cijenu izrade razdjelnice treba obuhvatiti izradu radioničkih nacrta, vodove za ožičenje glavnih i pomoćnih strujnih krugova, spajanje na dolazne i odlazne kabele, plastične kabel kanalice, odgovarajuće sheme (jednopolna i strujna-upravljačka) izvedenog stanja s oznakama svih elemenata ugrađenih u razdjelnicu, oznake svih dolaznih i odlaznih kabela, protokole o ispitivanju funkcionalnosti, ateste o električnim ispitivanjima prema propisima, upute za rukovanje i održavanje. Sva popratna dokumentacija treba biti na hrvatskom jeziku.
A67: 8 | B67: Glavna razdjelnica sunčane elektrane (GRSE) za 120 kW AC | C67: Priključak 4 invertera po 25kW i 1 invertera od 20kW. Izvedba: limeni samostojeći ormar Sadrži elemente upravljanja i zaštite za pripadne struje krugove: - glavni prekidač elektrane: 200A, 3p termička i nadstrujna zaštita - automatski prekidač (MCB): 5 komada, B50A, 3p - zaštitni uređaj diferencijalne struje (RCD): 5 komada, 63/0,3A, 4p - odvodnik prenapona tip 1+2 za TN-S sustav - dodatna šuko utičnica i kombinirana zaštitna sklopka (KZS) 10/0,03A - kontrolno brojilo električne energije - strujni mjerni transformator: 3 komada, 200A/5A - automatski prekidač: 1 komad, 6A, 3p Komplet dobava, montaža i spajanje na glavnu razdjelnicu objekta GR do pune pogonske funkcionalnosti. | E67: komplet | F67: 1 | H67: =F67*G67 -> 0
A69: 9 | B69: Dobava, montaža i spajanje NVO izvoda za prihvat priključnog kabela elektrane u postojećem ormaru instalacije kupca | C69: prekidač: 200A, 3p, termička i nadstrujna zaštita | E69: komplet | F69: 1 | H69: =F69*G69 -> 0
B70: UKUPNO B. | H70: =SUM(H66:H69) -> 0
B72: C. KABELI, CIJEVI, POLICE
B74: Dobava vodova i kabela, polaganje po unaprijed pripremljenim trasama (u instalacijske cijevi) i spajanje:
A76: 10. | B76: PP00-Y A 4x240mm2 sa polaganjem | C76: PP00-Y A 4x240mm2 sa polaganjem | E76: m | F76: 50 | H76: =F76*G76 -> 0
A78: 11. | B78: PP00-Y A 4x35mm2 sa polaganjem | C78: PP00-Y A 4x35mm2 sa polaganjem | E78: m | F78: 50 | H78: =F78*G78 -> 0
A80: 12. | B80: Kabel FG7OR 5x16mm2, s polaganjem. | C80: Kabel FG7OR 5x16mm2, s polaganjem. | E80: m | F80: 80 | H80: =F80*G80 -> 0
A82: 13. | B82: Fotonaponski DC kabel | C82: Fotonaponski DC kabel, 1000V, za vanjsku montažu, dvostruka izolacija, 6mm2 s polaganjem:
A83: 13a | B83: Dobava kabla | E83: m | F83: 3492 | H83: =F83*G83 -> 0
A85: 13b | B85: Polaganje i spajanje | E85: m | F85: 3492 | H85: =F85*G85 -> 0
B88: Dobava cijevi, PK polica i montaža u zemlju i nadžbukno na zid (uključujući poklopce, nosače i sav potrebni montažni i spojni pribor:
A90: 14. | B90: Pocinčani kabelski kanal PK 300 | C90: Pocinčani kabelski kanal PK 300 | E90: m | F90: 10 | H90: =F90*G90 -> 0
A92: 15. | B92: Pocinčani kabelski kanal PK 100 | C92: Pocinčani kabelski kanal PK 100 | E92: m | F92: 160 | H92: =F92*G92 -> 0
A94: 16. | B94: UV otporna instalacijska cijev, d=20mm | C94: UV otporna instalacijska cijev, d=20mm | E94: m | F94: 60 | H94: =F94*G94 -> 0
A96: 17. | B96: Vezice UV otporne 30cm | C96: Vezice UV otporne 30cm | E96: kom | F96: 1500 | H96: =F96*G96 -> 0
B99: Iskopi i zemljani radovi
A101: 18. | B101: Polaganje kabela u postoječu cijev | E101: m | F101: 20 | H101: =F101*G101 -> 0
B103: UKUPNO C. | H103: =SUM(H76:H101) -> 0
B105: D. UZEMLJENJE I EKVIPOTENCIJALIZACIJA, OSTALO
A107: 19. | B107: Izrada spoja potkonstrukcije panela (linije panela) na postojeću LPS hvataljku. Koristiti originalne dvometalne stezaljke. | E107: kom | F107: 50 | H107: =F107*G107 -> 0
A109: 20. | B109: LPS hvataljka | C109: LPS hvataljka od Al legure, fi=8mm dobava sa polaganjem | E109: m | F109: 219 | H109: =F109*G109 -> 0
A111: 21. | B111: Kontrola i verifikacija svojstava i karakteristika kvalitete električnih instalacija | C111: Kontrola i verifikacija svojstava i karakteristika kvalitete električnih instalacija (provjeravanje prema normi HD 60364-6), provjera funkcionalnosti i probno puštanje u pogon ukupne opreme i svih elektrotehničkih instalacija u građevini, pribavljanje potrebnih atesta, ispitnih protokola, garantnih listova i tehničke dokumentacije izvedenog stanja, pisane upute za rukovanje i održavanje pogona, izobrazba tehničkog osoblja održavanja, čišćenje prostora od otpadaka prilikom ugradnje i spajanja | E111: paušal | F111: 1 | H111: =F111*G111 -> 0
B112: UKUPNO D. | H112: =SUM(H107:H111) -> 0
A114: E. PROJEKTNA DOKUMENTACIJA
A115: 22. | B115: PROJEKTNA DOKUMENTACIJA: | C115: izrada glavnog i/ili izvedbenog projekta, ishođenje prethodne elektroenergetske suglasnosti (PEES-a), ishođenje ugovora o priključenju | E115: komplet | F115: 1 | H115: =F115*G115 -> 0
B116: UKUPNO E. | H116: =H115 -> 0
B118: F. PUŠTANJE U TRAJNI POGON:
A119: 23. | B119: Izrada i usuglašavanje elaborata utjecaja elektrane na mrežu | E119: kom | F119: 1 | H119: =F119*G119 -> 0
A121: 24. | B121: Izrada i usuglašavanje elaborata podešenja zaštite | E121: kom | F121: 1 | H121: =F121*G121 -> 0
A123: 25. | B123: Izrada i usuglašavanje plana i programa ispitivanja (PPI) | E123: kom | F123: 1 | H123: =F123*G123 -> 0
A125: 26. | B125: Funkcionalno ispitivanje elektrane | E125: kom | F125: 1 | H125: =F125*G125 -> 0
A127: 27. | B127: Puštanje u probni rad i ispitivanje u probnom radu | E127: kom | F127: 1 | H127: =F127*G127 -> 0
A129: 28. | B129: Mjerenje i izvještaj kvalitete električne energije (7+7 dana) | E129: kom | F129: 1 | H129: =F129*G129 -> 0
A131: 29. | B131: Izrada izvještaja s probnog rada | E131: kom | F131: 1 | H131: =F131*G131 -> 0
A133: 30. | B133: Ishođenje elektroenergetske suglasnosti (EES) | E133: kom | F133: 1 | H133: =F133*G133 -> 0
A135: 31. | B135: Ishođenje ugovora o korištenju mreže | E135: kom | F135: 1 | H135: =F135*G135 -> 0
A137: 32. | B137: Ishođenje dozvole za trajni pogon | E137: kom | F137: 1 | H137: =F137*G137 -> 0
B138: UKUPNO F. | H138: =SUM(H119:H137) -> 0
A140: UKUPNO: | H140: =SUM(H59+H70+H103+H112+H116+H138) -> 0
A141: Porez na dodanu vrijednost* * Prijenos porezne obveze sukladno čl. 75. st. 3.a Zakona o PDV-u. | H141: =H140*0.25 -> 0
A142: SVEUKUPNO | H142: =H140+H141 -> 0

Sheet Rekapitulacija
C1: SUNČANA ELEKTRANA MARLEX 2
A4: UKUPNA REKAPITULACIJA
A6: A | B6: OPREMA ELEKTRANE | I6: =Troškovnik!H59 -> 0
A7: B | B7: ELEKTRO RAZDJELNICE | I7: =Troškovnik!H70 -> 0
A8: C | B8: KABELI, CIJEVI, POLICE | I8: =Troškovnik!H103 -> 0
A9: D | B9: UZEMLJENJE I EKVIPOTENCIJALIZACIJA, OSTALO | I9: =Troškovnik!H112 -> 0
A10: E | B10: PROJEKTNA DOKUMENTACIJA | I10: =Troškovnik!H116 -> 0
A11: F | B11: PUŠTANJE U TRAJNI POGON | I11: =Troškovnik!H138 -> 0
G12: UKUPNO HRK : | I12: =SUM(I6:I11) -> 0
G13: PDV: | I13: =I12*0.25 -> 0
G14: UKUPNO HRK S PDV | I14: =I12+I13 -> 0
A22: U_______________________, dana____________ | H22: ZA GOSPODARSKI SUBJEKT:
G24: _________________________________________________________
G25: (ime, prezime i potpis osobe ovlaštene za zastupanje gospodarskog subjekta)
E27: M.P.
H32: .
