Workbook
Name OLE_LINK1: '3. Lift'!#REF!
Name REALIZACIJA_1997: '[1]Osn-Pod'!$E$5

Sheet Naslovna
A2: Građevina: | B2: Poslovno - proizvodna zgrada
A3: Investitor: | B3: Nabla Slavonija d.o.o.
A4: Lokacija: | B4: Gospodarska zona Antunovac, k.č.br. 904/3, k.o. Antunovac
A16: TROŠKOVNIK
A17: po GRUPAMA:
A19: 1. | B19: Građevinsko - obrtnički radovi
A20: 2. | B20: Vodovod i kanalizacija
A21: 3. | B21: Lift
A22: 4. | B22: Elektro instalatetrski radovi
A23: 5. | B23: IT oprema i sustavi
A24: 6. | B24: Strojarski radovi
A25: 7. | B25: Niskogradnja
A49: Troškovnik izradio: | C49: Planum projekt d.o.o.
A51: Projektant: | C51: Valentino Liović, mag.ing.aedif.
A53: Suradnik: | C53: Monika Sukačić, mag.ing.aedif.
B55: Beli Manastir, ožujak 2018. godine

Sheet 1. Građ.-obrt. radovi
A1: GRUPA 1. GRAĐEVINSKO - OBRTNIČKI RADOVI
A4: 1. Zemljani radovi
A6: R. Br. | B6: Opis stavke | F6: J.M. | G6: Količina | H6: Jedinična cijena | I6: Ukupno | J6: Popunjava ponuditelj
A8: 1.1. | B8: Strojni otkop humusa u sloju debljine do 25 cm, utovar u kamion i privremeno odlaganje na lokaciji gradilišta. | C8: Kombinirani strojno-ručni iskop zemljišta za trakaste temelje do projektirane kote iskopa, utovar iskopane zemlje u kamion, prijevoz i privremeno odlaganje na lokaciji gradilišta. | D8: Kombinirani strojno-ručni iskop zemljišta za trakaste temelje do projektirane kote iskopa, utovar iskopane zemlje u kamion, prijevoz i privremeno odlaganje na lokaciji gradilišta. | E8: Kombinirani strojno-ručni iskop zemljišta za trakaste temelje do projektirane kote iskopa, utovar iskopane zemlje u kamion, prijevoz i privremeno odlaganje na lokaciji gradilišta. | F8: m3 | G8: =1594.64*0.25 -> 398.66 | I8: =G8*H8 -> 0
A10: 1.2. | B10: Kombinirani strojno-ručni iskop zemljišta za trakaste temelje širine d=60,0 cm, temeljnu ploču lifta i temeljnih stopa za stupove, do projektirane kote iskopa od 90,0 cm. Iskopanu zemlju potrebno odvesti na deponiju koji će biti dio posebne stavke. | C10: Kombinirani strojno-ručni iskop zemljišta za trakaste temelje do projektirane kote iskopa, utovar iskopane zemlje u kamion, prijevoz i privremeno odlaganje na lokaciji gradilišta. | D10: Kombinirani strojno-ručni iskop zemljišta za trakaste temelje do projektirane kote iskopa, utovar iskopane zemlje u kamion, prijevoz i privremeno odlaganje na lokaciji gradilišta. | E10: Kombinirani strojno-ručni iskop zemljišta za trakaste temelje do projektirane kote iskopa, utovar iskopane zemlje u kamion, prijevoz i privremeno odlaganje na lokaciji gradilišta. | F10: m3 | G10: =(0.9*(17.94*2+7*2+17.76+3.6+3.4+2.44+1.21+0.71+3.24))+(6+1.6)+(2*0.9*2)+(1.31*3*0.9)+(0.65*3*0.9) -> 90.508 | I10: =G10*H10 -> 0
A12: 1.3. | B12: Planiranje i valjanje posteljice temelja, kao priprema podloge za betoniranje. U cijenu uključen sav potreban materijal i rad. | C12: Planiranje i valjanje posteljice ispod cjelokupne površine objekta, do postizanja potrebne zbijenosti (Ms≥25 MN/m²). | D12: Planiranje i valjanje posteljice ispod cjelokupne površine objekta, do postizanja potrebne zbijenosti (Ms≥25 MN/m²). | E12: Planiranje i valjanje posteljice ispod cjelokupne površine objekta, do postizanja potrebne zbijenosti (Ms≥25 MN/m²). | F12: m2 | G12: =(17.94*2+7*2+17.76+3.6+3.4+2.44+1.21+0.71+3.24)+(6)+(2*2)+(1.31*3)+(0.65*3) -> 98.12 | I12: =G12*H12 -> 0
A14: 1.4. | B14: Nabava, dobava i ugradnja šljunka, izrada nosivog sloja debljine 20 cm ispod podne AB ploče. Stavka obuhvaća i zbijanje šljunčanog nasipa u slojevima do postizanja odgovarajuće zbijenosti. | C14: Kombinirani strojno-ručni iskop zemljišta za trakaste temelje do projektirane kote iskopa, utovar iskopane zemlje u kamion, prijevoz i privremeno odlaganje na lokaciji gradilišta. | D14: Kombinirani strojno-ručni iskop zemljišta za trakaste temelje do projektirane kote iskopa, utovar iskopane zemlje u kamion, prijevoz i privremeno odlaganje na lokaciji gradilišta. | E14: Kombinirani strojno-ručni iskop zemljišta za trakaste temelje do projektirane kote iskopa, utovar iskopane zemlje u kamion, prijevoz i privremeno odlaganje na lokaciji gradilišta. | F14: m3 | G14: =0.2*(9.4+10.33+22.03+15.2+15.21+3.87+8.81+37.35+11.94+3.82+18.16+17.64+17.37+18.85+46.41) -> 51.278 | I14: =G14*H14 -> 0
A16: 1.5. | B16: Odvoz preostalog zemljanog materijala nakon iskopa na deponiju udaljenu max 5,0 km. Koeficijent rastresitosti 1,30. Naknadu za deponiranje uključiti u cijenu. | F16: m3 | G16: =(G8+G10)*1.3 -> 635.9184 | I16: =G16*H16 -> 0
F18: 1. Zemljani radovi | H18: UKUPNO: | I18: =SUM(I8:I16) -> 0
A21: 2. Tesarski radovi
A23: R. Br. | B23: Opis stavke | F23: J.M. | G23: Količina | H23: Jedinična cijena | I23: Ukupno
A25: 2.1. | B25: Nabava, dobava, izrada, postavljanje i skidanje jednostrane glatke daščane oplate za podnu ploču, visine 12,0 cm, sa svim potrebnim ukrutama i razuporama. PODNA PLOČA | C25: Doprema, izrada, postavljanje i skidanje jednostrane glatke daščane oplate za podnu ploču, visine 16 cm, sa svim potrebnim ukrutama i razuporama. | D25: Doprema, izrada, postavljanje i skidanje jednostrane glatke daščane oplate za podnu ploču, visine 16 cm, sa svim potrebnim ukrutama i razuporama. | E25: Doprema, izrada, postavljanje i skidanje jednostrane glatke daščane oplate za podnu ploču, visine 16 cm, sa svim potrebnim ukrutama i razuporama. | F25: m2 | G25: =40.44*0.12 -> 4.8528 | I25: =G25*H25 -> 0
A27: 2.2. | B27: Nabava, dobava, izrada, postavljanje i skidanje jednostrane glatke daščane oplate za podnu ploču, visine 15,0 cm, sa svim potrebnim ukrutama i razuporama. PODNA PLOČA | C27: Doprema, izrada, postavljanje i skidanje jednostrane glatke daščane oplate za podnu ploču, visine 16 cm, sa svim potrebnim ukrutama i razuporama. | D27: Doprema, izrada, postavljanje i skidanje jednostrane glatke daščane oplate za podnu ploču, visine 16 cm, sa svim potrebnim ukrutama i razuporama. | E27: Doprema, izrada, postavljanje i skidanje jednostrane glatke daščane oplate za podnu ploču, visine 16 cm, sa svim potrebnim ukrutama i razuporama. | F27: m2 | G27: =45.05*0.15 -> 6.7575 | I27: =G27*H27 -> 0
A29: 2.3. | B29: Nabava, dobava, izrada, postavljanje i skidanje glatke daščane oplate za vertikalne serklaže, presjeka 25/25 cm i visine do 4,00 m, sa svim potrebnim ukrutama i razuporama i podupiranjem. VERTIKLANI SERKLAŽI | C29: Doprema, izrada, postavljanje i skidanje dvostrane glatke daščane oplate za vertikalne serklaže, presjeka 25/25 cm i visine do 4,00 m, sa svim potrebnim ukrutama i razuporama i podupiranjem. | D29: Doprema, izrada, postavljanje i skidanje dvostrane glatke daščane oplate za vertikalne serklaže, presjeka 25/25 cm i visine do 4,00 m, sa svim potrebnim ukrutama i razuporama i podupiranjem. | E29: Doprema, izrada, postavljanje i skidanje dvostrane glatke daščane oplate za vertikalne serklaže, presjeka 25/25 cm i visine do 4,00 m, sa svim potrebnim ukrutama i razuporama i podupiranjem. | F29: m2 | G29: =0.25*3.4*(22+47+26+40+46) -> 153.85 | I29: =G29*H29 -> 0
A31: 2.4. | B31: Nabava, dobava, izrada, postavljanje i skidanje jednostrane glatke daščane oplate za horizontalne serklaže, presjeka 25/20 cm, sa svim potrebnim ukrutama i razuporama. HORIZONTALNI SERKLAŽI | C31: Doprema, izrada, postavljanje i skidanje dvostrane glatke daščane oplate za horizontalne serklaže i atiku, sa svim potrebnim ukrutama i razuporama. | D31: Doprema, izrada, postavljanje i skidanje dvostrane glatke daščane oplate za horizontalne serklaže i atiku, sa svim potrebnim ukrutama i razuporama. | E31: Doprema, izrada, postavljanje i skidanje dvostrane glatke daščane oplate za horizontalne serklaže i atiku, sa svim potrebnim ukrutama i razuporama. | F31: m2 | G31: =81.77*0.2*2 -> 32.708 | I31: =G31*H31 -> 0
A33: 2.5. | B33: Nabava, dobava, izrada, postavljanje i skidanje glatke daščane oplate za stubište, sa svim potrebnim ukrutama i razuporama. STUBIŠTE. | C33: Doprema, izrada, postavljanje i skidanje dvostrane glatke daščane oplate za horizontalne serklaže i atiku, sa svim potrebnim ukrutama i razuporama. | D33: Doprema, izrada, postavljanje i skidanje dvostrane glatke daščane oplate za horizontalne serklaže i atiku, sa svim potrebnim ukrutama i razuporama. | E33: Doprema, izrada, postavljanje i skidanje dvostrane glatke daščane oplate za horizontalne serklaže i atiku, sa svim potrebnim ukrutama i razuporama. | F33: m2 | G33: =(5.05*1.3+7.14*1.3)+(0.15*1.3*24*2)+(13.4*2) -> 52.007 | I33: =G33*H33 -> 0
A35: 2.6. | B35: Nabava, dobava, izrada, postavljanje i skidanje glatke daščane oplate za okno lifta, sa svim potrebnim ukrutama i razuporama. OKNO LIFTA. | C35: Doprema, izrada, postavljanje i skidanje dvostrane glatke daščane oplate za horizontalne serklaže i atiku, sa svim potrebnim ukrutama i razuporama. | D35: Doprema, izrada, postavljanje i skidanje dvostrane glatke daščane oplate za horizontalne serklaže i atiku, sa svim potrebnim ukrutama i razuporama. | E35: Doprema, izrada, postavljanje i skidanje dvostrane glatke daščane oplate za horizontalne serklaže i atiku, sa svim potrebnim ukrutama i razuporama. | F35: m2 | G35: =(10.64*8.6+8.64*8.25) -> 162.784 | I35: =G35*H35 -> 0
A37: 2.7. | B37: Nabava, dobava, izrada, postavljanje i skidanje glatke daščane oplate za stupove, presjeka 40/40 cm i visine do 4,00 m, sa svim potrebnim ukrutama i razuporama i podupiranjem. STUPOVI. | C37: Doprema, izrada, postavljanje i skidanje dvostrane glatke daščane oplate za vertikalne serklaže, presjeka 25/25 cm i visine do 4,00 m, sa svim potrebnim ukrutama i razuporama i podupiranjem. | D37: Doprema, izrada, postavljanje i skidanje dvostrane glatke daščane oplate za vertikalne serklaže, presjeka 25/25 cm i visine do 4,00 m, sa svim potrebnim ukrutama i razuporama i podupiranjem. | E37: Doprema, izrada, postavljanje i skidanje dvostrane glatke daščane oplate za vertikalne serklaže, presjeka 25/25 cm i visine do 4,00 m, sa svim potrebnim ukrutama i razuporama i podupiranjem. | F37: m2 | G37: =1.6*7*2 -> 22.4 | I37: =G37*H37 -> 0
A39: 2.8. | B39: Nabava, dobava, izrada, postavljanje i skidanje glatke daščane oplate za grede i nadvoje, sa svim potrebnim ukrutama i razuporama. GREDE I NADVOJI | C39: Doprema, izrada, postavljanje i skidanje dvostrane glatke daščane oplate za horizontalne serklaže i atiku, sa svim potrebnim ukrutama i razuporama. | D39: Doprema, izrada, postavljanje i skidanje dvostrane glatke daščane oplate za horizontalne serklaže i atiku, sa svim potrebnim ukrutama i razuporama. | E39: Doprema, izrada, postavljanje i skidanje dvostrane glatke daščane oplate za horizontalne serklaže i atiku, sa svim potrebnim ukrutama i razuporama. | F39: m2 | G39: =(0.25*3+0.35*3*2)*2+(0.25*4.75+0.5*4.75*2)+(0.25*2.5+0.3*2.5*2)*2+(0.25*1.5*3)*5+(0.25*2.2*3)+(0.25*4.25+0.45*4.25*2)*8+(0.25*6+0.6*6*2)*2+(0.25*3.3+0.4*3.3*2)*6+(0.25*3.35+0.4*3.35*2)*11+(0.25*3+0.35*3*2)+(0.25*2.5+0.3*2.5*2)+(0.25*9.25+0.6*9.25*2)*2+(0.25*2.2+0.2*2.2*2)*2+(0.25*1.4+0.2*1.4*2)+(0.25*6+0.6*6*2)*5 -> 218.215 | I39: =G39*H39 -> 0
F41: 2. Tesarski radovi | H41: UKUPNO: | I41: =SUM(I25:I39) -> 0
A44: 3. Betonski radovi
A46: R. Br. | B46: Opis stavke | F46: J.M. | G46: Količina | H46: Jedinična cijena | I46: Ukupno
A48: 3.1. | B48: Nabava, dobava i ugradnja betona C30/37 u trakaste temelje, širine 60,0 cm i visine cca. 90,0 cm. Stavkom je obuhvaćena doprema betona iz tvornice betona, ugradba i njega betona nakon ugradbe. TRAKASTI TEMELJI. | C48: Betoniranje trakastih temelja C25/30 visine do 90 cm. Stavkom je obuhvaćena doprema betona iz tvornice betona, ugradba i njega betona nakon ugradbe. | D48: Betoniranje trakastih temelja C25/30 visine do 90 cm. Stavkom je obuhvaćena doprema betona iz tvornice betona, ugradba i njega betona nakon ugradbe. | E48: Betoniranje trakastih temelja C25/30 visine do 90 cm. Stavkom je obuhvaćena doprema betona iz tvornice betona, ugradba i njega betona nakon ugradbe. | F48: m3 | G48: =G10 -> 90.508 | I48: =G48*H48 -> 0
A50: 3.2. | B50: Nabava, dobava i ugradnja betona C25/30 u podnu ploču, debljine 12,0 cm. Stavkom je obuhvaćena doprema betona iz tvornice betona, ugradba i njega betona nakon ugradbe. PODNA PLOČA. | C50: Betoniranje armirane podne ploče, debljine 15 cm, betonom C25/30. Stavkom je obuhvaćena doprema betona iz tvornice betona, ugradba i njega betona nakon ugradbe. | D50: Betoniranje armirane podne ploče, debljine 15 cm, betonom C25/30. Stavkom je obuhvaćena doprema betona iz tvornice betona, ugradba i njega betona nakon ugradbe. | E50: Betoniranje armirane podne ploče, debljine 15 cm, betonom C25/30. Stavkom je obuhvaćena doprema betona iz tvornice betona, ugradba i njega betona nakon ugradbe. | F50: m3 | G50: =171.83*0.12 -> 20.6196 | I50: =G50*H50 -> 0
A52: 3.3. | B52: Nabava, dobava i ugradnja betona C25/30 u podnu ploču, debljine 15,0 cm. Stavkom je obuhvaćena doprema betona iz tvornice betona, ugradba i njega betona nakon ugradbe. PODNA PLOČA. | C52: Betoniranje armirane podne ploče, debljine 15 cm, betonom C25/30. Stavkom je obuhvaćena doprema betona iz tvornice betona, ugradba i njega betona nakon ugradbe. | D52: Betoniranje armirane podne ploče, debljine 15 cm, betonom C25/30. Stavkom je obuhvaćena doprema betona iz tvornice betona, ugradba i njega betona nakon ugradbe. | E52: Betoniranje armirane podne ploče, debljine 15 cm, betonom C25/30. Stavkom je obuhvaćena doprema betona iz tvornice betona, ugradba i njega betona nakon ugradbe. | F52: m3 | G52: =167.52*0.15 -> 25.128 | I52: =G52*H52 -> 0
A54: 3.4. | B54: Nabava, dobava i ugradnja betona C25/30 u vertikalne serklaže presjeka 25/25 cm i visine do max. 4,0 u glatkoj oplati. Stavkom je obuhvaćena doprema betona iz tvornice betona, ugradba i njega betona nakon ugradbe. VERTIKALNI SERKLAŽI. | C54: Betoniranje armiranih vertikalnih serklaža presjeka 25/25 cm i visine do max 3,50 m, betonom C25/30 u glatkoj oplati. Stavkom je obuhvaćena doprema betona iz tvornice betona, ugradba i njega betona nakon ugradbe. | D54: Betoniranje armiranih vertikalnih serklaža presjeka 25/25 cm i visine do max 3,50 m, betonom C25/30 u glatkoj oplati. Stavkom je obuhvaćena doprema betona iz tvornice betona, ugradba i njega betona nakon ugradbe. | E54: Betoniranje armiranih vertikalnih serklaža presjeka 25/25 cm i visine do max 3,50 m, betonom C25/30 u glatkoj oplati. Stavkom je obuhvaćena doprema betona iz tvornice betona, ugradba i njega betona nakon ugradbe. | F54: m3 | G54: =(0.25*0.25*3.4)*(10+19+4+29)+(1*0.25*0.25*26) -> 14.8 | I54: =G54*H54 -> 0
A56: 3.5. | B56: Nabava, dobava i ugradnja betona C25/30 u horizontalne serklaže presjeka 25/20 cm u glatkoj oplati. Stavkom je obuhvaćena doprema betona iz tvornice betona, ugradba i njega betona nakon ugradbe. HORIZONTALNI SERKLAŽI. | C56: Betoniranje armiranih vertikalnih serklaža presjeka 25/25 cm i visine do max 3,50 m, betonom C25/30 u glatkoj oplati. Stavkom je obuhvaćena doprema betona iz tvornice betona, ugradba i njega betona nakon ugradbe. | D56: Betoniranje armiranih vertikalnih serklaža presjeka 25/25 cm i visine do max 3,50 m, betonom C25/30 u glatkoj oplati. Stavkom je obuhvaćena doprema betona iz tvornice betona, ugradba i njega betona nakon ugradbe. | E56: Betoniranje armiranih vertikalnih serklaža presjeka 25/25 cm i visine do max 3,50 m, betonom C25/30 u glatkoj oplati. Stavkom je obuhvaćena doprema betona iz tvornice betona, ugradba i njega betona nakon ugradbe. | F56: m3 | G56: =0.25*0.2*(83.06+12.38+9.25+12.25+4.4+4.5+4.5+9+3.6+83.06+4.6+12.5+83.06) -> 16.308 | I56: =G56*H56 -> 0
A58: 3.6. | B58: Nabava, dobava i ugradnja betona C25/30 u ab stubište u glatkoj oplati. Stavkom je obuhvaćena doprema betona iz tvornice betona, ugradba i njega betona nakon ugradbe. AB STUBIŠTE. | C58: Betoniranje armiranih vertikalnih serklaža presjeka 25/25 cm i visine do max 3,50 m, betonom C25/30 u glatkoj oplati. Stavkom je obuhvaćena doprema betona iz tvornice betona, ugradba i njega betona nakon ugradbe. | D58: Betoniranje armiranih vertikalnih serklaža presjeka 25/25 cm i visine do max 3,50 m, betonom C25/30 u glatkoj oplati. Stavkom je obuhvaćena doprema betona iz tvornice betona, ugradba i njega betona nakon ugradbe. | E58: Betoniranje armiranih vertikalnih serklaža presjeka 25/25 cm i visine do max 3,50 m, betonom C25/30 u glatkoj oplati. Stavkom je obuhvaćena doprema betona iz tvornice betona, ugradba i njega betona nakon ugradbe. | F58: m3 | G58: =1.3*1.3+1.4*1.3 -> 3.51 | I58: =G58*H58 -> 0
A60: 3.7. | B60: Nabava, dobava i ugradnja betona C25/30 u ab okno lifta u glatkoj oplati. Stavkom je obuhvaćena doprema betona iz tvornice betona, ugradba i njega betona nakon ugradbe. AB OKNO LIFTA. | C60: Betoniranje armiranih vertikalnih serklaža presjeka 25/25 cm i visine do max 3,50 m, betonom C25/30 u glatkoj oplati. Stavkom je obuhvaćena doprema betona iz tvornice betona, ugradba i njega betona nakon ugradbe. | D60: Betoniranje armiranih vertikalnih serklaža presjeka 25/25 cm i visine do max 3,50 m, betonom C25/30 u glatkoj oplati. Stavkom je obuhvaćena doprema betona iz tvornice betona, ugradba i njega betona nakon ugradbe. | E60: Betoniranje armiranih vertikalnih serklaža presjeka 25/25 cm i visine do max 3,50 m, betonom C25/30 u glatkoj oplati. Stavkom je obuhvaćena doprema betona iz tvornice betona, ugradba i njega betona nakon ugradbe. | F60: m3 | G60: =((7-4.55)*8.25)+(7*0.3*2)-(2.32*0.25*2) -> 23.2525 | I60: =G60*H60 -> 0
A62: 3.8. | B62: Nabava, dobava i ugradnja betona C25/30 u vertikalne serklaže presjeka 25/25 cm i visine do max. 3,0 u glatkoj oplati. Stavkom je obuhvaćena doprema betona iz tvornice betona, ugradba i njega betona nakon ugradbe. STUPOVI | C62: Betoniranje armiranih vertikalnih serklaža presjeka 25/25 cm i visine do max 3,50 m, betonom C25/30 u glatkoj oplati. Stavkom je obuhvaćena doprema betona iz tvornice betona, ugradba i njega betona nakon ugradbe. | D62: Betoniranje armiranih vertikalnih serklaža presjeka 25/25 cm i visine do max 3,50 m, betonom C25/30 u glatkoj oplati. Stavkom je obuhvaćena doprema betona iz tvornice betona, ugradba i njega betona nakon ugradbe. | E62: Betoniranje armiranih vertikalnih serklaža presjeka 25/25 cm i visine do max 3,50 m, betonom C25/30 u glatkoj oplati. Stavkom je obuhvaćena doprema betona iz tvornice betona, ugradba i njega betona nakon ugradbe. | F62: m3 | G62: =0.4*0.4*7*2 -> 2.24 | I62: =G62*H62 -> 0
A64: 3.9. | B64: Nabava, dobava i ugradnja betona C25/30 u ab grede i nadvoje u glatkoj oplati. Stavkom je obuhvaćena doprema betona iz tvornice betona, ugradba i njega betona nakon ugradbe. AB GREDE I NADVOJI. | C64: Betoniranje armiranih vertikalnih serklaža presjeka 25/25 cm i visine do max 3,50 m, betonom C25/30 u glatkoj oplati. Stavkom je obuhvaćena doprema betona iz tvornice betona, ugradba i njega betona nakon ugradbe. | D64: Betoniranje armiranih vertikalnih serklaža presjeka 25/25 cm i visine do max 3,50 m, betonom C25/30 u glatkoj oplati. Stavkom je obuhvaćena doprema betona iz tvornice betona, ugradba i njega betona nakon ugradbe. | E64: Betoniranje armiranih vertikalnih serklaža presjeka 25/25 cm i visine do max 3,50 m, betonom C25/30 u glatkoj oplati. Stavkom je obuhvaćena doprema betona iz tvornice betona, ugradba i njega betona nakon ugradbe. | F64: m3 | G64: =(0.25*0.35*3)*2+(0.25*0.5*4.75)+(0.25*0.3*2.5)*2+(0.25*0.2*1.5)*5+(0.25*0.25*2.2)+(0.25*0.45*4.25)*8+(0.25*0.6*6)*2+(0.25*0.4*3.3)*6+(0.25*0.4*3.35)*11+(0.25*0.35*3)+(0.25*0.3*2.5)+(0.25*0.6*9.25)*2+(0.25*0.2*2.2)*2+(0.25*0.2*1.4)+(0.25*0.6*6)*5 -> 21.31125 | I64: =G64*H64 -> 0
A66: 3.10. | B66: Nabava, dobava i ugradnja betona C25/30 na podove prizemlja, kao podložni beton, debljine 5,0 cm. Stavkom je obuhvaćena doprema betona iz tvornice betona, ugradba i njega betona nakon ugradbe. PODLOŽNI BETON. | C66: Betoniranje armiranih vertikalnih serklaža presjeka 25/25 cm i visine do max 3,50 m, betonom C25/30 u glatkoj oplati. Stavkom je obuhvaćena doprema betona iz tvornice betona, ugradba i njega betona nakon ugradbe. | D66: Betoniranje armiranih vertikalnih serklaža presjeka 25/25 cm i visine do max 3,50 m, betonom C25/30 u glatkoj oplati. Stavkom je obuhvaćena doprema betona iz tvornice betona, ugradba i njega betona nakon ugradbe. | E66: Betoniranje armiranih vertikalnih serklaža presjeka 25/25 cm i visine do max 3,50 m, betonom C25/30 u glatkoj oplati. Stavkom je obuhvaćena doprema betona iz tvornice betona, ugradba i njega betona nakon ugradbe. | F66: m3 | G66: =0.05*(9.4+10.33+22.03+15.2+15.21+3.87+8.81+37.35+11.94+3.82+18.16+17.64+17.37+18.85+46.41) -> 12.8195 | I66: =G66*H66 -> 0
F68: 3. Betonski radovi | H68: UKUPNO: | I68: =SUM(I48:I66) -> 0
A73: 4. Armirački radovi
A75: R. Br. | B75: Opis stavke | F75: J.M. | G75: Količina | H75: Jedinična cijena | I75: Ukupno
A77: 4.1. | B77: Nabava, dobava, sječenje, savijanje, ugradnja i postavljanje rebraste armature svih profila vertikalnih i horizontalnih serklaža, greda, nadvoja i sl. Armatura B500B. | C77: Nabava, doprema, sječenje, savijanje, ugradnja i postavljanje rebraste armature svih profila trakastih temelja, nadtemeljnih zidova, vertikalnih,horizontalnih serklaža,greda i ukrutnih greda stropa. | D77: Nabava, doprema, sječenje, savijanje, ugradnja i postavljanje rebraste armature svih profila trakastih temelja, nadtemeljnih zidova, vertikalnih,horizontalnih serklaža,greda i ukrutnih greda stropa. | E77: Nabava, doprema, sječenje, savijanje, ugradnja i postavljanje rebraste armature svih profila trakastih temelja, nadtemeljnih zidova, vertikalnih,horizontalnih serklaža,greda i ukrutnih greda stropa. | F77: kg | G77: =170*(G48+G54+G62+G64) -> 21906.072 | I77: =G77*H77 -> 0
A79: 4.2. | B79: Nabava, dobava, sječenje, ugradnja i postavljanje mrežaste armature u pločaste elemente. Armatura B500B. | C79: Nabava, doprema, sječenje, ugradnja i postavljanje mrežaste armature. | D79: Nabava, doprema, sječenje, ugradnja i postavljanje mrežaste armature. | E79: Nabava, doprema, sječenje, ugradnja i postavljanje mrežaste armature. | F79: kg | G79: =(15*(G50+G52))+(30*(G58+G60)) -> 1489.089 | I79: =G79*H79 -> 0
F81: 4. Armirački radovi | H81: UKUPNO: | I81: =SUM(I77:I79) -> 0
A84: 5. Zidarski radovi
A86: R. Br. | B86: Opis stavke | F86: J.M. | G86: Količina | H86: Jedinična cijena | I86: Ukupno
...

Sheet 2. Vodovod i kanalizacija
A1: GRUPA 2. VODOVOD I KANALIZACIJA
A3: INSTALACIJA VODOVODA
A5: 1. Građevinski radovi
A7: R. Br. | B7: Opis stavke | F7: J.M. | G7: Količina | H7: Jedinična cijena | I7: Ukupno | J7: Popunjava ponuditelj
A9: 1.1. | B9: Geodetsko praćenje svih radova na izvedbi priključaka zgrade na vanjsku vodovodnu mrežu, uključivo stacioniranje svih točaka na terenu s izradom snimka izvedenog stanja. | F9: kpl | G9: 1 | I9: =G9*H9 -> 0
A11: 1.2. | B11: Razni iskopi u tlu III i IV kategorije (šahtovi, rovovi, okna i sl.) s pravilnim zasjecanjem bočnih stranica i dna iskopa, širine rova 0,6 m, prosječne dubine 1,2 m s odlaganjem iskopanog materijala na stranu, 2,0 m od ivice rova, radi kasnije uporabe ili 200,0 m. Predvidjeti razupiranje oplatom i crpljenje vode. Posebnu pozornost obratiti na križanja s ostalim instalacijama.
B12: - strojni iskop | F12: m3 | G12: =((1.8*1.8*2)+0.6*1.2*(21.22+27.58+5))*0.8 -> 36.1728 | I12: =G12*H12 -> 0
B13: - ručni iskop | F13: m3 | G13: =((1.8*1.8*2)+0.6*1.2*(21.22+27.58+5))*0.2 -> 9.0432 | I13: =G13*H13 -> 0
A15: 1.3. | B15: Planiranje dna rova na projektnu dubinu s točnošću ± 2 cm. | F15: m2 | G15: =((1.8*1.8)+0.6*(21.22+27.58+5)) -> 35.52 | I15: =G15*H15 -> 0
A17: 1.4. | B17: Nabava, dobava i ugradnja, razastiranje i nabijanje tamponskog sloja šljunka na dno iskopa u sloju od 20 cm, kao podloga izradi podne ploče vodomjernog okna. | C17: - dobava, razastiranje i nabijanje tamponskog sloja šljunka na dno iskopa u sloju od 20 cm | D17: - dobava, razastiranje i nabijanje tamponskog sloja šljunka na dno iskopa u sloju od 20 cm | E17: - dobava, razastiranje i nabijanje tamponskog sloja šljunka na dno iskopa u sloju od 20 cm | F17: m3 | G17: =1.8*1.8*0.2 -> 0.648 | I17: =G17*H17 -> 0
A19: 1.5. | B19: Nabava, dobava i ugradnja posteljice od pijeska ispod cijevi, debljine 10,0 cm uz grubo poravnanje radi pravilnog nalijeganja cjevovoda. | F19: m3 | G19: =(0.6*(21.22+27.58+5))*0.1 -> 3.228 | I19: =G19*H19 -> 0
A21: 1.6. | B21: Nabava, dobava i ugradnja, te ručno zatrpavanje pješčanim materijalom oko 30,0 cm iznad tjemena vodovodnih cijevi uz pažljivo nabijanje. Mjesta spojeva cijevi ostaviti nezasute do tlačne probe. | F21: m3 | G21: =(0.6*(21.22+27.58+5))*0.3 -> 9.684 | I21: =G21*H21 -> 0
A23: 1.7. | B23: Strojno zatrpavanje rova materijalom iz iskopa u slojevima d = 30 cm uz pažljivo nabijanje. Zatrpavanje izvesti nakon izvršene montaže i po izvršenoj tlačnoj probi cjevovoda uz odobrenje nadzornog inženjera. | F23: m3 | G23: =G12+G13-G19-G21 -> 32.304 | I23: =G23*H23 -> 0
A25: 1.8. | B25: Iskop, nabava i doprema na gradilište materijala i izvedba armiranobetonske komore za vodomjer u vodonepropusnom betonu C3/37 sa atestom za vodonepropusnost i odgovarajućoj oplati. Ulaz u komoru izvesti veličine 60/60 cm s pripadajućim tipskim lijevano željeznim poklopcem klase nosivosti 15 kN i penjalicama na razmaku 30 cm. S unutarnje strane zidove i dno obraditi vodonepropusnom žbukom. Prodore cijevi kroz stijenke izvršiti bušenjem uređajima s krunom i ugradnjom provodnica DN50 (2x) i DN25 (1x). | F25: kpl | G25: 1 | I25: =G25*H25 -> 0
A27: 1.9. | B27: Odvoz preostalog materijala nakon zatrpavanja rova na deponiju udaljenu max 5,0 km. Naknadu za deponiranje uključiti u cijenu stavke. Koef. rastresitosti 1,30 | F27: m3 | G27: =(G12+G13-G23)*1.3 -> 16.7856 | I27: =G27*H27 -> 0
F29: Instalacija vodovoda - 1. Građevinski radovi | H29: UKUPNO: | I29: =SUM(I9:I27) -> 0
A32: 2. Montažni radovi
A34: R. Br. | B34: Opis stavke | F34: J.M. | G34: Količina | H34: Jedinična cijena | I34: Ukupno
A36: 2.1. | B36: Izrada priključka na vodovodnu mrežu, uz nabavu, dopremu na gradilište i montažu u vodomjernom oknu, vodomjera odobrenog od strane Državnog zavoda za mjeriteljstvo, fitinga, zapornih tijela sa svim spojnim i brtvenim materijalom. U cijenu uključiti dobavu, montažu, ispitivanja, antikorozivnu zaštitu svih dijelova i spoj sa javnom mrežom. | F36: kpl | G36: 1 | I36: =G36*H36 -> 0
A38: 2.2. | B38: Nabava, dobava i ugradnja na gradilište PE-HD cijevi sa odgovarajućim spojnim materijalom i fazonskim komadima za izradu vanjske vodovodne mreže za radni tlak do 10 bara.
B39: - PE-HD cijevi fi 25 mm | F39: m' | G39: 40 | I39: =G39*H39 -> 0
A41: 2.3. | B41: Nabava, dobava i ugradnja PP-R cijevi sa svim potrebnim fazonskim i spojnim elementima i brtvenim materijalom te izrada instalacije u građevini prema priloženoj shemi - hladna voda. Radove izvesti prije gletanja i ličenja zidova. Koljena obuhvatiti u cijenu ugrađenih cjevovoda. Unutarnji razvod izvesti od cijevi nepropusne za kisik prema DIN-4726 s unutrašnjim zaštitnim slojem, PP-R za radni tlak do 10 bara i maksimalnu radnu temperaturu vode do 95°C.
B42: - PP-R cijevi fi 15 mm | F42: m' | G42: =2.7+2.5+1.8+0.8+0.9+2.8+10.95 -> 22.45 | I42: =G42*H42 -> 0
B43: - PP-R cijevi fi 20 mm | F43: m' | G43: =2.9+3.7+2 -> 8.6 | I43: =G43*H43 -> 0
B44: - PP-R cijevi fi 25 mm | F44: m' | G44: =5 -> 5 | I44: =G44*H44 -> 0
A45: 2.4. | B45: Nabava, dobava i ugradnja PP-R cijevi sa svim potrebnim fazonskim i spojnim elementima i brtvenim materijalom te izrada instalacije u građevini prema priloženoj shemi - topla voda. Radove izvesti prije gletanja i ličenja zidova. Koljena obuhvatiti u cijenu ugrađenih cjevovoda. Unutarnji razvod izvesti od cijevi nepropusne za kisik prema DIN-4726 s unutrašnjim zaštitnim slojem, PP-R za radni tlak do 10 bara i maksimalnu radnu temperaturu vode do 95°C.
B46: - PP-R cijevi fi 15 mm | F46: m' | G46: 6 | I46: =G46*H46 -> 0
A48: 2.5. | B48: Nabava, doprema na gradilište i montaža podžbuknog ventila sa metalnom kromiranom kapom i metalnom kromiranom rozetom. U cijenu uključiti vrijednost svih radova i materijal.
B49: - nabava i ugradnja PP-R cijevi fi 15 mm | F49: kom | G49: 5 | I49: =G49*H49 -> 0
B50: - nabava i ugradnja PP-R cijevi fi 20 mm | F50: kom | G50: 4 | I50: =G50*H50 -> 0
A52: 2.6. | B52: Tlačna proba izvedene vodovodne instalacije tlakom od 10 bara u trajanju minimalno 12 sati s osiguranjem potrebne količine vode za punjenje cjevovoda. Kontrola s radnim i kontrolnim manometrom, te ispuštanje vode po završenoj probi. Obuhvaćeno ispitivanje vanjske i unutarnje vodovodne mreže te izrada zapisnika o tlačnoj probi. | F52: kpl | G52: 1 | I52: =G52*H52 -> 0
A54: 2.7. | B54: Ispiranje i dezinficiranje cjevovoda i osiguranje atesta o ispitivanju vode (bakteriološko i mineralna ulja). | F54: kpl | G54: 1 | I54: =G54*H54 -> 0
F56: Instalacija vodovoda - 2. Montažni radovi | H56: UKUPNO: | I56: =SUM(I37:I54) -> 0
A59: 3. Sanitarna oprema
A61: R. Br. | B61: Opis stavke | F61: J.M. | G61: Količina | H61: Jedinična cijena | I61: Ukupno
A63: 3.1. | B63: Nabava, dobava i ugradnja štednih vodovodnih armatura s umivaonikom, aktiviranje s prednje strane na pokret ruku, s mogućnošću promjene duljine toka vode, komplet s priključnim ventilom za vodu od 1/2", Komplet čini i zidni umivaonik. Obračun po kompletno ugrađenoj i ispitanoj opremi, sa svim potrebnim materijalom i radom, u punoj funkcionalnosti. | F63: kom | G63: 4 | I63: =G63*H63 -> 0 | J63: Ponuđeno:
A65: 3.2. | B65: Nabava, dobava i ugradnja štednih vodokotlića s wc školjkom, sa kapacitetom od 9l s dvije količine ispiranja (3 l i 6 l), s mogućnošću promjene količine na ispiranje sa zaustavljanjem, aktiviranje s prednje strane, komplet s priključnim ventilom za vodu od 1/2", s izljevnim koljenom od fi 90 s redukcijom na fi 110. Komplet čini potisna ploča za dvokoličinsku tehnkui ispiranja i s mogušnošću zaustavljanja. Obračun po kompletno ugrađenoj i ispitanoj opremi, sa svim potrebnim materijalom i radom, u punoj funkcionalnosti. | F65: kom | G65: 4 | I65: =G65*H65 -> 0 | J65: Ponuđeno:
A67: 3.3. | B67: Nabava, dobava i ugradnja štednih vodokotlića s wc školjkom za invalide s rukohvatom, sa kapacitetom od 9l s dvije količine ispiranja (3 l i 6 l), s mogućnošću promjene količine na ispiranje sa zaustavljanjem, aktiviranje s prednje strane, komplet s priključnim ventilom za vodu od 1/2", s izljevnim koljenom od fi 90 s redukcijom na fi 110. Komplet čini potisna ploča za dvokoličinsku tehnkui ispiranja i s mogušnošću zaustavljanja. Obračun po kompletno ugrađenoj i ispitanoj opremi, sa svim potrebnim materijalom i radom, u punoj funkcionalnosti. | F67: kom | G67: 1 | I67: =G67*H67 -> 0 | J67: Ponuđeno:
A69: 3.4. | B69: Nabava, dobava i ugradnja pisoara, aktiviranje s prednje strane na pokret, s mogućnošću promjene duljine toka vode, komplet s priključnim ventilom za vodu od 1/2", Komplet čini i zidni pisoar. Obračun po kompletno ugrađenoj i ispitanoj opremi, sa svim potrebnim materijalom i radom, u punoj funkcionalnosti. | F69: kom | G69: 2 | I69: =G69*H69 -> 0 | J69: Ponuđeno:
A71: 3.5. | B71: Nabava, dobava i ugradnja štednih vodovodnih armatura sa sudoperom, aktiviranje s prednje strane na pokret ruku, s mogućnošću promjene duljine toka vode, komplet s priključnim ventilom za vodu od 1/2", Komplet čini i sudoper. Obračun po kompletno ugrađenoj i ispitanoj opremi, sa svim potrebnim materijalom i radom, u punoj funkcionalnosti. | F71: kom | G71: 1 | I71: =G71*H71 -> 0 | J71: Ponuđeno:
...

Sheet 3. Lift
A1: GRUPA 8. LIFT
A3: 1 | B3: OPĆI PODACI
C4: za građevinu: | D4: POSLOVNO-PROIZVODNA ZGRADA | G4: Popunjava ponuditelj
C6: investitor: | D6: Nabla Slavonija d.o.o.
C8: Broj dizala za izvedbu: | D8: 1 komad
A9: 2 | B9: TEHNIČKI PODACI
C10: Dizalo:
C11: Vrsta dizala: | D11: električno, dizalo bez strojarnice - tip GEN 2 Genesis ili jednakovrijedan
C12: Nosivost mase: | D12: 630 kg / 8 osoba
C13: Brzina vožnje: | D13: 1,0 m/s frekvencijski regulirana
C14: Visina dizanja: | D14: 3,60 m
C15: Broj stanica/ulaza: | D15: 2/2 (svi ulazi na istoj strani)
C16: Pogonsko postrojenje: | D16: bezreduktorski, sinkroni motor s permanentnim magnetima smješten u
C17: Ovjes:
C18: Upravljanje: | D18: simplex potpuno sabirno – mikroprocesorsko
C20: Napon upravljanja: | D20: 110 V , AC
C21: Signalizacija i moduli: | D21: optička potvrda poziva , digitalni pokazivač položaja kabine u kabini HPI 15 crveni, strelica smjera daljne vožnje, alarma, preopterećenje, nužna rasvjeta,
C22: Instalacija: | D22: za suhi prostor
C23: Napajanje: | D23: TN-C mreža, 3x400 V, N, 50 Hz
C24: Vozno okno:
D25: materijal: | E25: armirano-betonska konstrukcija
D26: tlocrtne dimenzije: | E26: širina 1820 mm, dubina 2250 mm
D27: dubina donjeg dijela: | E27: 1000 mm
D28: visina gornjeg dijela: | E28: 3700 mm
D29: provjetravanje: | E29: prema nacrtu
C32: Kabina:
D33: svijetle mjere: | E33: širina 1100 mm, dubina 1400 mm, visina 2200 mm
D34: vrata: | E34: automatska teleskopska vrata, širina 900 mm, visina 2100 mm brušeni inox 220
D37: obloga stranica: | E37: brušeni inox 220
D38: obloga stropa: | E38: brušeni inox 220
D39: obloga poda: | E39: kamen lokalno
D40: rasvjeta: | E40: LED stropna
D41: upravljanje: | E41: operacioni panel s mehaničkim tipkalima i reljefnim oznakama
D42: ostala oprema: | E42: rukohvat s jedne strane, zrcalo nasuprot upravljačke lamele,
C43: Vrata voznog okna: | E43: automatska teleskopska
D44: materijal: | E44: čelični lim
D45: svjetle mjere: | E45: širina 900 mm, visina 2100 mm
D46: obloga:
D47: vatrootpornost: | E47: E120 prema HRN EN 81-58:2006 ili jednakovrijedno
C48: Smještaj pogonskog stroja: | D48: na vrhu voznog okna u voznom oknu, prilaz s krova kabine iz najviše stanice
...

Sheet 4. Elektro instalaterski radovi
A1: GRUPA 5. ELEKTRO INSTALATERSKI RADOVI
A3: Red.broj. | B3: Opis | C3: Jed. mjere | D3: Kol. | E3: Jed. cijena (HRK) | F3: Ukupna cijena (HRK) | G3: Popunjava ponuditelj
B4: NAPOMENA: Cijena za svaku točku ovog troškovnika mora obuhvatiti dobavu, montažu, spajanje, te dovođenje stavke u stanje potpune funkcionalnosti. U cijenu treba ukalkulirati sav spojni, montažni, pridržni i ostali materijal potreban za potpuno funkcioniranje pojedine stavke. Prilikom izrada ponude treba imati u vidu najnovije važeće propise za pojedine vrste instalacije. Za sve eventualne primjedbe u pogledu izvođenja i troškovnika, odnosno davanja ponude obratiti se projektantu. Izvođač je dužan prijenos, ugradnju i montažu opreme, kao i svu građevinsku pomoć izvesti o svom trošku, te sve radove nuditi u jediničnim cijenama predmetnog troškovnika. Svi razdjelnici trebaju biti sastavljeni, ispitani i isporučeni sa natpisnom pločicom prema HRN EN 61439 ili jednakovrijedno.
A5: I | B5: NAPAJANJE EL. ENERGIJOM, EE RAZVOD, DTK I VANJSKA RASVJETA
A6: 1.1. | B6: Građevinski radovi i kabelski razvod
A7: 1.1.1 | B7: Geodetski radovi: Iskolčenje trase kabela, postavljanje i održavanje oznaka od početka radova do predaje svih radova investitoru, sva mjerenja u vezi prijenosa podataka iz projekta na teren i obrnuto, te izrada snimke izvedenog stanja vodova (3 primjerka) ovjerenu od strane mjerodavnog katastra. Obračun po m¹ iskolčene trase. | C7: m | D7: 110 | F7: =D7*E7 -> 0
A8: 1.1.2 | B8: Probni iskopi: ručni iskop rova, dubine 1.2 m, širine 0.4 m i dužine 5m, u zemljanom tlu u materijalu kategorije "C". U jediničnu cijenu uračunati su svi radovi na iskopu materijala, vertikalni prijenosi, utovari u prijevozna sredstva, radovi na uređenju i čišćenju pokosa, planiranje iskopanih i susjednih površina te zatrpavanje. Obračun po m³ stvarno izvedenog iskopa u sraslom stanju. | C8: m3 | D8: 7.2 | F8: =D8*E8 -> 0
A9: 1.1.3 | B9: Iskop rova za instalacije (kabel i traka za uzemljenje): Strojni iskop zemlje, a prema potrebi i ručni, dubine 0,8 m, širine 0,4 m u zemljanom tlu u materijalu kategorije "C". Izvodi se u zbijenom nasipu uz svu potrebnu zaštitu stabilnosti iskopa (razupiranje, odvodnja, zbijanje). U jediničnu cijenu uračunati su svi radovi na iskopu materijala, vertikalni prijenosi, utovari u prijevozna sredstva, radovi na uređenju i čišćenju pokosa, planiranje iskopanih i susjednih površina. Obračun po m³ stvarno izvedenog iskopa u sraslom stanju. | C9: m | D9: 100 | F9: =D9*E9 -> 0
A10: 1.1.4 | B10: Iskop rova za instalacije (kabel i traka za uzemljenje): Strojni iskop zemlje, a prema potrebi i ručni, dubine 1,2 m, širine 0,4 m u zemljanom tlu u materijalu kategorije "C". Izvodi se u zbijenom nasipu uz svu potrebnu zaštitu stabilnosti iskopa (razupiranje, odvodnja, zbijanje). U jediničnu cijenu uračunati su svi radovi na iskopu materijala, vertikalni prijenosi, utovari u prijevozna sredstva, radovi na uređenju i čišćenju pokosa, planiranje iskopanih i susjednih površina. Obračun po m³ stvarno izvedenog iskopa u sraslom stanju. | C10: m | D10: 14 | F10: =D10*E10 -> 0
A11: 1.1.5 | B11: Podložni sloj i obloga od pijeska: Obuhvaća pripremu podloge, dobavu materijala, utovar, prijevoz, istovar, razastiranje, zbijanje, taj. sav rad na izradi i ugradnji sloja i obloge. Obračun po m³ stvarno izvedene količine. | C11: m3 | D11: 10 | F11: =D11*E11 -> 0
A12: 1.1.6 | B12: Iskop građevinske jame za ugradnju kabelskog zdenca (obračun iskopa mjeri se po komadu jame):
B13: Iskop jame (za ugradnju kabelskog zdenca MZ D0) dimenzija 63 x 63 x 86 cm (1 m3) u zemljištu C kategorije.
B14: Izradu posteljice za postavu kabelskog zdenca od nabijenog pijeska debljine 10 cm (0,1 m3).
B15: Zasipavanje postavljenog kabelskog zdenca materijalom iz otkopa.
B16: Odvoz viška iskopanog materijala na deponiju.
B17: iskop jame ukupno: | C17: kom | D17: 3 | F17: =D17*E17 -> 0
A18: 1.1.7 | B18: Dobava na gradilište tipskog montažnog zdenca KZ DO, vanjskih dimenzija cca 63 x 63 x 89 cm te ugradnja na pripremljenu podlogu od pijeska prema mjerama i uvjetima iz projekta, za opterećenje do 125 kN. | C18: kom | D18: 3 | F18: =D18*E18 -> 0
A19: 1.1.8 | B19: Dobava i ugradnja materijala za izradu temelja rasvjetnog stupa što uključuje:
B20: planiranje dna prethodno iskopane jame te razastiranje tamponskog sloja šljunka d=10cm (0.07m3);
B21: uvlačenje dvije savitljive PEHD cijevi Ф50 mm duljine 1.5 m u temelj;
B22: betoniranje temelja betonom marke betona C25(30) cca 0.64m3, uz centriranje čeličnih sidrenih vijaka šablonom;
B23: dobava i montaža armature B-500 (mreža Q-335) u gornjem dijelu temelja
B24: formiranje kape temelja uporabom oplate s izvođenjem skošenja od sredine prema rubu radi otjecanja oborinske vode;
B25: te sve ostalo potrebno za kompletno dovršenje rada (u stavku uključiti potrebnu drvenu oplatu koja se postavlja u slučaju potrebe).
B26: Obračun po komadu ugrađenog stupa. | C26: kom | D26: 2 | F26: =D26*E26 -> 0
A27: 1.1.9 | B27: Dobava i ugradnja čeličnog rasvjetnog stupa tip Auriga P 4M, ɸ60 ili jednakovrijedno, Stožasti rasvjetni stup u boji svjetilje (RAL7035) sa temeljnom pločom, visina 4m, nasadnik FI60, vruče cinčani B54 + sidreni vijci M18x850, 4x matica + 4x kontramatica
B28: Stup treba isporučiti s pripadajućim temeljnim vijcima i svim elementima što uključuje:
B29: podizanje stupa i nasađivanje temeljne stope stupa na sidrene vijke temelja, kom 1
B30: centriranje stupa u vertikalni položaj podmetanjem čeličnih pločica odgovarajuće debljine između kape temelja i temeljne stope stupa i pritezanje matica sidrenih vijaka, kom 1
B31: premazivanje temeljne stope stupa, vrhova sidrenih vijaka i matica, epoksidnim premazom.
B32: Obračun po komadu stupa. | C32: kom | D32: 2 | F32: =D32*E32 -> 0
A33: 1.1.10 | B33: Dobava i ugradnja stupnog razdjelnika. Razdjelnik treba biti opremljena sa priključnim stezaljkama do dva energetska kabela rasvjete 4x16mm2, dva osigurača DO1 od 10A i 6A na jednoj DIN-šini te pričuvnim stezaljkama za priključak signalnog voda na drugoj DIN-šini. Stavka obuhvaća i spajanje svih kabela na stupnu razdjelnicu. Komplet sa spojnim i montažnim priborom. | C33: kom | D33: 2 | F33: =D33*E33 -> 0
A34: 1.1.11 | B34: Zaštitne cijevi za NN kabele: Dobava i polaganje u već iskopani rov, plastičnih cijevi. Podrazumijeva dobavu i dopremu cijevi i spojnog materijala, sve potrebne prijevoze i prijenose, polaganje u rov i podnu ploču prilikom betoniranja, spajanje te sve ostalo potrebno za kompletno dovršenje rada. Obračun po m ugrađene cijevi.
A35: 1.1.11.1 | B35: PEHD 110mm | C35: m | D35: 70 | F35: =D35*E35 -> 0
A36: 1.1.11.2 | B36: PEHD 50mm | C36: m | D36: 150 | F36: =D36*E36 -> 0
A37: 1.1.11.3 | B37: PEHD 32mm | C37: m | D37: 200 | F37: =D37*E37 -> 0
A38: 1.1.12 | B38: Dobava i polaganje plastične trake za upozorenje s natpisom "POZOR - ELEKTROENERGETSKI KABEL 0,4kV" | C38: m | D38: 130 | F38: =D38*E38 -> 0
A39: 1.1.13 | B39: Dobava i polaganje plastične trake za upozorenje s natpisom "POZOR - TELEKOMUNIKACIJSKI KABEL" | C39: m | D39: 40 | F39: =D39*E39 -> 0
A40: 1.1.14 | B40: Dobava i polaganje PVC štitnika (1000x100x2mm; GAL štitnik) za obliježavanje i zaštitu podzemnih instalacija u crvenoj boji. Obuhvaća nabavu, prijevoz i polaganje štitnika u kabelski rov. | C40: m | D40: 130 | F40: =D40*E40 -> 0
A41: 1.1.15 | B41: Zatrpavanje materijalom od iskopa: Obuhvaća prijevoz, nasipavanje, razastiranje i zbijanje materijala. Obračun po m³ stvarno izvedene količine u zbijenom stanju. | C41: m3 | D41: 30 | F41: =D41*E41 -> 0
...

Sheet 5. IT oprema i sustavi
A1: GRUPA 6. IT OPREMA I SUSTAVI
A3: Red.broj. | B3: Opis | C3: Jed. mjere | D3: Kol. | E3: Jed. cijena (HRK) | F3: Ukupna cijena (HRK) | G3: Popunjava ponuditelj
B4: NAPOMENA: Cijena za svaku točku ovog troškovnika mora obuhvatiti dobavu, montažu, spajanje, te dovođenje stavke u stanje potpune funkcionalnosti. U cijenu treba ukalkulirati sav spojni, montažni, pridržni i ostali materijal potreban za potpuno funkcioniranje pojedine stavke. Prilikom izrada ponude treba imati u vidu najnovije važeće propise za pojedine vrste instalacije. Za sve eventualne primjedbe u pogledu izvođenja i troškovnika, odnosno davanja ponude obratiti se projektantu. Izvođač je dužan prijenos, ugradnju i montažu opreme, kao i svu građevinsku pomoć izvesti o svom trošku, te sve radove nuditi u jediničnim cijenama predmetnog troškovnika. Svi razdjelnici trebaju biti sastavljeni, ispitani i isporučeni sa natpisnom pločicom prema HRN EN 61439 ili jednakovrijedno.
A5: I. | B5: KOMUNIKACIJSKA OPREMA - nano DATA CENTAR
A6: 1.1. | B6: Dobava i montaža poslužiteljsko-komunikacijskog ormara BD visine 42 U, tlocrtnih dimenzija širina 800mm x dubina 1200 mm x visina 2000 mm | C6: kpl. | D6: 1 | F6: =D6*E6 -> 0
B8: - izrađen od pocinčanog lima obojanog u RAL 7035
B9: - unutarnja instalacija obojana u RAL 9005
B10: - staklena prednja i metalna stražnja dvokrilna vrata
B11: - krovna ploča priređena za ulaz kabela
B12: - nosivost vertiklnih 19" šina 1500 kg
B13: - TS set za uzemljenje
B14: - set vijaka i matica
B15: kao oznake 5511.120, proizvođača Rittal ili jednakovrijedan
A16: 1.1.1 | B16: TS8 dvodijelne bočne strane 2000x1200 sa priborom za zaključavanje kao oznake 5501.040, proizvođača Rittal ili jednakovrijedan | C16: kom | D16: 2 | F16: =D16*E16 -> 0
A17: 1.1.2 | B17: TS8 flex box kutni dio podnožja pak=4 kao oznake 8100.000, proizvođača Rittal ili jednakovrijedan | C17: pak | D17: 1 | F17: =D17*E17 -> 0
A18: 1.1.3 | B18: TS8 flex boxprednje/stražnje strane podnožja 100X800mm pak=2 kao oznake 8100.120, proizvođača Rittal ili jednakovrijedan | C18: pak | D18: 1 | F18: =D18*E18 -> 0
A19: 1.1.4 | B19: TS8 flex box bočne strane podnožja 100X1200mm pak=2 kao oznake 8100.120, proizvođača Rittal ili jednakovrijedan | C19: pak | D19: 1 | F19: =D19*E19 -> 0
A20: 1.1.5 | B20: TS-IT Magnetski pokrov kao oznake 5501.895, proizvođača Rittal ili jednakovrijedan | C20: kom | D20: 1 | F20: =D20*E20 -> 0
A21: 1.1.6 | B21: TS-IT Vertikalni kabelski kanal 42U kao oznake 5502.120, proizvođača Rittal ili jednakovrijedan | C21: kom | D21: 1 | F21: =D21*E21 -> 0
A22: 1.1.7 | B22: TS-IT nosač podnih ploča kao oznake 5501.350, proizvođača Rittal ili jednakovrijedan | C22: kom | D22: 1 | F22: =D22*E22 -> 0
A23: 1.1.8 | B23: TS-IT pune podne ploče kao oznake 5502.570, proizvođača Rittal ili jednakovrijedan | C23: pak | D23: 1 | F23: =D23*E23 -> 0
A24: 1.1.9 | B24: TS-IT sekcija za ulaz kabela kao oznake 8802.080, proizvođača Rittal ili jednakovrijedan | C24: kom | D24: 1 | F24: =D24*E24 -> 0
A25: 1.1.10 | B25: TS-IT unutarnja pokrovna pločaza odvajanje tople i hladne zone unutar razdjelnika kao oznake 5501.815, proizvođača Rittal ili jednakovrijedan | C25: kom | D25: 1 | F25: =D25*E25 -> 0
A26: 1.1.11 | B26: TS-IT kabelski nosač 6U kao oznake 5502.115, proizvođača Rittal ili jednakovrijedan | C26: pak | D26: 1 | F26: =D26*E26 -> 0
A27: 1.1.12 | B27: TS-IT perforirana šina 23x73mm kao oznake 8612.520, proizvođača Rittal ili jednakovrijedan | C27: pak | D27: 1 | F27: =D27*E27 -> 0
... A71: 1.2. | B71: Sitni materijal i pribor | C71: kpl | D71: 1 | F71: =D71*E71 -> 0
B72: UKUPNO I | F72: =SUM(F6:F71) -> 0
A73: II. | B73: BMS INTELIGENTNI SUSTAV UPRAVLJANJA ZGRADOM
A74: 2.1 | B74: Dobava, montaža i spajanje opreme u prostoru za sustav upravljanja pumpama, elektromotornim pogonima ventila, ventilokonvektorima, zaklopkama ventilacijskog sustava i el. prozorima (HVAC sustav), koja obuhvaća sljedeću opremu:
A75: 2.1.1 | B75: Modularni ispravljač, jednofazni, ulazni napon 85-264 V AC ili 95-250VDC, izlazni napon 24 V DC; struja 2,5 A, kao tip STEP POWER oznake 2868651, proizvođača Phoenix Contact ili jednakovrijedan | C75: kom | D75: 2 | F75: =D75*E75 -> 0
A76: 2.1.2 | B76: Bežični koncentrator signala s kontrolera temperature preko ZigBee PRO komunikacijskog protokola, te s mogućnošću slanja podataka prema glavnom upravljačkom serveru preko BACnet TCP/IP protokola. Mogućnost komunikacije s uređajima putem RS485 ModBUS protokola te digitalnim i analognim I/O signalima (6 univerzalnih ulaza, 4 analogna izlaza i 2 relejna izlaza), napajanje 24 V AC/DC, kao tip MPM-UN oznake MPM-UN-0I4-5045, proizvođača Schneider Electric ili jednakovrijedan | C76: kom | D76: 2 | F76: =D76*E76 -> 0
A77: 2.1.3 | B77: Bežični kontroler s podrškom za lokalno programiranje putem skripti i programskih aplikacija, mogućnost povezivanja s bežičnim koncentratorima signala putem ZigBee PRO protokola. Kontroler ima ugrađene priključke za: 4 univerzalna ulaza, 4 analogna izlaza i 5 relejnih izlaza. Napajanje 220...240 V AC 50/60 Hz, kao tip SEC-TE oznake SEC-TEA-230-5045, proizvođača Schneider Electric ili jednakovrijedan | C77: kom | D77: 5 | F77: =D77*E77 -> 0
A78: 2.1.4 | B78: Bežični pretvornik i koncentrator signala s kontrolera temperature preko ZigBee PRO komunikacijskog protokola, te s mogućnošću slanja podataka prema glavnom upravljačkom serveru preko BACnet TCP/IP protokola, napajanje 24 V AC/DC, kao tip MPM-GW oznake MPM-GW-DI0-5045, proizvođača Schneider Electric ili jednakovrijedan | C78: kom | D78: 1 | F78: =D78*E78 -> 0
A79: 2.1.5 | B79: CO2 senzorski modul za SE8000 kontroler za kontrolu kvalitete zraka, kao tip VCM oznake VCM8001V5045, proizvođača Schneider Electric ili jednakovrijedan | C79: kom | D79: 9 | F79: =D79*E79 -> 0
A80: 2.1.6 | B80: Programabilni sobni termostat i kontroler ventilokonvektora sa senzorom temperature i vlažnosti zraka te prisutnosti unutar prostorije, s mogućnošću spajanja modula za bežičnu ZigBee PRO komunikaciju, za spajanje bežičnih kontakata za prozore, te relejnog seta za upravljanje ventilokonvektorom, kao tip SER8000 oznake SER8350A5B11, proizvođača Schneider Electric ili jednakovrijedan | C80: kom | D80: 9 | F80: =D80*E80 -> 0
A81: 2.1.7 | B81: Komunikacijski modul ZigBee Pro za SE8300 programibilni sobni termostat i kontroler, kao tip SE8000 oznake VCM8000V5045P, proizvođača Schneider Electric ili jednakovrijedan | C81: kom | D81: 9 | F81: =D81*E81 -> 0
A82: 2.1.8 | B82: Relejni set za ugradbu na ventilokonvektor za dvocijevne i četverocjevne sustave grijanja i hlađenja, s mogućnošću kontrole ventilatora s 3 brzine, kao tip SC3000 oznake SC3504E5045, proizvođača Schneider Electric ili jednakovrijedan | C82: kom | D82: 14 | F82: =D82*E82 -> 0
A83: 2.1.9 | B83: Bežični senzor otvorenosti prozora ili vrata, komunikacija preko Zigbee PRO komunikacijskog protokola, kao tip SED-WDS oznake SED-WDS-P-5045, proizvođača Schneider Electric ili jednakovrijedan | C83: kom | D83: 20 | F83: =D83*E83 -> 0
A84: 2.2 | B84: Programiranje i paramametriranje DDC kontrolera i integriranje third party uređaja u BMS sustav. Puštanje kompletne opreme termoenergetskog i HVAC sustava u pogon. Izrada vizualnog web sučelja za pristup BMS sustavu. | C84: kpl | D84: 1 | F84: =D84*E84 -> 0
B85: Napomene:
...

Sheet 6. Strojarski radovi
A1: GRUPA 4. STROJARSKI RADOVI - GRIJANJE, HLAĐENJE, VENTILACIJA
A3: NAPOMENE:
A5: Kod dijelova cjevovoda iz "crnog" čelika koji su položeni u zemlju, obvezatan je sljedeći postupak antikorozivne zaštite: čišćenje do II stupnja, nanošenje tankog bitumenskog premaza u hladnom stanju, nanošenje tankog bitumenskog premaza u toplom stanju, spiralno namotavanje staklene vune ili drugog podobnog tekstilnog materijala natopljenog bitumenom, nanošenje drugog bitumenskog sloja u toplom stanju, spiralno namotavanje staklene vune ili drugog pogodnog tekstilnog materijala, nanošenje trećeg bitumenskog sloja u toplom stanju te kao završni sloj, nanošenje vapnenog mlijeka.
A7: Navedene duljine cijevi unutar objekta ovise o tipu ugrađene opreme i izvedenom stanju građevinskog objekta te ih valja shvatiti samo paušalno. Stoga se svi cjevovodi, fazoni i prirubnice izrađene od čelika isporučuju NEZAVARENI, pojedinačno u skladu sa specifikacijom u troškovniku. Zavarivanje pojedinih cijevnih elemenata i fazona te završnu izradu pozicija izvršiti u radionici tek nakon provjere stvarno izvedenih kota objekta i ugrađene opreme. Po mogućnosti, sva zavarivanja izvršiti u povoljnim radioničkim uvjetima.
A9: Sve cijevi, armatura i dr. NP10, osim ako stavkom nije drukčije specificirano.
A11: Izvođač je dužan o svom trošku osigurati gradilište i građevinu od štetnog utjecaja vremenskih nepogoda.
A13: Izvođač je dužan izvesti pomoćna sredstva za rad kao što su skele, ograde, skladišta, dizalice, dopremiti i postaviti strojeve, alat, potreban pribor itd. te poduzeti sve mjere sigurnosti da ne dođe do smetnji i opasnosti po život i zdravlje zaposlenika, drugog osoblja i prolaznika. Svaka eventualna šteta koja bi bila prouzročena prolazniku, susjednoj građevini, cesti itd. pada na teret izvođača koji je dužan ukloniti i nadoknaditi štetu u određenom roku.
A15: Nadzor glede čuvanja građevine, gradilišta, postrojenja, alata i materijala pada na teret izvoditelja.
A17: Jedinične cijene pojedinih stavki troškovnika sadržavaju troškove za posve dogotovljen rad. One uključuju materijal, pomoćna sredstva kao što su voda, električna energija, alat, oplata, skela ili slično, za svu radnu snagu, za sve pripremne radove (kao npr. postavljanje baraka ili kontejnera i postrojenja, uključivo s demontažom i otpremom s gradilišta nakon završetka radova i druge troškove koji se u bilo kojem obliku pojave za potrebe gradnje). Čišćenje i uređenje gradilišta također je sadržano u jediničnim cijenama.
A19: Prije davanja ponude, izvođač mora pregledati projektnu dokumentaciju te zatražiti objašnjenje za eventualne nejasne stavke te provjeriti dokaznicu mjera i na vrijeme dati svoje primjedbe. Kasnije primjedbe ne mogu se uzimati u obzir.
A21: Obračun radova provodi se prema tehničkim normativima i njihovim dopunama. Za slučaj da opis pojedinih radova u troškovniku po mišljenju izvoditelja ili bilo kojeg drugog sudionika u gradnji nije potpun, izvođač je dužan izvesti radove prema pravilima struke uz konzultaciju projektanta koji je jedini mjerodavan tumačiti dijelove svog projekta.
A23: Izvođač u potpunosti odgovara za ispravnost izvršene isporuke i odgovoran je za eventualno loš rad ili kvalitetu dobave iz trgovačke mreže ili podizvoditelja.
... A35: Navedene stavke uključuju nabavu, dopremu na gradilište te ugradnju specificiranog materijala i opreme. Cijenom je potrebno obuhvatiti svu potrebnu opremu i pribor za ugradnju do potpunog kompletiranja svake pojedine stavke. Elektro oprema i radovi NISU obuhvaćeni ovim troškovnikom.
A37: red. broj | B37: vrsta radova | C37: jedinica mjere | D37: količina | E37: jedinična cijena | F37: UKUPNO | G37: Popunjava ponuditelj
A38: 1 | B38: 2 | C38: 3 | D38: 4 | E38: 5 | F38: 6
A40: 1. | B40: PLINSKA INSTALACIJA
B42: NAPOMENA:
B43: Dolje navedene stavke obuhvaćaju nabavu, dopremu i montažu predmetne opreme do postizanja pune funkcionalnosti stavki
B44: Cijenom je potrebno obuhvatiti sve radove do potpunog kompletiranja svake pojedine stavke.
B45: Ovim troškovnikom nisu uzeti u obzir nikakvi elektro-radovi.
A47: 1.1. | B47: IZGRADNJA NOVOG PLINSKOG PRIKLJUČKA
A49: 1.1.1.
B50: Predviđena je izgradnja novog ST plinskog priključka 1-3 bar za potrebe plinskog konzuma poslovnog objekta. Isti će se izvršiti iz PEHD d25 x 2.3 mm cijevi koji se pomoću nabušnog sedla za spajanje pod tlakom plina spaja na ST distributivni plinovod PEHD d110 x 10.0 mm.
B52: PEHD d25 x 2.3 mm | C52: m | D52: 10 | F52: =D52*E52 -> 0
B54: Komplet sa svim dodatnim radovima na iskopu i zavarivanju sa svim potrebnim materijalom.
C55: komplet | D55: 1 | F55: =D55*E55 -> 0
B56: NAPOMENE:
B58: Sukladno energetskim uvjetima distributera, ovo izvodi ovlašteni plinoinstalater koji nakon izvršenih radova MRS G4 prijavljuje distributeru.
A60: 1.1.2.
B61: Spojni i fazonski PEHD PE 100 komadi za izvođenje PP
B63: * nabušno sedlo d110/d25 | C63: kom. | D63: 1 | F63: =D63*E63 -> 0
B64: * elektro spojnice d25 | C64: kom. | D64: 4 | F64: =D64*E64 -> 0
B65: * redukcija d32/d25 | C65: kom. | D65: 1 | F65: =D65*E65 -> 0
B66: * ostali materijal i pribor za spajanje PP | C66: komplet | D66: 1 | F66: =D66*E66 -> 0
A69: 1.1.3.
B70: Građevinski radovi na izgradnji mjerene plinske instalacije. Predviđeno polaganje PEHD d32 x 3.0 mm cijevi za plin. Predviđen je rov širine 0.6 m i prosječne dubine iskopa 1.2 m. U cijenu su uključeni iskop, izrada nivelirane pješčane posteljice, zatrpavanje uz neophodno nabijanje do potrebnog stupnja, odvoz viška materijala kao i uređenje okolnog terena nakon završetka radova. U cijenu uključiti rezanje i naknadno popravljenje asfaltnog sloja u zoni radova na izvođenju plinske instalacije.
C71: m' | D71: 60 | F71: =D71*E71 -> 0
A73: 1.1.4.
B74: Nabava, doprema i ugradnja samostojećeg tipskog plinskog seta G-4.
B76: Regulator tlaka za tlakove 1-3 bar / 23 mbar pri maksimalnom protoku 6 m3/h
...

Sheet 7. Niskogradnja
A1: GRUPA 3. NISKOGRADNJA
A3: 1. Pripremni radovi
A5: R. Br. | B5: Opis stavke | F5: J.M. | G5: Količina | H5: Jedinična cijena | I5: Ukupno
A7: 1.1. | B7: Priprema - formiranje gradilišta, dobava svih potrebnih transportnih i radnih sredstava, prijava gradilišta nadležnim općinskim i državnim organima. Izrada svih potrebnih tehnologija izvođenja radova i ovjeravanje istih kod nadležnih tijela, projektanta i nadzornog inženjera. | F7: kpl | G7: 1 | I7: =G7*H7 -> 0
A9: 1.2. | B9: Iskolčavanje trase i objekata. Sva geodetska mjerenja kojima se podaci iz projekta prenose na teren ili s terena u projekte, za cijelo vrijeme građenja, odnosno do predaje radova investitoru, a mjeri se i plaća po metru kvadratnom trase i priključnih cesta. Rad se mjeri po metru kvadratnom trase u skladu s projektom. | F9: m2 | G9: 1437 | I9: =G9*H9 -> 0
A11: 1.3. | B11: Izrada geodetskog snimka izvedenog stanja trase sa izradom elaborata i ucrtavanjem u zemljišne knjige u katastarkom uredu. Rad se mjeri po metru kvadratnom trase u skladu s projektom. | F11: m2 | G11: =G9 -> 1437 | I11: =G11*H11 -> 0
F13: 1. Pripremni radovi | H13: UKUPNO: | I13: =SUM(I7:I11) -> 0
A16: 2. Zemljani radovi
A18: R. Br. | B18: Opis stavke | F18: J.M. | G18: Količina | H18: Jedinična cijena | I18: Ukupno
A20: 2.1. | B20: Strojni iskopi tla prema odredbama projekta s utovarom u prijevozno sredstvo, u materijalu kategorije “C”, u trasi (usjek ili zasjek). Iskop je predviđen za cijevne rovove, drenažne rovove, slivnike, revizijska okna, te usjeke i zasjeke ceste. U stavku je uključen utovar i prijevoz do mjesta ugradnje. | F20: m3 | G20: =914.36*0.3 -> 274.308 | I20: =G20*H20 -> 0
A22: 2.2. | B22: Strojna izrada posteljice od miješanih materijala, završnog sloja usjeka ili nasipa, ujednačene nosivosti, s grubim i finim planiranjem, eventualnom sanacijom pojedinih manjih površina slabijeg materijala i zbijanjem do tražene vrijednosti od 7,0% po CBR-u, uz potrebno vlaženje ili sušenje, sve prema projektu. U cijeni je uključen sav rad, materijal te prevozi, potrebni za potpuno dovršenje uređene i zbijene posteljice. Prometne, manipulativne i pješačke površine. | F22: m2 | G22: =914.36 -> 914.36 | I22: =G22*H22 -> 0
A24: 2.3. | B24: Odvoz preostalog materijala nakon zatrpavanja rova na deponiju udaljenu max 5,0 km. Naknadu za deponiranje uključiti u cijenu. Koef. rastresitosti 1,30 | F24: m3 | G24: =G20*1.3 -> 356.6004 | I24: =G24*H24 -> 0
F26: 2. Zemljani radovi | H26: UKUPNO: | I26: =SUM(I20:I24) -> 0
A30: 3. Kolnička konstruckija
A32: R. Br. | B32: Opis stavke | F32: J.M. | G32: Količina | H32: Jedinična cijena | I32: Ukupno
A34: 3.1. | B34: Strojna izrada nosivog sloja od zrnatog kamenog materijala veličine zrna od 31,5 mm do 64,00 mm bez veziva, u debljini prema projektu. Tražena vrijednost zbijenosti je 40,0% po CBR-u. U cijenu je uključena dobava kamenih prirodnih ili drobljenih zrnatih materijala kakvoće i granulometrije prema zahtjevima projekta i OTU, utovar, prijevoz, i ugradba (strojno razastiranje, planiranje i zbijanje do traženog modula stišljivosti ili stupnja zbijenosti) na uređenu i preuzetu podlogu. Izravnavajući sloj debljine 5 cm. Prometne i manipulativne površine, d = 40,0 cm.
B35: - 31,5 mm - 64,0 mm, d = 35,0 cm | F35: m3 | G35: =914.36*0.35 -> 320.026 | I35: =G35*H35 -> 0
B36: - 0,0 - 4,0 mm, 8,0 - 16,0 mm, d = 5,0 cm | F36: m3 | G36: =914.36*0.05 -> 45.718 | I36: =G36*H36 -> 0
A38: 3.2. | B38: Strojna izrada nosivog sloja od zrnatog kamenog materijala veličine zrna od 31,5 mm do 64,00 mm bez veziva, u debljini prema projektu. Tražena vrijednost zbijenosti je 40,0% po CBR-u. U cijenu je uključena dobava kamenih prirodnih ili drobljenih zrnatih materijala kakvoće i granulometrije prema zahtjevima projekta i OTU, utovar, prijevoz, i ugradba (strojno razastiranje, planiranje i zbijanje do traženog modula stišljivosti ili stupnja zbijenosti) na uređenu i preuzetu podlogu. Rad se mjeri u kubičnim metrima ugrađenog materijala u zbijenom stanju. Izravnavajući sloj debljine 5 cm. Pješačke površine, d = 25,0 cm.
B39: - 31,5 mm - 64,0 mm, d = 20,0 cm | F39: m3 | G39: =120.35*0.2 -> 24.07 | I39: =G39*H39 -> 0
B40: - 0,0 - 4,0 mm, 8,0 - 16,0 mm, d = 5,00 cm | F40: m3 | G40: =120.35*0.05 -> 6.0175 | I40: =G40*H40 -> 0
A42: 3.3. | B42: Strojna izrada sloja od pijeska bez veziva, u debljini prema projektu, kao podloga betonskoh galanteriji pješačke staze. U cijenu je uključena dobava pijeska, kakvoće i granulometrije prema zahtjevima projekta i OTU, utovar, prijevoz, i ugradba (strojno razastiranje, planiranje i zbijanje do traženog modula stišljivosti ili stupnja zbijenosti) na uređenu i preuzetu podlogu. Rad se mjeri u kubičnim metrima ugrađenog materijala u zbijenom stanju. D = 3,0 - 5,0 cm. Podloga pješačke staze. | F42: m3 | G42: =120.35*0.05 -> 6.0175 | I42: =G42*H42 -> 0
A44: 3.4. | B44: Nabava, dobava i ugradnja bitumeniziranog nosivog sloja. Stavka obuhvaća nabavu i ugradnju bitumeniziranog nosivog sloja BNS 22 A debljine 8,0 cm za prometne površine. | F44: m2 | G44: =914.36 -> 914.36 | I44: =G44*H44 -> 0
A46: 3.5. | B46: Nabava, dobava i ugradnja završnog sloja od betonske galanterije, debljine 10,0 cm. U Cijenu stavke uračunat sav materijal i rad. | F46: m2 | G46: =135.2 -> 135.2 | I46: =G46*H46 -> 0
A48: 3.6. | B48: Nabava, dobava i ugradnja habajućeg sloja od asfaltbetona. Stavka obuhvaća nabavu i ugradnju habajućeg sloja asfalt betona AB 11 debljine 4,0 cm za prometne površine. | F48: m2 | G48: =914.36 -> 914.36 | I48: =G48*H48 -> 0
