Workbook
Name OLE_LINK1: '3. Lift'!#REF!
Name REALIZACIJA_1997: '[1]Osn-Pod'!$E$5

Sheet Naslovna
A2: Građevina: | B2: Poslovno - proizvodna zgrada
A3: Investitor: | B3: Nabla Slavonija d.o.o.
A4: Lokacija: | B4: Gospodarska zona Antunovac, k.č.br. 904/3, k.o. Antunovac
A16: TROŠKOVNIK
A17: po GRUPAMA:
A19: 1. | B19: Građevinsko - obrtnički radovi
A20: 2. | B20: Vodovod i kanalizacija
A21: 3. | B21: Lift
A22: 4. | B22: Elektro instalatetrski radovi
A23: 5. | B23: IT oprema i sustavi
A24: 6. | B24: Strojarski radovi
A25: 7. | B25: Niskogradnja
A49: Troškovnik izradio: | C49: Planum projekt d.o.o.
A51: Projektant: | C51: Valentino Liović, mag.ing.aedif.
A53: Suradnik: | C53: Monika Sukačić, mag.ing.aedif.
B55: Beli Manastir, ožujak 2018. godine

Sheet 1. Građ.-obrt. radovi
A1: GRUPA 1. GRAĐEVINSKO - OBRTNIČKI RADOVI
A4: 1. Zemljani radovi
A6: R. Br. | B6: Opis stavke | F6: J.M. | G6: Količina | H6: Jedinična cijena | I6: Ukupno | J6: Popunjava ponuditelj
A8: 1.1. | B8: Strojni otkop humusa u sloju debljine do 25 cm, utovar u kamion i privremeno odlaganje na lokaciji gradilišta. | C8: Kombinirani strojno-ručni iskop zemljišta za trakaste temelje do projektirane kote iskopa, utovar iskopane zemlje u kamion, prijevoz i privremeno odlaganje na lokaciji gradilišta. | D8: Kombinirani strojno-ručni iskop zemljišta za trakaste temelje do projektirane kote iskopa, utovar iskopane zemlje u kamion, prijevoz i privremeno odlaganje na lokaciji gradilišta. | E8: Kombinirani strojno-ručni iskop zemljišta za trakaste temelje do projektirane kote iskopa, utovar iskopane zemlje u kamion, prijevoz i privremeno odlaganje na lokaciji gradilišta. | F8: m3 | G8: =1594.64*0.25 -> 398.66 | I8: =G8*H8 -> 0
A10: 1.2. | B10: Kombinirani strojno-ručni iskop zemljišta za trakaste temelje širine d=60,0 cm, temeljnu ploču lifta i temeljnih stopa za stupove, do projektirane kote iskopa od 90,0 cm. Iskopanu zemlju potrebno odvesti na deponiju koji će biti dio posebne stavke. | C10: Kombinirani strojno-ručni iskop zemljišta za trakaste temelje do projektirane kote iskopa, utovar iskopane zemlje u kamion, prijevoz i privremeno odlaganje na lokaciji gradilišta. | D10: Kombinirani strojno-ručni iskop zemljišta za trakaste temelje do projektirane kote iskopa, utovar iskopane zemlje u kamion, prijevoz i privremeno odlaganje na lokaciji gradilišta. | E10: Kombinirani strojno-ručni iskop zemljišta za trakaste temelje do projektirane kote iskopa, utovar iskopane zemlje u kamion, prijevoz i privremeno odlaganje na lokaciji gradilišta. | F10: m3 | G10: =(0.9*(17.94*2+7*2+17.76+3.6+3.4+2.44+1.21+0.71+3.24))+(6+1.6)+(2*0.9*2)+(1.31*3*0.9)+(0.65*3*0.9) -> 90.508 | I10: =G10*H10 -> 0
A12: 1.3. | B12: Planiranje i valjanje posteljice temelja, kao priprema podloge za betoniranje. U cijenu uključen sav potreban materijal i rad. | C12: Planiranje i valjanje posteljice ispod cjelokupne površine objekta, do postizanja potrebne zbijenosti (Ms≥25 MN/m²). | D12: Planiranje i valjanje posteljice ispod cjelokupne površine objekta, do postizanja potrebne zbijenosti (Ms≥25 MN/m²). | E12: Planiranje i valjanje posteljice ispod cjelokupne površine objekta, do postizanja potrebne zbijenosti (Ms≥25 MN/m²). | F12: m2 | G12: =(17.94*2+7*2+17.76+3.6+3.4+2.44+1.21+0.71+3.24)+(6)+(2*2)+(1.31*3)+(0.65*3) -> 98.12 | I12: =G12*H12 -> 0
A14: 1.4. | B14: Nabava, dobava i ugradnja šljunka, izrada nosivog sloja debljine 20 cm ispod podne AB ploče. Stavka obuhvaća i zbijanje šljunčanog nasipa u slojevima do postizanja odgovarajuće zbijenosti. | C14: Kombinirani strojno-ručni iskop zemljišta za trakaste temelje do projektirane kote iskopa, utovar iskopane zemlje u kamion, prijevoz i privremeno odlaganje na lokaciji gradilišta. | D14: Kombinirani strojno-ručni iskop zemljišta za trakaste temelje do projektirane kote iskopa, utovar iskopane zemlje u kamion, prijevoz i privremeno odlaganje na lokaciji gradilišta. | E14: Kombinirani strojno-ručni iskop zemljišta za trakaste temelje do projektirane kote iskopa, utovar iskopane zemlje u kamion, prijevoz i privremeno odlaganje na lokaciji gradilišta. | F14: m3 | G14: =0.2*(9.4+10.33+22.03+15.2+15.21+3.87+8.81+37.35+11.94+3.82+18.16+17.64+17.37+18.85+46.41) -> 51.278 | I14: =G14*H14 -> 0
A16: 1.5. | B16: Odvoz preostalog zemljanog materijala nakon iskopa na deponiju udaljenu max 5,0 km. Koeficijent rastresitosti 1,30. Naknadu za deponiranje uključiti u cijenu. | F16: m3 | G16: =(G8+G10)*1.3 -> 635.9184 | I16: =G16*H16 -> 0
F18: 1. Zemljani radovi | H18: UKUPNO: | I18: =SUM(I8:I16) -> 0
A21: 2. Tesarski radovi
A23: R. Br. | B23: Opis stavke | F23: J.M. | G23: Količina | H23: Jedinična cijena | I23: Ukupno
A25: 2.1. | B25: Nabava, dobava, izrada, postavljanje i skidanje jednostrane glatke daščane oplate za podnu ploču, visine 12,0 cm, sa svim potrebnim ukrutama i razuporama. PODNA PLOČA | C25: Doprema, izrada, postavljanje i skidanje jednostrane glatke daščane oplate za podnu ploču, visine 16 cm, sa svim potrebnim ukrutama i razuporama. | D25: Doprema, izrada, postavljanje i skidanje jednostrane glatke daščane oplate za podnu ploču, visine 16 cm, sa svim potrebnim ukrutama i razuporama. | E25: Doprema, izrada, postavljanje i skidanje jednostrane glatke daščane oplate za podnu ploču, visine 16 cm, sa svim potrebnim ukrutama i razuporama. | F25: m2 | G25: =40.44*0.12 -> 4.8528 | I25: =G25*H25 -> 0
A27: 2.2. | B27: Nabava, dobava, izrada, postavljanje i skidanje jednostrane glatke daščane oplate za podnu ploču, visine 15,0 cm, sa svim potrebnim ukrutama i razuporama. PODNA PLOČA | C27: Doprema, izrada, postavljanje i skidanje jednostrane glatke daščane oplate za podnu ploču, visine 16 cm, sa svim potrebnim ukrutama i razuporama. | D27: Doprema, izrada, postavljanje i skidanje jednostrane glatke daščane oplate za podnu ploču, visine 16 cm, sa svim potrebnim ukrutama i razuporama. | E27: Doprema, izrada, postavljanje i skidanje jednostrane glatke daščane oplate za podnu ploču, visine 16 cm, sa svim potrebnim ukrutama i razuporama. | F27: m2 | G27: =45.05*0.15 -> 6.7575 | I27: =G27*H27 -> 0
A29: 2.3. | B29: Nabava, dobava, izrada, postavljanje i skidanje glatke daščane oplate za vertikalne serklaže, presjeka 25/25 cm i visine do 4,00 m, sa svim potrebnim ukrutama i razuporama i podupiranjem. VERTIKLANI SERKLAŽI | C29: Doprema, izrada, postavljanje i skidanje dvostrane glatke daščane oplate za vertikalne serklaže, presjeka 25/25 cm i visine do 4,00 m, sa svim potrebnim ukrutama i razuporama i podupiranjem. | D29: Doprema, izrada, postavljanje i skidanje dvostrane glatke daščane oplate za vertikalne serklaže, presjeka 25/25 cm i visine do 4,00 m, sa svim potrebnim ukrutama i razuporama i podupiranjem. | E29: Doprema, izrada, postavljanje i skidanje dvostrane glatke daščane oplate za vertikalne serklaže, presjeka 25/25 cm i visine do 4,00 m, sa svim potrebnim ukrutama i razuporama i podupiranjem. | F29: m2 | G29: =0.25*3.4*(22+47+26+40+46) -> 153.85 | I29: =G29*H29 -> 0
A31: 2.4. | B31: Nabava, dobava, izrada, postavljanje i skidanje jednostrane glatke daščane oplate za horizontalne serklaže, presjeka 25/20 cm, sa svim potrebnim ukrutama i razuporama. HORIZONTALNI SERKLAŽI | C31: Doprema, izrada, postavljanje i skidanje dvostrane glatke daščane oplate za horizontalne serklaže i atiku, sa svim potrebnim ukrutama i razuporama. | D31: Doprema, izrada, postavljanje i skidanje dvostrane glatke daščane oplate za horizontalne serklaže i atiku, sa svim potrebnim ukrutama i razuporama. | E31: Doprema, izrada, postavljanje i skidanje dvostrane glatke daščane oplate za horizontalne serklaže i atiku, sa svim potrebnim ukrutama i razuporama. | F31: m2 | G31: =81.77*0.2*2 -> 32.708 | I31: =G31*H31 -> 0
A33: 2.5. | B33: Nabava, dobava, izrada, postavljanje i skidanje glatke daščane oplate za stubište, sa svim potrebnim ukrutama i razuporama. STUBIŠTE. | C33: Doprema, izrada, postavljanje i skidanje dvostrane glatke daščane oplate za horizontalne serklaže i atiku, sa svim potrebnim ukrutama i razuporama. | D33: Doprema, izrada, postavljanje i skidanje dvostrane glatke daščane oplate za horizontalne serklaže i atiku, sa svim potrebnim ukrutama i razuporama. | E33: Doprema, izrada, postavljanje i skidanje dvostrane glatke daščane oplate za horizontalne serklaže i atiku, sa svim potrebnim ukrutama i razuporama. | F33: m2 | G33: =(5.05*1.3+7.14*1.3)+(0.15*1.3*24*2)+(13.4*2) -> 52.007 | I33: =G33*H33 -> 0
A35: 2.6. | B35: Nabava, dobava, izrada, postavljanje i skidanje glatke daščane oplate za okno lifta, sa svim potrebnim ukrutama i razuporama. OKNO LIFTA. | C35: Doprema, izrada, postavljanje i skidanje dvostrane glatke daščane oplate za horizontalne serklaže i atiku, sa svim potrebnim ukrutama i razuporama. | D35: Doprema, izrada, postavljanje i skidanje dvostrane glatke daščane oplate za horizontalne serklaže i atiku, sa svim potrebnim ukrutama i razuporama. | E35: Doprema, izrada, postavljanje i skidanje dvostrane glatke daščane oplate za horizontalne serklaže i atiku, sa svim potrebnim ukrutama i razuporama. | F35: m2 | G35: =(10.64*8.6+8.64*8.25) -> 162.784 | I35: =G35*H35 -> 0
A37: 2.7. | B37: Nabava, dobava, izrada, postavljanje i skidanje glatke daščane oplate za stupove, presjeka 40/40 cm i visine do 4,00 m, sa svim potrebnim ukrutama i razuporama i podupiranjem. STUPOVI. | C37: Doprema, izrada, postavljanje i skidanje dvostrane glatke daščane oplate za vertikalne serklaže, presjeka 25/25 cm i visine do 4,00 m, sa svim potrebnim ukrutama i razuporama i podupiranjem. | D37: Doprema, izrada, postavljanje i skidanje dvostrane glatke daščane oplate za vertikalne serklaže, presjeka 25/25 cm i visine do 4,00 m, sa svim potrebnim ukrutama i razuporama i podupiranjem. | E37: Doprema, izrada, postavljanje i skidanje dvostrane glatke daščane oplate za vertikalne serklaže, presjeka 25/25 cm i visine do 4,00 m, sa svim potrebnim ukrutama i razuporama i podupiranjem. | F37: m2 | G37: =1.6*7*2 -> 22.4 | I37: =G37*H37 -> 0
A39: 2.8. | B39: Nabava, dobava, izrada, postavljanje i skidanje glatke daščane oplate za grede i nadvoje, sa svim potrebnim ukrutama i razuporama. GREDE I NADVOJI | C39: Doprema, izrada, postavljanje i skidanje dvostrane glatke daščane oplate za horizontalne serklaže i atiku, sa svim potrebnim ukrutama i razuporama. | D39: Doprema, izrada, postavljanje i skidanje dvostrane glatke daščane oplate za horizontalne serklaže i atiku, sa svim potrebnim ukrutama i razuporama. | E39: Doprema, izrada, postavljanje i skidanje dvostrane glatke daščane oplate za horizontalne serklaže i atiku, sa svim potrebnim ukrutama i razuporama. | F39: m2 | G39: =(0.25*3+0.35*3*2)*2+(0.25*4.75+0.5*4.75*2)+(0.25*2.5+0.3*2.5*2)*2+(0.25*1.5*3)*5+(0.25*2.2*3)+(0.25*4.25+0.45*4.25*2)*8+(0.25*6+0.6*6*2)*2+(0.25*3.3+0.4*3.3*2)*6+(0.25*3.35+0.4*3.35*2)*11+(0.25*3+0.35*3*2)+(0.25*2.5+0.3*2.5*2)+(0.25*9.25+0.6*9.25*2)*2+(0.25*2.2+0.2*2.2*2)*2+(0.25*1.4+0.2*1.4*2)+(0.25*6+0.6*6*2)*5 -> 218.215 | I39: =G39*H39 -> 0
F41: 2. Tesarski radovi | H41: UKUPNO: | I41: =SUM(I25:I39) -> 0
A44: 3. Betonski radovi
A46: R. Br. | B46: Opis stavke | F46: J.M. | G46: Količina | H46: Jedinična cijena | I46: Ukupno
A48: 3.1. | B48: Nabava, dobava i ugradnja betona C30/37 u trakaste temelje, širine 60,0 cm i visine cca. 90,0 cm. Stavkom je obuhvaćena doprema betona iz tvornice betona, ugradba i njega betona nakon ugradbe. TRAKASTI TEMELJI. | C48: Betoniranje trakastih temelja C25/30 visine do 90 cm. Stavkom je obuhvaćena doprema betona iz tvornice betona, ugradba i njega betona nakon ugradbe. | D48: Betoniranje trakastih temelja C25/30 visine do 90 cm. Stavkom je obuhvaćena doprema betona iz tvornice betona, ugradba i njega betona nakon ugradbe. | E48: Betoniranje trakastih temelja C25/30 visine do 90 cm. Stavkom je obuhvaćena doprema betona iz tvornice betona, ugradba i njega betona nakon ugradbe. | F48: m3 | G48: =G10 -> 90.508 | I48: =G48*H48 -> 0
A50: 3.2. | B50: Nabava, dobava i ugradnja betona C25/30 u podnu ploču, debljine 12,0 cm. Stavkom je obuhvaćena doprema betona iz tvornice betona, ugradba i njega betona nakon ugradbe. PODNA PLOČA. | C50: Betoniranje armirane podne ploče, debljine 15 cm, betonom C25/30. Stavkom je obuhvaćena doprema betona iz tvornice betona, ugradba i njega betona nakon ugradbe. | D50: Betoniranje armirane podne ploče, debljine 15 cm, betonom C25/30. Stavkom je obuhvaćena doprema betona iz tvornice betona, ugradba i njega betona nakon ugradbe. | E50: Betoniranje armirane podne ploče, debljine 15 cm, betonom C25/30. Stavkom je obuhvaćena doprema betona iz tvornice betona, ugradba i njega betona nakon ugradbe. | F50: m3 | G50: =171.83*0.12 -> 20.6196 | I50: =G50*H50 -> 0
A52: 3.3. | B52: Nabava, dobava i ugradnja betona C25/30 u podnu ploču, debljine 15,0 cm. Stavkom je obuhvaćena doprema betona iz tvornice betona, ugradba i njega betona nakon ugradbe. PODNA PLOČA. | C52: Betoniranje armirane podne ploče, debljine 15 cm, betonom C25/30. Stavkom je obuhvaćena doprema betona iz tvornice betona, ugradba i njega betona nakon ugradbe. | D52: Betoniranje armirane podne ploče, debljine 15 cm, betonom C25/30. Stavkom je obuhvaćena doprema betona iz tvornice betona, ugradba i njega betona nakon ugradbe. | E52: Betoniranje armirane podne ploče, debljine 15 cm, betonom C25/30. Stavkom je obuhvaćena doprema betona iz tvornice betona, ugradba i njega betona nakon ugradbe. | F52: m3 | G52: =167.52*0.15 -> 25.128 | I52: =G52*H52 -> 0
A54: 3.4. | B54: Nabava, dobava i ugradnja betona C25/30 u vertikalne serklaže presjeka 25/25 cm i visine do max. 4,0 u glatkoj oplati. Stavkom je obuhvaćena doprema betona iz tvornice betona, ugradba i njega betona nakon ugradbe. VERTIKALNI SERKLAŽI. | C54: Betoniranje armiranih vertikalnih serklaža presjeka 25/25 cm i visine do max 3,50 m, betonom C25/30 u glatkoj oplati. Stavkom je obuhvaćena doprema betona iz tvornice betona, ugradba i njega betona nakon ugradbe. | D54: Betoniranje armiranih vertikalnih serklaža presjeka 25/25 cm i visine do max 3,50 m, betonom C25/30 u glatkoj oplati. Stavkom je obuhvaćena doprema betona iz tvornice betona, ugradba i njega betona nakon ugradbe. | E54: Betoniranje armiranih vertikalnih serklaža presjeka 25/25 cm i visine do max 3,50 m, betonom C25/30 u glatkoj oplati. Stavkom je obuhvaćena doprema betona iz tvornice betona, ugradba i njega betona nakon ugradbe. | F54: m3 | G54: =(0.25*0.25*3.4)*(10+19+4+29)+(1*0.25*0.25*26) -> 14.8 | I54: =G54*H54 -> 0
A56: 3.5. | B56: Nabava, dobava i ugradnja betona C25/30 u horizontalne serklaže presjeka 25/20 cm u glatkoj oplati. Stavkom je obuhvaćena doprema betona iz tvornice betona, ugradba i njega betona nakon ugradbe. HORIZONTALNI SERKLAŽI. | C56: Betoniranje armiranih vertikalnih serklaža presjeka 25/25 cm i visine do max 3,50 m, betonom C25/30 u glatkoj oplati. Stavkom je obuhvaćena doprema betona iz tvornice betona, ugradba i njega betona nakon ugradbe. | D56: Betoniranje armiranih vertikalnih serklaža presjeka 25/25 cm i visine do max 3,50 m, betonom C25/30 u glatkoj oplati. Stavkom je obuhvaćena doprema betona iz tvornice betona, ugradba i njega betona nakon ugradbe. | E56: Betoniranje armiranih vertikalnih serklaža presjeka 25/25 cm i visine do max 3,50 m, betonom C25/30 u glatkoj oplati. Stavkom je obuhvaćena doprema betona iz tvornice betona, ugradba i njega betona nakon ugradbe. | F56: m3 | G56: =0.25*0.2*(83.06+12.38+9.25+12.25+4.4+4.5+4.5+9+3.6+83.06+4.6+12.5+83.06) -> 16.308 | I56: =G56*H56 -> 0
A58: 3.6. | B58: Nabava, dobava i ugradnja betona C25/30 u ab stubište u glatkoj oplati. Stavkom je obuhvaćena doprema betona iz tvornice betona, ugradba i njega betona nakon ugradbe. AB STUBIŠTE. | C58: Betoniranje armiranih vertikalnih serklaža presjeka 25/25 cm i visine do max 3,50 m, betonom C25/30 u glatkoj oplati. Stavkom je obuhvaćena doprema betona iz tvornice betona, ugradba i njega betona nakon ugradbe. | D58: Betoniranje armiranih vertikalnih serklaža presjeka 25/25 cm i visine do max 3,50 m, betonom C25/30 u glatkoj oplati. Stavkom je obuhvaćena doprema betona iz tvornice betona, ugradba i njega betona nakon ugradbe. | E58: Betoniranje armiranih vertikalnih serklaža presjeka 25/25 cm i visine do max 3,50 m, betonom C25/30 u glatkoj oplati. Stavkom je obuhvaćena doprema betona iz tvornice betona, ugradba i njega betona nakon ugradbe. | F58: m3 | G58: =1.3*1.3+1.4*1.3 -> 3.51 | I58: =G58*H58 -> 0
A60: 3.7. | B60: Nabava, dobava i ugradnja betona C25/30 u ab okno lifta u glatkoj oplati. Stavkom je obuhvaćena doprema betona iz tvornice betona, ugradba i njega betona nakon ugradbe. AB OKNO LIFTA. | C60: Betoniranje armiranih vertikalnih serklaža presjeka 25/25 cm i visine do max 3,50 m, betonom C25/30 u glatkoj oplati. Stavkom je obuhvaćena doprema betona iz tvornice betona, ugradba i njega betona nakon ugradbe. | D60: Betoniranje armiranih vertikalnih serklaža presjeka 25/25 cm i visine do max 3,50 m, betonom C25/30 u glatkoj oplati. Stavkom je obuhvaćena doprema betona iz tvornice betona, ugradba i njega betona nakon ugradbe. | E60: Betoniranje armiranih vertikalnih serklaža presjeka 25/25 cm i visine do max 3,50 m, betonom C25/30 u glatkoj oplati. Stavkom je obuhvaćena doprema betona iz tvornice betona, ugradba i njega betona nakon ugradbe. | F60: m3 | G60: =((7-4.55)*8.25)+(7*0.3*2)-(2.32*0.25*2) -> 23.2525 | I60: =G60*H60 -> 0
A62: 3.8. | B62: Nabava, dobava i ugradnja betona C25/30 u vertikalne serklaže presjeka 25/25 cm i visine do max. 3,0 u glatkoj oplati. Stavkom je obuhvaćena doprema betona iz tvornice betona, ugradba i njega betona nakon ugradbe. STUPOVI | C62: Betoniranje armiranih vertikalnih serklaža presjeka 25/25 cm i visine do max 3,50 m, betonom C25/30 u glatkoj oplati. Stavkom je obuhvaćena doprema betona iz tvornice betona, ugradba i njega betona nakon ugradbe. | D62: Betoniranje armiranih vertikalnih serklaža presjeka 25/25 cm i visine do max 3,50 m, betonom C25/30 u glatkoj oplati. Stavkom je obuhvaćena doprema betona iz tvornice betona, ugradba i njega betona nakon ugradbe. | E62: Betoniranje armiranih vertikalnih serklaža presjeka 25/25 cm i visine do max 3,50 m, betonom C25/30 u glatkoj oplati. Stavkom je obuhvaćena doprema betona iz tvornice betona, ugradba i njega betona nakon ugradbe. | F62: m3 | G62: =0.4*0.4*7*2 -> 2.24 | I62: =G62*H62 -> 0
A64: 3.9. | B64: Nabava, dobava i ugradnja betona C25/30 u ab grede i nadvoje u glatkoj oplati. Stavkom je obuhvaćena doprema betona iz tvornice betona, ugradba i njega betona nakon ugradbe. AB GREDE I NADVOJI. | C64: Betoniranje armiranih vertikalnih serklaža presjeka 25/25 cm i visine do max 3,50 m, betonom C25/30 u glatkoj oplati. Stavkom je obuhvaćena doprema betona iz tvornice betona, ugradba i njega betona nakon ugradbe. | D64: Betoniranje armiranih vertikalnih serklaža presjeka 25/25 cm i visine do max 3,50 m, betonom C25/30 u glatkoj oplati. Stavkom je obuhvaćena doprema betona iz tvornice betona, ugradba i njega betona nakon ugradbe. | E64: Betoniranje armiranih vertikalnih serklaža presjeka 25/25 cm i visine do max 3,50 m, betonom C25/30 u glatkoj oplati. Stavkom je obuhvaćena doprema betona iz tvornice betona, ugradba i njega betona nakon ugradbe. | F64: m3 | G64: =(0.25*0.35*3)*2+(0.25*0.5*4.75)+(0.25*0.3*2.5)*2+(0.25*0.2*1.5)*5+(0.25*0.25*2.2)+(0.25*0.45*4.25)*8+(0.25*0.6*6)*2+(0.25*0.4*3.3)*6+(0.25*0.4*3.35)*11+(0.25*0.35*3)+(0.25*0.3*2.5)+(0.25*0.6*9.25)*2+(0.25*0.2*2.2)*2+(0.25*0.2*1.4)+(0.25*0.6*6)*5 -> 21.31125 | I64: =G64*H64 -> 0
A66: 3.10. | B66: Nabava, dobava i ugradnja betona C25/30 na podove prizemlja, kao podložni beton, debljine 5,0 cm. Stavkom je obuhvaćena doprema betona iz tvornice betona, ugradba i njega betona nakon ugradbe. PODLOŽNI BETON. | C66: Betoniranje armiranih vertikalnih serklaža presjeka 25/25 cm i visine do max 3,50 m, betonom C25/30 u glatkoj oplati. Stavkom je obuhvaćena doprema betona iz tvornice betona, ugradba i njega betona nakon ugradbe. | D66: Betoniranje armiranih vertikalnih serklaža presjeka 25/25 cm i visine do max 3,50 m, betonom C25/30 u glatkoj oplati. Stavkom je obuhvaćena doprema betona iz tvornice betona, ugradba i njega betona nakon ugradbe. | E66: Betoniranje armiranih vertikalnih serklaža presjeka 25/25 cm i visine do max 3,50 m, betonom C25/30 u glatkoj oplati. Stavkom je obuhvaćena doprema betona iz tvornice betona, ugradba i njega betona nakon ugradbe. | F66: m3 | G66: =0.05*(9.4+10.33+22.03+15.2+15.21+3.87+8.81+37.35+11.94+3.82+18.16+17.64+17.37+18.85+46.41) -> 12.8195 | I66: =G66*H66 -> 0
F68: 3. Betonski radovi | H68: UKUPNO: | I68: =SUM(I48:I66) -> 0
A73: 4. Armirački radovi
A75: R. Br. | B75: Opis stavke | F75: J.M. | G75: Količina | H75: Jedinična cijena | I75: Ukupno
A77: 4.1. | B77: Nabava, dobava, sječenje, savijanje, ugradnja i postavljanje rebraste armature svih profila vertikalnih i horizontalnih serklaža, greda, nadvoja i sl. Armatura B500B. | C77: Nabava, doprema, sječenje, savijanje, ugradnja i postavljanje rebraste armature svih profila trakastih temelja, nadtemeljnih zidova, vertikalnih,horizontalnih serklaža,greda i ukrutnih greda stropa. | D77: Nabava, doprema, sječenje, savijanje, ugradnja i postavljanje rebraste armature svih profila trakastih temelja, nadtemeljnih zidova, vertikalnih,horizontalnih serklaža,greda i ukrutnih greda stropa. | E77: Nabava, doprema, sječenje, savijanje, ugradnja i postavljanje rebraste armature svih profila trakastih temelja, nadtemeljnih zidova, vertikalnih,horizontalnih serklaža,greda i ukrutnih greda stropa. | F77: kg | G77: =170*(G48+G54+G62+G64) -> 21906.072 | I77: =G77*H77 -> 0
A79: 4.2. | B79: Nabava, dobava, sječenje, ugradnja i postavljanje mrežaste armature u pločaste elemente. Armatura B500B. | C79: Nabava, doprema, sječenje, ugradnja i postavljanje mrežaste armature. | D79: Nabava, doprema, sječenje, ugradnja i postavljanje mrežaste armature. | E79: Nabava, doprema, sječenje, ugradnja i postavljanje mrežaste armature. | F79: kg | G79: =(15*(G50+G52))+(30*(G58+G60)) -> 1489.089 | I79: =G79*H79 -> 0
F81: 4. Armirački radovi | H81: UKUPNO: | I81: =SUM(I77:I79) -> 0
A84: 5. Zidarski radovi
A86: R. Br. | B86: Opis stavke | F86: J.M. | G86: Količina | H86: Jedinična cijena | I86: Ukupno
A88: 5.1. | B88: Nabava, dobava i ugradnja svog potrebnog materijala, kao i izrada vapneno-cementnog morta, za zidanje nosivih zidova svih etaža, d=25,0 cm glinenom blok opekom. U stavku uključen sav potreban alat, materijal i rad. NOSIVI ZIDOVI. | C88: Doprema, istovar i ugradnja svog potrebnog materijala, spravljanje vapneno-cementnog morta i zidanje nosivih zidova glinenom blok opekom d=25 cm. | D88: Doprema, istovar i ugradnja svog potrebnog materijala, spravljanje vapneno-cementnog morta i zidanje nosivih zidova glinenom blok opekom d=25 cm. | E88: Doprema, istovar i ugradnja svog potrebnog materijala, spravljanje vapneno-cementnog morta i zidanje nosivih zidova glinenom blok opekom d=25 cm. | F88: m3 | G88: =(3.4*(1.45+1.07*9+0.55+0.84*8+0.63+0.75+0.38+1.07*4+0.38*4+0.63+1.01+0.84+0.32*4+0.3*2+0.75*2))+(3.4*(1.07*4+0.55+0.84*8+0.63+0.75+1.07*4+0.38*4+0.63+1.01+0.84+0.32*4+0.3*2+0.75*2))-(0.25*(16.5*2+2.1+3.5+6.78+3.1*3+1.75+0.6+1.15*2+2.53*2+5.95*6+3.1+4.7*3))-G64-(0.25*(1.8*2.6+1*2.1*8)) -> 135.62025 | I88: =G88*H88 -> 0
A90: 5.2. | B90: Nabava, dobava i ugradnja svog potrebnog materijala, kao i izrada vapneno-cementnog morta, za zidanje zidova atike, d=25,0 cm glinenom blok opekom. U stavku uključen sav potreban alat, materijal i rad. ATIKA. | C90: Doprema, istovar i ugradnja svog potrebnog materijala, spravljanje vapneno-cementnog morta i zidanje nosivih zidova glinenom blok opekom d=25 cm. | D90: Doprema, istovar i ugradnja svog potrebnog materijala, spravljanje vapneno-cementnog morta i zidanje nosivih zidova glinenom blok opekom d=25 cm. | E90: Doprema, istovar i ugradnja svog potrebnog materijala, spravljanje vapneno-cementnog morta i zidanje nosivih zidova glinenom blok opekom d=25 cm. | F90: m3 | G90: =87.69*0.25*1 -> 21.9225 | I90: =G90*H90 -> 0
A92: 5.3. | B92: Nabava, doprema i ugradnja svog potrebnog materijala, spravljanje vapneno-cementnog morta i zidanje pregradnih zidova glinenom blok opekom d=12 cm. PREGRADNI ZODVI. | C92: Doprema, istovar i ugradnja svog potrebnog materijala, spravljanje vapneno-cementnog morta i zidanje nosivih zidova glinenom blok opekom d=25 cm. | D92: Doprema, istovar i ugradnja svog potrebnog materijala, spravljanje vapneno-cementnog morta i zidanje nosivih zidova glinenom blok opekom d=25 cm. | E92: Doprema, istovar i ugradnja svog potrebnog materijala, spravljanje vapneno-cementnog morta i zidanje nosivih zidova glinenom blok opekom d=25 cm. | F92: m2 | G92: =(3.4*(5.45+4.95+4.4+4.25+2.5+2.6))+(3.4*(4.5+4.25+3.3+1.3+2.7+1.2))-(2.1*2+0.8*2*3+0.9*2+0.6*2*3) -> 126.36 | I92: =G92*H92 -> 0
A94: 5.4. | B94: Nabava, dobava i ugradnja svog potrebnog materijala za žbukanje unutarnjih zidova, s obradom svih špaleta. Ukupna debljina žbuke mora biti između 1,5 -2,0 cm. Stavka obuhvaća i druge predradnje, kao što je čišćenje zidova i zaštita stolarije te skela po potrebi. ŽBUKANJE ZIDOVA. | C94: Žbukanje unutarnjih zidova od blok opeke te okna lifta, sa obradom svih špaleta. Grubo žbukanje vapneno-cementnom temeljnom žbukom u sloju debljine cca 1,5 cm, finiranje mineralnom zaribanom žbukom u sloju do 3 mm. Prije samog žbukanja nanosi se sloj cementnog šprica, a na svim rubovima i kutevima se postavljaju lajsne za žbukanje. Stavka obuhvaća i druge predradnje, kao što je čišćenje zidova i zaštita stolarije te skela. | D94: Žbukanje unutarnjih zidova od blok opeke te okna lifta, sa obradom svih špaleta. Grubo žbukanje vapneno-cementnom temeljnom žbukom u sloju debljine cca 1,5 cm, finiranje mineralnom zaribanom žbukom u sloju do 3 mm. Prije samog žbukanja nanosi se sloj cementnog šprica, a na svim rubovima i kutevima se postavljaju lajsne za žbukanje. Stavka obuhvaća i druge predradnje, kao što je čišćenje zidova i zaštita stolarije te skela. | E94: Žbukanje unutarnjih zidova od blok opeke te okna lifta, sa obradom svih špaleta. Grubo žbukanje vapneno-cementnom temeljnom žbukom u sloju debljine cca 1,5 cm, finiranje mineralnom zaribanom žbukom u sloju do 3 mm. Prije samog žbukanja nanosi se sloj cementnog šprica, a na svim rubovima i kutevima se postavljaju lajsne za žbukanje. Stavka obuhvaća i druge predradnje, kao što je čišćenje zidova i zaštita stolarije te skela. | F94: m2 | G94: =(3.4*(42.04+7.85+20.5+17+17+10.8+47.45+6.85+47.44+10.8+31.25+16.9+18.35+11.01)-(16.5*2+2.1+3.5+6.78+3.1*3+1.75+0.6+1.15*2+2.53*2+5.95*6+3.1+4.7*3)-(2.1*10))+(2*3.4*(5.45+4.95+4.4+4.25+2.5+2.6))+(2*3.4*(4.5+4.25+3.3+1.3+2.7+1.2))-(2*(2.1*2+0.8*2*3+0.9*2+0.6*2*3)) -> 1152.246 | I94: =G94*H94 -> 0
A96: 5.5. | B96: Nabava, dobava i ugradnja svog potrebnog materijala za žbukanje stropova. Ukupna debljina žbuke mora biti između 1,5 -2,0 cm. Stavka obuhvaća i druge predradnje, kao što je čišćenje zidova i zaštita stolarije te skela po potrebi. ŽBUKANJE STROPOVA. | C96: Žbukanje unutarnjih zidova od blok opeke te okna lifta, sa obradom svih špaleta. Grubo žbukanje vapneno-cementnom temeljnom žbukom u sloju debljine cca 1,5 cm, finiranje mineralnom zaribanom žbukom u sloju do 3 mm. Prije samog žbukanja nanosi se sloj cementnog šprica, a na svim rubovima i kutevima se postavljaju lajsne za žbukanje. Stavka obuhvaća i druge predradnje, kao što je čišćenje zidova i zaštita stolarije te skela. | D96: Žbukanje unutarnjih zidova od blok opeke te okna lifta, sa obradom svih špaleta. Grubo žbukanje vapneno-cementnom temeljnom žbukom u sloju debljine cca 1,5 cm, finiranje mineralnom zaribanom žbukom u sloju do 3 mm. Prije samog žbukanja nanosi se sloj cementnog šprica, a na svim rubovima i kutevima se postavljaju lajsne za žbukanje. Stavka obuhvaća i druge predradnje, kao što je čišćenje zidova i zaštita stolarije te skela. | E96: Žbukanje unutarnjih zidova od blok opeke te okna lifta, sa obradom svih špaleta. Grubo žbukanje vapneno-cementnom temeljnom žbukom u sloju debljine cca 1,5 cm, finiranje mineralnom zaribanom žbukom u sloju do 3 mm. Prije samog žbukanja nanosi se sloj cementnog šprica, a na svim rubovima i kutevima se postavljaju lajsne za žbukanje. Stavka obuhvaća i druge predradnje, kao što je čišćenje zidova i zaštita stolarije te skela. | F96: m2 | G96: =13.65+140.93+0.4*6*10+4.9*2.5 -> 190.83 | I96: =G96*H96 -> 0
A98: 5.6. | B98: Nabava, dobava materijala i izrada cementnog estiha u sloju debljine 7,0 cm, iznad podne ploče i stropa kata, kao podloge završnom sloju poda. U cijenu uključen sav potreban materijal, alat i rad. | C98: Doprema, postavljanje i skidanje montažne fasadne skele za vrijeme izvođenja zidarskih i fasaderskih radova. | D98: Doprema, postavljanje i skidanje montažne fasadne skele za vrijeme izvođenja zidarskih i fasaderskih radova. | E98: Doprema, postavljanje i skidanje montažne fasadne skele za vrijeme izvođenja zidarskih i fasaderskih radova. | F98: m2 | G98: =G123+G125 -> 313.33 | I98: =G98*H98 -> 0
A100: 5.7. | B100: Nabava, dobava materijala i izrada cementnog estiha u sloju debljine 5,0 cm, u skladištu, kao podloge završnom sloju poda. U cijenu uključen sav potreban materijal, alat i rad. | C100: Doprema, postavljanje i skidanje montažne fasadne skele za vrijeme izvođenja zidarskih i fasaderskih radova. | D100: Doprema, postavljanje i skidanje montažne fasadne skele za vrijeme izvođenja zidarskih i fasaderskih radova. | E100: Doprema, postavljanje i skidanje montažne fasadne skele za vrijeme izvođenja zidarskih i fasaderskih radova. | F100: m2 | G100: 140.94 | I100: =G100*H100 -> 0
A102: 5.8. | B102: Izvedba fert stropa od tvorničkih montažnih fert-strop gredica 12/16 cm, na osnom razmaku od 40 cm i fert-strop ispuna širine 28 cm. Stropne gredice izrađene kao rešetkasti nosači od okruglih rebrastih čeličnih profilala.Tlačnu ploču izvesti debljine 5 cm, betonom C 25/30. U cijeni sav rad, podupirači, oplata i sl. MONTA STROP. | C102: Doprema, postavljanje i skidanje montažne fasadne skele za vrijeme izvođenja zidarskih i fasaderskih radova. | D102: Doprema, postavljanje i skidanje montažne fasadne skele za vrijeme izvođenja zidarskih i fasaderskih radova. | E102: Doprema, postavljanje i skidanje montažne fasadne skele za vrijeme izvođenja zidarskih i fasaderskih radova. | F102: m2 | G102: =162.38+332.37 -> 494.75 | I102: =G102*H102 -> 0
A104: 5.9. | B104: Nabava, dobava materijala i izrada betona za pad u debljini od 5,0 - 15,0 cm, iznad ab ploče ravnog krova, kao podloge završnom sloju ravnog krova. U cijenu uključen sav potreban materijal i rad. | C104: Doprema, postavljanje i skidanje montažne fasadne skele za vrijeme izvođenja zidarskih i fasaderskih radova. | D104: Doprema, postavljanje i skidanje montažne fasadne skele za vrijeme izvođenja zidarskih i fasaderskih radova. | E104: Doprema, postavljanje i skidanje montažne fasadne skele za vrijeme izvođenja zidarskih i fasaderskih radova. | F104: m3 | G104: =342.57*0.12 -> 41.1084 | I104: =G104*H104 -> 0
F106: 5. Zidarski radovi | H106: UKUPNO: | I106: =SUM(I88:I104) -> 0
A109: 6. Limarski radovi
A111: R. Br. | B111: Opis stavke | F111: J.M. | G111: Količina | H111: Jedinična cijena | I111: Ukupno
A113: 6.1. | B113: Nabava, dobava i montaža opšava atike, izrađenih od poc. lima debljine 0,55 mm. Stavkom su obuhvaćena i sva spojna sredstva. U cijenu uključen sav potreban materijal i rad. | C113: Doprema i montaža opšava, izrađenih od poc. lima debljine 0,55 mm, u boji po odabiru projektanta ili investitora. Stavkom su obuhvaćena i sva spojna sredstva. | D113: Doprema i montaža opšava, izrađenih od poc. lima debljine 0,55 mm, u boji po odabiru projektanta ili investitora. Stavkom su obuhvaćena i sva spojna sredstva. | E113: Doprema i montaža opšava, izrađenih od poc. lima debljine 0,55 mm, u boji po odabiru projektanta ili investitora. Stavkom su obuhvaćena i sva spojna sredstva. | F113: m' | G113: =87.7+2 -> 89.7 | I113: =G113*H113 -> 0
F115: 6. Limarski radovi | H115: UKUPNO: | I115: =SUM(I113:I113) -> 0
A118: 7. Izolaterski radovi
A120: R. Br. | B120: Opis stavke | F120: J.M. | G120: Količina | H120: Jedinična cijena | I120: Ukupno
A122: 7.1. | B122: Nabava, dobava i izrada hidroizolacije podova prizemlja i kata ispod toaleta, te okno dna lifta i zidova do razine terena, u slojevima 3+2. Slojevi se sastoje od nanošenje temeljnog polimer-bitumenskog premaza i bitumenskih traka. Varenje dvije plastomerne bitumenske hidroizolacijske trake visoke kvalitete s preklopima od 10,0 cm. U stavku uračunat sav potreban materijal i rad. | C122: Radi kontrole upojnosti podloge, nanošenje temeljnog polimer-bitumenskog premaza IDROPRIMER ili jednakovrijedan 0,3 kg/m2. Varenje dvije plastomerne bitumenske hidroizolacijske trake visoke kvalitete kao TREND HS ili jednakovijedne ojačane sa netkanim poliesterskim filcom i stabilizirane u uzdužnom smjeru staklenim vlaknima debljine 4mm. Zadizanje hidroizolacije 20cm iznad kote terena s preklopima od 10 cm. | D122: Radi kontrole upojnosti podloge, nanošenje temeljnog polimer-bitumenskog premaza IDROPRIMER ili jednakovrijedan 0,3 kg/m2. Varenje dvije plastomerne bitumenske hidroizolacijske trake visoke kvalitete kao TREND HS ili jednakovijedne ojačane sa netkanim poliesterskim filcom i stabilizirane u uzdužnom smjeru staklenim vlaknima debljine 4mm. Zadizanje hidroizolacije 20cm iznad kote terena s preklopima od 10 cm. | E122: Radi kontrole upojnosti podloge, nanošenje temeljnog polimer-bitumenskog premaza IDROPRIMER ili jednakovrijedan 0,3 kg/m2. Varenje dvije plastomerne bitumenske hidroizolacijske trake visoke kvalitete kao TREND HS ili jednakovijedne ojačane sa netkanim poliesterskim filcom i stabilizirane u uzdužnom smjeru staklenim vlaknima debljine 4mm. Zadizanje hidroizolacije 20cm iznad kote terena s preklopima od 10 cm. | F122: m2 | G122: =339.33+10.6*1.6+12.1 -> 368.39 | I122: =G122*H122 -> 0
A123: 7.2. | B123: Nabava, dobava i polaganje termoizolacije poda prizemlja od tvrdih ploča XPS-a (100 kPa tlačne ćvrstoće), debljine 8,0 cm, na izvedenu podnu hidroizolaciju prizemlja. U stavku je uračunat sav potreban materijal i rad. POD PRIZEMLJA. | C123: Nabava, doprema i polaganje termoizolacije poda od tvrdih ploča XPS-a, debljine 8 cm, na izvedenu podnu hidroizolaciju. | D123: Nabava, doprema i polaganje termoizolacije poda od tvrdih ploča XPS-a, debljine 8 cm, na izvedenu podnu hidroizolaciju. | E123: Nabava, doprema i polaganje termoizolacije poda od tvrdih ploča XPS-a, debljine 8 cm, na izvedenu podnu hidroizolaciju. | F123: m2 | G123: 158.22 | I123: =G123*H123 -> 0
A125: 7.3. | B125: Nabava, dobava i polaganje termoizolacije poda 1. kata od tvrdih ploča XPS-a, debljine 5,0 cm, na izvedenu ab ploču stropova. U stavku je uračunat sav potreban materijal i rad. POD 1. KATA. | C125: Nabava, doprema i polaganje termoizolacije poda od tvrdih ploča XPS-a, debljine 8 cm, na izvedenu podnu hidroizolaciju. | D125: Nabava, doprema i polaganje termoizolacije poda od tvrdih ploča XPS-a, debljine 8 cm, na izvedenu podnu hidroizolaciju. | E125: Nabava, doprema i polaganje termoizolacije poda od tvrdih ploča XPS-a, debljine 8 cm, na izvedenu podnu hidroizolaciju. | F125: m2 | G125: =13.58+66.6+12.07+18.48+14.87+5.12+13.73+3.12+7.54 -> 155.11 | I125: =G125*H125 -> 0
A127: 7.4. | B127: Nabava, dobava i polaganje parne brane d=0,25 mm, kao zaštita toplinske izolacije s donje strane u stropu. U stavku je uračunat sav potreban materijal i rad. | F127: m2 | G127: =G125*2 -> 310.22 | I127: =G127*H127 -> 0
A129: 7.5. | B129: Nabava, dobava i polaganje Pe folije d=0,25 mm, kao zaštita toplinske izolacije s gornje strane u podu i stropu. U stavku je uračunat sav potreban materijal i rad. | F129: m2 | G129: =G123+G125*2+159.93 -> 628.37 | I129: =G129*H129 -> 0
A131: 7.6. | B131: Nabava, dobava i polaganje mineralne vune d=10 cm, na stropove kata/spušteni strop. U stavku uključen sav potreban materijal i rad. | C131: Nabava, doprema i polaganje mineralne vune d=10 cm. | D131: Nabava, doprema i polaganje mineralne vune d=10 cm. | E131: Nabava, doprema i polaganje mineralne vune d=10 cm. | F131: m2 | G131: =G125 -> 155.11 | I131: =G131*H131 -> 0
A133: 7.7. | B133: Nabava, dobava i postavljanje EPS-a d=15 cm, na zidove između grijanog i negrijanog prostora, prema skladištu. U stavku je uključeno i lijepljenje na zidove i dodatno mehaničko učvršćivanje plastičnim tiplovima 5 kom/m2, kao i završna obrada zida, do potpune gotovosti i spremnosti na bojanje zida bojom. | C133: Nabava, doprema i polaganje mineralne vune d=10 cm. | D133: Nabava, doprema i polaganje mineralne vune d=10 cm. | E133: Nabava, doprema i polaganje mineralne vune d=10 cm. | F133: m2 | G133: =12.01*6.9 -> 82.869 | I133: =G133*H133 -> 0
A135: 7.8. | B135: Izrada sustava ravnog krova sa PVC membranom na podlozi od EPS-a. | C135: Radi kontrole upojnosti podloge, nanošenje temeljnog polimer-bitumenskog premaza IDROPRIMER ili jednakovrijedan 0,3 kg/m2. Varenje dvije plastomerne bitumenske hidroizolacijske trake visoke kvalitete kao TREND HS ili jednakovijedne ojačane sa netkanim poliesterskim filcom i stabilizirane u uzdužnom smjeru staklenim vlaknima debljine 4mm. Zadizanje hidroizolacije 20cm iznad kote terena s preklopima od 10 cm. | D135: Radi kontrole upojnosti podloge, nanošenje temeljnog polimer-bitumenskog premaza IDROPRIMER ili jednakovrijedan 0,3 kg/m2. Varenje dvije plastomerne bitumenske hidroizolacijske trake visoke kvalitete kao TREND HS ili jednakovijedne ojačane sa netkanim poliesterskim filcom i stabilizirane u uzdužnom smjeru staklenim vlaknima debljine 4mm. Zadizanje hidroizolacije 20cm iznad kote terena s preklopima od 10 cm. | E135: Radi kontrole upojnosti podloge, nanošenje temeljnog polimer-bitumenskog premaza IDROPRIMER ili jednakovrijedan 0,3 kg/m2. Varenje dvije plastomerne bitumenske hidroizolacijske trake visoke kvalitete kao TREND HS ili jednakovijedne ojačane sa netkanim poliesterskim filcom i stabilizirane u uzdužnom smjeru staklenim vlaknima debljine 4mm. Zadizanje hidroizolacije 20cm iznad kote terena s preklopima od 10 cm.
B137: parna brana kao Sarnavap 1000E ili jednakovrijedno | F137: m2 | G137: =342.57 -> 342.57 | I137: =G137*H137 -> 0
B138: EPS 100 d= 10 cm | F138: m2 | G138: 342.57 | I138: =G138*H138 -> 0
B139: geotekstil 300 g/m2 | F139: m2 | G139: 342.57 | I139: =G139*H139 -> 0
B140: Razdjelni sloj kao Sika Glassmat G120 ili jednakovrijedan | F140: m2 | G140: 342.57 | I140: =G140*H140 -> 0
B141: PVC membrana kao Sikaplan SGmA ili jednakovrijedan | F141: m2 | G141: 342.57 | I141: =G141*H141 -> 0
A143: 7.9. | B143: Nabava, dobava i ugradnja slivnika kompatibilnih sa PVC membranom. U stavku ukljun sav potreban materijal i rad do potpune gotovosti. | F143: kom | G143: 3 | I143: =G143*H143 -> 0
F145: 7. Izolaterski radovi | H145: UKUPNO: | I145: =SUM(I122:I143) -> 0
A146: 8. Fasaderski radovi
A148: R. Br. | B148: Opis stavke | F148: J.M. | G148: Količina | H148: Jedinična cijena | I148: Ukupno
A150: 8.1. | B150: Dobava, postavljanje i skidanje montažne skele za vrijeme postave fasade na kompletnoj građevini. | C150: Doprema, postavljanje i skidanje montažne fasadne skele za vrijeme izvođenja zidarskih i fasaderskih radova. | D150: Doprema, postavljanje i skidanje montažne fasadne skele za vrijeme izvođenja zidarskih i fasaderskih radova. | E150: Doprema, postavljanje i skidanje montažne fasadne skele za vrijeme izvođenja zidarskih i fasaderskih radova. | F150: m2 | G150: =(109.85*2+266.01*2)-(16.5*2+2.1+3.5+6.78+3.1*3+1.75+0.6+1.15*2+2.53*2+5.95*6+3.1+4.7*3) -> 634.43 | I150: =G150*H150 -> 0
A152: 8.2. | B152: Izrada, dobava i ugradnja ventilirane aluminijske fasade, boja po izboru projektanta ili investitora. 1. Fasadna mineralna vuna kao sloj ventilirane fasade: Nabava, dobava i ugradnja fasadne mineralne vune d=12 cm sa svim potrebnim materijalom za ugradnju (tiplovi,ljepilo,lajsne,mrežica i sl.) i radom na vanjske zidove. 2. Izrada, dobava i ugradnja završnog sloja ventilirane fasade od punih aluminijskih kompozitnih ploča tip kao Alucobond ili jednakovrijedan __________________ sa potkostrukcijom. U cijeni stavke uračunat sav potreban rad, spojna sredstva, kutni profili, opšavi i sl., potrebni za montažu ploča. VENTILIRANA FASADA OD ALUMINIJSKIH KOMPOZITNIH PLOČA. | C152: Izrada ETICS fasade kao završni sloj atike sa "unutarnje" strane. Estrudirani polistiren EPS 5 cm se lijepi na vanjske zidove i dodatno se mehanički učvršćuje plastičnim tiplovima 5 kom/m2. U cijenu predvidjeti cokl lajsne i kutne lajsne za obradu na uglovima i oko prozora te sav potreban materijal za izradu fasade.Boja edelputza po izboru investitora ili projektanta. | D152: Izrada ETICS fasade kao završni sloj atike sa "unutarnje" strane. Estrudirani polistiren EPS 5 cm se lijepi na vanjske zidove i dodatno se mehanički učvršćuje plastičnim tiplovima 5 kom/m2. U cijenu predvidjeti cokl lajsne i kutne lajsne za obradu na uglovima i oko prozora te sav potreban materijal za izradu fasade.Boja edelputza po izboru investitora ili projektanta. | E152: Izrada ETICS fasade kao završni sloj atike sa "unutarnje" strane. Estrudirani polistiren EPS 5 cm se lijepi na vanjske zidove i dodatno se mehanički učvršćuje plastičnim tiplovima 5 kom/m2. U cijenu predvidjeti cokl lajsne i kutne lajsne za obradu na uglovima i oko prozora te sav potreban materijal za izradu fasade.Boja edelputza po izboru investitora ili projektanta. | F152: m2 | G152: =G150 -> 634.43 | I152: =G152*H152 -> 0
F154: 8. Fasaderski radovi | H154: UKUPNO: | I154: =SUM(I150:I153) -> 0
A157: 9. Soboslikarski i ličilački
A159: R. Br. | B159: Opis stavke | F159: J.M. | G159: Količina | H159: Jedinična cijena | I159: Ukupno
A161: 9.1. | B161: Nabava, dobava materijala za gletanje, gletanje i ličenje unutarnjih ožbukanih zidova, bojom za unutarnje radove po želji investitora. Stavkom je obuhvaćena i priprema i impregnacija podloge. | C161: Doprema, postavljanje i skidanje montažne fasadne skele za vrijeme izvođenja zidarskih i fasaderskih radova. | D161: Doprema, postavljanje i skidanje montažne fasadne skele za vrijeme izvođenja zidarskih i fasaderskih radova. | E161: Doprema, postavljanje i skidanje montažne fasadne skele za vrijeme izvođenja zidarskih i fasaderskih radova. | F161: m2 | G161: =G94 -> 1152.246 | I161: =G161*H161 -> 0
A163: 9.2. | B163: Nabava, dobava materijala za gletanje, gletanje i ličenje unutarnjih ožbukanih stropova, bojom za unutarnje radove po želji investitora. Stavkom je obuhvaćena i priprema i impregnacija podloge. | C163: Doprema, postavljanje i skidanje montažne fasadne skele za vrijeme izvođenja zidarskih i fasaderskih radova. | D163: Doprema, postavljanje i skidanje montažne fasadne skele za vrijeme izvođenja zidarskih i fasaderskih radova. | E163: Doprema, postavljanje i skidanje montažne fasadne skele za vrijeme izvođenja zidarskih i fasaderskih radova. | F163: m2 | G163: =G96*2 -> 381.66 | I163: =G163*H163 -> 0
F165: 9. Soboslikarski i ličilački | H165: UKUPNO: | I165: =SUM(I161:I163) -> 0
A167: 10. Gips - kartonski radovi
A169: R. Br. | B169: Opis stavke | F169: J.M. | G169: Količina | H169: Jedinična cijena | I169: Ukupno
A171: 10.1. | B171: Nabava, dobava i ugradnja tipskog spuštenog stropa tipa kao armstrong ili jedankovrijedan u rasteru od aluminijskog bijelog lima vel.60x60 cm. Spojeve s okolnim zidovima silikonirati akrilom. Ovješenje potrebnim visilicama na u stropu. SPUŠTENI STROPOVI | C171: Dobava i ugradnja tipskog spuštenog stropa tipa kao armstrong u rasteru od aluminijskog bijelog lima vel.60x60 cm.Spojeve sa okolnim zidovima silikonirati akrilom. (SPUŠTENI STROPOVI) | D171: Dobava i ugradnja tipskog spuštenog stropa tipa kao armstrong u rasteru od aluminijskog bijelog lima vel.60x60 cm.Spojeve sa okolnim zidovima silikonirati akrilom. (SPUŠTENI STROPOVI) | E171: Dobava i ugradnja tipskog spuštenog stropa tipa kao armstrong u rasteru od aluminijskog bijelog lima vel.60x60 cm.Spojeve sa okolnim zidovima silikonirati akrilom. (SPUŠTENI STROPOVI) | F171: m2 | G171: =24.92+25.5+18.05*2+27.62+6.37+4.66+5.21+13.74+G123 -> 302.34 | I171: =G171*H171 -> 0
F173: 10. Gips - kartonski radovi | H173: UKUPNO: | I173: =SUM(I171:I171) -> 0
A176: 11. Keramičarski radovi
A178: R. Br. | B178: Opis stavke | F178: J.M. | G178: Količina | H178: Jedinična cijena | I178: Ukupno
A180: 11.1. | B180: Nabava, dobava i popločavanje podova protukliznim keramičkim pločicama i odgovarajućim keramičkim ljepilom. Boja i veličina keramičkih pločica, prema izboru Investitora. Po završetku polaganja, fuge se zapunjavaju masom za fugiranje. | C180: Nabava, doprema i popločavanje podova protukliznim keramičkim pločicama i odgovarajućim keramičkim ljepilom. Boja i veličina keramičkih pločica, prema izboru projektamta ili Investitora.U stavci uračunato 15% otpada na urezivanje pločica. Po završetku polaganja, fuge se zapunjavaju masom za fugiranje. | D180: Nabava, doprema i popločavanje podova protukliznim keramičkim pločicama i odgovarajućim keramičkim ljepilom. Boja i veličina keramičkih pločica, prema izboru projektamta ili Investitora.U stavci uračunato 15% otpada na urezivanje pločica. Po završetku polaganja, fuge se zapunjavaju masom za fugiranje. | E180: Nabava, doprema i popločavanje podova protukliznim keramičkim pločicama i odgovarajućim keramičkim ljepilom. Boja i veličina keramičkih pločica, prema izboru projektamta ili Investitora.U stavci uračunato 15% otpada na urezivanje pločica. Po završetku polaganja, fuge se zapunjavaju masom za fugiranje. | F180: m2 | G180: =25.5+18.05+5.21+4.66+12.07*2+13.58+66.6+18.48+14.87+5.12+3.12+7.54 -> 206.87 | I180: =G180*H180 -> 0 | J180: Ponuđeno:
A182: 11.2. | B182: Nabava, dobava i oblaganje zidova sanitarnih čvorova keramičkim pločicama do 2,00 m visine i odgovarajućim keramičkim ljepilom. Boja i veličina keramičkih pločica, prema izboru Investitora. Po završetku polaganja, fuge se zapunjavaju masom za fugiranje. | C182: Nabava, doprema i oblaganje zidova sanitarnih čvorova keramičkim pločicama do 2,00 cm visine i odgovarajućim keramičkim ljepilom.U stavci uračunato 15% otpada na urezivanje pločica Boja i veličina keramičkih pločica, prema izboru projektanta ili Investitora.Po završetku polaganja, fuge se zapunjavaju masom za fugiranje. | D182: Nabava, doprema i oblaganje zidova sanitarnih čvorova keramičkim pločicama do 2,00 cm visine i odgovarajućim keramičkim ljepilom.U stavci uračunato 15% otpada na urezivanje pločica Boja i veličina keramičkih pločica, prema izboru projektanta ili Investitora.Po završetku polaganja, fuge se zapunjavaju masom za fugiranje. | E182: Nabava, doprema i oblaganje zidova sanitarnih čvorova keramičkim pločicama do 2,00 cm visine i odgovarajućim keramičkim ljepilom.U stavci uračunato 15% otpada na urezivanje pločica Boja i veličina keramičkih pločica, prema izboru projektanta ili Investitora.Po završetku polaganja, fuge se zapunjavaju masom za fugiranje. | F182: m2 | G182: =2*(7.5+11+4.03*2+9.35+4.7+8.64)*0.75 -> 73.875 | I182: =G182*H182 -> 0 | J182: Ponuđeno:
A184: 11.3. | B184: Nabava, dobava i oblaganje zidnog sokla, visine 10,0 cm, keramičkim pločicama i odgovarajućim keramičkim ljepilom. Boja i veličina keramičkih pločica, prema izboru Investitora. Po završetku polaganja, fuge se zapunjavaju masom za fugiranje. | C184: Nabava, doprema i oblaganje zidnog sokla, visine 10 cm, keramičkim pločicama i odgovarajućim keramičkim ljepilom. Boja i veličina keramičkih pločica, prema izboru Investitora. Po završetku polaganja, fuge se zapunjavaju masom za fugiranje. | D184: Nabava, doprema i oblaganje zidnog sokla, visine 10 cm, keramičkim pločicama i odgovarajućim keramičkim ljepilom. Boja i veličina keramičkih pločica, prema izboru Investitora. Po završetku polaganja, fuge se zapunjavaju masom za fugiranje. | E184: Nabava, doprema i oblaganje zidnog sokla, visine 10 cm, keramičkim pločicama i odgovarajućim keramičkim ljepilom. Boja i veličina keramičkih pločica, prema izboru Investitora. Po završetku polaganja, fuge se zapunjavaju masom za fugiranje. | F184: m' | G184: =25.5+18.05+12.98+8.7+18.35+14.75+35.85+4.5+5.3+16.2 -> 160.18 | I184: =G184*H184 -> 0 | J184: Ponuđeno:
F186: 11. Keramičarski radovi | H186: UKUPNO: | I186: =SUM(I180:I184) -> 0
A188: 12. Podopolagački radovi
A190: R. Br. | B190: Opis stavke | F190: J.M. | G190: Količina | H190: Jedinična cijena | I190: Ukupno
A192: 12.1. | B192: Priprema, dobava i izrada do pune funkcije epoxy portukliznog poda, u skladištu, debljine 3-3,5mm, kao "MAPEFLOOR SISTEM 32" ili jednakovrijedan. Priprema podloge strojno kugličnim sačmarenjem ili brušenjem. Priprema se izvodi u svrhu uklanjanja cementne skramice, ostataka ulja i drugih nečistoća. U cijeni je uklanjanje prašine postupkom usisavanja, a sve zbog potrebne prionjivosti podne obloge za podlogu (vlačna čvrstoća min. 1,5 N/mm) m2. Podni sustav na bazi epoxydne smole kao MAPEFLOOR I300SL (Mapei) ili jednakovrijedno, koja je u klasificirana kao SR-B2.0-Bf-s1 i u skladu s normom HRN EN 13813 ili jednakovrijedno, protuklizan te otporan na mehanička oštećenja, otporan na soli i kemikalije. Temeljni sloj sustava se izvodi nanošenjem dvokomponentnog epoksidnog premaza bez otapala kao PRIMER SN (Mapei) ili jednakovrijedno, dok je proizvod još svjež, posipati sa kvarcnim pijeskom granulacije 0,5, kao QUARTZO 0,5 (MAPEI) ili jednakovrijedno do punog zasićenja. | F192: m2 | G192: =141 -> 141 | I192: =G192*H192 -> 0
B193: Na tako pripremljenu podlogu izvodi se nanošenje 1. sloja epoksidne smole bez otapala kao MAPEFLOOR I300SL (Mapei) ili jednakovrijedno, zamiješene sa kvarcnim pijeskom granulacije 0,25 kao QUARTZO 0,25 (MAPEI) ili jednakovrijedno i dok je proizvod još svjež, posipava se kvarcnim pijeskom granulacije 0,5 kao QUARTZO 0,5 (MAPEI) ili jednakovrijedno do punog zasićenja, cca. 3kg/m2 posip. Na pripremljenu podlogu sa 1. slojem epoxy smole kao MAPEFLOOR I300SL ili jednakovrijedno izvodi se nanošenje 2. sloja epoksidne smole bez otapala kao MAPEFLOOR I300SL (Mapei) ili jednakovrijedno, zamiješane sa pigmetnom kao MAPECOLOR PASTE ili jednakovrijedno. (RAL i izvedba po odabiru projektanta). Zaštita podnog sustava PU-alifatičnim lakom u vodenoj disperziji kao MAPEFLOOR FINISH 58W (MAPEI) ili jednakovrijedno. Prije postave obavezno prekontrolirati vlagu u podlozi, kvalitetu podloge i ostale uvjete na gradilištu potrebne za nesmetanu i kvalitetnu postavu. Sve ostalo prema uputama proizvođača i prema pravilima za ljevane podove. Obradu dilatacijskih reški izvesti jednokomponentnom brtvećom poliuretanskom masom kao MAPEFLEX PU45 (Mapei) ili jednakovrijedno, a reške prethodno obraditi temeljnim premazom kao PRIMER AS (Mapei) ili jednakovrijedno.
A195: 12.2. | B195: Dobava materijala i izvedba spojeva zid-pod (holkera) kao MAPEI ili jednakovrijedan, korištenjem specijalne smjese od epoksi smole PRIMER SN ili jednakovrijedno, sa dodatkom kvarcnog pjeska te uguščivačem ADDITIX PE kompatibilne sa sustavom MAPEFLOOR SUSTAV 32 ili jednakovrijedno. Na tako pripremljenu podlogu izvodi se nanošenje samorazlijevne epoksidne smole bez otapala kao MAPEFLOOR I300SL (Mapei) ili jednakovrijedno, zamiješene sa kvarcnim pijeskom granulacije 0,25 kao QUARTZO 0,25 (MAPEI) ili jednakovrijedno i pigmetnom kao MAPECOLOR PASTE ili jednakovrijedno. (RAL i izvedba po odabiru projektanta). Holker se površinski obrađuje sistemskim poliuretanskim premazom u vodenoj disperziji iz MAPEFLOOR FINISH linije proizvoda (Mapei) ili jednakovrijedno. | F195: m' | G195: =55.1-1.2-3*2+1.6*2 -> 51.1 | I195: =G195*H195 -> 0
A197: 12.3. | B197: Priprema, dobava i izrada do pune funkcije epoxy glatkog poda u uredima, debljine 2-2,5mm, kao "MAPEFLOOR SISTEM 33" tvrtke Mapei ili jednakovrijedan.Priprema podloge strojno kugličnim sačmarenjem ili brušenjem. Priprema se izvodi u svrhu uklanjanja cementne skramice, ostataka ulja i drugih nečistoća. U cijeni je uklanjanje prašine postupkom usisavanja, a sve zbog potrebne prionjivosti podne obloge za podlogu (vlačna čvrstoća min. 1,5 N/mm) m2. Podni sustav na bazi samorazlijevne epoxydne smole kao MAPEFLOOR I300SL (Mapei) ili jednakovrijedno, koja je u klasificirana kao SR-B2.0-Bf-s1 i u skladu s normom HRN EN 13813 ili jednakovrijedno te otporan na mehanička oštećenja, otporan na soli i kemikalije. Temeljni sloj sustava se izvodi nanošenjem dvokomponentnog epoksidnog premaza bez otapala kao PRIMER SN (Mapei) ili jednakovrijedno, dok je proizvod još svjež, posipati sa kvarcnim pijeskom granulacije 0,5, kao QUARTZO 0,5 (MAPEI) ili jednakovrijedno do punog zasićenja. Na tako pripremljenu podlogu izvodi se nanošenje samorazlijevne epoksidne smole bez otapala kao MAPEFLOOR I300SL (Mapei) ili jednakovrijedno, zamiješene sa kvarcnim pijeskom granulacije 0,25 kao QUARTZO 0,25 (MAPEI) ili jednakovrijedno i pigmetnom kao MAPECOLOR PASTE ili jednakovrijedno. (RAL i izvedba po odabiru projektanta). | F197: m2 | G197: 273.62 | I197: =G197*H197 -> 0
B198: Podni sustav površinski se obrađuje sistemskim poliuretanskim premazom u vodenoj disperziji iz MAPEFLOOR FINISH linije proizvoda (Mapei) ili jednakovrijedno i voskom MEPELUX OPACA mat (Mapei) ili jednakovrijedno, koji osigurava lakše čišćenje i održavanje te daje željeni efekt prema odabiru projektanta. Boja i način izvedbe prema izboru projektanta. Prije postave obavezno prekontrolirati vlagu u podlozi, kvalitetu podloge i ostale uvjete na gradilištu potrebne za nesmetanu i kvalitetnu postavu. Sve ostalo prema uputama proizvođača i prema pravilima za epoxy podove. Obradu dilatacijskih reški izvesti jednokomponentnom brtvećom poliuretanskom masom kao MAPEFLEX PU45 (Mapei) ili jednakovrijedno, a reške prethodno obraditi temeljnim premazom kao PRIMER AS (Mapei) ili jednakovrijedno.
A200: 12.4. | B200: Dobava materijala i izvedba spojeva zid-pod (holkera), kao MAPEI ili jednakovrijedan ištenjem specijalne smjese od epoksi smole PRIMER SN ili jednakovrijedno, sa dodatkom kvarcnog pjeska te uguščivačem ADDITIX PE ili jednakovrijedno kompatibilne sa sustavom MAPEFLOOR SUSTAV 33 ili jednakovrijedno. Na tako pripremljenu podlogu izvodi se nanošenje samorazlijevne epoksidne smole bez otapala kao MAPEFLOOR I300SL (Mapei) ili jednakovrijedno, zamiješene sa kvarcnim pijeskom granulacije 0,25 kao QUARTZO 0,25 (MAPEI) ili jednakovrijedno i pigmetnom kao MAPECOLOR PASTE ili jednakovrijedno. (RAL i izvedba po odabiru projektanta). Holker se površinski obrađuje sistemskim poliuretanskim premazom u vodenoj disperziji iz MAPEFLOOR FINISH linije proizvoda (Mapei) ili jednakovrijedno. | F200: m' | G200: =18.34+62.98+18 -> 99.32 | I200: =G200*H200 -> 0
F202: 12. Podopolagački radovi | H202: UKUPNO: | I202: =SUM(I192:I200) -> 0
...

Sheet 2. Vodovod i kanalizacija
A1: GRUPA 2. VODOVOD I KANALIZACIJA
A3: INSTALACIJA VODOVODA
A5: 1. Građevinski radovi
A7: R. Br. | B7: Opis stavke | F7: J.M. | G7: Količina | H7: Jedinična cijena | I7: Ukupno | J7: Popunjava ponuditelj
A9: 1.1. | B9: Geodetsko praćenje svih radova na izvedbi priključaka zgrade na vanjsku vodovodnu mrežu, uključivo stacioniranje svih točaka na terenu s izradom snimka izvedenog stanja. | F9: kpl | G9: 1 | I9: =G9*H9 -> 0
A11: 1.2. | B11: Razni iskopi u tlu III i IV kategorije (šahtovi, rovovi, okna i sl.) s pravilnim zasjecanjem bočnih stranica i dna iskopa, širine rova 0,6 m, prosječne dubine 1,2 m s odlaganjem iskopanog materijala na stranu, 2,0 m od ivice rova, radi kasnije uporabe ili 200,0 m. Predvidjeti razupiranje oplatom i crpljenje vode. Posebnu pozornost obratiti na križanja s ostalim instalacijama.
B12: - strojni iskop | F12: m3 | G12: =((1.8*1.8*2)+0.6*1.2*(21.22+27.58+5))*0.8 -> 36.1728 | I12: =G12*H12 -> 0
B13: - ručni iskop | F13: m3 | G13: =((1.8*1.8*2)+0.6*1.2*(21.22+27.58+5))*0.2 -> 9.0432 | I13: =G13*H13 -> 0
A15: 1.3. | B15: Planiranje dna rova na projektnu dubinu s točnošću ± 2 cm. | F15: m2 | G15: =((1.8*1.8)+0.6*(21.22+27.58+5)) -> 35.52 | I15: =G15*H15 -> 0
A17: 1.4. | B17: Nabava, dobava i ugradnja, razastiranje i nabijanje tamponskog sloja šljunka na dno iskopa u sloju od 20 cm, kao podloga izradi podne ploče vodomjernog okna. | C17: - dobava, razastiranje i nabijanje tamponskog sloja šljunka na dno iskopa u sloju od 20 cm | D17: - dobava, razastiranje i nabijanje tamponskog sloja šljunka na dno iskopa u sloju od 20 cm | E17: - dobava, razastiranje i nabijanje tamponskog sloja šljunka na dno iskopa u sloju od 20 cm | F17: m3 | G17: =1.8*1.8*0.2 -> 0.648 | I17: =G17*H17 -> 0
A19: 1.5. | B19: Nabava, dobava i ugradnja posteljice od pijeska ispod cijevi, debljine 10,0 cm uz grubo poravnanje radi pravilnog nalijeganja cjevovoda. | F19: m3 | G19: =(0.6*(21.22+27.58+5))*0.1 -> 3.228 | I19: =G19*H19 -> 0
A21: 1.6. | B21: Nabava, dobava i ugradnja, te ručno zatrpavanje pješčanim materijalom oko 30,0 cm iznad tjemena vodovodnih cijevi uz pažljivo nabijanje. Mjesta spojeva cijevi ostaviti nezasute do tlačne probe. | F21: m3 | G21: =(0.6*(21.22+27.58+5))*0.3 -> 9.684 | I21: =G21*H21 -> 0
A23: 1.7. | B23: Strojno zatrpavanje rova materijalom iz iskopa u slojevima d = 30 cm uz pažljivo nabijanje. Zatrpavanje izvesti nakon izvršene montaže i po izvršenoj tlačnoj probi cjevovoda uz odobrenje nadzornog inženjera. | F23: m3 | G23: =G12+G13-G19-G21 -> 32.304 | I23: =G23*H23 -> 0
A25: 1.8. | B25: Iskop, nabava i doprema na gradilište materijala i izvedba armiranobetonske komore za vodomjer u vodonepropusnom betonu C3/37 sa atestom za vodonepropusnost i odgovarajućoj oplati. Ulaz u komoru izvesti veličine 60/60 cm s pripadajućim tipskim lijevano željeznim poklopcem klase nosivosti 15 kN i penjalicama na razmaku 30 cm. S unutarnje strane zidove i dno obraditi vodonepropusnom žbukom. Prodore cijevi kroz stijenke izvršiti bušenjem uređajima s krunom i ugradnjom provodnica DN50 (2x) i DN25 (1x). | F25: kpl | G25: 1 | I25: =G25*H25 -> 0
A27: 1.9. | B27: Odvoz preostalog materijala nakon zatrpavanja rova na deponiju udaljenu max 5,0 km. Naknadu za deponiranje uključiti u cijenu stavke. Koef. rastresitosti 1,30 | F27: m3 | G27: =(G12+G13-G23)*1.3 -> 16.7856 | I27: =G27*H27 -> 0
F29: Instalacija vodovoda - 1. Građevinski radovi | H29: UKUPNO: | I29: =SUM(I9:I27) -> 0
A32: 2. Montažni radovi
A34: R. Br. | B34: Opis stavke | F34: J.M. | G34: Količina | H34: Jedinična cijena | I34: Ukupno
A36: 2.1. | B36: Izrada priključka na vodovodnu mrežu, uz nabavu, dopremu na gradilište i montažu u vodomjernom oknu, vodomjera odobrenog od strane Državnog zavoda za mjeriteljstvo, fitinga, zapornih tijela sa svim spojnim i brtvenim materijalom. U cijenu uključiti dobavu, montažu, ispitivanja, antikorozivnu zaštitu svih dijelova i spoj sa javnom mrežom. | F36: kpl | G36: 1 | I36: =G36*H36 -> 0
A38: 2.2. | B38: Nabava, dobava i ugradnja na gradilište PE-HD cijevi sa odgovarajućim spojnim materijalom i fazonskim komadima za izradu vanjske vodovodne mreže za radni tlak do 10 bara.
B39: - PE-HD cijevi fi 25 mm | F39: m' | G39: 40 | I39: =G39*H39 -> 0
A41: 2.3. | B41: Nabava, dobava i ugradnja PP-R cijevi sa svim potrebnim fazonskim i spojnim elementima i brtvenim materijalom te izrada instalacije u građevini prema priloženoj shemi - hladna voda. Radove izvesti prije gletanja i ličenja zidova. Koljena obuhvatiti u cijenu ugrađenih cjevovoda. Unutarnji razvod izvesti od cijevi nepropusne za kisik prema DIN-4726 s unutrašnjim zaštitnim slojem, PP-R za radni tlak do 10 bara i maksimalnu radnu temperaturu vode do 95°C.
B42: - PP-R cijevi fi 15 mm | F42: m' | G42: =2.7+2.5+1.8+0.8+0.9+2.8+10.95 -> 22.45 | I42: =G42*H42 -> 0
B43: - PP-R cijevi fi 20 mm | F43: m' | G43: =2.9+3.7+2 -> 8.6 | I43: =G43*H43 -> 0
B44: - PP-R cijevi fi 25 mm | F44: m' | G44: =5 -> 5 | I44: =G44*H44 -> 0
A45: 2.4. | B45: Nabava, dobava i ugradnja PP-R cijevi sa svim potrebnim fazonskim i spojnim elementima i brtvenim materijalom te izrada instalacije u građevini prema priloženoj shemi - topla voda. Radove izvesti prije gletanja i ličenja zidova. Koljena obuhvatiti u cijenu ugrađenih cjevovoda. Unutarnji razvod izvesti od cijevi nepropusne za kisik prema DIN-4726 s unutrašnjim zaštitnim slojem, PP-R za radni tlak do 10 bara i maksimalnu radnu temperaturu vode do 95°C.
B46: - PP-R cijevi fi 15 mm | F46: m' | G46: 6 | I46: =G46*H46 -> 0
A48: 2.5. | B48: Nabava, doprema na gradilište i montaža podžbuknog ventila sa metalnom kromiranom kapom i metalnom kromiranom rozetom. U cijenu uključiti vrijednost svih radova i materijal.
B49: - nabava i ugradnja PP-R cijevi fi 15 mm | F49: kom | G49: 5 | I49: =G49*H49 -> 0
B50: - nabava i ugradnja PP-R cijevi fi 20 mm | F50: kom | G50: 4 | I50: =G50*H50 -> 0
A52: 2.6. | B52: Tlačna proba izvedene vodovodne instalacije tlakom od 10 bara u trajanju minimalno 12 sati s osiguranjem potrebne količine vode za punjenje cjevovoda. Kontrola s radnim i kontrolnim manometrom, te ispuštanje vode po završenoj probi. Obuhvaćeno ispitivanje vanjske i unutarnje vodovodne mreže te izrada zapisnika o tlačnoj probi. | F52: kpl | G52: 1 | I52: =G52*H52 -> 0
A54: 2.7. | B54: Ispiranje i dezinficiranje cjevovoda i osiguranje atesta o ispitivanju vode (bakteriološko i mineralna ulja). | F54: kpl | G54: 1 | I54: =G54*H54 -> 0
F56: Instalacija vodovoda - 2. Montažni radovi | H56: UKUPNO: | I56: =SUM(I37:I54) -> 0
A59: 3. Sanitarna oprema
A61: R. Br. | B61: Opis stavke | F61: J.M. | G61: Količina | H61: Jedinična cijena | I61: Ukupno
A63: 3.1. | B63: Nabava, dobava i ugradnja štednih vodovodnih armatura s umivaonikom, aktiviranje s prednje strane na pokret ruku, s mogućnošću promjene duljine toka vode, komplet s priključnim ventilom za vodu od 1/2", Komplet čini i zidni umivaonik. Obračun po kompletno ugrađenoj i ispitanoj opremi, sa svim potrebnim materijalom i radom, u punoj funkcionalnosti. | F63: kom | G63: 4 | I63: =G63*H63 -> 0 | J63: Ponuđeno:
A65: 3.2. | B65: Nabava, dobava i ugradnja štednih vodokotlića s wc školjkom, sa kapacitetom od 9l s dvije količine ispiranja (3 l i 6 l), s mogućnošću promjene količine na ispiranje sa zaustavljanjem, aktiviranje s prednje strane, komplet s priključnim ventilom za vodu od 1/2", s izljevnim koljenom od fi 90 s redukcijom na fi 110. Komplet čini potisna ploča za dvokoličinsku tehnkui ispiranja i s mogušnošću zaustavljanja. Obračun po kompletno ugrađenoj i ispitanoj opremi, sa svim potrebnim materijalom i radom, u punoj funkcionalnosti. | F65: kom | G65: 4 | I65: =G65*H65 -> 0 | J65: Ponuđeno:
A67: 3.3. | B67: Nabava, dobava i ugradnja štednih vodokotlića s wc školjkom za invalide s rukohvatom, sa kapacitetom od 9l s dvije količine ispiranja (3 l i 6 l), s mogućnošću promjene količine na ispiranje sa zaustavljanjem, aktiviranje s prednje strane, komplet s priključnim ventilom za vodu od 1/2", s izljevnim koljenom od fi 90 s redukcijom na fi 110. Komplet čini potisna ploča za dvokoličinsku tehnkui ispiranja i s mogušnošću zaustavljanja. Obračun po kompletno ugrađenoj i ispitanoj opremi, sa svim potrebnim materijalom i radom, u punoj funkcionalnosti. | F67: kom | G67: 1 | I67: =G67*H67 -> 0 | J67: Ponuđeno:
A69: 3.4. | B69: Nabava, dobava i ugradnja pisoara, aktiviranje s prednje strane na pokret, s mogućnošću promjene duljine toka vode, komplet s priključnim ventilom za vodu od 1/2", Komplet čini i zidni pisoar. Obračun po kompletno ugrađenoj i ispitanoj opremi, sa svim potrebnim materijalom i radom, u punoj funkcionalnosti. | F69: kom | G69: 2 | I69: =G69*H69 -> 0 | J69: Ponuđeno:
A71: 3.5. | B71: Nabava, dobava i ugradnja štednih vodovodnih armatura sa sudoperom, aktiviranje s prednje strane na pokret ruku, s mogućnošću promjene duljine toka vode, komplet s priključnim ventilom za vodu od 1/2", Komplet čini i sudoper. Obračun po kompletno ugrađenoj i ispitanoj opremi, sa svim potrebnim materijalom i radom, u punoj funkcionalnosti. | F71: kom | G71: 1 | I71: =G71*H71 -> 0 | J71: Ponuđeno:
A73: 3.6. | B73: Nabava i ugradnja polukristalnog zrcala od stakla debljine 4 mm, s etažerima od kaljenog stakla, dimenzija 600 x 400 mm. Boja i kvalitet prema izboru investitora, 150,00 kn. Stavka podrazumjeva i sav potreban pribor za ugradnju. | F73: kom | G73: 4 | I73: =G73*H73 -> 0 | J73: Ponuđeno:
A74: 3.7. | B74: Nabava, dobava i ugradnja sanitarnog pribora i sitne galanterije prema zahtjevu investitora. Stavka podrazumjeva sav potreban alat i pribor za ugradnju.
B75: - držač za papirnate ručnike u roli | F75: kom | G75: 4 | I75: =G75*H75 -> 0
B76: - zidni držač za sapun - tekući | F76: kom | G76: 4 | I76: =G76*H76 -> 0
B77: - držač za toaletni papir | F77: kom | G77: 4 | I77: =G77*H77 -> 0
B78: - četka za wc sa posudom | F78: kom | G78: 4 | I78: =G78*H78 -> 0
B79: - koš za otpad | F79: kom | G79: 4 | I79: =G79*H79 -> 0
F81: Instalacija vodovoda - 3. Sanitarna oprema | H81: UKUPNO: | I81: =SUM(I63:I79) -> 0
A85: INSTALACIJA KANALIZACIJE
A87: 4. Građevinski radovi
A89: R. Br. | B89: Opis stavke | F89: J.M. | G89: Količina | H89: Jedinična cijena | I89: Ukupno
A91: 4.1. | B91: Geodetsko praćenje svih radova na izvedbi instalacije vanjske i unutrašnje kanalizacije, uključivo stacioniranje svih točaka na terenu s izradom snimka izvedenog stanja. | F91: kpl | G91: 1 | I91: =G91*H91 -> 0
A93: 4.2. | B93: Razni iskopi u tlu III i IV kategorije (šahtovi, rovovi i sl.) s pravilnim zasjecanjem stranica i dna iskopa, širine rova 0,80 m, dubine do 2,00 m sa odlaganjem iskopanog materijala na stranu, 2 m od ivice rova, radi kasnije uporabe ili odvozom na privremenu deponiju na udaljenosti do 200 m. Predvidjeti razupiranje oplatom i crpljenje vode. Posebnu pozornost obratiti na križanja s ostalim instalacijama. Količine podrazumijevaju temeljne razvode sanitarne i oborinske kanalizacije.
B94: - strojni iskop | F94: m3 | G94: =((60.4*0.8*1.2)+(33.5*0.8*1.2)+(4*1.6*1.6*1.6))*0.8 -> 85.2224 | I94: =G94*H94 -> 0
B95: - ručni iskop | F95: m3 | G95: =((60.4*0.8*1.2)+(33.5*0.8*1.2)+(4*1.6*1.6*1.6))*0.2 -> 21.3056 | I95: =G95*H95 -> 0
A97: 4.3. | B97: Planiranje dna rova na projektnu dubinu s točnošću ± 2 cm. | F97: m2 | G97: =((60.4*0.8)+(33.5*0.8)+(4*1.6*1.6)) -> 85.36 | I97: =G97*H97 -> 0
A99: 4.4. | B99: Nabava, dobava i ugradnja, razastiranje i nabijanje tamponskog sloja šljunka na dno iskopa u sloju od 20 cm, kao podloga za izradu podne ploče revizisjkog okna. | C99: - dobava, razastiranje i nabijanje tamponskog sloja šljunka na dno iskopa u sloju od 20 cm | D99: - dobava, razastiranje i nabijanje tamponskog sloja šljunka na dno iskopa u sloju od 20 cm | E99: - dobava, razastiranje i nabijanje tamponskog sloja šljunka na dno iskopa u sloju od 20 cm | F99: m3 | G99: =(4*1.6*1.6*0.2) -> 2.048 | I99: =G99*H99 -> 0
A101: 4.5. | B101: Nabava, dobava i ugradnja posteljice od pijeska ispod cijevi, debljine 10,0 cm uz grubo poravnanje radi pravilnog nalijeganja cjevovoda. | F101: m3 | G101: =((60.4*0.8*0.1)+(33.5*0.8*0.1)) -> 7.512 | I101: =G101*H101 -> 0
A103: 4.6. | B103: Nabava, dobava i ugradnja, te ručno zatrpavanje pješčanim materijalom oko 30,0 cm iznad tjemena vodovodnih cijevi uz pažljivo nabijanje. Mjesta spojeva cijevi ostaviti nezasute do tlačne probe. | F103: m3 | G103: =((60.4*0.8*0.3)+(33.5*0.8*0.3)) -> 22.536 | I103: =G103*H103 -> 0
A105: 4.7. | B105: Strojno zatrpavanje materijalom iz iskopa u slojevima d = 30 cm uz pažljivo nabijanje. Zatrpavanje izvoditi po dionicama s izvršenom probom protočnosti uz odobrenje nadzornog inženjera. | F105: m3 | G105: =G94+G95-G99-G101-G103 -> 74.432 | I105: =G105*H105 -> 0
A107: 4.8. | B107: Odvoz preostalog materijala nakon zatrpavanja rova na deponiju udaljenu max 5,0 km. Naknadu za deponiranje uključiti u cijenu. Keof. rastresitosti 1,30 | F107: m3 | G107: =(G94+G95-G105)*1.3 -> 41.7248 | I107: =G107*H107 -> 0
A109: 4.9. | B109: Nabava i dobava na gradilište materijal, te izrada revizionog okna vanjskih dim. 120 x 120 cm, debljine stjenke 20 cm u vodonepropusnom betonu klase C 25/30, komplet sa lijevanoželjeznim poklopcem 600 x 600 mm, nosivosti 15 kN, ugrađenim ljevanoželjeznim penjalicama i kinetom. Stavka podrazumjeva kompletne radove (oplata, priključci na kanalizacijske cijevi ....) i materijal. Obračun po kompletno izvedenom i priključenom oknu. | F109: kpl | G109: 4 | I109: =G109*H109 -> 0
F111: Instalacija kanalizacije - 4. Građevinski radovi | H111: UKUPNO: | I111: =SUM(I91:I109) -> 0
A114: 5. Montažni radovi
A116: R. Br. | B116: Opis stavke | F116: J.M. | G116: Količina | H116: Jedinična cijena | I116: Ukupno
A118: 5.1. | B118: Izrada priključka na kanalizacijsku mrežu, uz nabavu, dopremu na gradilište i montažu svog potrebnog materijala do potpune gotovosti. U cijenu uključiti dobavu, montažu i spoj sa javnom mrežom. | F118: kpl | G118: 1 | I118: =G118*H118 -> 0
A120: 5.2. | B120: Nabava, dobava i ugradnja PVC kanalizacijskih cijevi s naglavnim spojevima i svim potrebnim fazonskim komadima koji nisu posebno specificirani, spojnim i brtvenim materijalom, materijalom za pričvršćenje i zavješenje, svi radovi i radna skela ukoliko je potrebna. Stavka uključuje i izrada šliceva u zidovima i podovima, te popravke istih nakon ugradnje cijevi.
B121: - PVC DN 50 | F121: m' | G121: =2.2+2.3+2.2+9.8+2.2 -> 18.7 | I121: =G121*H121 -> 0
B122: - PVC DN 110 | F122: m' | G122: =6.5+9 -> 15.5 | I122: =G122*H122 -> 0
B123: - PVC DN 160 | F123: m' | G123: =45.5+36.5+14.8+17.74 -> 114.54 | I123: =G123*H123 -> 0
B124: - revizijski komad fi 110 | F124: kom | G124: 2 | I124: =G124*H124 -> 0
A126: 5.3. | B126: Nabava, doprema na gradilište i ugradnja ventilacijskih kapa od PVC-a na završecima kanala vertikala (0,5 m od krova). U cijenu uključiti vrijednosti svih radova i materijal. | F126: kom | G126: 1 | I126: =G126*H126 -> 0
A128: 5.4. | B128: Nabava, doprema na gradilište i ugradnja kromiranih vratašaca 30x30 cm za reviziju kanalizacije unutar objekta. U cijenu uključiti vrijednost svih radova, materijala, do potpune gotovosti. | F128: kom | G128: 2 | I128: =G128*H128 -> 0
A129: 5.5. | B129: Nabava, doprema na gradilište i ugradnja vertikalnih PVC oluka. U cijenu uključiti vrijednost svih radova, materijala i ovjesa.
B130: - fi 125 | F130: m' | G130: =8.5*3 -> 25.5 | I130: =G130*H130 -> 0
A132: 5.6. | B132: Nabava, doprema na gradilište i ugradnja horizontalnih PVC oluka. U cijenu uključiti vrijednost svih radova, materijala i ovjesa.
B133: - fi 125 | F133: m' | G133: =23.9+5.1 -> 29 | I133: =G133*H133 -> 0
A135: 5.7. | B135: Nabava, doprema na gradilište i ugradnja žabljih poklopaca na mjestima spoja vertikala krova i zemlje, u razini poda. U cijenu uključiti vrijednost svih radova, materijala, do potpune gotovosti. | F135: kom | G135: 3 | I135: =G135*H135 -> 0
A137: 5.8. | B137: Ispitivanje vertikalne i horizontalne kanalizacije na protočnost i nepropusnost, te ispiranje kanalizacije. | F137: kpl | G137: 1 | I137: =G137*H137 -> 0
F139: Instalacija kanalizacije - 5. Montažni radovi | H139: UKUPNO: | I139: =SUM(I121:I137) -> 0
A142: INSTALACIJA HIDRANTSKE MREŽE
A144: 6. Montažni radovi
A146: R. Br. | B146: Opis stavke | F146: J.M. | G146: Količina | H146: Jedinična cijena | I146: Ukupno
A148: 6.1. | B148: Nabava, doprema na gradilište i montaža zidnih protupožarnih hidranata HRN EN 671–2 ili jednakovrijedno komplet s pripadajućom opremom: - tlačna cijev Ø 52 dužine 20 m sa spojnicama - kutni ventil Ms 2" sa stabilnom spojnicom (Al) Ø 52 mm - mlaznica Ø 52 mm Al sa zasunom - okretni nastavak Ms2" Obračun po kompletno ugrađenom hidrantu. | F148: kom | G148: 2 | I148: =G148*H148 -> 0
A150: 6.2. | B150: Nabava, doprema na gradilište i montaža vatrogasnih aparata. Obračun po kompletno ugrađenom aparatu.
B151: - tip S - 9 | F151: kom | G151: 9 | I151: =G151*H151 -> 0
B152: - tip S - 6 | F152: kom | G152: 2 | I152: =G152*H152 -> 0
A154: 6.4. | B154: Nabava, dobava i ugradnja PE-HD cijevi sa svim potrebnim fazonskim i spojnim elementima i brtvenim materijalom te izrada instalacije u građevini prema priloženoj shemi - hladna voda. Radove izvesti prije gletanja i ličenja zidova. Koljena obuhvatiti u cijenu ugrađenih cjevovoda. Unutarnji razvod izvesti od cijevi nepropusne za kisik prema DIN-4726 s unutrašnjim zaštitnim slojem, PP-R za radni tlak do 10 bara i maksimalnu radnu temperaturu vode do 95°C.
B155: - PE-HD cijevi fi 50 mm | F155: m' | G155: =19.2+9+40 -> 68.2 | I155: =G155*H155 -> 0
A157: 6.5. | B157: Tlačna proba izvedene hidrantske instalacije tlakom od 10 bara u trajanju minimalno 12 sati s osiguranjem potrebne količine vode za punjenje cjevovoda. Kontrola s radnim i kontrolnim manometrom, te ispuštanje vode po završenoj probi. Obuhvaćeno ispitivanje vanjske i unutarnje hidrantske mreže te izrada zapisnika o tlačnoj probi. | F157: kpl | G157: 1 | I157: =G157*H157 -> 0
F159: Instalacija hidrantske mreže - 6. Montažni radovi | H159: UKUPNO: | I159: =SUM(I148:I157) -> 0
B163: Uputa za popunjavanje tablica:
B164: Stupce označene žutom bojom popunjava Ponuditelj sa ponuđenim tipom opreme i/ili kataloškim brojem i/ili narudžbenom oznakom i proizvođačem
B167: Kod troškovničkih stavki kod kojih je naveden proizvođač/marka/tip opreme ili uređaja /norme/standardi/licence dozvoljeno je ponuditi jednakovrijednu robu. Ako pored naziva nije naveden izraz „ili jednakovrijedno“, i u tom slučaju je dozvoljeno ponuditi jednakovrijedan proizvod.
A170: REKAPITULACIJA
A172: INSTALACIJA VODOVODA
A174: 1. Građevinski radovi | I174: =I29 -> 0
A175: 2. Montažni radovi | I175: =I56 -> 0
A176: 3. Sanitarna oprema | I176: =I81 -> 0
A178: INSTALACIJA KANALIZACIJE
...

Sheet 3. Lift
A1: GRUPA 8. LIFT
A3: 1 | B3: OPĆI PODACI
C4: za građevinu: | D4: POSLOVNO-PROIZVODNA ZGRADA | G4: Popunjava ponuditelj
C6: investitor: | D6: Nabla Slavonija d.o.o.
C8: Broj dizala za izvedbu: | D8: 1 komad
A9: 2 | B9: TEHNIČKI PODACI
C10: Dizalo:
C11: Vrsta dizala: | D11: električno, dizalo bez strojarnice - tip GEN 2 Genesis ili jednakovrijedan
C12: Nosivost mase: | D12: 630 kg / 8 osoba
C13: Brzina vožnje: | D13: 1,0 m/s frekvencijski regulirana
C14: Visina dizanja: | D14: 3,60 m
C15: Broj stanica/ulaza: | D15: 2/2 (svi ulazi na istoj strani)
C16: Pogonsko postrojenje: | D16: bezreduktorski, sinkroni motor s permanentnim magnetima smješten u
C17: Ovjes:
C18: Upravljanje: | D18: simplex potpuno sabirno – mikroprocesorsko
C20: Napon upravljanja: | D20: 110 V , AC
C21: Signalizacija i moduli: | D21: optička potvrda poziva , digitalni pokazivač položaja kabine u kabini HPI 15 crveni, strelica smjera daljne vožnje, alarma, preopterećenje, nužna rasvjeta,
C22: Instalacija: | D22: za suhi prostor
C23: Napajanje: | D23: TN-C mreža, 3x400 V, N, 50 Hz
C24: Vozno okno:
D25: materijal: | E25: armirano-betonska konstrukcija
D26: tlocrtne dimenzije: | E26: širina 1820 mm, dubina 2250 mm
D27: dubina donjeg dijela: | E27: 1000 mm
D28: visina gornjeg dijela: | E28: 3700 mm
D29: provjetravanje: | E29: prema nacrtu
C32: Kabina:
D33: svijetle mjere: | E33: širina 1100 mm, dubina 1400 mm, visina 2200 mm
D34: vrata: | E34: automatska teleskopska vrata, širina 900 mm, visina 2100 mm brušeni inox 220
D37: obloga stranica: | E37: brušeni inox 220
D38: obloga stropa: | E38: brušeni inox 220
D39: obloga poda: | E39: kamen lokalno
D40: rasvjeta: | E40: LED stropna
D41: upravljanje: | E41: operacioni panel s mehaničkim tipkalima i reljefnim oznakama
D42: ostala oprema: | E42: rukohvat s jedne strane, zrcalo nasuprot upravljačke lamele,
C43: Vrata voznog okna: | E43: automatska teleskopska
D44: materijal: | E44: čelični lim
D45: svjetle mjere: | E45: širina 900 mm, visina 2100 mm
D46: obloga:
D47: vatrootpornost: | E47: E120 prema HRN EN 81-58:2006 ili jednakovrijedno
C48: Smještaj pogonskog stroja: | D48: na vrhu voznog okna u voznom oknu, prilaz s krova kabine iz najviše stanice
C49: Protuuteg: | D49: čelični okvir ispunjen elementima
C50: Smještaj: | D50: sa strane kabine
C51: NAPOMENA: | D51: Oprema i uređenje dizala može se mijenjati (definira se ugovorom s naručiteljem dizala)
A53: 3 | B53: Cijena uključuje isporuku dijelova postrojenja* prema popisu (točka 2):
B54: * uključujući transport do radilišta i istovar
A55: 4 | B55: Cijena uključuje ugradnju opreme:
A56: 5 | B56: Cijana uključuje ostale radove:
B57: Rasvjeta voznog okna (vodovi i rasvjetna tijela)
B58: Odvoz i zbrinjavanje otpada (odvoz do odlagališta otpada i reciklažnih dvorišta)
A60: 6 | B60: Cijena uključuje izradu izvedbenu dokumentacija*:
B61: * uključujući certifikate za ugrađene sigurnosne komponente
A62: 7 | B62: Cijena uključuje tehnički pregled dizala*
B63: * kod ovlaštene pravne osobe
A64: 8 | B64: Ukupna cijena: | F64: kn
B66: Ostale napomene:
B67: Sva projektirana, isporučena i ugrađena oprema postrojenja dizala mora odgovarati:
B68: · Pravilniku o sigurnosti dizala (NN RH 58/10)
B69: · Sigurnosnim pravilima za konstrukciju i ugradnju dizala - dio 1. električna dizala (HRN EN 81-1; 2010 ili jednakovrijedno)
B70: Garancija za ugrađenu opremu mora iznositi najmanje 2 godine, računajući od dana primopredaje dizala korisniku.
B71: Radovi koji nisu uključeni u troškovnik isporuke i ugradnje dizala:
B72: Postavljanje napojnog voda za dizalo - sukladno projektnom nacrtu
B73: Dovod gromobranske instalacije - sukladno projektnom nacrtu
B74: Završna obrada otvora nakon ugradnje vrata voznog okna
B75: Žaluzina za zaštitu otvora za provjetravanje u vrhu voznog okna
B76: Osigurati rasvjetu ispred ulaza u vozno okno min. 50 lx mjereno na podu
B77: Osigurati rasvjetu ispred upravljačkog ormara min. 200 lx mjereno na podu (najviša stanica dizala)
... B85: Kod troškovničkih stavki kod kojih je naveden proizvođač/marka/tip opreme ili uređaja /norme/standardi/licence dozvoljeno je ponuditi jednakovrijednu robu. Ako pored naziva nije naveden izraz „ili jednakovrijedno“, i u tom slučaju je dozvoljeno ponuditi jednakovrijedan proizvod.

Sheet 4. Elektro instalaterski radovi
A1: GRUPA 5. ELEKTRO INSTALATERSKI RADOVI
A3: Red.broj. | B3: Opis | C3: Jed. mjere | D3: Kol. | E3: Jed. cijena (HRK) | F3: Ukupna cijena (HRK) | G3: Popunjava ponuditelj
B4: NAPOMENA: Cijena za svaku točku ovog troškovnika mora obuhvatiti dobavu, montažu, spajanje, te dovođenje stavke u stanje potpune funkcionalnosti. U cijenu treba ukalkulirati sav spojni, montažni, pridržni i ostali materijal potreban za potpuno funkcioniranje pojedine stavke. Prilikom izrada ponude treba imati u vidu najnovije važeće propise za pojedine vrste instalacije. Za sve eventualne primjedbe u pogledu izvođenja i troškovnika, odnosno davanja ponude obratiti se projektantu. Izvođač je dužan prijenos, ugradnju i montažu opreme, kao i svu građevinsku pomoć izvesti o svom trošku, te sve radove nuditi u jediničnim cijenama predmetnog troškovnika. Svi razdjelnici trebaju biti sastavljeni, ispitani i isporučeni sa natpisnom pločicom prema HRN EN 61439 ili jednakovrijedno.
A5: I | B5: NAPAJANJE EL. ENERGIJOM, EE RAZVOD, DTK I VANJSKA RASVJETA
A6: 1.1. | B6: Građevinski radovi i kabelski razvod
A7: 1.1.1 | B7: Geodetski radovi: Iskolčenje trase kabela, postavljanje i održavanje oznaka od početka radova do predaje svih radova investitoru, sva mjerenja u vezi prijenosa podataka iz projekta na teren i obrnuto, te izrada snimke izvedenog stanja vodova (3 primjerka) ovjerenu od strane mjerodavnog katastra. Obračun po m¹ iskolčene trase. | C7: m | D7: 110 | F7: =D7*E7 -> 0
A8: 1.1.2 | B8: Probni iskopi: ručni iskop rova, dubine 1.2 m, širine 0.4 m i dužine 5m, u zemljanom tlu u materijalu kategorije "C". U jediničnu cijenu uračunati su svi radovi na iskopu materijala, vertikalni prijenosi, utovari u prijevozna sredstva, radovi na uređenju i čišćenju pokosa, planiranje iskopanih i susjednih površina te zatrpavanje. Obračun po m³ stvarno izvedenog iskopa u sraslom stanju. | C8: m3 | D8: 7.2 | F8: =D8*E8 -> 0
A9: 1.1.3 | B9: Iskop rova za instalacije (kabel i traka za uzemljenje): Strojni iskop zemlje, a prema potrebi i ručni, dubine 0,8 m, širine 0,4 m u zemljanom tlu u materijalu kategorije "C". Izvodi se u zbijenom nasipu uz svu potrebnu zaštitu stabilnosti iskopa (razupiranje, odvodnja, zbijanje). U jediničnu cijenu uračunati su svi radovi na iskopu materijala, vertikalni prijenosi, utovari u prijevozna sredstva, radovi na uređenju i čišćenju pokosa, planiranje iskopanih i susjednih površina. Obračun po m³ stvarno izvedenog iskopa u sraslom stanju. | C9: m | D9: 100 | F9: =D9*E9 -> 0
A10: 1.1.4 | B10: Iskop rova za instalacije (kabel i traka za uzemljenje): Strojni iskop zemlje, a prema potrebi i ručni, dubine 1,2 m, širine 0,4 m u zemljanom tlu u materijalu kategorije "C". Izvodi se u zbijenom nasipu uz svu potrebnu zaštitu stabilnosti iskopa (razupiranje, odvodnja, zbijanje). U jediničnu cijenu uračunati su svi radovi na iskopu materijala, vertikalni prijenosi, utovari u prijevozna sredstva, radovi na uređenju i čišćenju pokosa, planiranje iskopanih i susjednih površina. Obračun po m³ stvarno izvedenog iskopa u sraslom stanju. | C10: m | D10: 14 | F10: =D10*E10 -> 0
A11: 1.1.5 | B11: Podložni sloj i obloga od pijeska: Obuhvaća pripremu podloge, dobavu materijala, utovar, prijevoz, istovar, razastiranje, zbijanje, taj. sav rad na izradi i ugradnji sloja i obloge. Obračun po m³ stvarno izvedene količine. | C11: m3 | D11: 10 | F11: =D11*E11 -> 0
A12: 1.1.6 | B12: Iskop građevinske jame za ugradnju kabelskog zdenca (obračun iskopa mjeri se po komadu jame):
B13: Iskop jame (za ugradnju kabelskog zdenca MZ D0) dimenzija 63 x 63 x 86 cm (1 m3) u zemljištu C kategorije.
B14: Izradu posteljice za postavu kabelskog zdenca od nabijenog pijeska debljine 10 cm (0,1 m3).
B15: Zasipavanje postavljenog kabelskog zdenca materijalom iz otkopa.
B16: Odvoz viška iskopanog materijala na deponiju.
B17: iskop jame ukupno: | C17: kom | D17: 3 | F17: =D17*E17 -> 0
A18: 1.1.7 | B18: Dobava na gradilište tipskog montažnog zdenca KZ DO, vanjskih dimenzija cca 63 x 63 x 89 cm te ugradnja na pripremljenu podlogu od pijeska prema mjerama i uvjetima iz projekta, za opterećenje do 125 kN. | C18: kom | D18: 3 | F18: =D18*E18 -> 0
A19: 1.1.8 | B19: Dobava i ugradnja materijala za izradu temelja rasvjetnog stupa što uključuje:
B20: planiranje dna prethodno iskopane jame te razastiranje tamponskog sloja šljunka d=10cm (0.07m3);
B21: uvlačenje dvije savitljive PEHD cijevi Ф50 mm duljine 1.5 m u temelj;
B22: betoniranje temelja betonom marke betona C25(30) cca 0.64m3, uz centriranje čeličnih sidrenih vijaka šablonom;
B23: dobava i montaža armature B-500 (mreža Q-335) u gornjem dijelu temelja
B24: formiranje kape temelja uporabom oplate s izvođenjem skošenja od sredine prema rubu radi otjecanja oborinske vode;
B25: te sve ostalo potrebno za kompletno dovršenje rada (u stavku uključiti potrebnu drvenu oplatu koja se postavlja u slučaju potrebe).
B26: Obračun po komadu ugrađenog stupa. | C26: kom | D26: 2 | F26: =D26*E26 -> 0
A27: 1.1.9 | B27: Dobava i ugradnja čeličnog rasvjetnog stupa tip Auriga P 4M, ɸ60 ili jednakovrijedno, Stožasti rasvjetni stup u boji svjetilje (RAL7035) sa temeljnom pločom, visina 4m, nasadnik FI60, vruče cinčani B54 + sidreni vijci M18x850, 4x matica + 4x kontramatica
B28: Stup treba isporučiti s pripadajućim temeljnim vijcima i svim elementima što uključuje:
B29: podizanje stupa i nasađivanje temeljne stope stupa na sidrene vijke temelja, kom 1
B30: centriranje stupa u vertikalni položaj podmetanjem čeličnih pločica odgovarajuće debljine između kape temelja i temeljne stope stupa i pritezanje matica sidrenih vijaka, kom 1
B31: premazivanje temeljne stope stupa, vrhova sidrenih vijaka i matica, epoksidnim premazom.
B32: Obračun po komadu stupa. | C32: kom | D32: 2 | F32: =D32*E32 -> 0
A33: 1.1.10 | B33: Dobava i ugradnja stupnog razdjelnika. Razdjelnik treba biti opremljena sa priključnim stezaljkama do dva energetska kabela rasvjete 4x16mm2, dva osigurača DO1 od 10A i 6A na jednoj DIN-šini te pričuvnim stezaljkama za priključak signalnog voda na drugoj DIN-šini. Stavka obuhvaća i spajanje svih kabela na stupnu razdjelnicu. Komplet sa spojnim i montažnim priborom. | C33: kom | D33: 2 | F33: =D33*E33 -> 0
A34: 1.1.11 | B34: Zaštitne cijevi za NN kabele: Dobava i polaganje u već iskopani rov, plastičnih cijevi. Podrazumijeva dobavu i dopremu cijevi i spojnog materijala, sve potrebne prijevoze i prijenose, polaganje u rov i podnu ploču prilikom betoniranja, spajanje te sve ostalo potrebno za kompletno dovršenje rada. Obračun po m ugrađene cijevi.
A35: 1.1.11.1 | B35: PEHD 110mm | C35: m | D35: 70 | F35: =D35*E35 -> 0
A36: 1.1.11.2 | B36: PEHD 50mm | C36: m | D36: 150 | F36: =D36*E36 -> 0
A37: 1.1.11.3 | B37: PEHD 32mm | C37: m | D37: 200 | F37: =D37*E37 -> 0
A38: 1.1.12 | B38: Dobava i polaganje plastične trake za upozorenje s natpisom "POZOR - ELEKTROENERGETSKI KABEL 0,4kV" | C38: m | D38: 130 | F38: =D38*E38 -> 0
A39: 1.1.13 | B39: Dobava i polaganje plastične trake za upozorenje s natpisom "POZOR - TELEKOMUNIKACIJSKI KABEL" | C39: m | D39: 40 | F39: =D39*E39 -> 0
A40: 1.1.14 | B40: Dobava i polaganje PVC štitnika (1000x100x2mm; GAL štitnik) za obliježavanje i zaštitu podzemnih instalacija u crvenoj boji. Obuhvaća nabavu, prijevoz i polaganje štitnika u kabelski rov. | C40: m | D40: 130 | F40: =D40*E40 -> 0
A41: 1.1.15 | B41: Zatrpavanje materijalom od iskopa: Obuhvaća prijevoz, nasipavanje, razastiranje i zbijanje materijala. Obračun po m³ stvarno izvedene količine u zbijenom stanju. | C41: m3 | D41: 30 | F41: =D41*E41 -> 0
A42: 1.1.16 | B42: Prijevoz viška zemlje na najbliži deponij. U rad su uključeni vertikalni prijenosi, utovari i istovari u prijevozna sredstva te privremena odlaganja. Obračun po m³ stvarno izvedene količine preostalog materijala. | C42: m3 | D42: 10 | F42: =D42*E42 -> 0
A43: 1.1.17 | B43: Dobava i polaganje kabela u već iskopani rov s provlačenjem kroz prethodno položene cijevi te spajanje kabela uglavnom razvodnom ormaru RO i u SKPMO (nakon polaganja obračunati stvarno utrošene količine):
A44: 1.1.17.1 | B44: SKPMO-RO --> NAYY-O 4x150 mm² + NAYY-J 1x70mm² | C44: m | D44: 72 | F44: =D44*E44 -> 0
A45: 1.1.17.2 | B45: RO - S2 - S1 --> NYY-J 5x6mm2 | C45: m | D45: 70 | F45: =D45*E45 -> 0
A46: 1.1.17.3 | B46: kolna vrata - RO - slušalica portafona-->NYY -OZ 7x1.5mm2 | C46: m | D46: 80 | F46: =D46*E46 -> 0
A47: 1.1.17.4 | B47: KZ1-KZ2-KZ3-ENI-BD->svjetlovod A-DQ(ZN)-2Y 6x4 E9/125 singlemode | C47: m | D47: 100 | F47: =D47*E47 -> 0
A48: 1.1.17.5 | B48: KZ1-KZ2-KZ3-ENI-BD-->TCxDSL HFFR 10x2x0,4 | C48: m | D48: 90 | F48: =D48*E48 -> 0
A49: 1.1.18 | B49: Preuzimanje od HEP-a SPMO, kombi trofaznog brojila za izravno mjerenje ili poluizravno, 3f limitatora sa svim potrebnim materijalom i priborom za potpuno funkcioniranje te ugradnja u SPMO prema elektroenergetskoj suglasnosti, ugradnja na predviđeno mjesto u SKPMO te spajanje priključnih vodova | C49: kpl | D49: 1 | F49: =D49*E49 -> 0
A50: 1.1.19 | B50: Nespecificirani sitni montažni i instalacijski materijal | C50: kpl | D50: 1 | F50: =D50*E50 -> 0
B51: UKUPNO I | F51: =SUM(F7:F50) -> 0
A52: II | B52: BRTVENI ELEMENTI
A53: 2.1. | B53: Dobava i ugradnja protupožarne pjene za brtvljenje prolaza kabelske police između požarnih sektora, klase vatrootpornosti EI90, u kartuši od 380ml | C53: kom | D53: 3 | F53: =D53*E53 -> 0
A54: 2.2. | B54: Dobava i ugradnja protupožarnog kita za brtvljenje prolaza pojedinačnih kabela ili instalacijskih cijevi između požarnih sektora, klase vatrootpornosti EI90, u kartuši od 310ml | C54: kom | D54: 3 | F54: =D54*E54 -> 0
A55: 2.3. | B55: Dobava i ugradnja natpisne pločice za označavanje prolaza instalacije između požarnih sektora | C55: kom | D55: 10 | F55: =D55*E55 -> 0
A56: 2.4. | B56: Sitni montažni i instalacijski materijal | C56: kpl | D56: 1 | F56: =D56*E56 -> 0
B57: UKUPNO II | F57: =SUM(F53:F56) -> 0
A58: III | B58: NN ORMAR RO I SEKUNDARNI NN RASPLET
A59: 3.1. | B59: Dobava, montaža, spajanje do pune funkcionalnosti i označavanje razvodnog ormara oznake RO dovoljnih dimenzija za instalciju opreme prema jednopolnim shemama, tipski testiran prema IEC, kao SCHNEIDER Prisma Plus G ili jednakovrijedan. Ormar je samostojeći, metalni, s prozirnim vratima na aparatnim i na kabelskim poljima sa stupnjem zaštite IP30.Ulaz glavnih napojnih kabela predviđen je sa gornje strane razdjelnika, kao i odlaz svih kabela. Ormar je opremljen DIN šinama i poklopcima za opremu, bravom i ključem. Za napajanje opreme prediđene su sabirnice powerclip s 160A na leđnoj stranici razdjelnika, te multiclip 63A horizontalnim distributivnim blokovima. Dovodni i odvodni kabeli spajaju se na redne stezaljke unutar kabelskog polja u kojemu se nalaze i sabirnice PE i N. Stavka uključuje sav potreban montažni materijal za potpunu funkcionalnost: | C59: kpl | D59: 1 | F59: =D59*E59 -> 0
A60: 3.1.1 | B60: Redne stezaljke proizvođača tip kao Phoenix Contact ili jednakovrijedan, P/F vodiči, izolatori, natpisi i natpisne pločice pinovi, uvodnice i ostali sitni spojni i montažni materijal, potreban do potpunog opremanja ormara , uključujući ispitni list ormara i metalna pločica oznake sukladnosti. Svu opremu i kabele kvalitetno označiti. U ormaru ostaviti revizijski list sa nazivom firme i žigom koja je spojila i ugradila ormar na koji će se u buduće upisivati održavanja i radovi. | C60: kpl | D60: 1 | F60: =D60*E60 -> 0
A61: 3.1.2 | B61: Niskonaponski kompaktni zaštitni prekidač, nazivne struje tijela prekidača 160A, nazivnog napona Ue=690V, tropolni 3P, fiksne izvedbe, nazivne granične prekidne moći Icu=25kA kod 415V AC prema IEC/EN 60947-2, sa elektroničkom zaštitnom jedinicom LS0I selektivnog tipa In=160A tip Micrologic 5.2A ili jednakovrijedno, sa isklopnim naponskim okidačem nazivnog napona 230VAC i sa dva pomoćna kontakta (za isklop i proradu zaštite), zaslon; kao tip NSX160B ili jednakovrijedan, oznake LV430880 + LV429387 + 29450+LV434201+TRV00121+TRV00128, proizvođača Schneider Electric ili jednakovrijedno | C61: kom | D61: 1 | F61: =E61*D61 -> 0
A62: 3.1.3 | B62: Odvodnik prenapona 3P+N, Iimp=25/100kA N/PE za valni oblik 10/350as, nazivna struja odvoda 25kA za valni oblik 8/20as, za nazivni linijski napon 230 VAC i vršni nazivni napon 350VAC, tip 1+2, izvedba s ulošcima i indikacijom dotrajalosti, kao tip PRD1, oznake 16332, proizvođača Schneider Electric ili jednakovrijedan | C62: kom | D62: 1 | F62: =E62*D62 -> 0
A63: 3.1.4 | B63: Minijaturni automatski prekidač sa VISI-TRIP i VISI-SAFE funkcionalnošću i mogućnošću prigradnje pomoćnog pribora, prekidne moći Icu=10kA kod 415V AC prema IEC/EN 60947-2, tropolni, 40A, C krivulje; kao tip Acti9, iC60N ili jednakovrijedan, oznake A9F74340, proizvođača Schneider Electric | C63: kom | D63: 2 | F63: =E63*D63 -> 0
A64: 3.1.5 | B64: Diferencijalna zaštitna sklopka modularne izvedbe, Icu=10kA kod 440V AC prema IEC/EN 61008-1, sa mogućnošću prigradnje pomoćnog pribora, četveropolna 3P+N, nazivne struje 40A, osjetljivosti 30mA, tip B; kao tip Acti9, ID RCCB ili jednakovrijedan, oznake 16752, proizvođača Schneider Electric | C64: kom | D64: 1 | F64: =E64*D64 -> 0
A65: 3.1.6 | B65: Minijaturni automatski prekidač sa VISI-TRIP i VISI-SAFE funkcionalnošću i mogućnošću prigradnje pomoćnog pribora, prekidne moći Icu=10kA kod 415V AC prema IEC/EN 60947-2, tropolni, 32A, C krivulje; kao tip Acti9, iC60N ili jednakovrijedan, oznake A9F74332, proizvođača Schneider Electric | C65: kom | D65: 1 | F65: =E65*D65 -> 0
A66: 3.1.7 | B66: Minijaturni automatski prekidač sa VISI-TRIP i VISI-SAFE funkcionalnošću i mogućnošću prigradnje pomoćnog pribora, prekidne moći Icu=10kA kod 415V AC prema IEC/EN 60947-2, jednopolni, 32A, C krivulje; kao tip Acti9, iC60N ili jednakovrijedan, oznake A9F74132, proizvođača Schneider Electric | C66: kom | D66: 3 | F66: =E66*D66 -> 0
A67: 3.1.8 | B67: Minijaturni automatski prekidač sa VISI-TRIP i VISI-SAFE funkcionalnošću i mogućnošću prigradnje pomoćnog pribora, prekidne moći Icu=10kA kod 415V AC prema IEC/EN 60947-2, jednopolni, 6A, C krivulje; kao tip Acti9, iC60N ili jednakovrijedan, oznake A9F74106, proizvođača Schneider Electric | C67: kom | D67: 14 | F67: =E67*D67 -> 0
A68: 3.1.9 | B68: Minijaturni automatski prekidač sa VISI-TRIP i VISI-SAFE funkcionalnošću i mogućnošću prigradnje pomoćnog pribora, prekidne moći Icu=10kA kod 415V AC prema IEC/EN 60947-2, jednopolni, 4A, C krivulje; kao tip Acti9, iC60N ili jednakovrijedan, oznake A9F74104, proizvođača Schneider Electric | C68: kom | D68: 6 | F68: =E68*D68 -> 0
A69: 3.1.10 | B69: Minijaturni automatski prekidač sa VISI-TRIP i VISI-SAFE funkcionalnošću i mogućnošću prigradnje pomoćnog pribora, prekidne moći Icu=10kA kod 415V AC prema IEC/EN 60947-2, dvopolni, 40A, C krivulje; kao tip Acti9, iC60N ili jednakovrijedan, oznake A9F74240, proizvođača Schneider Electric | C69: kom | D69: 5 | F69: =E69*D69 -> 0
A70: 3.1.11 | B70: Vigi iC60 strujni zaštitni modul, za iC60 minijaturni automatski prekidač, Un= 220-415V AC, AC klasa, 2P, 63/0,03A, kao tip Acti9, iC60N ili jednakovrijedan, oznake A9V41263, proizvođača Schneider Electric | C70: kom | D70: 5 | F70: =E70*D70 -> 0
A71: 3.1.12 | B71: Minijaturni automatski prekidač sa VISI-TRIP i VISI-SAFE funkcionalnošću i mogućnošću prigradnje pomoćnog pribora, dvopolni, 25A, C krivulje; kao tip Acti9, iC60N ili jednakovrijedan, oznake A9F74225, proizvođača Schneider Electric | C71: kom | D71: 6 | F71: =E71*D71 -> 0
A72: 3.1.13 | B72: Vigi iC60 strujni zaštitni modul, za iC60 minijaturni automatski prekidač, Un= 220-415V AC, AC klasa, 2P, 25/0,03A, kao tip Acti9, iC60N ili jednakovrijedan, oznake A9V41225, proizvođača Schneider Electric | C72: kom | D72: 6 | F72: =E72*D72 -> 0
... A82: 3.2. | B82: Dobava, montaža, spajanje do pune funkcionalnosti, prema jednopolnoj shemi. Ormar za modularnu opremu i priključna mjesta Kaedra, 12 modula, 6 otvora, 3 x 2P-E + 1 x 16A 3P-N-E + 1 x 32A 3P-N-E + 2 x RJ45 Cat6 oznaka na crtežu - G, kao tip Kaedra ili jednakovrijedan, Schneider Electric | C82: kom | D82: 2 | F82: =E82*D82 -> 0
A83: 3.3. | B83: Nespecificirani sitni montažni i instalacijski materijal | C83: kpl | D83: 1 | F83: =D83*E83 -> 0
B84: UKUPNO III | F84: =SUM(F59:F83) -> 0
A85: IV. | B85: KABELSKI KANALI, KABELSKE POLICE I CIJEVI
A86: 4.1 | B86: Dobava i polaganje kabelskih polica na stropni/zdini nosač za instalaciju utičnica, rasvjete, tehnoloških trošila, komplet sa svim spojnim materijalom, kutevima, T-elementima, nosačima kanala.
B87: JAKA struja
A88: 4.1.1 | B88: kabelski kanal RKSM, s Magic spojnicom, 60x100x3050, čelik, pocinčano, | C88: m | D88: 60 | F88: =E88*D88 -> 0
A89: 4.1.2 | B89: kabelski kanal RKSM, s Magic spojnicom, 60x200x3050, čelik, pocinčano, | C89: m | D89: 15 | F89: =E89*D89 -> 0
A90: 4.1.3 | B90: kabelski kanal RKSM, s Magic spojnicom, 60x300x3050, čelik, pocinčano, | C90: m | D90: 6 | F90: =E90*D90 -> 0
A91: 4.1.4 | B91: kabelski kanal RKSM, s Magic spojnicom, 60x400x3050, čelik, pocinčano, | C91: m | D91: 12 | F91: =E91*D91 -> 0
A92: 4.1.5 | B92: T-dogradni element, s integriranim spojnicama, 60x100, čelik, pocinčano, | C92: kom | D92: 6 | F92: =E92*D92 -> 0
A93: 4.1.6 | B93: T- element, s integriranim spojnicama, 60x200, čelik, pocinčano, | C93: kom | D93: 1 | F93: =E93*D93 -> 0
A94: 4.1.7 | B94: T- element, s integriranim spojnicama, 60x400, čelik, pocinčano, | C94: kom | D94: 1 | F94: =E94*D94 -> 0
A95: 4.1.8 | B95: ravna spojnica, za kabl. kanal, pregradu, 60x100, čelik, pocinčano, | C95: kom | D95: 10 | F95: =E95*D95 -> 0
A96: 4.1.9 | B96: zidna i stropna konzola, s vijkom M10 x 25, B410mm, čelik, pocinčano, | C96: kom | D96: 8 | F96: =E96*D96 -> 0
A97: 4.1.10 | B97: zidna i stropna konzola, s vijkom M10 x 25, B310mm, čelik, pocinčano, | C97: kom | D97: 4 | F97: =E97*D97 -> 0
A98: 4.1.11 | B98: zidna i stropna konzola, s vijkom M10 x 25, B210mm, čelik, pocinčano, | C98: kom | D98: 10 | F98: =E98*D98 -> 0
A99: 4.1.12 | B99: zidna i stropna konzola, s vijkom M10 x 25, B110mm, čelik, pocinčano, | C99: kom | D99: 35 | F99: =E99*D99 -> 0
A100: 4.1.13 | B100: stropni nosač, sa zavarenom stopom, 50x30x300, čelik, vruće pocinčano, | C100: kom | D100: 10 | F100: =E100*D100 -> 0
B101: SLABA struja
A102: 4.1.14 | B102: kabelski kanal RKSM, s Magic spojnicom, 60x100x3050, čelik, pocinčano, | C102: m | D102: 95 | F102: =E102*D102 -> 0
A103: 4.1.15 | B103: kabelski kanal RKSM, s Magic spojnicom, 60x200x3050, čelik, pocinčano, | C103: m | D103: 60 | F103: =E103*D103 -> 0
A104: 4.1.16 | B104: kut 90°, s integriranim spojnicama, 60x100, čelik, pocinčano, | C104: kom | D104: 2 | F104: =E104*D104 -> 0
A105: 4.1.17 | B105: kut 90°, s integriranim spojnicama, 60x200, čelik, pocinčano, | C105: kom | D105: 4 | F105: =E105*D105 -> 0
A106: 4.1.18 | B106: T- element, s integriranim spojnicama, 60x200, čelik, pocinčano, | C106: kom | D106: 2 | F106: =E106*D106 -> 0
A107: 4.1.19 | B107: ravna spojnica, za kabl. kanal, pregradu, 60x100, čelik, pocinčano, | C107: kom | D107: 10 | F107: =E107*D107 -> 0
A108: 4.1.20 | B108: zidna i stropna konzola, s vijkom M10 x 25, B210mm, čelik, pocinčano, | C108: kom | D108: 30 | F108: =E108*D108 -> 0
A109: 4.1.21 | B109: zidna i stropna konzola, s vijkom M10 x 25, B110mm, čelik, pocinčano, | C109: kom | D109: 50 | F109: =E109*D109 -> 0
A110: 4.1.22 | B110: stropni nosač, sa zavarenom stopom, 50x30x300, čelik, vruće pocinčano, | C110: kom | D110: 35 | F110: =E110*D110 -> 0
...

Sheet 5. IT oprema i sustavi
A1: GRUPA 6. IT OPREMA I SUSTAVI
A3: Red.broj. | B3: Opis | C3: Jed. mjere | D3: Kol. | E3: Jed. cijena (HRK) | F3: Ukupna cijena (HRK) | G3: Popunjava ponuditelj
B4: NAPOMENA: Cijena za svaku točku ovog troškovnika mora obuhvatiti dobavu, montažu, spajanje, te dovođenje stavke u stanje potpune funkcionalnosti. U cijenu treba ukalkulirati sav spojni, montažni, pridržni i ostali materijal potreban za potpuno funkcioniranje pojedine stavke. Prilikom izrada ponude treba imati u vidu najnovije važeće propise za pojedine vrste instalacije. Za sve eventualne primjedbe u pogledu izvođenja i troškovnika, odnosno davanja ponude obratiti se projektantu. Izvođač je dužan prijenos, ugradnju i montažu opreme, kao i svu građevinsku pomoć izvesti o svom trošku, te sve radove nuditi u jediničnim cijenama predmetnog troškovnika. Svi razdjelnici trebaju biti sastavljeni, ispitani i isporučeni sa natpisnom pločicom prema HRN EN 61439 ili jednakovrijedno.
A5: I. | B5: KOMUNIKACIJSKA OPREMA - nano DATA CENTAR
A6: 1.1. | B6: Dobava i montaža poslužiteljsko-komunikacijskog ormara BD visine 42 U, tlocrtnih dimenzija širina 800mm x dubina 1200 mm x visina 2000 mm | C6: kpl. | D6: 1 | F6: =D6*E6 -> 0
B8: - izrađen od pocinčanog lima obojanog u RAL 7035
B9: - unutarnja instalacija obojana u RAL 9005
B10: - staklena prednja i metalna stražnja dvokrilna vrata
B11: - krovna ploča priređena za ulaz kabela
B12: - nosivost vertiklnih 19" šina 1500 kg
B13: - TS set za uzemljenje
B14: - set vijaka i matica
B15: kao oznake 5511.120, proizvođača Rittal ili jednakovrijedan
A16: 1.1.1 | B16: TS8 dvodijelne bočne strane 2000x1200 sa priborom za zaključavanje kao oznake 5501.040, proizvođača Rittal ili jednakovrijedan | C16: kom | D16: 2 | F16: =D16*E16 -> 0
A17: 1.1.2 | B17: TS8 flex box kutni dio podnožja pak=4 kao oznake 8100.000, proizvođača Rittal ili jednakovrijedan | C17: pak | D17: 1 | F17: =D17*E17 -> 0
A18: 1.1.3 | B18: TS8 flex boxprednje/stražnje strane podnožja 100X800mm pak=2 kao oznake 8100.120, proizvođača Rittal ili jednakovrijedan | C18: pak | D18: 1 | F18: =D18*E18 -> 0
A19: 1.1.4 | B19: TS8 flex box bočne strane podnožja 100X1200mm pak=2 kao oznake 8100.120, proizvođača Rittal ili jednakovrijedan | C19: pak | D19: 1 | F19: =D19*E19 -> 0
A20: 1.1.5 | B20: TS-IT Magnetski pokrov kao oznake 5501.895, proizvođača Rittal ili jednakovrijedan | C20: kom | D20: 1 | F20: =D20*E20 -> 0
A21: 1.1.6 | B21: TS-IT Vertikalni kabelski kanal 42U kao oznake 5502.120, proizvođača Rittal ili jednakovrijedan | C21: kom | D21: 1 | F21: =D21*E21 -> 0
A22: 1.1.7 | B22: TS-IT nosač podnih ploča kao oznake 5501.350, proizvođača Rittal ili jednakovrijedan | C22: kom | D22: 1 | F22: =D22*E22 -> 0
A23: 1.1.8 | B23: TS-IT pune podne ploče kao oznake 5502.570, proizvođača Rittal ili jednakovrijedan | C23: pak | D23: 1 | F23: =D23*E23 -> 0
A24: 1.1.9 | B24: TS-IT sekcija za ulaz kabela kao oznake 8802.080, proizvođača Rittal ili jednakovrijedan | C24: kom | D24: 1 | F24: =D24*E24 -> 0
A25: 1.1.10 | B25: TS-IT unutarnja pokrovna pločaza odvajanje tople i hladne zone unutar razdjelnika kao oznake 5501.815, proizvođača Rittal ili jednakovrijedan | C25: kom | D25: 1 | F25: =D25*E25 -> 0
A26: 1.1.11 | B26: TS-IT kabelski nosač 6U kao oznake 5502.115, proizvođača Rittal ili jednakovrijedan | C26: pak | D26: 1 | F26: =D26*E26 -> 0
A27: 1.1.12 | B27: TS-IT perforirana šina 23x73mm kao oznake 8612.520, proizvođača Rittal ili jednakovrijedan | C27: pak | D27: 1 | F27: =D27*E27 -> 0
... A71: 1.2. | B71: Sitni materijal i pribor | C71: kpl | D71: 1 | F71: =D71*E71 -> 0
B72: UKUPNO I | F72: =SUM(F6:F71) -> 0
A73: II. | B73: BMS INTELIGENTNI SUSTAV UPRAVLJANJA ZGRADOM
A74: 2.1 | B74: Dobava, montaža i spajanje opreme u prostoru za sustav upravljanja pumpama, elektromotornim pogonima ventila, ventilokonvektorima, zaklopkama ventilacijskog sustava i el. prozorima (HVAC sustav), koja obuhvaća sljedeću opremu:
A75: 2.1.1 | B75: Modularni ispravljač, jednofazni, ulazni napon 85-264 V AC ili 95-250VDC, izlazni napon 24 V DC; struja 2,5 A, kao tip STEP POWER oznake 2868651, proizvođača Phoenix Contact ili jednakovrijedan | C75: kom | D75: 2 | F75: =D75*E75 -> 0
A76: 2.1.2 | B76: Bežični koncentrator signala s kontrolera temperature preko ZigBee PRO komunikacijskog protokola, te s mogućnošću slanja podataka prema glavnom upravljačkom serveru preko BACnet TCP/IP protokola. Mogućnost komunikacije s uređajima putem RS485 ModBUS protokola te digitalnim i analognim I/O signalima (6 univerzalnih ulaza, 4 analogna izlaza i 2 relejna izlaza), napajanje 24 V AC/DC, kao tip MPM-UN oznake MPM-UN-0I4-5045, proizvođača Schneider Electric ili jednakovrijedan | C76: kom | D76: 2 | F76: =D76*E76 -> 0
A77: 2.1.3 | B77: Bežični kontroler s podrškom za lokalno programiranje putem skripti i programskih aplikacija, mogućnost povezivanja s bežičnim koncentratorima signala putem ZigBee PRO protokola. Kontroler ima ugrađene priključke za: 4 univerzalna ulaza, 4 analogna izlaza i 5 relejnih izlaza. Napajanje 220...240 V AC 50/60 Hz, kao tip SEC-TE oznake SEC-TEA-230-5045, proizvođača Schneider Electric ili jednakovrijedan | C77: kom | D77: 5 | F77: =D77*E77 -> 0
A78: 2.1.4 | B78: Bežični pretvornik i koncentrator signala s kontrolera temperature preko ZigBee PRO komunikacijskog protokola, te s mogućnošću slanja podataka prema glavnom upravljačkom serveru preko BACnet TCP/IP protokola, napajanje 24 V AC/DC, kao tip MPM-GW oznake MPM-GW-DI0-5045, proizvođača Schneider Electric ili jednakovrijedan | C78: kom | D78: 1 | F78: =D78*E78 -> 0
A79: 2.1.5 | B79: CO2 senzorski modul za SE8000 kontroler za kontrolu kvalitete zraka, kao tip VCM oznake VCM8001V5045, proizvođača Schneider Electric ili jednakovrijedan | C79: kom | D79: 9 | F79: =D79*E79 -> 0
A80: 2.1.6 | B80: Programabilni sobni termostat i kontroler ventilokonvektora sa senzorom temperature i vlažnosti zraka te prisutnosti unutar prostorije, s mogućnošću spajanja modula za bežičnu ZigBee PRO komunikaciju, za spajanje bežičnih kontakata za prozore, te relejnog seta za upravljanje ventilokonvektorom, kao tip SER8000 oznake SER8350A5B11, proizvođača Schneider Electric ili jednakovrijedan | C80: kom | D80: 9 | F80: =D80*E80 -> 0
A81: 2.1.7 | B81: Komunikacijski modul ZigBee Pro za SE8300 programibilni sobni termostat i kontroler, kao tip SE8000 oznake VCM8000V5045P, proizvođača Schneider Electric ili jednakovrijedan | C81: kom | D81: 9 | F81: =D81*E81 -> 0
A82: 2.1.8 | B82: Relejni set za ugradbu na ventilokonvektor za dvocijevne i četverocjevne sustave grijanja i hlađenja, s mogućnošću kontrole ventilatora s 3 brzine, kao tip SC3000 oznake SC3504E5045, proizvođača Schneider Electric ili jednakovrijedan | C82: kom | D82: 14 | F82: =D82*E82 -> 0
A83: 2.1.9 | B83: Bežični senzor otvorenosti prozora ili vrata, komunikacija preko Zigbee PRO komunikacijskog protokola, kao tip SED-WDS oznake SED-WDS-P-5045, proizvođača Schneider Electric ili jednakovrijedan | C83: kom | D83: 20 | F83: =D83*E83 -> 0
A84: 2.2 | B84: Programiranje i paramametriranje DDC kontrolera i integriranje third party uređaja u BMS sustav. Puštanje kompletne opreme termoenergetskog i HVAC sustava u pogon. Izrada vizualnog web sučelja za pristup BMS sustavu. | C84: kpl | D84: 1 | F84: =D84*E84 -> 0
B85: Napomene:
B86: Troškovničke stavke ne uključuje ventile s elektromotornim pogonima. Očekivana upravljivost s 0-10 V DC.
B87: Troškovničke stavke ne uključuje temperaturne senzore. Očekivani izlaz temperaturnih sondi PTC 1-100 kOhm.
B88: Troškovničke stavke ne uključuje dizalicu topline koja radi sa svojim autonomnim sustavom. Preporuča se isporuka s BACnet komunikacijom prema BMS sustavu.
B89: Troškovničke stavke ne uključuje rekuperatorske jedinice, jedinice multisplit sustava i jedinice split sustava, koje rade na autonomnom sustavu.
B90: Preporuča se isporuka s BACnet komunikacijom prema BMS sustavu ili isporuka opreme koja pretvara interne komunikacijske protokole jedinica u BACnet ili Modbus protokol.
B91: Troškovnik ne uključuje opremu poput odsisnih ventilatora niti sklopnika ili pretvarača za njihovo upravljanje.
B92: Kabeli i cijevi se nalaze u poglavlju IV i V.
B93: UKUPNO II | F93: =SUM(F75:F92) -> 0
A94: III. | B94: KNX INTELIGENTNI SUSTAV UPRAVLJANJA TROŠILIMA
A95: 3.1 | B95: Dobava, ugradnja i spajanje KNX sustava za inteligentno upravljanje za montažu u razvodni ormar:
A96: 3.1.1 | B96: KNX napajanje 640 mA, max. 64 uređaja, kao oznake MTN684064, proizvođača Schneider Electric ili jednakovrijedan | C96: kom | D96: 2 | F96: =E96*D96 -> 0
A97: 3.1.2 | B97: HOME LYNK uređaj za vizualizaciju, nadzor i upravljanje, kao oznake LSS100100, proizvođača Schneider Electric ili jednakovrijedan | C97: kom | D97: 1 | F97: =E97*D97 -> 0
A98: 3.1.3 | B98: KNX izvor napajanja REG/24V DC/0,4A, kao oznake MTN693003, proizvođača Schneider Electric ili jednakovrijedan | C98: kom | D98: 1 | F98: =E98*D98 -> 0
A99: 3.1.4 | B99: KNX sprežnik, kao oznake MTN680204, proizvođača Schneider Electric ili jednakovrijedan | C99: kom | D99: 1 | F99: =E99*D99 -> 0
A100: 3.1.5 | B100: KNX DALI gateway REG-K/1/16(64)/64/IP1, max. 64 ECG u 16 grupa, kao oznake MTN6725-0001, proizvođača Schneider Electric ili jednakovrijedan | C100: kom | D100: 2 | F100: =E100*D100 -> 0
A101: 3.1.6 | B101: KNX aktuator za upravljanje žaluzinama i zavjesama, 4 kanala, 230 VAC, 10 A, cosφ= 0.6, kao oznake MTN649804, proizvođača Schneider Electric ili jednakovrijedan | C101: kom | D101: 2 | F101: =E101*D101 -> 0
A102: 3.2. | B102: Dobava, ugradnja i spajanje KNX sustava za inteligentno upravljanje:
A103: 3.2.1 | B103: KNX zidni detektor prisutnosti, bijele boje, 10-2000 Lux, područje detekcije 180°, domet 8 m (na visini 2.20 m), kao tip ARGUS oznake MTN630419, proizvođača Schneider Electric ili jednakovrijedan | C103: kom | D103: 4 | F103: =E103*D103 -> 0
A104: 3.2.2 | B104: KNX stropni detektor prisutnosti, bijele boje, 10-2000 Lux, područje detekcije 360°, domet 7 m (na visini 2.50 m), konstantna regulacija intenziteta rasvjetljenosti, kao tip ARGUS oznake MTN630919, proizvođača Schneider Electric ili jednakovrijedan | C104: kom | D104: 18 | F104: =E104*D104 -> 0
A105: 3.2.3 | B105: KNX tipkalo sa jednim preklapajućim elementom (1fold), bijele boje, kao tip System M oznake MTN617119, proizvođača Schneider Electric ili jednakovrijedan | C105: kom | D105: 6 | F105: =E105*D105 -> 0
A106: 3.2.4 | B106: KNX tipkalo sa dva preklapajuća elementa (2fold), bijele boje, kao tip System M oznake MTN617219, proizvođača Schneider Electric ili jednakovrijedan | C106: kom | D106: 4 | F106: =E106*D106 -> 0
A107: 3.2.5 | B107: KNX tipkalo sa dva preklapajuća elementa (2fold) i zaslonom za upravljanje temperature prostorije, kao tip System M oznake MTN6212-0319, proizvođača Schneider Electric ili jednakovrijedan | C107: kom | D107: 4 | F107: =E107*D107 -> 0
A108: 3.2.6 | B108: KNX tipkalo s dodirnim zaslonom, kao tip System M oznake MTN6215-0310, proizvođača Schneider Electric ili jednakovrijedan | C108: kom | D108: 3 | F108: =E108*D108 -> 0
A109: 3.2.7 | B109: KNX temperaturna sonda za tipkalo s dodirnim zaslonom, kao oznake MTN5775-0003, proizvođača Schneider Electric ili jednakovrijedan | C109: kom | D109: 3 | F109: =E109*D109 -> 0
A110: 3.2.8 | B110: KNX okvir (1fold), kao tip System M oznake MTN478119, proizvođača Schneider Electric ili jednakovrijedan | C110: kom | D110: 30 | F110: =E110*D110 -> 0
A111: 3.2.9 | B111: KNX vremenska stanica, mjerenje vjetra, kiše, rasvjetljenosti i temperature, kao oznake MTN6904-0001, proizvođača Schneider Electric ili jednakovrijedan | C111: kom | D111: 1 | F111: =E111*D111 -> 0
A112: 3.2.10 | B112: Nosač vremenske stanice, kao oznake MTN6904-0002, proizvođača Schneider Electric ili jednakovrijedan | C112: kom | D112: 1 | F112: =E112*D112 -> 0
A113: 3.2.11 | B113: KNX aktuator za grijanje sa 6 izlaza REG-K/6x24/230/0.16A, kao oznake MTN6730-0001, proizvođača Schneider Electric ili jednakovrijedan | C113: kom | D113: 1 | F113: =E113*D113 -> 0
A114: 3.2.12 | B114: KNX termoelektrični pogon za ventile, 230 VAC kao oznake MTN639125, proizvođača Schneider Electric ili jednakovrijedan | C114: kom | D114: 4 | F114: =E114*D114 -> 0
... A116: 3.3 | B116: Programiranje, parametriranje i puštanje u rad KNX sustava za inteligentno upravljanje: | C116: kpl | D116: 1 | F116: =E116*D116 -> 0
B117: Napomene: Kabeli i cijevi se nalaze u poglavlju IV i V.
B118: UKUPNO III | F118: =SUM(F96:F117) -> 0
A119: IV. | B119: SUSTAV ZA NADZOR POTROŠNJE
A120: 4.1. | B120: Dobava sustava za nadzor potrošnje kao rješnje EcoStruxure™ Power Monitoring Expert 8.2 ili jednakovrijedno koji sadrži:
B121: Programski paket za nadzor i upravljanje energetskim sustavima koji omogućava sveobuhvatnu analizu i kontrolu kvalitete električne energije i pouzdanosti energetskog sustava. Sadrži skup alata koji omogućuje prikupljanje, obradu, analizu, pohranu i razmjenjivanje podataka na standardnoj klijent/server arhitekturi. Fleksibilan i lako nadogradiv sustav koji pruža mogućnost dodavanja novih komponenata bez prekidanja ili narušavanja postojećih funkcija. Omogućuje prikupljanje podataka preko serijske, bežične, modemske ili Ethernet veze za upravljanje samo jednom lokacijom ili koristeći Internet i Intranet omogućuje upravljanje cijelom mrežom distribuiranih uređaja.
B122: • Pohrana povijesnih podataka i podataka o događajima na mrežnu ODBC-kompatibilnu bazu podataka • Prikupljanje podataka preko serijske, modemske i Ethernet veze • Povezivanje sa uređajima i programima drugih proizvođača preko Modbus RTU, Modbus TCP, XML i DDE • Integracija električnih mjerenja i mjerenja vode, plina, pare, zraka i drugih • za integraciju mjernih uređaja bilo kojeg proizvođača s Modbus komunikacijskom opcijom • intuitivno i prilagodljivo web sučelje s podrškom na više jezika • standardni i napredni izvještaji potrošnje i analize troškova potrošene energije • predefinirani alarmi • u potpunosti kompatibilno s ION tehnologijom kao tip Power Monitorin Expert, oznake PSWSYNCZZSPEZZ, proizvođača Schneider Electric ili jednakovrijedan | C122: kpl | D122: 1 | F122: =D122*E122 -> 0
A123: 4.2. | B123: Dobava, montaža i spajanje Modbus-ethernet pretvornika s integriranim Web serverom:
B124: Ethernet pretvornik koji povezuje ethernet mrežu s podržanim uređajima. Podržani uređaji obuhvaćaju uređaje koji su spojeni na serijski port i uređaje na Ethernet mreži, kao i preko drugih Ethernet pristupnika ili uređaja s ugrađenim Modbus TCP/IP protokolom. Ethernet pretvornik sadrži dva 10/100 Mbit RJ45 porta i 256 MB flash memorije i 4 GB SDRAM memorije. Također sadrži integriran web server koji osigurava prostor za pohranu standardnih i prilagođenih web stranica za prikaz podataka u stvarnom vremenu kao i prilagodljivo sučelje. Na web serveru očitani podaci pohranjeni 152 i više dana. Podaci se pohranjuju prema pravilu First In First Out. Interval očitanja podešava se u koracima 5, 15, 30 ili 60 minuta. Podaci se prezentiraju u obliku grafikona koristeći web preglednik. Podaci se mogu prenijeti u Microsoft Excel ili na bilo koje računalo za pohranu pomoću FTP (File Transport Protocol), ili elektroničke pošte (e-mail). Ethernet pretvornik osigurava: ModbusTCP/IP filtriranje, podrška za višestruke korisničke račune s lozinkom prilikom prijave. Standardni web preglednik se koristi za konfiguraciju pristupnika uključujući uporabu standardnih dinamičkih web stranica za prikazivanje podataka u stvarnom vremenu i grafikone povijesnih podataka. Ethernet pretvornik omogućava pokretanja e-mail ili FTP prijenosa datoteka, koji se temelje na korisnički definiranom rasporedu za slanje podataka na udaljenim računalima u CSV (zarezom odvojene varijable) formatu.
B125: Ethernet pretvornik se može konfigurirati daljinski pomoću standardnog web preglednika. Sadrži jedan serijski RS 485 port koji se koristi za povezivanje serijskih. RS 485 serijski port sadrži sljedeće specifikacije: (1) Podržava do 32 serijskih uređaja bez repetitora. Podržava Modbus komunikaciju lančano spojenih uređaja. (2) serijski port je podesiv za 2-žično ili 4-žično povezivanje uređaja. Vijčani tip konektora sa 5-pozicija. (3) Podržava prijenos podataka na brzinama prijenosa od 2400 do 38400 bit/s. Podržava bitove pariteta: even, odd, none. (4) LED indikacija za prikaz komunikacijske aktivnosti. LED indikacija za prijenos (Tx) i za primanje (Rx) po portu. (5) Ethernet pretvornik podržava dva fizička sučelja za pojedini serijski port. RS232 i RS485 protokol. (6) Ethernet pretvornik ima ugrađeno 6 digitalnih i 2 analogna ulaza za primanje signala (7) Ethernet pretvonik ima 2x RJ 45 porta od kojih jedan može koristiti za PoE (8) 128 MB RAM memorije kao tip ComX, oznake EBX510, proizvođača Schneider Electric ili jednakovrijedan | C125: kom | D125: 1 | F125: =D125*E125 -> 0
A126: 4.3. | B126: Dobava, montaža i spajanje neupravljivog mrežnog preklopnika (switch) za industrijsko umrežavanje, 10/100 Mbit/s, za montažu na DIN šinu s 5 portova; kao tip ConneXium, oznake TCSESU053FN0, proizvođača Schneider Electric ili jednakovrijedan | C126: kom | D126: 1 | F126: =D126*E126 -> 0
A127: 4.4. | B127: Dobava, montaža i spajanje modularnog ispravljača, jednofazni, ulazni napon 85-264 V AC ili 95-250VDC, izlazni napon 24 V DC; struja 2,5 A; kao tip STEP-PS, oznake 2868651, proizvođača Phoenix Contact ili jednakovrijedan | C127: kom | D127: 1 | F127: =D127*E127 -> 0
A128: 4.3. | B128: Parametriranje periferne mjerne opreme za mjerenja električne energije na srednjem i niskom naponu | C128: kpl | D128: 1 | F128: =D128*E128 -> 0
A129: 4.4. | B129: Izrada SCADA aplikacije za rješenje kao tip PME 8.2 - instalacija programskog paketa Power Monitoring Expert 8.2. ili jednakovrijedan - integracija pojedinačnih licenci u sustav - dodavanje mjernih instrumenata - izrada grafičkih maski - konfiguriranje SQL baze podataka - izrada početnog ekrana aplikacije - izrada korisničkih uputa - izrada preddefiniranih izvještaja o potrošnji električne energije | C129: kpl | D129: 1 | F129: =D129*E129 -> 0
B130: UKUPNO IV | F130: =SUM(F120:F129) -> 0
B136: Uputa za popunjavanje tablica:
B137: Stupce označene žutom bojom popunjava Ponuditelj sa ponuđenim tipom opreme i/ili kataloškim brojem i/ili narudžbenom oznakom i proizvođačem
B141: Kod troškovničkih stavki kod kojih je naveden proizvođač/marka/tip opreme ili uređaja /norme/standardi/licence dozvoljeno je ponuditi jednakovrijednu robu. Ako pored naziva nije naveden izraz „ili jednakovrijedno“, i u tom slučaju je dozvoljeno ponuditi jednakovrijedan proizvod.
A144: REKAPITULACIJA
A145: No. | B145: Opis | F145: Ukupna cijena (HRK)
A146: I | B146: KOMUNIKACIJSKA OPREMA - nano DATA CENTAR | F146: =F72 -> 0
A147: II | B147: BMS INTELIGENTNI SUSTAV UPRAVLJANJA ZGRADOM | F147: =F93 -> 0
A148: III | B148: KNX INTELIGENTNI SUSTAV UPRAVLJANJA TROŠILIMA | F148: =F118 -> 0
A149: IV | B149: SUSTAV ZA NADZOR POTROŠNJE | F149: =F130 -> 0
B150: SVEUKUPNO | F150: =SUM(F146:F149) -> 0

Sheet 6. Strojarski radovi
A1: GRUPA 4. STROJARSKI RADOVI - GRIJANJE, HLAĐENJE, VENTILACIJA
A3: NAPOMENE:
A5: Kod dijelova cjevovoda iz "crnog" čelika koji su položeni u zemlju, obvezatan je sljedeći postupak antikorozivne zaštite: čišćenje do II stupnja, nanošenje tankog bitumenskog premaza u hladnom stanju, nanošenje tankog bitumenskog premaza u toplom stanju, spiralno namotavanje staklene vune ili drugog podobnog tekstilnog materijala natopljenog bitumenom, nanošenje drugog bitumenskog sloja u toplom stanju, spiralno namotavanje staklene vune ili drugog pogodnog tekstilnog materijala, nanošenje trećeg bitumenskog sloja u toplom stanju te kao završni sloj, nanošenje vapnenog mlijeka.
A7: Navedene duljine cijevi unutar objekta ovise o tipu ugrađene opreme i izvedenom stanju građevinskog objekta te ih valja shvatiti samo paušalno. Stoga se svi cjevovodi, fazoni i prirubnice izrađene od čelika isporučuju NEZAVARENI, pojedinačno u skladu sa specifikacijom u troškovniku. Zavarivanje pojedinih cijevnih elemenata i fazona te završnu izradu pozicija izvršiti u radionici tek nakon provjere stvarno izvedenih kota objekta i ugrađene opreme. Po mogućnosti, sva zavarivanja izvršiti u povoljnim radioničkim uvjetima.
A9: Sve cijevi, armatura i dr. NP10, osim ako stavkom nije drukčije specificirano.
A11: Izvođač je dužan o svom trošku osigurati gradilište i građevinu od štetnog utjecaja vremenskih nepogoda.
A13: Izvođač je dužan izvesti pomoćna sredstva za rad kao što su skele, ograde, skladišta, dizalice, dopremiti i postaviti strojeve, alat, potreban pribor itd. te poduzeti sve mjere sigurnosti da ne dođe do smetnji i opasnosti po život i zdravlje zaposlenika, drugog osoblja i prolaznika. Svaka eventualna šteta koja bi bila prouzročena prolazniku, susjednoj građevini, cesti itd. pada na teret izvođača koji je dužan ukloniti i nadoknaditi štetu u određenom roku.
A15: Nadzor glede čuvanja građevine, gradilišta, postrojenja, alata i materijala pada na teret izvoditelja.
A17: Jedinične cijene pojedinih stavki troškovnika sadržavaju troškove za posve dogotovljen rad. One uključuju materijal, pomoćna sredstva kao što su voda, električna energija, alat, oplata, skela ili slično, za svu radnu snagu, za sve pripremne radove (kao npr. postavljanje baraka ili kontejnera i postrojenja, uključivo s demontažom i otpremom s gradilišta nakon završetka radova i druge troškove koji se u bilo kojem obliku pojave za potrebe gradnje). Čišćenje i uređenje gradilišta također je sadržano u jediničnim cijenama.
A19: Prije davanja ponude, izvođač mora pregledati projektnu dokumentaciju te zatražiti objašnjenje za eventualne nejasne stavke te provjeriti dokaznicu mjera i na vrijeme dati svoje primjedbe. Kasnije primjedbe ne mogu se uzimati u obzir.
A21: Obračun radova provodi se prema tehničkim normativima i njihovim dopunama. Za slučaj da opis pojedinih radova u troškovniku po mišljenju izvoditelja ili bilo kojeg drugog sudionika u gradnji nije potpun, izvođač je dužan izvesti radove prema pravilima struke uz konzultaciju projektanta koji je jedini mjerodavan tumačiti dijelove svog projekta.
A23: Izvođač u potpunosti odgovara za ispravnost izvršene isporuke i odgovoran je za eventualno loš rad ili kvalitetu dobave iz trgovačke mreže ili podizvoditelja.
... A35: Navedene stavke uključuju nabavu, dopremu na gradilište te ugradnju specificiranog materijala i opreme. Cijenom je potrebno obuhvatiti svu potrebnu opremu i pribor za ugradnju do potpunog kompletiranja svake pojedine stavke. Elektro oprema i radovi NISU obuhvaćeni ovim troškovnikom.
A37: red. broj | B37: vrsta radova | C37: jedinica mjere | D37: količina | E37: jedinična cijena | F37: UKUPNO | G37: Popunjava ponuditelj
A38: 1 | B38: 2 | C38: 3 | D38: 4 | E38: 5 | F38: 6
A40: 1. | B40: PLINSKA INSTALACIJA
B42: NAPOMENA:
B43: Dolje navedene stavke obuhvaćaju nabavu, dopremu i montažu predmetne opreme do postizanja pune funkcionalnosti stavki
B44: Cijenom je potrebno obuhvatiti sve radove do potpunog kompletiranja svake pojedine stavke.
B45: Ovim troškovnikom nisu uzeti u obzir nikakvi elektro-radovi.
A47: 1.1. | B47: IZGRADNJA NOVOG PLINSKOG PRIKLJUČKA
A49: 1.1.1.
B50: Predviđena je izgradnja novog ST plinskog priključka 1-3 bar za potrebe plinskog konzuma poslovnog objekta. Isti će se izvršiti iz PEHD d25 x 2.3 mm cijevi koji se pomoću nabušnog sedla za spajanje pod tlakom plina spaja na ST distributivni plinovod PEHD d110 x 10.0 mm.
B52: PEHD d25 x 2.3 mm | C52: m | D52: 10 | F52: =D52*E52 -> 0
B54: Komplet sa svim dodatnim radovima na iskopu i zavarivanju sa svim potrebnim materijalom.
C55: komplet | D55: 1 | F55: =D55*E55 -> 0
B56: NAPOMENE:
B58: Sukladno energetskim uvjetima distributera, ovo izvodi ovlašteni plinoinstalater koji nakon izvršenih radova MRS G4 prijavljuje distributeru.
A60: 1.1.2.
B61: Spojni i fazonski PEHD PE 100 komadi za izvođenje PP
B63: * nabušno sedlo d110/d25 | C63: kom. | D63: 1 | F63: =D63*E63 -> 0
B64: * elektro spojnice d25 | C64: kom. | D64: 4 | F64: =D64*E64 -> 0
B65: * redukcija d32/d25 | C65: kom. | D65: 1 | F65: =D65*E65 -> 0
B66: * ostali materijal i pribor za spajanje PP | C66: komplet | D66: 1 | F66: =D66*E66 -> 0
A69: 1.1.3.
B70: Građevinski radovi na izgradnji mjerene plinske instalacije. Predviđeno polaganje PEHD d32 x 3.0 mm cijevi za plin. Predviđen je rov širine 0.6 m i prosječne dubine iskopa 1.2 m. U cijenu su uključeni iskop, izrada nivelirane pješčane posteljice, zatrpavanje uz neophodno nabijanje do potrebnog stupnja, odvoz viška materijala kao i uređenje okolnog terena nakon završetka radova. U cijenu uključiti rezanje i naknadno popravljenje asfaltnog sloja u zoni radova na izvođenju plinske instalacije.
C71: m' | D71: 60 | F71: =D71*E71 -> 0
A73: 1.1.4.
B74: Nabava, doprema i ugradnja samostojećeg tipskog plinskog seta G-4.
B76: Regulator tlaka za tlakove 1-3 bar / 23 mbar pri maksimalnom protoku 6 m3/h
B77: *Plinomjer s mijehom i temperaturnim korektorom protoka, veličine G4, maksimalnog protoka 6 m3/h
B78: *Prijelazna spojnica PEHD d32 / Č. DN25 PN6
B79: *Navojna plinska kuglasta slavina DN25 PN6
B80: *Hvatač nečistoće za plin DN25 PN6
B81: *Spojna cijev - most (2x Luk 90° DN25PN6 + cijev odgovarajuće duljine za spoj na plinomjer)
B82: *Fleksibilna cijev DN25
B83: *Samostojeći tipski limeni ormarić 600 x 600 x 260 mm s vratašcima, ventilacijskim otvorima i bravicom
B84: *Naljepnice upozorenja : zabrana upotrebe iskrećeg alata, opasnost od požara, zabrana pušenja
B85: *Podnicu MRS-e montirati od neiskrećeg materijala – berilij bakar (590 mm x 250mm)
B86: *Rastavne veze DN25 PN6
C87: komplet | D87: 1 | F87: =D87*E87 -> 0
A89: 1.1.5.
B90: Nabava, doprema i ugradnja fleksibilne zaštitne cijevi.
B92: d63 mm | C92: m | D92: 2 | F92: =D92*E92 -> 0
A94: 1.1.6.
B95: Zaštitna čelična cijev za zaštitu vertikale PEHD plinskog priključka prema MRS.
B97: DN32 (Ø42.4 x 3.25 mm) | C97: m | D97: 2 | F97: =D97*E97 -> 0
B98: DN40 (Ø48.3 x 3.25 mm) | C98: m | D98: 2 | F98: =D98*E98 -> 0
A100: 1.1.7.
B101: Tlačna proba Plinskog priključka
B102: Ispitivanje plinskog priključka je ispitivanje nepropusnosti. Ispitni tlak mora biti 1,1 puta veći od vrijednosti najvećeg radnog tlaka. Nakon postizanja tlaka na ispitni tlak (brzina podizanja tlaka može iznositi najviše 2 bar/min) i nakon vremena mirovanja radi izjednačenja temperature (1 h/bar) može započeti mjerenje.
C103: komplet | D103: 1 | F103: =D103*E103 -> 0
A105: 1.1. | B105: IZGRADNJA NOVOG PLINSKOG PRIKLJUČKA
B107: UKUPNO: | E107: =SUM(F50:F103) -> 0
A111: 1.2. | B111: UNUTARNJA PLINSKA INSTALACIJA
A113: 1.2.1.
B114: Izvan zgrade
B115: Nabava, doprema i ugradnja PEHD cijevi PE100 za plinske mreže. Boja crna s koekstrudiranim žutim ili narančastim linijama. Koluti 100 m. Palice 12 m. Prijenos plinovitih goriva na radnim tlakovima do 10 bara. Standardi i odobrenja (odobrenja ovisno o dimenziji) HRN EN 1555 ISO 4437 DIN 8074 DVGW GW 335-A2 DVGW DG-8106AS2193 DVGW DG-8111AS2194 ili jednakovrijedno
B116: Polaganje UPI u zemlji do ulaska u zgradu. Nakon ulaska u zgradu prijelaz na čelične cijevi i vođenje nadžbukno.
B117: Komplet s prodorima cjevovoda kroz građevinske elemente u zaštitnoj cijevi, dvije dimenzije većoj, brtvljenje prodora trajno-elastičnim kitom.
A119: 1.2.1.1 | B119: d32 x 3.0 mm | C119: m | D119: 60 | F119: =D119*E119 -> 0
A120: 1.2.1.2 | B120: luk 90° d32 | C120: kom | D120: 3 | F120: =D120*E120 -> 0
A121: 1.2.1.3 | B121: prijelazna spojnica PEHD/Č. d32/DN25 | C121: kom. | D121: 2 | F121: =D121*E121 -> 0
A123: 1.2.2.
B124: Unutar zgrade
B125: Nabava, doprema i ugradnja čeličnih srednje teških cijevi prema HRN EN 10297-1 ili jednakovrijedno za ugradnju unutar objekta, temeljito očišćenih, komplet s lukovima, spojnim i fazonskim komadima, materijalom za spajanje i brtvljenje, cijevnim držačima i redukcijama. Cijevi se zaštićuju s dva premaza temeljne boje i dva premaza završnog laka žute boje HRN EN 10297-1 ili jednakovrijedno.
B126: Polaganje UPI u zemlji do ulaska u zgradu. Nakon ulaska u zgradu prijelaz na čelične cijevi i vođenje nadžbukno.
B127: Komplet s prodorima cjevovoda kroz građevinske elemente u zaštitnoj cijevi, dvije dimenzije većoj, brtvljenje prodora trajno-elastičnim kitom.
A129: 1.2.2.1 | B129: Ø33.7 x 3.25 mm | C129: m | D129: 5 | F129: =D129*E129 -> 0
A130: 1.2.2.2 | B130: luk 90° DN25 | C130: m | D130: 1 | F130: =D130*E130 -> 0
B132: NAPOMENA:
B133: Količine cijevi su navedene paušalno. Obračun prema stvarnom utrošku materijala uz odobrenje nadzornog inženjera
A135: 1.2.3.
B136: Nabava, doprema i ugradnja kuglaste slavine za plin s termoosiguračem 700°C
B138: DN 25 PN 1 | C138: kom. | D138: 1 | F138: =D138*E138 -> 0
A140: 1.2.5.
B141: Tlačna proba unutarnje plinske instalacije. O izvršenoj probi sastavlja se zapisnik kojega potpisuju nadzorni inženjer i izvođač. Proba se sastoji od slijedećeg:
B143: PRETHODNO ISPITIVANJE provodi se prije zažbukavanja instalacije te prije izoliranja spojeva. Ispituje se instalacija bez ugrađene armature. Za vrijeme ispitivanja svi ispusti instalacije moraju biti zatvoreni nepropusno. Spoj s instalacijom koja je pod plinom pri tome je zabranjen. Ispitivanje se vrši tlakom 1 bar zrakom ili inertnim plinom (dušik, ugljični dioksid). Ispitivanje instalacije kisikom strogo je zabranjeno. Nakon izjednačavanja temperatura cjevovoda i okoline, ispitni tlak ne smije pasti u vremenu 10 min.
B145: GLAVNO ISPITIVANJE je ispitivanje nepropusnosti instalacije. Odnosi se na instalaciju s armaturom, ali bez trošila, regulacijskih i sigurnosnih elemenata. Plinomjer može biti uključen u glavno ispitivanje. Glavno se ispitivanje obavlja ispitnim tlakom 110 mbar zrakom ili inertnim plinom, ni u kom slučaju kisikom. Nakon izjednačavanja temperatura ispitni tlak ne smije pasti za ispitno vrijeme 10 minuta. Mjerni instrument mora imati mogućnost mjerenja razlike tlaka 0.1 mbar.
C146: komplet | D146: 1 | F146: =D146*E146 -> 0
A148: 1.2. | B148: UNUTARNJA PLINSKA INSTALACIJA
B150: UKUPNO: | E150: =SUM(F119:F146) -> 0
A152: 1.3. | B152: ZAJEDNIČKE STAVKE
A154: 1.3.1.
B155: Sitni pomoćni i montažni materijal i pribor (elektrode za zavarivanje, kisik, disous plin, brtve, pocinčani vijci, matice, tiplovi, obujmice, konzole i ostala standardna roba potrebna za ugradbu).
C156: komplet | D156: 1 | F156: =D156*E156 -> 0
B157: NAPOMENA: Završni obračun stavke prema dokazima o stvarnom utrošku što potvrđuje nadzorni inženjer.
A158: 1.3.2.
B159: Izrada radioničkih pozicija
C160: komplet | D160: 1 | F160: =D160*E160 -> 0
...

Sheet 7. Niskogradnja
A1: GRUPA 3. NISKOGRADNJA
A3: 1. Pripremni radovi
A5: R. Br. | B5: Opis stavke | F5: J.M. | G5: Količina | H5: Jedinična cijena | I5: Ukupno
A7: 1.1. | B7: Priprema - formiranje gradilišta, dobava svih potrebnih transportnih i radnih sredstava, prijava gradilišta nadležnim općinskim i državnim organima. Izrada svih potrebnih tehnologija izvođenja radova i ovjeravanje istih kod nadležnih tijela, projektanta i nadzornog inženjera. | F7: kpl | G7: 1 | I7: =G7*H7 -> 0
A9: 1.2. | B9: Iskolčavanje trase i objekata. Sva geodetska mjerenja kojima se podaci iz projekta prenose na teren ili s terena u projekte, za cijelo vrijeme građenja, odnosno do predaje radova investitoru, a mjeri se i plaća po metru kvadratnom trase i priključnih cesta. Rad se mjeri po metru kvadratnom trase u skladu s projektom. | F9: m2 | G9: 1437 | I9: =G9*H9 -> 0
A11: 1.3. | B11: Izrada geodetskog snimka izvedenog stanja trase sa izradom elaborata i ucrtavanjem u zemljišne knjige u katastarkom uredu. Rad se mjeri po metru kvadratnom trase u skladu s projektom. | F11: m2 | G11: =G9 -> 1437 | I11: =G11*H11 -> 0
F13: 1. Pripremni radovi | H13: UKUPNO: | I13: =SUM(I7:I11) -> 0
A16: 2. Zemljani radovi
A18: R. Br. | B18: Opis stavke | F18: J.M. | G18: Količina | H18: Jedinična cijena | I18: Ukupno
A20: 2.1. | B20: Strojni iskopi tla prema odredbama projekta s utovarom u prijevozno sredstvo, u materijalu kategorije “C”, u trasi (usjek ili zasjek). Iskop je predviđen za cijevne rovove, drenažne rovove, slivnike, revizijska okna, te usjeke i zasjeke ceste. U stavku je uključen utovar i prijevoz do mjesta ugradnje. | F20: m3 | G20: =914.36*0.3 -> 274.308 | I20: =G20*H20 -> 0
A22: 2.2. | B22: Strojna izrada posteljice od miješanih materijala, završnog sloja usjeka ili nasipa, ujednačene nosivosti, s grubim i finim planiranjem, eventualnom sanacijom pojedinih manjih površina slabijeg materijala i zbijanjem do tražene vrijednosti od 7,0% po CBR-u, uz potrebno vlaženje ili sušenje, sve prema projektu. U cijeni je uključen sav rad, materijal te prevozi, potrebni za potpuno dovršenje uređene i zbijene posteljice. Prometne, manipulativne i pješačke površine. | F22: m2 | G22: =914.36 -> 914.36 | I22: =G22*H22 -> 0
A24: 2.3. | B24: Odvoz preostalog materijala nakon zatrpavanja rova na deponiju udaljenu max 5,0 km. Naknadu za deponiranje uključiti u cijenu. Koef. rastresitosti 1,30 | F24: m3 | G24: =G20*1.3 -> 356.6004 | I24: =G24*H24 -> 0
F26: 2. Zemljani radovi | H26: UKUPNO: | I26: =SUM(I20:I24) -> 0
A30: 3. Kolnička konstruckija
A32: R. Br. | B32: Opis stavke | F32: J.M. | G32: Količina | H32: Jedinična cijena | I32: Ukupno
A34: 3.1. | B34: Strojna izrada nosivog sloja od zrnatog kamenog materijala veličine zrna od 31,5 mm do 64,00 mm bez veziva, u debljini prema projektu. Tražena vrijednost zbijenosti je 40,0% po CBR-u. U cijenu je uključena dobava kamenih prirodnih ili drobljenih zrnatih materijala kakvoće i granulometrije prema zahtjevima projekta i OTU, utovar, prijevoz, i ugradba (strojno razastiranje, planiranje i zbijanje do traženog modula stišljivosti ili stupnja zbijenosti) na uređenu i preuzetu podlogu. Izravnavajući sloj debljine 5 cm. Prometne i manipulativne površine, d = 40,0 cm.
B35: - 31,5 mm - 64,0 mm, d = 35,0 cm | F35: m3 | G35: =914.36*0.35 -> 320.026 | I35: =G35*H35 -> 0
B36: - 0,0 - 4,0 mm, 8,0 - 16,0 mm, d = 5,0 cm | F36: m3 | G36: =914.36*0.05 -> 45.718 | I36: =G36*H36 -> 0
A38: 3.2. | B38: Strojna izrada nosivog sloja od zrnatog kamenog materijala veličine zrna od 31,5 mm do 64,00 mm bez veziva, u debljini prema projektu. Tražena vrijednost zbijenosti je 40,0% po CBR-u. U cijenu je uključena dobava kamenih prirodnih ili drobljenih zrnatih materijala kakvoće i granulometrije prema zahtjevima projekta i OTU, utovar, prijevoz, i ugradba (strojno razastiranje, planiranje i zbijanje do traženog modula stišljivosti ili stupnja zbijenosti) na uređenu i preuzetu podlogu. Rad se mjeri u kubičnim metrima ugrađenog materijala u zbijenom stanju. Izravnavajući sloj debljine 5 cm. Pješačke površine, d = 25,0 cm.
B39: - 31,5 mm - 64,0 mm, d = 20,0 cm | F39: m3 | G39: =120.35*0.2 -> 24.07 | I39: =G39*H39 -> 0
B40: - 0,0 - 4,0 mm, 8,0 - 16,0 mm, d = 5,00 cm | F40: m3 | G40: =120.35*0.05 -> 6.0175 | I40: =G40*H40 -> 0
A42: 3.3. | B42: Strojna izrada sloja od pijeska bez veziva, u debljini prema projektu, kao podloga betonskoh galanteriji pješačke staze. U cijenu je uključena dobava pijeska, kakvoće i granulometrije prema zahtjevima projekta i OTU, utovar, prijevoz, i ugradba (strojno razastiranje, planiranje i zbijanje do traženog modula stišljivosti ili stupnja zbijenosti) na uređenu i preuzetu podlogu. Rad se mjeri u kubičnim metrima ugrađenog materijala u zbijenom stanju. D = 3,0 - 5,0 cm. Podloga pješačke staze. | F42: m3 | G42: =120.35*0.05 -> 6.0175 | I42: =G42*H42 -> 0
A44: 3.4. | B44: Nabava, dobava i ugradnja bitumeniziranog nosivog sloja. Stavka obuhvaća nabavu i ugradnju bitumeniziranog nosivog sloja BNS 22 A debljine 8,0 cm za prometne površine. | F44: m2 | G44: =914.36 -> 914.36 | I44: =G44*H44 -> 0
A46: 3.5. | B46: Nabava, dobava i ugradnja završnog sloja od betonske galanterije, debljine 10,0 cm. U Cijenu stavke uračunat sav materijal i rad. | F46: m2 | G46: =135.2 -> 135.2 | I46: =G46*H46 -> 0
A48: 3.6. | B48: Nabava, dobava i ugradnja habajućeg sloja od asfaltbetona. Stavka obuhvaća nabavu i ugradnju habajućeg sloja asfalt betona AB 11 debljine 4,0 cm za prometne površine. | F48: m2 | G48: =914.36 -> 914.36 | I48: =G48*H48 -> 0
A50: 3.7. | B50: Nabava, dobava i ugradnja rubnjaka 18/24 cm. Stavka obuhvaća nabavu i ugradnju betonskog rubnjaka 18/24 cm na prethodno izvedenu podlogu od svježeg betona C12/15 (MB15) prema detalju iz projekta. Beton ugrađenog rubnjaka mora biti klase C 40/45 (MB 45) – v/c faktor ispod 0,45, otporan na smrzavanje i soli za odmrzavanje. | F50: m' | G50: =125.62+2.27+12.74+2.82+4.41+30.94+4.5+1.57*2+4.5+7.52+3.7+4.5+1.57+1.92+7.82 -> 217.97 | I50: =G50*H50 -> 0
A52: 3.8. | B52: Nabava, dobava i ugradnja rubnjaka pješačke staze, 10/20 cm. Stavka obuhvaća nabavu i ugradnju betonskog rubnjaka 8/14 cm na prethodno izvedenu podlogu od svježeg betona C12/15 (MB15) prema detalju iz projekta. Beton ugrađenog rubnjaka mora biti klase C 40/45 (MB 45) – v/c faktor ispod 0,45, otporan na smrzavanje i soli za odmrzavanje. | F52: m' | G52: 31.7 | I52: =G52*H52 -> 0
F54: 3. Kolnička konstrukcija | H54: UKUPNO: | I54: =SUM(I35:I52) -> 0
A57: 4. Oborinska odvodnja prometnica
A59: R. Br. | B59: Opis stavke | F59: J.M. | G59: Količina | H59: Jedinična cijena | I59: Ukupno
A61: 4.1. | B61: Nabava, dobava i ugradnja materijala, izrada i ugradnja cestovnih slivnika Ø 50 cm prosječne dubine 1,50 m komplet sa lijevanoželjeznom rešetkom 400 x 400 mm, nosivosti 400 kN i ljevanoželjeznim penjalicama. Stavka podrazumjeva kompletne radove (spojevi, priključci na kanalizacijske cijevi ....) uz dobavu svih potrebnih materijala. Slivnik izvesti vodonepropusno. Obračun po kompletno izvedenom slivniku. | F61: kom | G61: 2 | I61: =G61*H61 -> 0
A63: 4.2. | B63: Nabava, dobava i ugradnja betonskih kanalica 10/33 cm. Stavka obuhvaća nabavu i ugradnju betonskih kanalica 10/33 cm na prethodno izvedenu podlogu od svježeg betona C12/15 (MB15) prema detalju iz projekta. Beton ugrađenog rubnjaka mora biti klase C 40/45 (MB 45) – v/c faktor ispod 0,45, otporan na smrzavanje i soli za odmrzavanje. | F63: m' | G63: =18.64+4.68+52.22+8.46+16.5 -> 100.5 | I63: =G63*H63 -> 0
A65: 4.3. | B65: Nabava, dobava i ugradnja kanalizacijskih polietilenskih cijevi sa naglavkom i brtvom minimalne obodne krutosti SN4. U čitavom području polaganja posteljica mora biti zbijena na Ms = 20 MPa. Rad se mjeri po metru dužnom kompletno ugrađenih cijevi. Prema OTU 3-04.3
B66: - PVC DN 250 | F66: m' | G66: 9 | I66: =G66*H66 -> 0
F68: 4. Oborinska odvodnja prometnica | H68: UKUPNO: | I68: =SUM(I61:I66) -> 0
A71: TALOŽNICA
A73: 5. Građevinski radovi
A75: R. Br. | B75: Opis stavke | F75: J.M. | G75: Količina | H75: Jedinična cijena | I75: Ukupno
A77: 5.1. | B77: Razni iskopi u tlu III i IV kategorije (mjesto za separator, šahtovi, rovovi i sl.) s pravilnim zasjecanjem stranica i dna iskopa, dubine do 2,0 m s odlaganjem iskopanog materijala na stranu, 2 m od ivice rova, radi kasnije uporabe ili odvozom na privremenu deponiju na udaljenosti do 200 m. Predvidjeti razupiranje oplatom i crpljenje vode. Posebnu pozornost obratiti na križanja s ostalim instalacijama. Količine podrazumijevaju temeljne razvode taložnice.
B78: - strojni iskop | F78: m3 | G78: =(1.3*1.3*1.7+9*0.8*1.2)*0.8 -> 9.2104 | I78: =G78*H78 -> 0
B79: - ručni iskop | F79: m3 | G79: =(1.3*1.3*1.7+9*0.8*1.2)*0.2 -> 2.3026 | I79: =G79*H79 -> 0
A81: 5.2. | B81: Planiranje dna rova na projektnu dubinu s točnošću ± 2 cm. | F81: m2 | G81: =1.3*1.3 -> 1.69 | I81: =G81*H81 -> 0
A83: 5.3. | B83: Nabava, dobava, razastiranje i nabijanje tamponskog sloja šljunka na dno iskopa u sloju od 20 cm, kao podloga separatoru. | C83: - dobava, razastiranje i nabijanje tamponskog sloja šljunka na dno iskopa u sloju od 20 cm | D83: - dobava, razastiranje i nabijanje tamponskog sloja šljunka na dno iskopa u sloju od 20 cm | E83: - dobava, razastiranje i nabijanje tamponskog sloja šljunka na dno iskopa u sloju od 20 cm | F83: m3 | G83: =1.3*1.3*0.2 -> 0.338 | I83: =G83*H83 -> 0
A85: 5.4. | B85: Nabava, dobava i ugradnja posteljice od pijeska ispod cijevi, debljine 10,0 cm uz grubo poravnanje radi pravilnog nalijeganja cjevovoda. | F85: m3 | G85: =9*0.1*0.8 -> 0.72 | I85: =G85*H85 -> 0
A87: 5.5. | B87: Nabava, dobava i ugradnja, te ručno zatrpavanje pješčanim materijalom oko 30,0 cm iznad tjemena vodovodnih cijevi uz pažljivo nabijanje. Mjesta spojeva cijevi ostaviti nezasute do tlačne probe. | F87: m3 | G87: =9*0.3*0.8 -> 2.16 | I87: =G87*H87 -> 0
A89: 5.6. | B89: Strojno zatrpavanje materijalom iz iskopa u slojevima d = 30 cm uz pažljivo nabijanje. Zatrpavanje izvoditi po dionicama s izvršenom probom protočnosti uz odobrenje nadzornog inženjera. | F89: m3 | G89: =(G78+G79-G83-G85-G87) -> 8.295 | I89: =G89*H89 -> 0
A91: 5.7. | B91: Odvoz preostalog materijala nakon zatrpavanja rova na deponiju udaljenu max 5,0 km. Naknadu za deponiranje uključiti u cijenu. | F91: m3 | G91: =G78+G79-G89 -> 3.218 | I91: =G91*H91 -> 0
A92: 5.8. | B92: Nabava, dobava i ugradnja tipske taložnice, ugradnja prema detaljima i naputku proizvođača (obvezno dostaviti atestnu dokumentaciju), komplet s 1 lijevanoželjeznim poklopcem za optrećenje od 5,0 t i ugrađenim ljevanoželjeznim penjalicama. Stavka podrazumjeva kompletne radove (oplata, priključci na kanalizacijske cijevi...). Obračun po kompletno nabavljenom i ugrađenom taložnicom. | F92: kpl | G92: 1 | I92: =G92*H92 -> 0
F94: Taložnica - 5. Građevinski radovi | H94: UKUPNO: | I94: =SUM(I78:I92) -> 0
A99: 6. Prometna signalizacija
A101: R. Br. | B101: Opis stavke | F101: J.M. | G101: Količina | H101: Jedinična cijena | I101: Ukupno
A103: 6.1. | B103: Nabava, dobava i ugradnja prema situacijskom nacrtu, ugradnja prometnih znakova, komplet znak, stup i betonski temelj.
B104: - znak B 02 | F104: kom | G104: 1 | I104: =G104*H104 -> 0
B105: - znak C 21 | F105: kom | G105: 1 | I105: =G105*H105 -> 0
B106: - znak C 31 | F106: kom | G106: 1 | I106: =G106*H106 -> 0
B107: - znak C 35 | F107: kom | G107: 2 | I107: =G107*H107 -> 0
A109: 6.2. | B109: Izrada horizontalne signalizacije prema situacijskom nacrtu.
B110: - oznaka parkirnih mjesta | F110: kom | G110: 9 | I110: =G110*H110 -> 0
B111: - "STOP" | F111: kpl | G111: 1 | I111: =G111*H111 -> 0
F113: 6. Prometna signalizacija | H113: UKUPNO: | I113: =SUM(I104:I111) -> 0
A116: 7. Hortikultura
A118: R. Br. | B118: Opis stavke | F118: J.M. | G118: Količina | H118: Jedinična cijena | I118: Ukupno
A120: 7.1. | B120: Plitko prekapanje površine za usitnjavanje zemlje i kopanje gnojiva. Raznašanje i razbacivanje stajskog gnojiva ili komposta ili humovita: 10 lit/m2 | F120: m3 | G120: =(48.33+71.84)*10/1000 -> 1.2017 | I120: =G120*H120 -> 0
A122: 7.2. | B122: Rasipanje umjetnih gnojiva: 10 dkg/m2 | F122: kg | G122: =(48.33+71.84)*10/1000 -> 1.2017 | I122: =G122*H122 -> 0
A124: 7.3. | B124: Ručna sjetva sjemena (2 dkg/m2), ručno ježenje i valjanje sa drvenim valjkom. Jedno zalijevanje vodom iz vodovoda. | F124: m2 | G124: =(48.33+71.84) -> 120.17 | I124: =G124*H124 -> 0
A126: 7.4. | B126: Nabava, dobava i ugradnja travne smjese propisane klijavosti i garantirane čistoće: - Festuca rubra ssp.fallax (vlasulja nacrvena) ili jednakovrijedno - Lolium perenne "Barenza" ili jednakovrijedno (ljulj utrinac) - Poa pratensis "Baron" (vlasnjača livadska) ili jednakovrijedno 2 dkg/m2 | F126: kg | G126: =(48.33+71.84)*0.02 -> 2.4034 | I126: =G126*H126 -> 0
A128: 7.5. | B128: Nabava, dobava i sadnja drveća i ukrasnih grmova prema želji investitora. Točna situacija sadnje će biti prikazana u izvedbenom projektu. - stavka se obračunava po komadu zasađene biljke. | F128: kom | G128: 5 | I128: =G128*H128 -> 0
F130: 7. Hortikultura | H130: UKUPNO: | I130: =SUM(I120:I128) -> 0
A132: 8. Ostali radovi
A134: R. Br. | B134: Opis stavke | F134: J.M. | G134: Količina | H134: Jedinična cijena | I134: Ukupno
A136: 8.1. | B136: Nabava, dobava i ugradnja betona C 12/15 u nearmirane konstrukcije, temelj znaka, na koti +/- 0,00 na više. U cijenu uračunata dobava i ugradnja betona. Betonski temelj znaka. | C136: Izrada i ugradnja betona C 25/30 u armirane konstrukcije, AB zidove, na koti +/- 0,00 na više. U cijenu uračunata dobava i ugradnja armature prema statičkom proračunu, i izrada oplate. ZIDOVI SABIRNE JAME. | D136: Izrada i ugradnja betona C 25/30 u armirane konstrukcije, AB zidove, na koti +/- 0,00 na više. U cijenu uračunata dobava i ugradnja armature prema statičkom proračunu, i izrada oplate. ZIDOVI SABIRNE JAME. | E136: Izrada i ugradnja betona C 25/30 u armirane konstrukcije, AB zidove, na koti +/- 0,00 na više. U cijenu uračunata dobava i ugradnja armature prema statičkom proračunu, i izrada oplate. ZIDOVI SABIRNE JAME.
B137: - beton C 12/15 | F137: m3 | G137: =0.5*0.5*0.8*4 -> 0.8 | I137: =G137*H137 -> 0
A139: 8.2. | B139: Nabava, dobava i izrada ograde od tipskih montažnih AB stupova dim. 12/12/280 cm, postavljenim na osnom razmaku od 2,00 m i žičanog pletiva veličine oka 40/40mm. Visina ograde iznosi 2,00m. U gornji i donji rub i kroz sredinu pletiva se uvlači poc. žica. U stavku uključeno i betoniranje temelja 0,3*0,3*0,5 u stupove, te sav potreban materijal i rad do potupne gotovosti stavke. Napomena: ograda ne smije biti od vodljivih materijala! | F139: m' | G139: 307 | I139: =G139*H139 -> 0
F141: 8. Ostali radovi | H141: UKUPNO: | I141: =SUM(I136:I139) -> 0
B143: Uputa za popunjavanje tablica:
B144: Stupce označene žutom bojom popunjava Ponuditelj sa ponuđenim tipom opreme i/ili kataloškim brojem i/ili narudžbenom oznakom i proizvođačem
B147: Kod troškovničkih stavki kod kojih je naveden proizvođač/marka/tip opreme ili uređaja /norme/standardi/licence dozvoljeno je ponuditi jednakovrijednu robu. Ako pored naziva nije naveden izraz „ili jednakovrijedno“, i u tom slučaju je dozvoljeno ponuditi jednakovrijedan proizvod.
A149: REKAPITULACIJA
A151: 1. Pripremni radovi | I151: =I13 -> 0
A152: 2. Zemljani radovi | I152: =I26 -> 0
A153: 3. Kolnička konstrukcija | I153: =I54 -> 0
A154: 4. Oborinska odvodnja prometnica | I154: =I68 -> 0
A155: 5. Građevinski radovi | I155: =I94 -> 0
A156: 6. Prometna signalizacija | I156: =I113 -> 0
A157: 7. Hortikultura | I157: =I130 -> 0
A158: 8. Ostali radovi | I158: =I141 -> 0
H160: UKUPNO: | I160: =SUM(I151:I158) -> 0

Sheet Rekapitulacija
A6: REKAPITULACIJA
A8: 1. | B8: Građevinsko - obrtnički radovi | D8: ='1. Građ.-obrt. radovi'!I298 -> 0
A9: 2. | B9: Vodovod i kanalizacija | D9: ='2. Vodovod i kanalizacija'!I187 -> 0
A10: 3. | B10: Lift | D10: ='3. Lift'!E64 -> 0
A11: 4. | B11: Elektro instalaterski radovi | D11: ='4. Elektro instalaterski radovi'!F342 -> 0
A12: 5. | B12: IT oprema i sustavi | D12: ='5. IT oprema i sustavi'!F150 -> 0
A13: 6. | B13: Strojarski radovi - Grijanje, hlađenje, ventilacija | D13: ='6. Strojarski radovi'!D1101:F1101 -> 0
A14: 7. | B14: Niskogradnja | D14: ='7. Niskogradnja'!I160 -> 0
C16: UKUPNO: | D16: =SUM(D8:E14) -> 0
C17: PDV: | D17: =0.25*D16 -> 0
C18: UKUPNO S PDV-om: | D18: =D16+D17 -> 0
