Workbook
Name dsg: #REF!

Sheet Naslovnica
B2: CITARA d.o.o., Zagreb, Desinićka 20
B3: tel/fax: 01364 3421
B4: Projektantski ured strojarskih instalacija i postrojenja
B6: Broj projekta: | D6: 2439/17
B7: Broj mape: | D7: 3
B9: Investitor: | D9: ŠTED INVEST d.o.o.
D10: Sprečka 12, Zagreb
B12: Građevina: | D12: PAVILJONI AD TURRES
B15: Lokacija: | D15: Ulica Milovana Muževića 20
D16: Dramalj, k.o. Crikvenica
B19: TROŠKOVNIK INSTALACIJA
B20: GRIJANJA, HLAĐENJA I PRIPREME PTV-e
B29: Glavni projektant: | D29: Marina Balin-Fadejev, dipl.ing.arh.
D30: Potpis: | G30: M.P.
B34: Projektant: | D34: Marinko Zečević, dipl.ing.stroj.
D35: Potpis: | G35: M.P.
B37: Suradnici: | D37: Alex Hlušička, mag.ing.stroj.
D38: Dražen Jagatić, ing.stroj.
B40: Direktor: | D40: Marinko Zečević, dipl.ing.stroj.
D41: Potpis: | G41: M.P.
B45: Zagreb, | C45: lipanj | D45: 2017.
B47: CITARA d.o.o., Zagreb pridržava sva autorska prava te pravo korištenje i umnožavanja ove dokumentacije.
B48: Investitor ima pravo koristiti ovu dokumentaciju samo za navedenu građevinu u skladu sa ugovorom.

Sheet OU
A1: Stavka | B1: Vrsta i opis rada | C1: Jedinična mjera | D1: Količina | E1: Jedinična cijena [kn] | F1: Stavka
A3: 0. | B3: OPĆI UVJETI I OPĆI TROŠKOVI
A5: =I5 -> 0.1 | B5: Izvođač radova prije izrade ponude treba dobro pregledati tehničku dokumentaciju, upoznati se sa postojećim stanjem na terenu, te eventualno zatražiti sva potrebna objašnjenja od projektanta i investitora, kako bi ponuda bila realna. U tom smislu ponudbene stavke iz ovog troškovnika moraju sadržavati sve dobave materijala s točno određenim tipovima i vrstom opreme, potrebnim atestima i sl., kao i sve potrebne transporte, prijenos po gradilištu, te ugradnju do finalnog proizvoda, i to tako da su od ponuđača radova provjerene sve troškovničke količine i prema potrebi korigirane. | F5: =N5 -> 0 | H5: =IF(B5="","",1) -> 1 | I5: =IF(H5="","",$A$3&H5) -> 0.1
A6: =I6 -> 0.2 | B6: Sve radove izvesti od kvalitetnog materijala prema opisima i detaljima, i to sve u okviru ponuđene jedinične cijene. Sve štete učinjene prigodom rada vlastitim ili tuđim radovima imaju se ukloniti na račun počinitelja. | F6: =N6 -> 0 | H6: =IF(A5="",H5,H5+1) -> 2 | I6: =$A$3&H6 -> 0.2
A7: =I7 -> 0.3 | B7: Svi nekvalitetni radovi imaju se otkloniti i zamijeniti ispravnim, bez bilo kakve odštete od strane investitora. | F7: =N7 -> 0 | H7: =IF(A6="",H6,H6+1) -> 3 | I7: =$A$3&H7 -> 0.3
A8: =I8 -> 0.4 | B8: Ako opis koje stavke dovodi izvoditelja u sumnju o načinu izvedbe, treba pravovremeno prije predaje ponude tražiti objašnjenje od projektanta. | F8: =N8 -> 0 | H8: =IF(A7="",H7,H7+1) -> 4 | I8: =$A$3&H8 -> 0.4
A9: =I9 -> 0.5 | B9: Eventualne izmjene materijala te načina izvedbe tokom građenja moraju se izvršiti isključivo pismenim dogovorom s projektantom i nadzornim inženjerom. | F9: =N9 -> 0 | H9: =IF(A8="",H8,H8+1) -> 5 | I9: =$A$3&H9 -> 0.5
A10: =I10 -> 0.6 | B10: Sve više radnje koje neće biti na taj način utvrđene neće se moći priznati u obračunu. | F10: =N10 -> 0 | H10: =IF(A9="",H9,H9+1) -> 6 | I10: =$A$3&H10 -> 0.6
A11: =I11 -> 0.7 | B11: Jedinična cijena sadrži sve nabrojeno u opisu pojedine grupe radova, te se na taj način vrši i obračun istih. | F11: =N11 -> 0 | H11: =IF(A10="",H10,H10+1) -> 7 | I11: =$A$3&H11 -> 0.7
A12: =I12 -> 0.8 | B12: Jedinične cijene primjenjivat će se na izvedene količine bez obzira u kojem postotku iste odstupaju od količine u troškovniku. | F12: =N12 -> 0 | H12: =IF(A11="",H11,H11+1) -> 8 | I12: =$A$3&H12 -> 0.8
A13: =I13 -> 0.9 | B13: Izvedeni radovi moraju u cijelosti odgovarati opisu troškovnika, a u tu svrhu investitor ima pravo od izvoditelja tražiti prije početka radova uzorke koji se čuvaju u upravi gradilišta, te izvedeni radovi moraju istima u cijelosti odgovarati. | F13: =N13 -> 0 | H13: =IF(A12="",H12,H12+1) -> 9 | I13: =$A$3&H13 -> 0.9
A14: =I14 -> 0.10 | B14: Sastavni dio projektnog elaborata uz nacrte, tehnički opis i opće uvjete izvođenja je ovaj troškovnik. Ukoliko iz bilo kojih razloga dođe do odstupanja od podataka iz troškovnika, u odnosu na podatke iz nacrta, vrijede podaci iz nacrta. Uz opće uvjete ovog troškovnika, nužno je pratiti opis, koji se smatra sastavnim dijelom ovog troškovnika. | F14: =N14 -> 0 | H14: =IF(A13="",H13,H13+1) -> 10 | I14: =$A$3&H14 -> 0.10
B15: Sve eventualne nejasnoće dužan je izvođač razjasniti s projektantima prije podnošenja ponude, jer se naknadne primjedbe u tom smislu neće moći uvažiti. Radove treba izvesti po opisu pojedine stavke troškovnika, općim uvjetima pojedinih grupa radova i ovim općim uvjetima. | H15: =IF(A14="",H14,H14+1) -> 11 | I15: =$A$3&H15 -> 0.11
A16: =I16 -> 0.11 | B16: Izvođač radova je dužan prije početka radova detaljno pregledati projektni elaborat i staviti na njega primjedbe. Ukoliko pronađe nepravilnosti mora ih, kao i svoje prijedloge za bolja rješenja dati investitoru na vrijeme, kako ne bi trpio ugovoreni rok završetka radova. Izvoditelj radova je dužan prije narudžbe materijala i prije početka radova izaći na gradilište, pregledati ga i utvrditi stanje građevinskih radova, te na licu mjesta prekontrolirati projekt, sve mjere, kote i količine iznesene u ovom projektu, a naročito u odnosu na već izvedeni građevinski objekt, te o svim neusklađenostima izvjestiti investitora. U sIučaju nekih izmjena na terenu ili na objektu, ili ako to doprinosi racionalnijem radu instalacije odnosno smanjenju investicije, može izvoditelj s dovoljno obrazloženja tražiti da se projekt upotpuni ili prilagodi postojećem stanju. Projekt može izmjeniti samo ako od investitora ishodi odobrenje izmjene. U slučaju navedenih izmjena izvoditelj preuzima odgovornost za prerađeni projekt. | F16: =N16 -> 0 | H16: =IF(A15="",H15,H15+1) -> 11 | I16: =$A$3&H16 -> 0.11
A17: =I17 -> 0.12 | B17: Konačni obračun vrši se na osnovu stvarno izvedenih količina, a po jediničnim cijenama ugovornog troškovnika. Ovo važi ukoliko se drukčije ne ugovori. | F17: =N17 -> 0 | H17: =IF(A16="",H16,H16+1) -> 12 | I17: =$A$3&H17 -> 0.12
B18: U cijeni moraju biti sadržani i radovi koji se neće posebno platiti kao što su: | H18: =IF(A17="",H17,H17+1) -> 13 | I18: =$A$3&H18 -> 0.13
B19: - zaštita dijelova na kojima se ne vrši zahvat | H19: =IF(A18="",H18,H18+1) -> 13 | I19: =$A$3&H19 -> 0.13
B20: - svi režijski sati, osim troškovnikom predviđenih ili po nadzornom inženjeru ovjerenih | H20: =IF(A19="",H19,H19+1) -> 13 | I20: =$A$3&H20 -> 0.13
B21: - sva ispitivanja materijala prema programu osiguranja kvalitete | H21: =IF(A20="",H20,H20+1) -> 13 | I21: =$A$3&H21 -> 0.13
B22: - uređivanje gradilišta po završetku rada s otklanjanjem svih otpadaka, oplate i slično | H22: =IF(A21="",H21,H21+1) -> 13 | I22: =$A$3&H22 -> 0.13
B23: - uskladištenje materijala i elemenata za obrtničke i instalaterske radove do njihove ugradbe | H23: =IF(A22="",H22,H22+1) -> 13 | I23: =$A$3&H23 -> 0.13
B24: - sve radove vezane uz primjenu pravila zaštite na radu | H24: =IF(A23="",H23,H23+1) -> 13 | I24: =$A$3&H24 -> 0.13
A25: =I25 -> 0.13 | B25: Garantni rok za kvalitetu montažnih radova treba utanačiti prema zakonskim propisima, a za ugrađenu opremu garantni rok se određuje prema garanciji proizvođača opreme, računajući od dana tehničkog prijema instalacije. Svaki kvar koji se dogodi na instalaciji u garantnom roku, a prouzročen je isporukom Iošeg materijala ili nesolidnom izradom, dužan je izvoditelj na zahtjev investitora otkloniti o svom trošku. Ukoliko tako ne postupi, investitor ima pravo pozvati drugog izvođača da otkloni kvar i da mu isplati, a naplatu svojih troškova izvrši iz cjelokupne imovine prvog izvođača. | F25: =N25 -> 0 | H25: =IF(A24="",H24,H24+1) -> 13 | I25: =$A$3&H25 -> 0.13
A26: =I26 -> 0.14 | B26: Izvođač je odgovoran za kvalitetu montažnih radova i ugrađenog materijala kako su radovi izvođeni po odobrenom projektu, odnosno odobrenim izmjenama. Ukoliko izvođač izvrši izmjene bez suglasnosti projektanta i nadzornog tijela, snosi odgovornost za nepravilno funkcioniranje instalacija. | F26: =N26 -> 0 | H26: =IF(A25="",H25,H25+1) -> 14 | I26: =$A$3&H26 -> 0.14
A27: =I27 -> 0.15 | B27: Ugrađeni materijal i oprema moraju odgovarati tehničkim propisima i standardima. Ako nadzorno tijelo bude zahtjevalo ispitivanje nekog materijala izvođač će ga podnijeti na ispitivanje priznatoj ustanovi, a troškove, ukoliko materijal odgovara naplatiti će se kao višak rada, s time što ima pravo i na srazmjerno produženje roka. Ukoliko ne odgovara standardima, troškove snosi izvođač. | F27: =N27 -> 0 | H27: =IF(A26="",H26,H26+1) -> 15 | I27: =$A$3&H27 -> 0.15
A28: =I28 -> 0.16 | B28: Sav materijal i opremu, ukoliko nisu ispitani kod proizvođača ili o tome ne postoji dokumentacija, mora ispitati izvoditelj radova prije nego ih ugradi i o tome sastaviti dokumentaciju. Ispitivanje instalacije ima za cilj provjeru da li ugradnja opreme, uređaji i automatika odgovara projektiranim uvjetima za zimski i ljetni režim rada, ocjenu kvalitete montažnih radova, brzine i tlaka u karakterističnim točkama postrojenja. | F28: =N28 -> 0 | H28: =IF(A27="",H27,H27+1) -> 16 | I28: =$A$3&H28 -> 0.16
A29: =I29 -> 0.17 | B29: Kod provjere montažnih radova obratiti pozornost na slijedeće: | F29: =N29 -> 0 | H29: =IF(A28="",H28,H28+1) -> 17 | I29: =$A$3&H29 -> 0.17
B30: - nepropusnost spojeva | H30: =IF(A29="",H29,H29+1) -> 18 | I30: =$A$3&H30 -> 0.18
B31: - razina buke | H31: =IF(A30="",H30,H30+1) -> 18 | I31: =$A$3&H31 -> 0.18
B32: - zaštita od korozije
B33: - pravilna montaža armature, ogrjevnih i rashladnih tijela, elemenata za ubacivanje i izvlačenje zraka, kanala i sl. | H33: =IF(A31="",H31,H31+1) -> 18 | I33: =$A$3&H33 -> 0.18
A34: =I34 -> 0.18 | B34: Ako materijal ugrađuje Investitor, izvođač će ga pregledati, pa ako smatra da nije kvalitetan, odbiti će ugradnju pismenom konstatacijom u građevinskom dnevniku. Ako i pored toga od nadzornog tijela bude naređeno da ga ugradi on će postupiti prema naredbi, ali ne odgovara za njega, niti za posljedice. Također se izuzima garancija za ovaj dio instalacija. | F34: =N34 -> 0 | H34: =IF(A29="",H29,H29+1) -> 18 | I34: =$A$3&H34 -> 0.18
A35: =I35 -> 0.19 | B35: Za izvođenje radova izvođač mora postaviti stručno osoblje i rukovodstvo potrebnih kvalifikacija za izvođenje odnosnih radova. | F35: =N35 -> 0 | H35: =IF(A34="",H34,H34+1) -> 19 | I35: =$A$3&H35 -> 0.19
A36: =I36 -> 0.20 | B36: Izvođač montažnih radova dužan je sporazumno s nadzornim tijelom i izvođačem građevinskih radova izvršiti pravilnu organizaciju poslova, tako da međusobno ometanje bude najmanje. Ako stanje ili izvođenje građevinskih radova ometa neprikidnu montažu izvođač ima pravo prekinuti rad, produžiti rok i naplatiti troškove koje sporazumno utvrđuju s nadzornim tijelom u dnevniku. | F36: =N36 -> 0 | H36: =IF(A35="",H35,H35+1) -> 20 | I36: =$A$3&H36 -> 0.20
A37: =I37 -> 0.21 | B37: Izvođač je dužan na osnovu važećih zakonskih propisa s investitorom i ostalim izvođačima radova riješiti pitanje higijensko-tehničke zaštite zaposlenog osoblja - smještaja materijala i osigurati čuvanje istoga, također i osiguranja gradilišta. | F37: =N37 -> 0 | H37: =IF(A36="",H36,H36+1) -> 21 | I37: =$A$3&H37 -> 0.21
A38: =I38 -> 0.22 | B38: Ako izvođač nađe da će zbog eventualnih pogrešaka u projektu ili pogrešnih uputstava ili ostalih građevinskih činilaca, radovi biti izvedeni na štetu trajnosti i kvalitete instalacije, dužan je pismeno upozoriti Investitora, u protivnom će biti odgovoran. Za prijedloge poboljšanja i pojeftinjenja ako ih Investitor usvoji ima pravo na naknadnu nagradu koja se dogovorno određuje sporazumno učinjenoj uštedi. | F38: =N38 -> 0 | H38: =IF(A37="",H37,H37+1) -> 22 | I38: =$A$3&H38 -> 0.22
A39: =I39 -> 0.23 | B39: Ako izvođač utvrdi da montažni radovi neće biti završeni u ugovorenom roku, potrebno je najmanje 10 dana prije isteka roka obavijestiti investitora s obrazloženjem zakašnjenja. | F39: =N39 -> 0 | H39: =IF(A38="",H38,H38+1) -> 23 | I39: =$A$3&H39 -> 0.23
A40: =I40 -> 0.24 | B40: Za sve naknadne radove koji su potrebni, odnosno nisu predviđeni projektom, izvođač će dostaviti dopunsku ponudu Investitoru, preko nadzornog tijela ili direktno. Nakon usvajanja ovi radovi se mogu izvesti. | F40: =N40 -> 0 | H40: =IF(A39="",H39,H39+1) -> 24 | I40: =$A$3&H40 -> 0.24
A41: =I41 -> 0.25 | B41: Na dopunsku ponudu izvođač mora dobiti odgovor u roku od 8 dana, u protivnom će se smatrati da nije usvojena. | F41: =N41 -> 0 | H41: =IF(A40="",H40,H40+1) -> 25 | I41: =$A$3&H41 -> 0.25
A42: =I42 -> 0.26 | B42: Izvođač je na gradilištu odgovoran jedino nadzornom tijelu, i s njima kontaktira preko građevinskog dnevnika, naređenje nadzornog tijela telefonom ili pismeno, obavezno je za izvođenje tek kada se upiše u dnevnik. Za sve zahtjeve izvođača, nadzorno tijelo mora donijeti rješenje u roku od 8 dana. U protivnom izvođač ima pravo na srazmjerno produženje roka i naknadu štete uslijed zastoja. | F42: =N42 -> 0 | H42: =IF(A41="",H41,H41+1) -> 26 | I42: =$A$3&H42 -> 0.26
A43: =I43 -> 0.27 | B43: Kao završetak montažnih radova je dan kada izvođač podnese nadzornom tijelu pismeno izvješće o završetku ugovorenih radova, a ovaj to pismeno potvrdi u građevinskom dnevniku, odnosno zatraži od Investitora pismeno da se imenuje komisija za tehnički pregled najmanje 15 dana prije završetka instalacije. | F43: =N43 -> 0 | H43: =IF(A42="",H42,H42+1) -> 27 | I43: =$A$3&H43 -> 0.27
A44: =I44 -> 0.28 | B44: Izvoditelj je dužan investitoru predati sheme i izrađena uputstva za rukovanje postrojenjem i uputstva za otklanjanje smetnji. | F44: =N44 -> 0 | H44: =IF(A43="",H43,H43+1) -> 28 | I44: =$A$3&H44 -> 0.28
A45: 0.29 | B45: OPĆI TROŠKOVI | H45: =IF(A43="",H43,H43+1) -> 28 | I45: =$A$3&H45 -> 0.28
B46: U stavkama troškovnika nisu posebno specificirani slijedeći troškovi ali ih treba uključiti u ukupnu sumu:
B47: Ako nije drugačije dogovoreno u predračunsku sumu je uračunato: | H47: =IF(A44="",H44,H44+1) -> 29 | I47: =$A$3&H47 -> 0.29
B48: 1. Cjelokupna isporuka opreme, regulacija, puštanje u pogon od ovlaštenog servisera i potrebna ispitivanja na nepropusnost ugrađene instalacije grijanja, hlađenja i pripreme PTV-e te sva potrebna ispitivanja od ovlaštene firme za dokazivanje kvalitete ugrađene instalacije. | H48: =IF(A47="",H47,H47+1) -> 29 | I48: =$A$3&H48 -> 0.29
B49: 2. Obuka osoblja koje rukuje uređajima s objašnjenjem sistema i rada pojedinih dijelova, također i davanje pismenog uputstva za rukovanje i održavanje. | H49: =IF(A48="",H48,H48+1) -> 29 | I49: =$A$3&H49 -> 0.29
B50: 3. Naknada za montere, njihove pomoćnike, rukovodioce gradilišta i izradbu građevinske knjige. | H50: =IF(A49="",H49,H49+1) -> 29 | I50: =$A$3&H50 -> 0.29
B51: 4. Transport cjelokupnog materijala i alata na gradilištu i s gradilišta, kao i namještanja skele te korištenje podiznih platformi. | H51: =IF(A50="",H50,H50+1) -> 29 | I51: =$A$3&H51 -> 0.29
B52: 5. Troškovi povjerenstva i energije za probni rad ne ulaze u cijenu već ih snosi Investitor koji je dužan blagovremeno osigurati potrebno gorivo, električnu energiju, elektro instalacije, vodovodne instalacije (vodu i drugo u svezi s ovim). | H52: =IF(A51="",H51,H51+1) -> 29 | I52: =$A$3&H52 -> 0.29
B53: 6. Svi pripremno završni radovi
B54: - pregled dokumentacije objekta
B55: - vođenje građevinskog dnevnika
B56: 7. Izrada projekta izvedenog stanja. | H56: =IF(A52="",H52,H52+1) -> 29 | I56: =$A$3&H56 -> 0.29

Sheet GR_HL
A1: Stavka | B1: Vrsta i opis rada | C1: Jednakovrijedna oprema | D1: Jedinična mjera | E1: Količina | F1: Jedinična cijena [kn] | G1: Ukupno [kn]
A3: 1. | B3: INSTALACIJA GRIJANJA/HLAĐENJA
A5: 1.1 | B5: Dobava DC INVERTER rashladnog kondenzatorsko / kompresorskog sustava za hlađenje i grijanje, koji obvezatno mora imati automatski restart po prekidu i ponovnom uspostavljanju napajanja s mikroprocerskom regulacionom automatikom i elektronskim ekspanzijskim ventilom (dizalica topline) "Split" izvedbe, koja se sastoji od jedne vanjske i više unutarnjih jedinica. | D5: komada | E5: 9 | G5: =IF(F5="","",E5*F5)
B6: Vanjska jedinica tehničkih karakteristika:
B7: Max. broj unutarnjih jedinica: 5 Učin hlađenja: min. 9,1 kW Učin grijanja: min. 10,6 kW
B8: SEER / Energetska klasa: min. 5,3 / A SCOP / Energetska klasa: min. 3,8 / A Razina buke: max. 53 dB
B9: Dimenzije (v/š/d): max. 915 x 900 x 320 mm Težina: max. 70 kg
B10: Promjer priključka cijevi: - plinska faza: 4 x ø9,52 (3/8) mm(") 1 x ø12,70 (1/2) mm(") - tekuća faza: 5 x ø6,35 (1/4) mm(")
B11: Maksimalna duljina cijevi: - ukupno: 80 m - po unutarnjoj jedinici: 25 m
B12: Maksimalna visinska razlika: - vanjska jedinica ispod unutarnje: 15 m - vanjska jedinica iznad unutarnje: 10 m
B13: Područje rada: - režim hlađenja: -10°C do +46°C - režim grijanja: -15°C do +24°C
B14: Napajanje: 230 V - 1 f - 50 Hz Medij: R410A
B15: Kao jednakovrijedna alternativa dopušteno je nuđenje 5 vanjskih jedinica koje po kapacitetu odgovaraju predviđenim unutarnjim jedinicama, te ostvaruju traženi kapacitet i učinkovitost.
A16: 1.2 | B16: Vanjska jedinica tehničkih karakteristika: | D16: komada | E16: 9 | G16: =IF(F16="","",E16*F16)
B17: Max. broj unutarnjih jedinica: 6 Učin hlađenja: 12,0 kW Učin grijanja: 14,0 kW
B18: SEER / Energetska klasa: 3,32 / A SCOP / Energetska klasa: 4,03 / A Razina buke: 57 dB
B19: Dimenzije (v/š/d): 1070 x 900 x 320 mm Težina: 88 kg
B20: Promjer priključka cijevi: - plinska faza: 5 x ø9,52 (3/8) mm(") 1 x ø12,70 (1/2) mm(") - tekuća faza: 6 x ø6,35 (1/4) mm(")
B21: Maksimalna duljina cijevi: - ukupno: 80 m - po unutarnjoj jedinici: 25 m
B22: Maksimalna visinska razlika: - vanjska jedinica ispod unutarnje: 15 m - vanjska jedinica iznad unutarnje: 10 m
B23: Područje rada: - režim hlađenja: -10°C do +46°C - režim grijanja: -15°C do +24°C
B24: Napajanje: 230 V - 1 f - 50 Hz Medij: R410A
B25: Kao jednakovrijedna alternativa dopušteno je nuđenje 6 vanjskih jedinica koje po kapacitetu odgovaraju predviđenim unutarnjim jedinicama, te ostvaruju traženi kapacitet i učinkovitost.
A26: 1.3 | B26: Dobava unutarnjih klima jedinica namijenjenih za montažu na zid, tehničkih karakteristika: | D26: komada | E26: 81 | G26: =IF(F26="","",E26*F26)
B27: Učin hlađenja: min. 1,82/2,00 kW Učin grijanja: min. 2,12/2,33 kW
B28: Razina buke (v/n): max. 36 / 20 dB Protok zraka: min. 672 m³/h
B29: Dimenzije (v/š/d): max. 295 x 798 x 257 mm Težina: max. 12 kg
B30: Promjer priključka cijevi: - plinska faza: ø9,52 (3/8) mm(") - tekuća faza: ø6,35 (1/4) mm(")
B31: Infracrveni daljinski upravljač sa tjednim timerom
A32: 1.4 | B32: Dobava unutarnjih klima jedinica namijenjenih za montažu na zid, tehničkih karakteristika: | D32: komada | E32: 9 | G32: =IF(F32="","",E32*F32)
B33: Učin hlađenja: min. 3,64 kW Učin grijanja: min. 4,24 kW
B34: Razina buke (v/n): max. 39 / 29 dB Protok zraka: min. 888 m³/h
B35: Dimenzije (v/š/d): max. 295 x 798 x 257 mm Težina: max. 12 kg
B36: Promjer priključka cijevi: - plinska faza: ø12,7 (1/2) mm(") - tekuća faza: ø6,35 (1/4) mm(")
B37: Infracrveni daljinski upravljač sa tjednim timerom
A38: 1.5 | B38: Izolirane frigo bakrene cijevi za izvedbu freonske instalacije parne i tekuće faze,cijevi moraju biti sa unutarnje strane odmašćene, prije ugradnje propuhane, u stavku cijevi uključen je sav pribor za spajanje, cijev-cijev te uređaj-cijev. | G38: =IF(F38="","",E38*F38)
B39: Ć 12,7 mm | D39: metara | E39: 90 | G39: =IF(F39="","",E39*F39)
B40: Ć 9,52 mm | D40: metara | E40: 1035 | G40: =IF(F40="","",E40*F40)
B41: Ć 6,35 mm | D41: metara | E41: 1125 | G41: =IF(F41="","",E41*F41)
A42: 1.6 | B42: PVC cijev za odvod kondenzata, dimenzija:
B43: Ć 20 mm | D43: metara | E43: 300 | G43: =IF(F43="","",E43*F43)
B44: Ć 25 mm | D44: metara | E44: 20 | G44: =IF(F44="","",E44*F44)
A45: 1.7 | B45: Dobava tipskog sifonskog sklopa s nepovratnom kuglicom za sifoniranje odvodnje kondenzata prilikom spajanja na sifon lavaboa. | D45: komada | E45: 81 | G45: =IF(F45="","",E45*F45)
A46: 1.8 | B46: Profilno željezo za postavu i učvršćenje vanjskog uređaja na zid objekta sa antivibracionom podlogom, komplet sa vijcima i materijalom za učvršćenje, sve antikorozivno zaštitćeno. | D46: komplet | E46: 18 | G46: =IF(F46="","",E46*F46)
A47: 1.9 | B47: Sredstvo za hlađenje R410A, za dopunjavanja u sustavu cijevi rashlada | D47: kg | E47: 5 | G47: =IF(F47="","",E47*F47)
A48: 1.10 | B48: Šlicanje unutarnjih zidova za polaganje cijevi odvoda kondenzata, te izrada prodora u zidovima. | D48: metara | E48: 300 | G48: =IF(F48="","",E48*F48)
A49: 1.11 | B49: PVC kanalice za vođenje freonske instalacije unutar objekta sa svim pomoćnim priborom (vijci i tiple) slijedećih dimenzija:
B50: 100x50 mm | D50: metara | E50: 70 | G50: =IF(F50="","",E50*F50)
B51: 200x50 mm | D51: metara | E51: 70 | G51: =IF(F51="","",E51*F51)
A52: 1.12 | B52: Sitni potrošni materijal koji nije obuhvaćen u navedenim stavkama, kao što su beskonačni vijci za učvršćenje, tiple, vijci. | D52: iznos | E52: 1 | G52: =IF(F52="","",E52*F52)
A53: 1.13 | B53: Montaža sa ispuhivanjem cijevnog razvoda tlačna proba sa N2 na 25 bara, vakumiranje razvoda, nadopunjavanjem sistema, puštanjem u pogon i upućivanjem osoblja u rad sistema, izdavanje atesta i garancija. U montažu uključeno i probijanje zidova za prolaz cijevi. | D53: iznos | E53: 1 | G53: =IF(F53="","",E53*F53)
A54: 1.14 | B54: Potrebni elektro radovi na spajanju vanjske i unutrašnje jedinice, spoj sa elektro ormarom, uključujući potrebno ožičenje. | D54: iznos | E54: 1 | G54: =IF(F54="","",E54*F54)
B56: UKUPNO | G56: =SUM(G5:G54) -> 0

Sheet SOLAR
A1: Stavka | B1: Vrsta i opis rada | C1: Jednakovrijedna oprema | D1: Jedinična mjera | E1: Količina | F1: Jedinična cijena [kn] | G1: Ukupno [kn]
A3: 2. | B3: SOLARNO GRIJANJE PTV-e
A5: 2.1 | B5: Dobava bivalentnih spremnika tople vode (donja spirala spaja se na solarne panele, gornja na kotlovnicu na lož-ulje), volumena 500 litara, sa toplinskom izolacijom i uvojnim koljenima s uranjajućom čahurom, za montažu na pod prostorije. | D5: kompleta | E5: 9 | G5: =E5*F5 -> 0
B6: Uz spremnike isporučiti električne grijače tip, snage 6 kW.
A7: 2.2 | B7: Dobava solarnih kolektora, bruto površine 2,51 m2. | D7: kompleta | E7: 36 | G7: =E7*F7 -> 0
B8: Univerzalno primjenjiv za montažu na krov i slobodnu montažu, može se montirati okomito i vodoravno.
B9: Visoki stupanj učinkovitosti (>70%) zbog selektivno prevučenog apsorbera i poklopca od solarnog stakla postojanog na tuču.
B10: Trajno brtvljenje i visoka stabilnost zbog okolno svinutog aluminijskog okvira i izravno izvedenog zabrtvljenja ploče.
B11: Pričvrsni sustav mora biti jednostavan za montažu, opremljen statički ispitanim sastavnim dijelovima od plemenitog čelika i aluminija, otpornih na koroziju.
A12: 2.3 | B12: Dobava kompleta potrebnog za instalaciju solarnog grijanja, koji se sastoji od sljedećih komponenata: | D12: kompleta | E12: 3 | G12: =E12*F12 -> 0
B13: - priključnog seta
B14: - uranjajuće čahure
B15: - brzog odzračnika sa T-komadom i vijčanom spojkom sa steznim prstenom NO15
B16: - odvajačem zraka
A17: 2.4 | B17: Armatura za punjenje, komplet sa ručnom pumpom za punjenje solarnog medija | D17: komada | E17: 1 | G17: =E17*F17 -> 0
A18: 2.5 | B18: Solarni medij za punjenje instalacije | D18: litara | E18: 300 | G18: =E18*F18 -> 0
A19: 2.6 | B19: Dobava sigurnosnog seta za krug solarnog grijanja koji se sastoji od: | D19: kompleta | E19: 3 | G19: =E19*F19 -> 0
B20: - kuglasti ventil NO20
B21: - ekspanzijska posuda 100l, sa servisnim ventilom
B22: - sigurnosni ventil NO25, tlak otvaranja 6 bara, za temperature 120 °C
A23: 2.7 | B23: Dobava crpne stanice za krug kolektora, renomiranog proizvođača opreme. Stanica se sastoji od sljedećih komponenata: | D23: kompleta | E23: 3 | G23: =E23*F23 -> 0
B24: - dva termometra
B25: - tri kuglaste slavine sa nepovratnim zaklopkama
B26: - nepovratnog ventila
B27: - mjerača protoka
B28: - manometra
B29: - cirkulacijskom crpkom
A30: 2.8 | B30: Nosiva potkonstrukcija solarnih panela s dokumentacijom proizvoda i sa sastavnim dijelovima za montažu na krov paviljona, što uključuje montažno postolje za postavljanje kolektora pod nagibom od 45° u odnosu na horizontalu, pričvrsne vijke, matice i tiple. | D30: kompleta | E30: 36 | G30: =E30*F30 -> 0
B31: Postolje proračunati na udare bure radi smještaja na krovu!
A32: 2.9 | B32: Dobava solarne regulacije za regulaciju rada kolektora, odgovarajućeg modela za ponuđene kolektore. | D32: kompleta | E32: 3 | G32: =E32*F32 -> 0
B33: Regulacija se brine o tome da toplina dobivena sunčanim kolektorima što efektivnije koristi za ugrijavanje pitke vode.
B34: Regulaciju odlikuje jednostavno rukovanje i visok komfor upravljanja.
A35: 2.10 | B35: Dobava recirkulacijske crpke namijenjene za potrošnu toplu vodu, u kompletu s kuglastim i nepovratnim ventilom NO32. Crpka slijedećih karakteristika: | D35: kompleta | E35: 3 | G35: =E35*F35 -> 0
B36: - minimalni protok: 1,5 m3/h
B37: - minimalna dobava: 20 kPa
B38: - priključak: G 1 1/2
A39: 2.11 | B39: Dobava programabilnog timera za upravljanje radom recirkulacijske crpke. | D39: komada | E39: 1 | G39: =E39*F39 -> 0
A40: 2.12 | B40: Dobava membranske ekspanzijske posude maksimalnog radnog tlaka do 10 bara, volumena 50 litara i sigurnosnog ventila 6 bara, NO32. | D40: kompleta | E40: 9 | G40: =E40*F40 -> 0
A41: 2.13 | B41: Ventili za hidrauličko balansiranje sa proporcionalnom karakteristikom prigušenja, sa mjernim priključcima na instrument za balansiranje, opremljeni ručnim kolom sa dvostrukom digitalnom skalom za (pred)podešavanje, sa priključkom za ispuštanje vode. Stavka uključuje obvezno jednokratno balansiranje instalacije na ventilima sa mjernim instrumentom, i izradu zapisnika o postignutim protocima. Ventili su navojni, dimenzija: | D41: komada | E41: 9 | G41: =IF(F41="","",E41*F41)
B42: NO25
A43: 2.14 | B43: Dobava mješajućeg ventila tople i hladne potrošne vode, dimenzije 5/4", u kompletu sa termičkim pogonom. | D43: kompleta | E43: 3 | G43: =E43*F43 -> 0
A44: 2.15 | B44: Dobava navojnih kuglastih slavina za hladnu vodu NP16, dimenzije NO40. | D44: komada | E44: 12 | G44: =E44*F44 -> 0
A45: 2.16 | B45: Dobava navojnog nepovratnog ventila za hladnu vodu dimenzije NO40. | D45: komada | E45: 3 | G45: =E45*F45 -> 0
A46: 2.17 | B46: Dobava navojnog hvatača nečistoća za hladnu vodu dimenzije NO40. | D46: komada | E46: 3 | G46: =E46*F46 -> 0
A47: 2.18 | B47: Dobava reducir ventila na hladnoj vodi dimenzije NO40. | D47: komada | E47: 3 | G47: =E47*F47 -> 0
A48: 2.19 | B48: Dobava manometra sa pripadajućom troputom slavinom R1/2". Manometri za mjerno područje 0 do 10 bara. | D48: kompleta | E48: 1 | G48: =E48*F48 -> 0
A49: 2.20 | B49: Slavina za punjenje i pražnjenje iz mjedi komplet s kapom protiv kapanja. | G49: =E49*F49 -> 0
B50: NO15 | D50: komada | E50: 9 | G50: =E50*F50 -> 0
A51: 2.21 | B51: Pocinčane cijevi za razvod hladne vode, dimenzija: | G51: =E51*F51 -> 0
B52: NO32 | D52: metara | E52: 90 | G52: =E52*F52 -> 0
B53: NO40 | D53: metara | E53: 60
B54: U cijevi uračunati sva potreban ovješenja, materijal za izradu čvrstih točaka. | G54: =E54*F54 -> 0
A55: 2.22 | B55: Dobava bakrenih cijevi dimenzija: | G55: =E55*F55 -> 0
B56: Ø28x1,5 | D56: metara | E56: 150 | G56: =E56*F56 -> 0
B57: Ø35x1,5 | D57: metara | E57: 225 | G57: =E57*F57 -> 0
B58: U cijevi uračunati sva potreban ovješenja, materijal za izradu čvrstih točaka. | G58: =E58*F58 -> 0
A59: 2.23 | B59: Dobava izolacije sa paronepropusnom branom (koeficijent difuzije vodene pare minimalno 7000), izvedbe sa zaštitom od UV zraka, specijalno namijenjenih za oblaganje cijevi solarnih instalacija, | G59: =E59*F59 -> 0
B60: debljine izolacije minimalno 25 mm, za bakrene cijevi slijedećih dimenzija:
B61: Ć 28x1,5 | D61: metara | E61: 60 | G61: =E61*F61 -> 0
B62: Ć 35x1,5 | D62: metara | E62: 225 | G62: =E62*F62 -> 0
A63: 2.24 | B63: Cjevovod za razvod ogrjevne vode iz kotlovnice za prilagodbu novoj instalaciji, izrađen od čeličnih cijevi, uključivo fazonski komadi, slijedećih dimenzija: | G63: =E63*F63 -> 0
B64: NO50 | D64: metara | E64: 60 | G64: =E64*F64 -> 0
A65: 2.25 | B65: Cjevovod za razvod PTV-e iz kotlovnice za prilagodbu novoj instalaciji, izrađen od pocinčanih cijevi, uključivo fazonski komadi, slijedećih dimenzija: | G65: =E65*F65 -> 0
B66: NO50 | D66: metara | E66: 60 | G66: =E66*F66 -> 0
A67: 2.26 | B67: Dobava kamene vune klase negorivosti A1, s temperaturom taljenja iznad 1000°C, za oblaganje cjevovoda za razvod ogrjevne vode. | D67: m2 | E67: 45 | G67: =E67*F67 -> 0
A68: 2.27 | B68: Dobava navojnih kuglastih ventila, u kompletu sa holenderima i brtvama, dimenzije: | G68: =E68*F68 -> 0
B69: NO25 | D69: kompleta | E69: 36 | G69: =E69*F69 -> 0
B70: NO32 | D70: kompleta | E70: 18 | G70: =E70*F70 -> 0
B71: NO40 | D71: kompleta | E71: 6 | G71: =E71*F71 -> 0
B72: NO50 | D72: kompleta | E72: 6 | G72: =E72*F72 -> 0
A73: 2.28 | B73: Osjetnik temperature spremnika PTV-a | D73: komada | E73: 9 | G73: =E73*F73 -> 0
A74: 2.29 | B74: Sigurnosni graničnik temperature spremnika PTV-a | D74: komada | E74: 3 | G74: =E74*F74 -> 0
A75: 2.30 | B75: Osjetnik temperature kolektora | D75: komada | E75: 3 | G75: =E75*F75 -> 0
A76: 2.31 | B76: Materijal za zavarivanje cjevovoda, plin, kisik, žice za varenje, materijal za spajanje, brtvljenje, ovješenja, fitinzi za bakrene i pocinčane cijevi i sl. | D76: iznos | E76: 1 | G76: =E76*F76 -> 0
A77: 2.32 | B77: Set rezervnih dijelova (set malih dijelova koji se pri montaži mogu lako izgubiti) | D77: kompleta | E77: 9 | G77: =E77*F77 -> 0
A78: 2.33 | B78: Angažiranje dizalice za podizanje solarnih panela i montažne konstrukcije istih na krov. Stavka obuhvaća osiguranje radijusa djelovanja dizalice. | D78: iznos | E78: 1 | G78: =E78*F78 -> 0
A79: 2.34 | B79: Demontažni radovi na instalaciji radijatorskog grijanja unutar prostora paviljona što uključuje demontažu postojećih radijatora i pripadnog cijevnog razvoda. | D79: NS | E79: 100 | G79: =E79*F79 -> 0
B80: Sam cijevni razvod od kotlovnice do samih paviljona se zadržava i iskorištava za mogućnost grijanja PTV preko postojećeg generatora topline.
B81: Nakon demontaže radijatora i cijevnog razvoda iste zbrinuti na mjesto po traženju Investitora ili odvesti na deponij uz obavezno predočenje potvrde o dobivenoj naknadi. Svi potrebni građevinski radovi obuhvaćeni su u troškovniku građevinskih radova.
A82: 2.35 | B82: Montaža cjelokupne dobavljene opreme i instalacije do potpune pogonske i funkcionalne gotovosti sistema. | D82: iznos | E82: 1 | G82: =E82*F82 -> 0
A83: 2.36 | B83: Potrebni elektro radovi na spajanju regulacije i automatike, spoj sa elektro ormarom, uključujući potrebno ožičenje. | D83: iznos | E83: 1 | G83: =E83*F83 -> 0
B84: NAPOMENA: PRIJE IZVOĐENJA INSTALACIJE USPOREDITI TROŠKOVNIK SA SPECIFIKACIJOM PROIZVOĐAČA.
B85: Postolja za montažu panela proračunati na pojačane udare vjetra!
B87: UKUPNO | G87: =SUM(G5:G85) -> 0

Sheet REKAPITULACIJA
B1: REKAPITULACIJA | C1: Ukupno [kn]
A3: 1. | B3: =GR_HL!B3 -> INSTALACIJA GRIJANJA/HLAĐENJA | C3: =GR_HL!G56 -> 0
A4: 2. | B4: =SOLAR!B3 -> SOLARNO GRIJANJE PTV-e | C4: =SOLAR!G87 -> 0
B6: UKUPNO | C6: =SUM(C3:C4) -> 0
B7: PDV | C7: =C6*0.25 -> 0
B8: UKUPNO S PDV-om | C8: =C6+C7 -> 0

Sheet DV-IDENTITY-0
A1: =IF(Naslovnica!1:1,"AAAAACN75QA=",0) -> 0 | B1: =AND(Naslovnica!A1,"AAAAACN75QE=") -> #VALUE! | C1: =AND(Naslovnica!B1,"AAAAACN75QI=") -> #VALUE! | D1: =AND(Naslovnica!C1,"AAAAACN75QM=") -> #VALUE! | E1: =AND(Naslovnica!D1,"AAAAACN75QQ=") -> #VALUE! | F1: =AND(Naslovnica!E1,"AAAAACN75QU=") -> #VALUE! | G1: =AND(Naslovnica!F1,"AAAAACN75QY=") -> #VALUE! | H1: =AND(Naslovnica!G1,"AAAAACN75Qc=") -> #VALUE! | I1: =AND(Naslovnica!H1,"AAAAACN75Qg=") -> #VALUE! | J1: =AND(Naslovnica!I1,"AAAAACN75Qk=") -> #VALUE! | K1: =AND(Naslovnica!J1,"AAAAACN75Qo=") -> #VALUE! | L1: =AND(Naslovnica!K1,"AAAAACN75Qs=") -> #VALUE! | M1: =AND(Naslovnica!L1,"AAAAACN75Qw=") -> #VALUE! | N1: =AND(Naslovnica!M1,"AAAAACN75Q0=") -> #VALUE! | O1: =IF(Naslovnica!2:2,"AAAAACN75Q4=",0) -> 0 | P1: =AND(Naslovnica!A2,"AAAAACN75Q8=") -> #VALUE! | Q1: =AND(Naslovnica!B2,"AAAAACN75RA=") -> #VALUE! | R1: =AND(Naslovnica!C2,"AAAAACN75RE=") -> #VALUE! | S1: =AND(Naslovnica!D2,"AAAAACN75RI=") -> #VALUE! | T1: =AND(Naslovnica!E2,"AAAAACN75RM=") -> #VALUE! | U1: =AND(Naslovnica!F2,"AAAAACN75RQ=") -> #VALUE! | V1: =AND(Naslovnica!G2,"AAAAACN75RU=") -> #VALUE! | W1: =AND(Naslovnica!H2,"AAAAACN75RY=") -> #VALUE! | X1: =AND(Naslovnica!I2,"AAAAACN75Rc=") -> #VALUE! | Y1: =AND(Naslovnica!J2,"AAAAACN75Rg=") -> #VALUE! | Z1: =AND(Naslovnica!K2,"AAAAACN75Rk=") -> #VALUE! | AA1: =AND(Naslovnica!L2,"AAAAACN75Ro=") -> #VALUE! | AB1: =AND(Naslovnica!M2,"AAAAACN75Rs=") -> #VALUE! | AC1: =IF(Naslovnica!3:3,"AAAAACN75Rw=",0) -> 0 | AD1: =AND(Naslovnica!A3,"AAAAACN75R0=") -> #VALUE! | AE1: =AND(Naslovnica!B3,"AAAAACN75R4=") -> #VALUE! | AF1: =AND(Naslovnica!C3,"AAAAACN75R8=") -> #VALUE! | AG1: =AND(Naslovnica!D3,"AAAAACN75SA=") -> #VALUE! | AH1: =AND(Naslovnica!E3,"AAAAACN75SE=") -> #VALUE! | AI1: =AND(Naslovnica!F3,"AAAAACN75SI=") -> #VALUE! | AJ1: =AND(Naslovnica!G3,"AAAAACN75SM=") -> #VALUE! | AK1: =AND(Naslovnica!H3,"AAAAACN75SQ=") -> #VALUE! | AL1: =AND(Naslovnica!I3,"AAAAACN75SU=") -> #VALUE! | AM1: =AND(Naslovnica!J3,"AAAAACN75SY=") -> #VALUE! | AN1: =AND(Naslovnica!K3,"AAAAACN75Sc=") -> #VALUE! | AO1: =AND(Naslovnica!L3,"AAAAACN75Sg=") -> #VALUE! | AP1: =AND(Naslovnica!M3,"AAAAACN75Sk=") -> #VALUE! | AQ1: =IF(Naslovnica!4:4,"AAAAACN75So=",0) -> 0 | AR1: =AND(Naslovnica!A4,"AAAAACN75Ss=") -> #VALUE! | AS1: =AND(Naslovnica!B4,"AAAAACN75Sw=") -> #VALUE! | AT1: =AND(Naslovnica!C4,"AAAAACN75S0=") -> #VALUE! | AU1: =AND(Naslovnica!D4,"AAAAACN75S4=") -> #VALUE! | AV1: =AND(Naslovnica!E4,"AAAAACN75S8=") -> #VALUE! | AW1: =AND(Naslovnica!F4,"AAAAACN75TA=") -> #VALUE! | AX1: =AND(Naslovnica!G4,"AAAAACN75TE=") -> #VALUE! | AY1: =AND(Naslovnica!H4,"AAAAACN75TI=") -> #VALUE! | AZ1: =AND(Naslovnica!I4,"AAAAACN75TM=") -> #VALUE! | BA1: =AND(Naslovnica!J4,"AAAAACN75TQ=") -> #VALUE! | BB1: =AND(Naslovnica!K4,"AAAAACN75TU=") -> #VALUE! | BC1: =AND(Naslovnica!L4,"AAAAACN75TY=") -> #VALUE! | BD1: =AND(Naslovnica!M4,"AAAAACN75Tc=") -> #VALUE! | BE1: =IF(Naslovnica!5:5,"AAAAACN75Tg=",0) -> 0 | BF1: =AND(Naslovnica!A5,"AAAAACN75Tk=") -> #VALUE! | BG1: =AND(Naslovnica!B5,"AAAAACN75To=") -> #VALUE! | BH1: =AND(Naslovnica!C5,"AAAAACN75Ts=") -> #VALUE! | BI1: =AND(Naslovnica!D5,"AAAAACN75Tw=") -> #VALUE! | BJ1: =AND(Naslovnica!E5,"AAAAACN75T0=") -> #VALUE! | BK1: =AND(Naslovnica!F5,"AAAAACN75T4=") -> #VALUE! | BL1: =AND(Naslovnica!G5,"AAAAACN75T8=") -> #VALUE! | BM1: =AND(Naslovnica!H5,"AAAAACN75UA=") -> #VALUE! | BN1: =AND(Naslovnica!I5,"AAAAACN75UE=") -> #VALUE! | BO1: =AND(Naslovnica!J5,"AAAAACN75UI=") -> #VALUE! | BP1: =AND(Naslovnica!K5,"AAAAACN75UM=") -> #VALUE! | BQ1: =AND(Naslovnica!L5,"AAAAACN75UQ=") -> #VALUE! | BR1: =AND(Naslovnica!M5,"AAAAACN75UU=") -> #VALUE! | BS1: =IF(Naslovnica!6:6,"AAAAACN75UY=",0) -> 0 | BT1: =AND(Naslovnica!A6,"AAAAACN75Uc=") -> #VALUE! | BU1: =AND(Naslovnica!B6,"AAAAACN75Ug=") -> #VALUE! | BV1: =AND(Naslovnica!C6,"AAAAACN75Uk=") -> #VALUE! | BW1: =AND(Naslovnica!D6,"AAAAACN75Uo=") -> #VALUE! | BX1: =AND(Naslovnica!E6,"AAAAACN75Us=") -> #VALUE! | BY1: =AND(Naslovnica!F6,"AAAAACN75Uw=") -> #VALUE! | BZ1: =AND(Naslovnica!G6,"AAAAACN75U0=") -> #VALUE! | CA1: =AND(Naslovnica!H6,"AAAAACN75U4=") -> #VALUE! | CB1: =AND(Naslovnica!I6,"AAAAACN75U8=") -> #VALUE! | CC1: =AND(Naslovnica!J6,"AAAAACN75VA=") -> #VALUE! | CD1: =AND(Naslovnica!K6,"AAAAACN75VE=") -> #VALUE! | CE1: =AND(Naslovnica!L6,"AAAAACN75VI=") -> #VALUE! | CF1: =AND(Naslovnica!M6,"AAAAACN75VM=") -> #VALUE! | CG1: =IF(Naslovnica!7:7,"AAAAACN75VQ=",0) -> 0 | CH1: =AND(Naslovnica!A7,"AAAAACN75VU=") -> #VALUE! | CI1: =AND(Naslovnica!B7,"AAAAACN75VY=") -> #VALUE! | CJ1: =AND(Naslovnica!C7,"AAAAACN75Vc=") -> #VALUE! | CK1: =AND(Naslovnica!D7,"AAAAACN75Vg=") -> #VALUE! | CL1: =AND(Naslovnica!E7,"AAAAACN75Vk=") -> #VALUE! | CM1: =AND(Naslovnica!F7,"AAAAACN75Vo=") -> #VALUE! | CN1: =AND(Naslovnica!G7,"AAAAACN75Vs=") -> #VALUE! | CO1: =AND(Naslovnica!H7,"AAAAACN75Vw=") -> #VALUE! | CP1: =AND(Naslovnica!I7,"AAAAACN75V0=") -> #VALUE! | CQ1: =AND(Naslovnica!J7,"AAAAACN75V4=") -> #VALUE! | CR1: =AND(Naslovnica!K7,"AAAAACN75V8=") -> #VALUE! | CS1: =AND(Naslovnica!L7,"AAAAACN75WA=") -> #VALUE! | CT1: =AND(Naslovnica!M7,"AAAAACN75WE=") -> #VALUE! | CU1: =IF(Naslovnica!8:8,"AAAAACN75WI=",0) -> 0 | CV1: =AND(Naslovnica!A8,"AAAAACN75WM=") -> #VALUE! | CW1: =AND(Naslovnica!B8,"AAAAACN75WQ=") -> #VALUE! | CX1: =AND(Naslovnica!C8,"AAAAACN75WU=") -> #VALUE! | CY1: =AND(Naslovnica!D8,"AAAAACN75WY=") -> #VALUE! | CZ1: =AND(Naslovnica!E8,"AAAAACN75Wc=") -> #VALUE! | DA1: =AND(Naslovnica!F8,"AAAAACN75Wg=") -> #VALUE! | DB1: =AND(Naslovnica!G8,"AAAAACN75Wk=") -> #VALUE! | DC1: =AND(Naslovnica!H8,"AAAAACN75Wo=") -> #VALUE! | DD1: =AND(Naslovnica!I8,"AAAAACN75Ws=") -> #VALUE! | DE1: =AND(Naslovnica!J8,"AAAAACN75Ww=") -> #VALUE! | DF1: =AND(Naslovnica!K8,"AAAAACN75W0=") -> #VALUE! | DG1: =AND(Naslovnica!L8,"AAAAACN75W4=") -> #VALUE! | DH1: =AND(Naslovnica!M8,"AAAAACN75W8=") -> #VALUE! | DI1: =IF(Naslovnica!9:9,"AAAAACN75XA=",0) -> 0 | DJ1: =AND(Naslovnica!A9,"AAAAACN75XE=") -> #VALUE! | DK1: =AND(Naslovnica!B9,"AAAAACN75XI=") -> #VALUE! | DL1: =AND(Naslovnica!C9,"AAAAACN75XM=") -> #VALUE! | DM1: =AND(Naslovnica!D9,"AAAAACN75XQ=") -> #VALUE! | DN1: =AND(Naslovnica!E9,"AAAAACN75XU=") -> #VALUE! | DO1: =AND(Naslovnica!F9,"AAAAACN75XY=") -> #VALUE! | DP1: =AND(Naslovnica!G9,"AAAAACN75Xc=") -> #VALUE! | DQ1: =AND(Naslovnica!H9,"AAAAACN75Xg=") -> #VALUE! | DR1: =AND(Naslovnica!I9,"AAAAACN75Xk=") -> #VALUE! | DS1: =AND(Naslovnica!J9,"AAAAACN75Xo=") -> #VALUE! | DT1: =AND(Naslovnica!K9,"AAAAACN75Xs=") -> #VALUE! | DU1: =AND(Naslovnica!L9,"AAAAACN75Xw=") -> #VALUE! | DV1: =AND(Naslovnica!M9,"AAAAACN75X0=") -> #VALUE! | DW1: =IF(Naslovnica!10:10,"AAAAACN75X4=",0) -> 0 | DX1: =AND(Naslovnica!A10,"AAAAACN75X8=") -> #VALUE! | DY1: =AND(Naslovnica!B10,"AAAAACN75YA=") -> #VALUE! | DZ1: =AND(Naslovnica!C10,"AAAAACN75YE=") -> #VALUE! | EA1: =AND(Naslovnica!D10,"AAAAACN75YI=") -> #VALUE! | EB1: =AND(Naslovnica!E10,"AAAAACN75YM=") -> #VALUE! | EC1: =AND(Naslovnica!F10,"AAAAACN75YQ=") -> #VALUE! | ED1: =AND(Naslovnica!G10,"AAAAACN75YU=") -> #VALUE! | EE1: =AND(Naslovnica!H10,"AAAAACN75YY=") -> #VALUE! | EF1: =AND(Naslovnica!I10,"AAAAACN75Yc=") -> #VALUE! | EG1: =AND(Naslovnica!J10,"AAAAACN75Yg=") -> #VALUE! | EH1: =AND(Naslovnica!K10,"AAAAACN75Yk=") -> #VALUE! | EI1: =AND(Naslovnica!L10,"AAAAACN75Yo=") -> #VALUE! | EJ1: =AND(Naslovnica!M10,"AAAAACN75Ys=") -> #VALUE! | EK1: =IF(Naslovnica!11:11,"AAAAACN75Yw=",0) -> 0 | EL1: =AND(Naslovnica!A11,"AAAAACN75Y0=") -> #VALUE! | EM1: =AND(Naslovnica!B11,"AAAAACN75Y4=") -> #VALUE! | EN1: =AND(Naslovnica!C11,"AAAAACN75Y8=") -> #VALUE! | EO1: =AND(Naslovnica!D11,"AAAAACN75ZA=") -> #VALUE! | EP1: =AND(Naslovnica!E11,"AAAAACN75ZE=") -> #VALUE! | EQ1: =AND(Naslovnica!F11,"AAAAACN75ZI=") -> #VALUE! | ER1: =AND(Naslovnica!G11,"AAAAACN75ZM=") -> #VALUE! | ES1: =AND(Naslovnica!H11,"AAAAACN75ZQ=") -> #VALUE! | ET1: =AND(Naslovnica!I11,"AAAAACN75ZU=") -> #VALUE! | EU1: =AND(Naslovnica!J11,"AAAAACN75ZY=") -> #VALUE! | EV1: =AND(Naslovnica!K11,"AAAAACN75Zc=") -> #VALUE! | EW1: =AND(Naslovnica!L11,"AAAAACN75Zg=") -> #VALUE! | EX1: =AND(Naslovnica!M11,"AAAAACN75Zk=") -> #VALUE! | EY1: =IF(Naslovnica!12:12,"AAAAACN75Zo=",0) -> 0 | EZ1: =AND(Naslovnica!A12,"AAAAACN75Zs=") -> #VALUE! | FA1: =AND(Naslovnica!B12,"AAAAACN75Zw=") -> #VALUE! | FB1: =AND(Naslovnica!C12,"AAAAACN75Z0=") -> #VALUE! | FC1: =AND(Naslovnica!D12,"AAAAACN75Z4=") -> #VALUE! | FD1: =AND(Naslovnica!E12,"AAAAACN75Z8=") -> #VALUE! | FE1: =AND(Naslovnica!F12,"AAAAACN75aA=") -> #VALUE! | FF1: =AND(Naslovnica!G12,"AAAAACN75aE=") -> #VALUE! | FG1: =AND(Naslovnica!H12,"AAAAACN75aI=") -> #VALUE! | FH1: =AND(Naslovnica!I12,"AAAAACN75aM=") -> #VALUE! | FI1: =AND(Naslovnica!J12,"AAAAACN75aQ=") -> #VALUE! | FJ1: =AND(Naslovnica!K12,"AAAAACN75aU=") -> #VALUE! | FK1: =AND(Naslovnica!L12,"AAAAACN75aY=") -> #VALUE! | FL1: =AND(Naslovnica!M12,"AAAAACN75ac=") -> #VALUE! | FM1: =IF(Naslovnica!13:13,"AAAAACN75ag=",0) -> 0 | FN1: =AND(Naslovnica!A13,"AAAAACN75ak=") -> #VALUE! | FO1: =AND(Naslovnica!B13,"AAAAACN75ao=") -> #VALUE! | FP1: =AND(Naslovnica!C13,"AAAAACN75as=") -> #VALUE! | FQ1: =AND(Naslovnica!D13,"AAAAACN75aw=") -> #VALUE! | FR1: =AND(Naslovnica!E13,"AAAAACN75a0=") -> #VALUE! | FS1: =AND(Naslovnica!F13,"AAAAACN75a4=") -> #VALUE! | FT1: =AND(Naslovnica!G13,"AAAAACN75a8=") -> #VALUE! | FU1: =AND(Naslovnica!H13,"AAAAACN75bA=") -> #VALUE! | FV1: =AND(Naslovnica!I13,"AAAAACN75bE=") -> #VALUE! | FW1: =AND(Naslovnica!J13,"AAAAACN75bI=") -> #VALUE! | FX1: =AND(Naslovnica!K13,"AAAAACN75bM=") -> #VALUE! | FY1: =AND(Naslovnica!L13,"AAAAACN75bQ=") -> #VALUE! | FZ1: =AND(Naslovnica!M13,"AAAAACN75bU=") -> #VALUE! | GA1: =IF(Naslovnica!14:14,"AAAAACN75bY=",0) -> 0 | GB1: =AND(Naslovnica!A14,"AAAAACN75bc=") -> #VALUE! | GC1: =AND(Naslovnica!B14,"AAAAACN75bg=") -> #VALUE! | GD1: =AND(Naslovnica!C14,"AAAAACN75bk=") -> #VALUE! | GE1: =AND(Naslovnica!D14,"AAAAACN75bo=") -> #VALUE! | GF1: =AND(Naslovnica!E14,"AAAAACN75bs=") -> #VALUE! | GG1: =AND(Naslovnica!F14,"AAAAACN75bw=") -> #VALUE! | GH1: =AND(Naslovnica!G14,"AAAAACN75b0=") -> #VALUE! | GI1: =AND(Naslovnica!H14,"AAAAACN75b4=") -> #VALUE! | GJ1: =AND(Naslovnica!I14,"AAAAACN75b8=") -> #VALUE! | GK1: =AND(Naslovnica!J14,"AAAAACN75cA=") -> #VALUE! | GL1: =AND(Naslovnica!K14,"AAAAACN75cE=") -> #VALUE! | GM1: =AND(Naslovnica!L14,"AAAAACN75cI=") -> #VALUE! | GN1: =AND(Naslovnica!M14,"AAAAACN75cM=") -> #VALUE! | GO1: =IF(Naslovnica!15:15,"AAAAACN75cQ=",0) -> 0 | GP1: =AND(Naslovnica!A15,"AAAAACN75cU=") -> #VALUE! | GQ1: =AND(Naslovnica!B15,"AAAAACN75cY=") -> #VALUE! | GR1: =AND(Naslovnica!C15,"AAAAACN75cc=") -> #VALUE! | GS1: =AND(Naslovnica!D15,"AAAAACN75cg=") -> #VALUE! | GT1: =AND(Naslovnica!E15,"AAAAACN75ck=") -> #VALUE! | GU1: =AND(Naslovnica!F15,"AAAAACN75co=") -> #VALUE! | GV1: =AND(Naslovnica!G15,"AAAAACN75cs=") -> #VALUE! | GW1: =AND(Naslovnica!H15,"AAAAACN75cw=") -> #VALUE! | GX1: =AND(Naslovnica!I15,"AAAAACN75c0=") -> #VALUE! | GY1: =AND(Naslovnica!J15,"AAAAACN75c4=") -> #VALUE! | GZ1: =AND(Naslovnica!K15,"AAAAACN75c8=") -> #VALUE! | HA1: =AND(Naslovnica!L15,"AAAAACN75dA=") -> #VALUE! | HB1: =AND(Naslovnica!M15,"AAAAACN75dE=") -> #VALUE! | HC1: =IF(Naslovnica!16:16,"AAAAACN75dI=",0) -> 0 | HD1: =AND(Naslovnica!A16,"AAAAACN75dM=") -> #VALUE! | HE1: =AND(Naslovnica!B16,"AAAAACN75dQ=") -> #VALUE! | HF1: =AND(Naslovnica!C16,"AAAAACN75dU=") -> #VALUE! | HG1: =AND(Naslovnica!D16,"AAAAACN75dY=") -> #VALUE! | HH1: =AND(Naslovnica!E16,"AAAAACN75dc=") -> #VALUE! | HI1: =AND(Naslovnica!F16,"AAAAACN75dg=") -> #VALUE! | HJ1: =AND(Naslovnica!G16,"AAAAACN75dk=") -> #VALUE! | HK1: =AND(Naslovnica!H16,"AAAAACN75do=") -> #VALUE! | HL1: =AND(Naslovnica!I16,"AAAAACN75ds=") -> #VALUE! | HM1: =AND(Naslovnica!J16,"AAAAACN75dw=") -> #VALUE! | HN1: =AND(Naslovnica!K16,"AAAAACN75d0=") -> #VALUE! | HO1: =AND(Naslovnica!L16,"AAAAACN75d4=") -> #VALUE! | HP1: =AND(Naslovnica!M16,"AAAAACN75d8=") -> #VALUE! | HQ1: =IF(Naslovnica!17:17,"AAAAACN75eA=",0) -> 0 | HR1: =AND(Naslovnica!A17,"AAAAACN75eE=") -> #VALUE! | HS1: =AND(Naslovnica!B17,"AAAAACN75eI=") -> #VALUE! | HT1: =AND(Naslovnica!C17,"AAAAACN75eM=") -> #VALUE! | HU1: =AND(Naslovnica!D17,"AAAAACN75eQ=") -> #VALUE! | HV1: =AND(Naslovnica!E17,"AAAAACN75eU=") -> #VALUE! | HW1: =AND(Naslovnica!F17,"AAAAACN75eY=") -> #VALUE! | HX1: =AND(Naslovnica!G17,"AAAAACN75ec=") -> #VALUE! | HY1: =AND(Naslovnica!H17,"AAAAACN75eg=") -> #VALUE! | HZ1: =AND(Naslovnica!I17,"AAAAACN75ek=") -> #VALUE! | IA1: =AND(Naslovnica!J17,"AAAAACN75eo=") -> #VALUE! | IB1: =AND(Naslovnica!K17,"AAAAACN75es=") -> #VALUE! | IC1: =AND(Naslovnica!L17,"AAAAACN75ew=") -> #VALUE! | ID1: =AND(Naslovnica!M17,"AAAAACN75e0=") -> #VALUE! | IE1: =IF(Naslovnica!18:18,"AAAAACN75e4=",0) -> 0 | IF1: =AND(Naslovnica!A18,"AAAAACN75e8=") -> #VALUE! | IG1: =AND(Naslovnica!B18,"AAAAACN75fA=") -> #VALUE! | IH1: =AND(Naslovnica!C18,"AAAAACN75fE=") -> #VALUE! | II1: =AND(Naslovnica!D18,"AAAAACN75fI=") -> #VALUE! | IJ1: =AND(Naslovnica!E18,"AAAAACN75fM=") -> #VALUE! | IK1: =AND(Naslovnica!F18,"AAAAACN75fQ=") -> #VALUE! | IL1: =AND(Naslovnica!G18,"AAAAACN75fU=") -> #VALUE! | IM1: =AND(Naslovnica!H18,"AAAAACN75fY=") -> #VALUE! | IN1: =AND(Naslovnica!I18,"AAAAACN75fc=") -> #VALUE! | IO1: =AND(Naslovnica!J18,"AAAAACN75fg=") -> #VALUE! | IP1: =AND(Naslovnica!K18,"AAAAACN75fk=") -> #VALUE! | IQ1: =AND(Naslovnica!L18,"AAAAACN75fo=") -> #VALUE! | IR1: =AND(Naslovnica!M18,"AAAAACN75fs=") -> #VALUE! | IS1: =IF(Naslovnica!19:19,"AAAAACN75fw=",0) -> 0 | IT1: =AND(Naslovnica!A19,"AAAAACN75f0=") -> #VALUE! | IU1: =AND(Naslovnica!B19,"AAAAACN75f4=") -> #VALUE! | IV1: =AND(Naslovnica!C19,"AAAAACN75f8=") -> #VALUE!
A2: =AND(Naslovnica!D19,"AAAAAF/70wA=") -> #VALUE! | B2: =AND(Naslovnica!E19,"AAAAAF/70wE=") -> #VALUE! | C2: =AND(Naslovnica!F19,"AAAAAF/70wI=") -> #VALUE! | D2: =AND(Naslovnica!G19,"AAAAAF/70wM=") -> #VALUE! | E2: =AND(Naslovnica!H19,"AAAAAF/70wQ=") -> #VALUE! | F2: =AND(Naslovnica!I19,"AAAAAF/70wU=") -> #VALUE! | G2: =AND(Naslovnica!J19,"AAAAAF/70wY=") -> #VALUE! | H2: =AND(Naslovnica!K19,"AAAAAF/70wc=") -> #VALUE! | I2: =AND(Naslovnica!L19,"AAAAAF/70wg=") -> #VALUE! | J2: =AND(Naslovnica!M19,"AAAAAF/70wk=") -> #VALUE! | K2: =IF(Naslovnica!20:20,"AAAAAF/70wo=",0) -> 0 | L2: =AND(Naslovnica!A20,"AAAAAF/70ws=") -> #VALUE! | M2: =AND(Naslovnica!B20,"AAAAAF/70ww=") -> #VALUE! | N2: =AND(Naslovnica!C20,"AAAAAF/70w0=") -> #VALUE! | O2: =AND(Naslovnica!D20,"AAAAAF/70w4=") -> #VALUE! | P2: =AND(Naslovnica!E20,"AAAAAF/70w8=") -> #VALUE! | Q2: =AND(Naslovnica!F20,"AAAAAF/70xA=") -> #VALUE! | R2: =AND(Naslovnica!G20,"AAAAAF/70xE=") -> #VALUE! | S2: =AND(Naslovnica!H20,"AAAAAF/70xI=") -> #VALUE! | T2: =AND(Naslovnica!I20,"AAAAAF/70xM=") -> #VALUE! | U2: =AND(Naslovnica!J20,"AAAAAF/70xQ=") -> #VALUE! | V2: =AND(Naslovnica!K20,"AAAAAF/70xU=") -> #VALUE! | W2: =AND(Naslovnica!L20,"AAAAAF/70xY=") -> #VALUE! | X2: =AND(Naslovnica!M20,"AAAAAF/70xc=") -> #VALUE! | Y2: =IF(Naslovnica!21:21,"AAAAAF/70xg=",0) -> 0 | Z2: =AND(Naslovnica!A21,"AAAAAF/70xk=") -> #VALUE! | AA2: =AND(Naslovnica!B21,"AAAAAF/70xo=") -> #VALUE! | AB2: =AND(Naslovnica!C21,"AAAAAF/70xs=") -> #VALUE! | AC2: =AND(Naslovnica!D21,"AAAAAF/70xw=") -> #VALUE! | AD2: =AND(Naslovnica!E21,"AAAAAF/70x0=") -> #VALUE! | AE2: =AND(Naslovnica!F21,"AAAAAF/70x4=") -> #VALUE! | AF2: =AND(Naslovnica!G21,"AAAAAF/70x8=") -> #VALUE! | AG2: =AND(Naslovnica!H21,"AAAAAF/70yA=") -> #VALUE! | AH2: =AND(Naslovnica!I21,"AAAAAF/70yE=") -> #VALUE! | AI2: =AND(Naslovnica!J21,"AAAAAF/70yI=") -> #VALUE! | AJ2: =AND(Naslovnica!K21,"AAAAAF/70yM=") -> #VALUE! | AK2: =AND(Naslovnica!L21,"AAAAAF/70yQ=") -> #VALUE! | AL2: =AND(Naslovnica!M21,"AAAAAF/70yU=") -> #VALUE! | AM2: =IF(Naslovnica!22:22,"AAAAAF/70yY=",0) -> 0 | AN2: =AND(Naslovnica!A22,"AAAAAF/70yc=") -> #VALUE! | AO2: =AND(Naslovnica!B22,"AAAAAF/70yg=") -> #VALUE! | AP2: =AND(Naslovnica!C22,"AAAAAF/70yk=") -> #VALUE! | AQ2: =AND(Naslovnica!D22,"AAAAAF/70yo=") -> #VALUE! | AR2: =AND(Naslovnica!E22,"AAAAAF/70ys=") -> #VALUE! | AS2: =AND(Naslovnica!F22,"AAAAAF/70yw=") -> #VALUE! | AT2: =AND(Naslovnica!G22,"AAAAAF/70y0=") -> #VALUE! | AU2: =AND(Naslovnica!H22,"AAAAAF/70y4=") -> #VALUE! | AV2: =AND(Naslovnica!I22,"AAAAAF/70y8=") -> #VALUE! | AW2: =AND(Naslovnica!J22,"AAAAAF/70zA=") -> #VALUE! | AX2: =AND(Naslovnica!K22,"AAAAAF/70zE=") -> #VALUE! | AY2: =AND(Naslovnica!L22,"AAAAAF/70zI=") -> #VALUE! | AZ2: =AND(Naslovnica!M22,"AAAAAF/70zM=") -> #VALUE! | BA2: =IF(Naslovnica!23:23,"AAAAAF/70zQ=",0) -> 0 | BB2: =AND(Naslovnica!A23,"AAAAAF/70zU=") -> #VALUE! | BC2: =AND(Naslovnica!B23,"AAAAAF/70zY=") -> #VALUE! | BD2: =AND(Naslovnica!C23,"AAAAAF/70zc=") -> #VALUE! | BE2: =AND(Naslovnica!D23,"AAAAAF/70zg=") -> #VALUE! | BF2: =AND(Naslovnica!E23,"AAAAAF/70zk=") -> #VALUE! | BG2: =AND(Naslovnica!F23,"AAAAAF/70zo=") -> #VALUE! | BH2: =AND(Naslovnica!G23,"AAAAAF/70zs=") -> #VALUE! | BI2: =AND(Naslovnica!H23,"AAAAAF/70zw=") -> #VALUE! | BJ2: =AND(Naslovnica!I23,"AAAAAF/70z0=") -> #VALUE! | BK2: =AND(Naslovnica!J23,"AAAAAF/70z4=") -> #VALUE! | BL2: =AND(Naslovnica!K23,"AAAAAF/70z8=") -> #VALUE! | BM2: =AND(Naslovnica!L23,"AAAAAF/700A=") -> #VALUE! | BN2: =AND(Naslovnica!M23,"AAAAAF/700E=") -> #VALUE! | BO2: =IF(Naslovnica!24:24,"AAAAAF/700I=",0) -> 0 | BP2: =AND(Naslovnica!A24,"AAAAAF/700M=") -> #VALUE! | BQ2: =AND(Naslovnica!B24,"AAAAAF/700Q=") -> #VALUE! | BR2: =AND(Naslovnica!C24,"AAAAAF/700U=") -> #VALUE! | BS2: =AND(Naslovnica!D24,"AAAAAF/700Y=") -> #VALUE! | BT2: =AND(Naslovnica!E24,"AAAAAF/700c=") -> #VALUE! | BU2: =AND(Naslovnica!F24,"AAAAAF/700g=") -> #VALUE! | BV2: =AND(Naslovnica!G24,"AAAAAF/700k=") -> #VALUE! | BW2: =AND(Naslovnica!H24,"AAAAAF/700o=") -> #VALUE! | BX2: =AND(Naslovnica!I24,"AAAAAF/700s=") -> #VALUE! | BY2: =AND(Naslovnica!J24,"AAAAAF/700w=") -> #VALUE! | BZ2: =AND(Naslovnica!K24,"AAAAAF/7000=") -> #VALUE! | CA2: =AND(Naslovnica!L24,"AAAAAF/7004=") -> #VALUE! | CB2: =AND(Naslovnica!M24,"AAAAAF/7008=") -> #VALUE! | CC2: =IF(Naslovnica!25:25,"AAAAAF/701A=",0) -> 0 | CD2: =AND(Naslovnica!A25,"AAAAAF/701E=") -> #VALUE! | CE2: =AND(Naslovnica!B25,"AAAAAF/701I=") -> #VALUE! | CF2: =AND(Naslovnica!C25,"AAAAAF/701M=") -> #VALUE! | CG2: =AND(Naslovnica!D25,"AAAAAF/701Q=") -> #VALUE! | CH2: =AND(Naslovnica!E25,"AAAAAF/701U=") -> #VALUE! | CI2: =AND(Naslovnica!F25,"AAAAAF/701Y=") -> #VALUE! | CJ2: =AND(Naslovnica!G25,"AAAAAF/701c=") -> #VALUE! | CK2: =AND(Naslovnica!H25,"AAAAAF/701g=") -> #VALUE! | CL2: =AND(Naslovnica!I25,"AAAAAF/701k=") -> #VALUE! | CM2: =AND(Naslovnica!J25,"AAAAAF/701o=") -> #VALUE! | CN2: =AND(Naslovnica!K25,"AAAAAF/701s=") -> #VALUE! | CO2: =AND(Naslovnica!L25,"AAAAAF/701w=") -> #VALUE! | CP2: =AND(Naslovnica!M25,"AAAAAF/7010=") -> #VALUE! | CQ2: =IF(Naslovnica!26:26,"AAAAAF/7014=",0) -> 0 | CR2: =AND(Naslovnica!A26,"AAAAAF/7018=") -> #VALUE! | CS2: =AND(Naslovnica!B26,"AAAAAF/702A=") -> #VALUE! | CT2: =AND(Naslovnica!C26,"AAAAAF/702E=") -> #VALUE! | CU2: =AND(Naslovnica!D26,"AAAAAF/702I=") -> #VALUE! | CV2: =AND(Naslovnica!E26,"AAAAAF/702M=") -> #VALUE! | CW2: =AND(Naslovnica!F26,"AAAAAF/702Q=") -> #VALUE! | CX2: =AND(Naslovnica!G26,"AAAAAF/702U=") -> #VALUE! | CY2: =AND(Naslovnica!H26,"AAAAAF/702Y=") -> #VALUE! | CZ2: =AND(Naslovnica!I26,"AAAAAF/702c=") -> #VALUE! | DA2: =AND(Naslovnica!J26,"AAAAAF/702g=") -> #VALUE! | DB2: =AND(Naslovnica!K26,"AAAAAF/702k=") -> #VALUE! | DC2: =AND(Naslovnica!L26,"AAAAAF/702o=") -> #VALUE! | DD2: =AND(Naslovnica!M26,"AAAAAF/702s=") -> #VALUE! | DE2: =IF(Naslovnica!27:27,"AAAAAF/702w=",0) -> 0 | DF2: =AND(Naslovnica!A27,"AAAAAF/7020=") -> #VALUE! | DG2: =AND(Naslovnica!B27,"AAAAAF/7024=") -> #VALUE! | DH2: =AND(Naslovnica!C27,"AAAAAF/7028=") -> #VALUE! | DI2: =AND(Naslovnica!D27,"AAAAAF/703A=") -> #VALUE! | DJ2: =AND(Naslovnica!E27,"AAAAAF/703E=") -> #VALUE! | DK2: =AND(Naslovnica!F27,"AAAAAF/703I=") -> #VALUE! | DL2: =AND(Naslovnica!G27,"AAAAAF/703M=") -> #VALUE! | DM2: =AND(Naslovnica!H27,"AAAAAF/703Q=") -> #VALUE! | DN2: =AND(Naslovnica!I27,"AAAAAF/703U=") -> #VALUE! | DO2: =AND(Naslovnica!J27,"AAAAAF/703Y=") -> #VALUE! | DP2: =AND(Naslovnica!K27,"AAAAAF/703c=") -> #VALUE! | DQ2: =AND(Naslovnica!L27,"AAAAAF/703g=") -> #VALUE! | DR2: =AND(Naslovnica!M27,"AAAAAF/703k=") -> #VALUE! | DS2: =IF(Naslovnica!28:28,"AAAAAF/703o=",0) -> 0 | DT2: =AND(Naslovnica!A28,"AAAAAF/703s=") -> #VALUE! | DU2: =AND(Naslovnica!B28,"AAAAAF/703w=") -> #VALUE! | DV2: =AND(Naslovnica!C28,"AAAAAF/7030=") -> #VALUE! | DW2: =AND(Naslovnica!D28,"AAAAAF/7034=") -> #VALUE! | DX2: =AND(Naslovnica!E28,"AAAAAF/7038=") -> #VALUE! | DY2: =AND(Naslovnica!F28,"AAAAAF/704A=") -> #VALUE! | DZ2: =AND(Naslovnica!G28,"AAAAAF/704E=") -> #VALUE! | EA2: =AND(Naslovnica!H28,"AAAAAF/704I=") -> #VALUE! | EB2: =AND(Naslovnica!I28,"AAAAAF/704M=") -> #VALUE! | EC2: =AND(Naslovnica!J28,"AAAAAF/704Q=") -> #VALUE! | ED2: =AND(Naslovnica!K28,"AAAAAF/704U=") -> #VALUE! | EE2: =AND(Naslovnica!L28,"AAAAAF/704Y=") -> #VALUE! | EF2: =AND(Naslovnica!M28,"AAAAAF/704c=") -> #VALUE! | EG2: =IF(Naslovnica!29:29,"AAAAAF/704g=",0) -> 0 | EH2: =AND(Naslovnica!A29,"AAAAAF/704k=") -> #VALUE! | EI2: =AND(Naslovnica!B29,"AAAAAF/704o=") -> #VALUE! | EJ2: =AND(Naslovnica!C29,"AAAAAF/704s=") -> #VALUE! | EK2: =AND(Naslovnica!D29,"AAAAAF/704w=") -> #VALUE! | EL2: =AND(Naslovnica!E29,"AAAAAF/7040=") -> #VALUE! | EM2: =AND(Naslovnica!F29,"AAAAAF/7044=") -> #VALUE! | EN2: =AND(Naslovnica!G29,"AAAAAF/7048=") -> #VALUE! | EO2: =AND(Naslovnica!H29,"AAAAAF/705A=") -> #VALUE! | EP2: =AND(Naslovnica!I29,"AAAAAF/705E=") -> #VALUE! | EQ2: =AND(Naslovnica!J29,"AAAAAF/705I=") -> #VALUE! | ER2: =AND(Naslovnica!K29,"AAAAAF/705M=") -> #VALUE! | ES2: =AND(Naslovnica!L29,"AAAAAF/705Q=") -> #VALUE! | ET2: =AND(Naslovnica!M29,"AAAAAF/705U=") -> #VALUE! | EU2: =IF(Naslovnica!30:30,"AAAAAF/705Y=",0) -> 0 | EV2: =AND(Naslovnica!A30,"AAAAAF/705c=") -> #VALUE! | EW2: =AND(Naslovnica!B30,"AAAAAF/705g=") -> #VALUE! | EX2: =AND(Naslovnica!C30,"AAAAAF/705k=") -> #VALUE! | EY2: =AND(Naslovnica!D30,"AAAAAF/705o=") -> #VALUE! | EZ2: =AND(Naslovnica!E30,"AAAAAF/705s=") -> #VALUE! | FA2: =AND(Naslovnica!F30,"AAAAAF/705w=") -> #VALUE! | FB2: =AND(Naslovnica!G30,"AAAAAF/7050=") -> #VALUE! | FC2: =AND(Naslovnica!H30,"AAAAAF/7054=") -> #VALUE! | FD2: =AND(Naslovnica!I30,"AAAAAF/7058=") -> #VALUE! | FE2: =AND(Naslovnica!J30,"AAAAAF/706A=") -> #VALUE! | FF2: =AND(Naslovnica!K30,"AAAAAF/706E=") -> #VALUE! | FG2: =AND(Naslovnica!L30,"AAAAAF/706I=") -> #VALUE! | FH2: =AND(Naslovnica!M30,"AAAAAF/706M=") -> #VALUE! | FI2: =IF(Naslovnica!31:31,"AAAAAF/706Q=",0) -> 0 | FJ2: =AND(Naslovnica!A31,"AAAAAF/706U=") -> #VALUE! | FK2: =AND(Naslovnica!B31,"AAAAAF/706Y=") -> #VALUE! | FL2: =AND(Naslovnica!C31,"AAAAAF/706c=") -> #VALUE! | FM2: =AND(Naslovnica!D31,"AAAAAF/706g=") -> #VALUE! | FN2: =AND(Naslovnica!E31,"AAAAAF/706k=") -> #VALUE! | FO2: =AND(Naslovnica!F31,"AAAAAF/706o=") -> #VALUE! | FP2: =AND(Naslovnica!G31,"AAAAAF/706s=") -> #VALUE! | FQ2: =AND(Naslovnica!H31,"AAAAAF/706w=") -> #VALUE! | FR2: =AND(Naslovnica!I31,"AAAAAF/7060=") -> #VALUE! | FS2: =AND(Naslovnica!J31,"AAAAAF/7064=") -> #VALUE! | FT2: =AND(Naslovnica!K31,"AAAAAF/7068=") -> #VALUE! | FU2: =AND(Naslovnica!L31,"AAAAAF/707A=") -> #VALUE! | FV2: =AND(Naslovnica!M31,"AAAAAF/707E=") -> #VALUE! | FW2: =IF(Naslovnica!32:32,"AAAAAF/707I=",0) -> 0 | FX2: =AND(Naslovnica!A32,"AAAAAF/707M=") -> #VALUE! | FY2: =AND(Naslovnica!B32,"AAAAAF/707Q=") -> #VALUE! | FZ2: =AND(Naslovnica!C32,"AAAAAF/707U=") -> #VALUE! | GA2: =AND(Naslovnica!D32,"AAAAAF/707Y=") -> #VALUE! | GB2: =AND(Naslovnica!E32,"AAAAAF/707c=") -> #VALUE! | GC2: =AND(Naslovnica!F32,"AAAAAF/707g=") -> #VALUE! | GD2: =AND(Naslovnica!G32,"AAAAAF/707k=") -> #VALUE! | GE2: =AND(Naslovnica!H32,"AAAAAF/707o=") -> #VALUE! | GF2: =AND(Naslovnica!I32,"AAAAAF/707s=") -> #VALUE! | GG2: =AND(Naslovnica!J32,"AAAAAF/707w=") -> #VALUE! | GH2: =AND(Naslovnica!K32,"AAAAAF/7070=") -> #VALUE! | GI2: =AND(Naslovnica!L32,"AAAAAF/7074=") -> #VALUE! | GJ2: =AND(Naslovnica!M32,"AAAAAF/7078=") -> #VALUE! | GK2: =IF(Naslovnica!33:33,"AAAAAF/708A=",0) -> 0 | GL2: =AND(Naslovnica!A33,"AAAAAF/708E=") -> #VALUE! | GM2: =AND(Naslovnica!B33,"AAAAAF/708I=") -> #VALUE! | GN2: =AND(Naslovnica!C33,"AAAAAF/708M=") -> #VALUE! | GO2: =AND(Naslovnica!D33,"AAAAAF/708Q=") -> #VALUE! | GP2: =AND(Naslovnica!E33,"AAAAAF/708U=") -> #VALUE! | GQ2: =AND(Naslovnica!F33,"AAAAAF/708Y=") -> #VALUE! | GR2: =AND(Naslovnica!G33,"AAAAAF/708c=") -> #VALUE! | GS2: =AND(Naslovnica!H33,"AAAAAF/708g=") -> #VALUE! | GT2: =AND(Naslovnica!I33,"AAAAAF/708k=") -> #VALUE! | GU2: =AND(Naslovnica!J33,"AAAAAF/708o=") -> #VALUE! | GV2: =AND(Naslovnica!K33,"AAAAAF/708s=") -> #VALUE! | GW2: =AND(Naslovnica!L33,"AAAAAF/708w=") -> #VALUE! | GX2: =AND(Naslovnica!M33,"AAAAAF/7080=") -> #VALUE! | GY2: =IF(Naslovnica!34:34,"AAAAAF/7084=",0) -> 0 | GZ2: =AND(Naslovnica!A34,"AAAAAF/7088=") -> #VALUE! | HA2: =AND(Naslovnica!B34,"AAAAAF/709A=") -> #VALUE! | HB2: =AND(Naslovnica!C34,"AAAAAF/709E=") -> #VALUE! | HC2: =AND(Naslovnica!D34,"AAAAAF/709I=") -> #VALUE! | HD2: =AND(Naslovnica!E34,"AAAAAF/709M=") -> #VALUE! | HE2: =AND(Naslovnica!F34,"AAAAAF/709Q=") -> #VALUE! | HF2: =AND(Naslovnica!G34,"AAAAAF/709U=") -> #VALUE! | HG2: =AND(Naslovnica!H34,"AAAAAF/709Y=") -> #VALUE! | HH2: =AND(Naslovnica!I34,"AAAAAF/709c=") -> #VALUE! | HI2: =AND(Naslovnica!J34,"AAAAAF/709g=") -> #VALUE! | HJ2: =AND(Naslovnica!K34,"AAAAAF/709k=") -> #VALUE! | HK2: =AND(Naslovnica!L34,"AAAAAF/709o=") -> #VALUE! | HL2: =AND(Naslovnica!M34,"AAAAAF/709s=") -> #VALUE! | HM2: =IF(Naslovnica!35:35,"AAAAAF/709w=",0) -> 0 | HN2: =AND(Naslovnica!A35,"AAAAAF/7090=") -> #VALUE! | HO2: =AND(Naslovnica!B35,"AAAAAF/7094=") -> #VALUE! | HP2: =AND(Naslovnica!C35,"AAAAAF/7098=") -> #VALUE! | HQ2: =AND(Naslovnica!D35,"AAAAAF/70+A=") -> #VALUE! | HR2: =AND(Naslovnica!E35,"AAAAAF/70+E=") -> #VALUE! | HS2: =AND(Naslovnica!F35,"AAAAAF/70+I=") -> #VALUE! | HT2: =AND(Naslovnica!G35,"AAAAAF/70+M=") -> #VALUE! | HU2: =AND(Naslovnica!H35,"AAAAAF/70+Q=") -> #VALUE! | HV2: =AND(Naslovnica!I35,"AAAAAF/70+U=") -> #VALUE! | HW2: =AND(Naslovnica!J35,"AAAAAF/70+Y=") -> #VALUE! | HX2: =AND(Naslovnica!K35,"AAAAAF/70+c=") -> #VALUE! | HY2: =AND(Naslovnica!L35,"AAAAAF/70+g=") -> #VALUE! | HZ2: =AND(Naslovnica!M35,"AAAAAF/70+k=") -> #VALUE! | IA2: =IF(Naslovnica!36:36,"AAAAAF/70+o=",0) -> 0 | IB2: =AND(Naslovnica!A36,"AAAAAF/70+s=") -> #VALUE! | IC2: =AND(Naslovnica!B36,"AAAAAF/70+w=") -> #VALUE! | ID2: =AND(Naslovnica!C36,"AAAAAF/70+0=") -> #VALUE! | IE2: =AND(Naslovnica!D36,"AAAAAF/70+4=") -> #VALUE! | IF2: =AND(Naslovnica!E36,"AAAAAF/70+8=") -> #VALUE! | IG2: =AND(Naslovnica!F36,"AAAAAF/70/A=") -> #VALUE! | IH2: =AND(Naslovnica!G36,"AAAAAF/70/E=") -> #VALUE! | II2: =AND(Naslovnica!H36,"AAAAAF/70/I=") -> #VALUE! | IJ2: =AND(Naslovnica!I36,"AAAAAF/70/M=") -> #VALUE! | IK2: =AND(Naslovnica!J36,"AAAAAF/70/Q=") -> #VALUE! | IL2: =AND(Naslovnica!K36,"AAAAAF/70/U=") -> #VALUE! | IM2: =AND(Naslovnica!L36,"AAAAAF/70/Y=") -> #VALUE! | IN2: =AND(Naslovnica!M36,"AAAAAF/70/c=") -> #VALUE! | IO2: =IF(Naslovnica!37:37,"AAAAAF/70/g=",0) -> 0 | IP2: =AND(Naslovnica!A37,"AAAAAF/70/k=") -> #VALUE! | IQ2: =AND(Naslovnica!B37,"AAAAAF/70/o=") -> #VALUE! | IR2: =AND(Naslovnica!C37,"AAAAAF/70/s=") -> #VALUE! | IS2: =AND(Naslovnica!D37,"AAAAAF/70/w=") -> #VALUE! | IT2: =AND(Naslovnica!E37,"AAAAAF/70/0=") -> #VALUE! | IU2: =AND(Naslovnica!F37,"AAAAAF/70/4=") -> #VALUE! | IV2: =AND(Naslovnica!G37,"AAAAAF/70/8=") -> #VALUE!
A3: =AND(Naslovnica!H37,"AAAAAHHfYAA=") -> #VALUE! | B3: =AND(Naslovnica!I37,"AAAAAHHfYAE=") -> #VALUE! | C3: =AND(Naslovnica!J37,"AAAAAHHfYAI=") -> #VALUE! | D3: =AND(Naslovnica!K37,"AAAAAHHfYAM=") -> #VALUE! | E3: =AND(Naslovnica!L37,"AAAAAHHfYAQ=") -> #VALUE! | F3: =AND(Naslovnica!M37,"AAAAAHHfYAU=") -> #VALUE! | G3: =IF(Naslovnica!38:38,"AAAAAHHfYAY=",0) -> 0 | H3: =AND(Naslovnica!A38,"AAAAAHHfYAc=") -> #VALUE! | I3: =AND(Naslovnica!B38,"AAAAAHHfYAg=") -> #VALUE! | J3: =AND(Naslovnica!C38,"AAAAAHHfYAk=") -> #VALUE! | K3: =AND(Naslovnica!D38,"AAAAAHHfYAo=") -> #VALUE! | L3: =AND(Naslovnica!E38,"AAAAAHHfYAs=") -> #VALUE! | M3: =AND(Naslovnica!F38,"AAAAAHHfYAw=") -> #VALUE! | N3: =AND(Naslovnica!G38,"AAAAAHHfYA0=") -> #VALUE! | O3: =AND(Naslovnica!H38,"AAAAAHHfYA4=") -> #VALUE! | P3: =AND(Naslovnica!I38,"AAAAAHHfYA8=") -> #VALUE! | Q3: =AND(Naslovnica!J38,"AAAAAHHfYBA=") -> #VALUE! | R3: =AND(Naslovnica!K38,"AAAAAHHfYBE=") -> #VALUE! | S3: =AND(Naslovnica!L38,"AAAAAHHfYBI=") -> #VALUE! | T3: =AND(Naslovnica!M38,"AAAAAHHfYBM=") -> #VALUE! | U3: =IF(Naslovnica!39:39,"AAAAAHHfYBQ=",0) -> 0 | V3: =AND(Naslovnica!A39,"AAAAAHHfYBU=") -> #VALUE! | W3: =AND(Naslovnica!B39,"AAAAAHHfYBY=") -> #VALUE! | X3: =AND(Naslovnica!C39,"AAAAAHHfYBc=") -> #VALUE! | Y3: =AND(Naslovnica!D39,"AAAAAHHfYBg=") -> #VALUE! | Z3: =AND(Naslovnica!E39,"AAAAAHHfYBk=") -> #VALUE! | AA3: =AND(Naslovnica!F39,"AAAAAHHfYBo=") -> #VALUE! | AB3: =AND(Naslovnica!G39,"AAAAAHHfYBs=") -> #VALUE! | AC3: =AND(Naslovnica!H39,"AAAAAHHfYBw=") -> #VALUE! | AD3: =AND(Naslovnica!I39,"AAAAAHHfYB0=") -> #VALUE! | AE3: =AND(Naslovnica!J39,"AAAAAHHfYB4=") -> #VALUE! | AF3: =AND(Naslovnica!K39,"AAAAAHHfYB8=") -> #VALUE! | AG3: =AND(Naslovnica!L39,"AAAAAHHfYCA=") -> #VALUE! | AH3: =AND(Naslovnica!M39,"AAAAAHHfYCE=") -> #VALUE! | AI3: =IF(Naslovnica!40:40,"AAAAAHHfYCI=",0) -> 0 | AJ3: =AND(Naslovnica!A40,"AAAAAHHfYCM=") -> #VALUE! | AK3: =AND(Naslovnica!B40,"AAAAAHHfYCQ=") -> #VALUE! | AL3: =AND(Naslovnica!C40,"AAAAAHHfYCU=") -> #VALUE! | AM3: =AND(Naslovnica!D40,"AAAAAHHfYCY=") -> #VALUE! | AN3: =AND(Naslovnica!E40,"AAAAAHHfYCc=") -> #VALUE! | AO3: =AND(Naslovnica!F40,"AAAAAHHfYCg=") -> #VALUE! | AP3: =AND(Naslovnica!G40,"AAAAAHHfYCk=") -> #VALUE! | AQ3: =AND(Naslovnica!H40,"AAAAAHHfYCo=") -> #VALUE! | AR3: =AND(Naslovnica!I40,"AAAAAHHfYCs=") -> #VALUE! | AS3: =AND(Naslovnica!J40,"AAAAAHHfYCw=") -> #VALUE! | AT3: =AND(Naslovnica!K40,"AAAAAHHfYC0=") -> #VALUE! | AU3: =AND(Naslovnica!L40,"AAAAAHHfYC4=") -> #VALUE! | AV3: =AND(Naslovnica!M40,"AAAAAHHfYC8=") -> #VALUE! | AW3: =IF(Naslovnica!41:41,"AAAAAHHfYDA=",0) -> 0 | AX3: =AND(Naslovnica!A41,"AAAAAHHfYDE=") -> #VALUE! | AY3: =AND(Naslovnica!B41,"AAAAAHHfYDI=") -> #VALUE! | AZ3: =AND(Naslovnica!C41,"AAAAAHHfYDM=") -> #VALUE! | BA3: =AND(Naslovnica!D41,"AAAAAHHfYDQ=") -> #VALUE! | BB3: =AND(Naslovnica!E41,"AAAAAHHfYDU=") -> #VALUE! | BC3: =AND(Naslovnica!F41,"AAAAAHHfYDY=") -> #VALUE! | BD3: =AND(Naslovnica!G41,"AAAAAHHfYDc=") -> #VALUE! | BE3: =AND(Naslovnica!H41,"AAAAAHHfYDg=") -> #VALUE! | BF3: =AND(Naslovnica!I41,"AAAAAHHfYDk=") -> #VALUE! | BG3: =AND(Naslovnica!J41,"AAAAAHHfYDo=") -> #VALUE! | BH3: =AND(Naslovnica!K41,"AAAAAHHfYDs=") -> #VALUE! | BI3: =AND(Naslovnica!L41,"AAAAAHHfYDw=") -> #VALUE! | BJ3: =AND(Naslovnica!M41,"AAAAAHHfYD0=") -> #VALUE! | BK3: =IF(Naslovnica!42:42,"AAAAAHHfYD4=",0) -> 0 | BL3: =AND(Naslovnica!A42,"AAAAAHHfYD8=") -> #VALUE! | BM3: =AND(Naslovnica!B42,"AAAAAHHfYEA=") -> #VALUE! | BN3: =AND(Naslovnica!C42,"AAAAAHHfYEE=") -> #VALUE! | BO3: =AND(Naslovnica!D42,"AAAAAHHfYEI=") -> #VALUE! | BP3: =AND(Naslovnica!E42,"AAAAAHHfYEM=") -> #VALUE! | BQ3: =AND(Naslovnica!F42,"AAAAAHHfYEQ=") -> #VALUE! | BR3: =AND(Naslovnica!G42,"AAAAAHHfYEU=") -> #VALUE! | BS3: =AND(Naslovnica!H42,"AAAAAHHfYEY=") -> #VALUE! | BT3: =AND(Naslovnica!I42,"AAAAAHHfYEc=") -> #VALUE! | BU3: =AND(Naslovnica!J42,"AAAAAHHfYEg=") -> #VALUE! | BV3: =AND(Naslovnica!K42,"AAAAAHHfYEk=") -> #VALUE! | BW3: =AND(Naslovnica!L42,"AAAAAHHfYEo=") -> #VALUE! | BX3: =AND(Naslovnica!M42,"AAAAAHHfYEs=") -> #VALUE! | BY3: =IF(Naslovnica!43:43,"AAAAAHHfYEw=",0) -> 0 | BZ3: =AND(Naslovnica!A43,"AAAAAHHfYE0=") -> #VALUE! | CA3: =AND(Naslovnica!B43,"AAAAAHHfYE4=") -> #VALUE! | CB3: =AND(Naslovnica!C43,"AAAAAHHfYE8=") -> #VALUE! | CC3: =AND(Naslovnica!D43,"AAAAAHHfYFA=") -> #VALUE! | CD3: =AND(Naslovnica!E43,"AAAAAHHfYFE=") -> #VALUE! | CE3: =AND(Naslovnica!F43,"AAAAAHHfYFI=") -> #VALUE! | CF3: =AND(Naslovnica!G43,"AAAAAHHfYFM=") -> #VALUE! | CG3: =AND(Naslovnica!H43,"AAAAAHHfYFQ=") -> #VALUE! | CH3: =AND(Naslovnica!I43,"AAAAAHHfYFU=") -> #VALUE! | CI3: =AND(Naslovnica!J43,"AAAAAHHfYFY=") -> #VALUE! | CJ3: =AND(Naslovnica!K43,"AAAAAHHfYFc=") -> #VALUE! | CK3: =AND(Naslovnica!L43,"AAAAAHHfYFg=") -> #VALUE! | CL3: =AND(Naslovnica!M43,"AAAAAHHfYFk=") -> #VALUE! | CM3: =IF(Naslovnica!44:44,"AAAAAHHfYFo=",0) -> 0 | CN3: =AND(Naslovnica!A44,"AAAAAHHfYFs=") -> #VALUE! | CO3: =AND(Naslovnica!B44,"AAAAAHHfYFw=") -> #VALUE! | CP3: =AND(Naslovnica!C44,"AAAAAHHfYF0=") -> #VALUE! | CQ3: =AND(Naslovnica!D44,"AAAAAHHfYF4=") -> #VALUE! | CR3: =AND(Naslovnica!E44,"AAAAAHHfYF8=") -> #VALUE! | CS3: =AND(Naslovnica!F44,"AAAAAHHfYGA=") -> #VALUE! | CT3: =AND(Naslovnica!G44,"AAAAAHHfYGE=") -> #VALUE! | CU3: =AND(Naslovnica!H44,"AAAAAHHfYGI=") -> #VALUE! | CV3: =AND(Naslovnica!I44,"AAAAAHHfYGM=") -> #VALUE! | CW3: =AND(Naslovnica!J44,"AAAAAHHfYGQ=") -> #VALUE! | CX3: =AND(Naslovnica!K44,"AAAAAHHfYGU=") -> #VALUE! | CY3: =AND(Naslovnica!L44,"AAAAAHHfYGY=") -> #VALUE! | CZ3: =AND(Naslovnica!M44,"AAAAAHHfYGc=") -> #VALUE! | DA3: =IF(Naslovnica!45:45,"AAAAAHHfYGg=",0) -> 0 | DB3: =AND(Naslovnica!A45,"AAAAAHHfYGk=") -> #VALUE! | DC3: =AND(Naslovnica!B45,"AAAAAHHfYGo=") -> #VALUE! | DD3: =AND(Naslovnica!C45,"AAAAAHHfYGs=") -> #VALUE! | DE3: =AND(Naslovnica!D45,"AAAAAHHfYGw=") -> #VALUE! | DF3: =AND(Naslovnica!E45,"AAAAAHHfYG0=") -> #VALUE! | DG3: =AND(Naslovnica!F45,"AAAAAHHfYG4=") -> #VALUE! | DH3: =AND(Naslovnica!G45,"AAAAAHHfYG8=") -> #VALUE! | DI3: =AND(Naslovnica!H45,"AAAAAHHfYHA=") -> #VALUE! | DJ3: =AND(Naslovnica!I45,"AAAAAHHfYHE=") -> #VALUE! | DK3: =AND(Naslovnica!J45,"AAAAAHHfYHI=") -> #VALUE! | DL3: =AND(Naslovnica!K45,"AAAAAHHfYHM=") -> #VALUE! | DM3: =AND(Naslovnica!L45,"AAAAAHHfYHQ=") -> #VALUE! | DN3: =AND(Naslovnica!M45,"AAAAAHHfYHU=") -> #VALUE! | DO3: =IF(Naslovnica!46:46,"AAAAAHHfYHY=",0) -> 0 | DP3: =AND(Naslovnica!A46,"AAAAAHHfYHc=") -> #VALUE! | DQ3: =AND(Naslovnica!B46,"AAAAAHHfYHg=") -> #VALUE! | DR3: =AND(Naslovnica!C46,"AAAAAHHfYHk=") -> #VALUE! | DS3: =AND(Naslovnica!D46,"AAAAAHHfYHo=") -> #VALUE! | DT3: =AND(Naslovnica!E46,"AAAAAHHfYHs=") -> #VALUE! | DU3: =AND(Naslovnica!F46,"AAAAAHHfYHw=") -> #VALUE! | DV3: =AND(Naslovnica!G46,"AAAAAHHfYH0=") -> #VALUE! | DW3: =AND(Naslovnica!H46,"AAAAAHHfYH4=") -> #VALUE! | DX3: =AND(Naslovnica!I46,"AAAAAHHfYH8=") -> #VALUE! | DY3: =AND(Naslovnica!J46,"AAAAAHHfYIA=") -> #VALUE! | DZ3: =AND(Naslovnica!K46,"AAAAAHHfYIE=") -> #VALUE! | EA3: =AND(Naslovnica!L46,"AAAAAHHfYII=") -> #VALUE! | EB3: =AND(Naslovnica!M46,"AAAAAHHfYIM=") -> #VALUE! | EC3: =IF(Naslovnica!47:47,"AAAAAHHfYIQ=",0) -> 0 | ED3: =AND(Naslovnica!A47,"AAAAAHHfYIU=") -> #VALUE! | EE3: =AND(Naslovnica!B47,"AAAAAHHfYIY=") -> #VALUE! | EF3: =AND(Naslovnica!C47,"AAAAAHHfYIc=") -> #VALUE! | EG3: =AND(Naslovnica!D47,"AAAAAHHfYIg=") -> #VALUE! | EH3: =AND(Naslovnica!E47,"AAAAAHHfYIk=") -> #VALUE! | EI3: =AND(Naslovnica!F47,"AAAAAHHfYIo=") -> #VALUE! | EJ3: =AND(Naslovnica!G47,"AAAAAHHfYIs=") -> #VALUE! | EK3: =AND(Naslovnica!H47,"AAAAAHHfYIw=") -> #VALUE! | EL3: =AND(Naslovnica!I47,"AAAAAHHfYI0=") -> #VALUE! | EM3: =AND(Naslovnica!J47,"AAAAAHHfYI4=") -> #VALUE! | EN3: =AND(Naslovnica!K47,"AAAAAHHfYI8=") -> #VALUE! | EO3: =AND(Naslovnica!L47,"AAAAAHHfYJA=") -> #VALUE! | EP3: =AND(Naslovnica!M47,"AAAAAHHfYJE=") -> #VALUE! | EQ3: =IF(Naslovnica!48:48,"AAAAAHHfYJI=",0) -> 0 | ER3: =AND(Naslovnica!A48,"AAAAAHHfYJM=") -> #VALUE! | ES3: =AND(Naslovnica!B48,"AAAAAHHfYJQ=") -> #VALUE! | ET3: =AND(Naslovnica!C48,"AAAAAHHfYJU=") -> #VALUE! | EU3: =AND(Naslovnica!D48,"AAAAAHHfYJY=") -> #VALUE! | EV3: =AND(Naslovnica!E48,"AAAAAHHfYJc=") -> #VALUE! | EW3: =AND(Naslovnica!F48,"AAAAAHHfYJg=") -> #VALUE! | EX3: =AND(Naslovnica!G48,"AAAAAHHfYJk=") -> #VALUE! | EY3: =AND(Naslovnica!H48,"AAAAAHHfYJo=") -> #VALUE! | EZ3: =AND(Naslovnica!I48,"AAAAAHHfYJs=") -> #VALUE! | FA3: =AND(Naslovnica!J48,"AAAAAHHfYJw=") -> #VALUE! | FB3: =AND(Naslovnica!K48,"AAAAAHHfYJ0=") -> #VALUE! | FC3: =AND(Naslovnica!L48,"AAAAAHHfYJ4=") -> #VALUE! | FD3: =AND(Naslovnica!M48,"AAAAAHHfYJ8=") -> #VALUE! | FE3: =IF(Naslovnica!49:49,"AAAAAHHfYKA=",0) -> 0 | FF3: =IF(Naslovnica!50:50,"AAAAAHHfYKE=",0) -> 0 | FG3: =IF(Naslovnica!51:51,"AAAAAHHfYKI=",0) -> 0 | FH3: =IF(Naslovnica!52:52,"AAAAAHHfYKM=",0) -> 0 | FI3: =IF(Naslovnica!53:53,"AAAAAHHfYKQ=",0) -> 0 | FJ3: =IF(Naslovnica!54:54,"AAAAAHHfYKU=",0) -> 0 | FK3: =IF(Naslovnica!55:55,"AAAAAHHfYKY=",0) -> 0 | FL3: =IF(Naslovnica!56:56,"AAAAAHHfYKc=",0) -> 0 | FM3: =IF(Naslovnica!57:57,"AAAAAHHfYKg=",0) -> 0 | FN3: =IF(Naslovnica!58:58,"AAAAAHHfYKk=",0) -> 0 | FO3: =IF(Naslovnica!59:59,"AAAAAHHfYKo=",0) -> 0 | FP3: =IF(Naslovnica!60:60,"AAAAAHHfYKs=",0) -> 0 | FQ3: =IF(Naslovnica!61:61,"AAAAAHHfYKw=",0) -> 0 | FR3: =IF(Naslovnica!62:62,"AAAAAHHfYK0=",0) -> 0 | FS3: =IF(Naslovnica!63:63,"AAAAAHHfYK4=",0) -> 0 | FT3: =IF(Naslovnica!64:64,"AAAAAHHfYK8=",0) -> 0 | FU3: =IF(Naslovnica!65:65,"AAAAAHHfYLA=",0) -> 0 | FV3: =IF(Naslovnica!66:66,"AAAAAHHfYLE=",0) -> 0 | FW3: =IF(Naslovnica!67:67,"AAAAAHHfYLI=",0) -> 0 | FX3: =IF(Naslovnica!68:68,"AAAAAHHfYLM=",0) -> 0 | FY3: =IF(Naslovnica!69:69,"AAAAAHHfYLQ=",0) -> 0 | FZ3: =IF(Naslovnica!70:70,"AAAAAHHfYLU=",0) -> 0 | GA3: =IF(Naslovnica!71:71,"AAAAAHHfYLY=",0) -> 0 | GB3: =IF(Naslovnica!72:72,"AAAAAHHfYLc=",0) -> 0 | GC3: =IF(Naslovnica!73:73,"AAAAAHHfYLg=",0) -> 0 | GD3: =IF(Naslovnica!74:74,"AAAAAHHfYLk=",0) -> 0 | GE3: =IF(Naslovnica!75:75,"AAAAAHHfYLo=",0) -> 0 | GF3: =IF(Naslovnica!76:76,"AAAAAHHfYLs=",0) -> 0 | GG3: =IF(Naslovnica!77:77,"AAAAAHHfYLw=",0) -> 0 | GH3: =IF(Naslovnica!78:78,"AAAAAHHfYL0=",0) -> 0 | GI3: =IF(Naslovnica!79:79,"AAAAAHHfYL4=",0) -> 0 | GJ3: =IF(Naslovnica!80:80,"AAAAAHHfYL8=",0) -> 0 | GK3: =IF(Naslovnica!81:81,"AAAAAHHfYMA=",0) -> 0 | GL3: =IF(Naslovnica!82:82,"AAAAAHHfYME=",0) -> 0 | GM3: =IF(Naslovnica!83:83,"AAAAAHHfYMI=",0) -> 0 | GN3: =IF(Naslovnica!84:84,"AAAAAHHfYMM=",0) -> 0 | GO3: =IF(Naslovnica!85:85,"AAAAAHHfYMQ=",0) -> 0 | GP3: =IF(Naslovnica!86:86,"AAAAAHHfYMU=",0) -> 0 | GQ3: =IF(Naslovnica!87:87,"AAAAAHHfYMY=",0) -> 0 | GR3: =IF(Naslovnica!88:88,"AAAAAHHfYMc=",0) -> 0 | GS3: =IF(Naslovnica!89:89,"AAAAAHHfYMg=",0) -> 0 | GT3: =IF(Naslovnica!90:90,"AAAAAHHfYMk=",0) -> 0 | GU3: =IF(Naslovnica!91:91,"AAAAAHHfYMo=",0) -> 0 | GV3: =IF(Naslovnica!92:92,"AAAAAHHfYMs=",0) -> 0 | GW3: =IF(Naslovnica!93:93,"AAAAAHHfYMw=",0) -> 0 | GX3: =IF(Naslovnica!94:94,"AAAAAHHfYM0=",0) -> 0 | GY3: =IF(Naslovnica!95:95,"AAAAAHHfYM4=",0) -> 0 | GZ3: =IF(Naslovnica!96:96,"AAAAAHHfYM8=",0) -> 0 | HA3: =IF(Naslovnica!97:97,"AAAAAHHfYNA=",0) -> 0 | HB3: =IF(Naslovnica!98:98,"AAAAAHHfYNE=",0) -> 0 | HC3: =IF(Naslovnica!99:99,"AAAAAHHfYNI=",0) -> 0 | HD3: =IF(Naslovnica!100:100,"AAAAAHHfYNM=",0) -> 0 | HE3: =IF(Naslovnica!101:101,"AAAAAHHfYNQ=",0) -> 0 | HF3: =IF(Naslovnica!102:102,"AAAAAHHfYNU=",0) -> 0 | HG3: =IF(Naslovnica!103:103,"AAAAAHHfYNY=",0) -> 0 | HH3: =IF(Naslovnica!104:104,"AAAAAHHfYNc=",0) -> 0 | HI3: =IF(Naslovnica!105:105,"AAAAAHHfYNg=",0) -> 0 | HJ3: =IF(Naslovnica!106:106,"AAAAAHHfYNk=",0) -> 0 | HK3: =IF(Naslovnica!107:107,"AAAAAHHfYNo=",0) -> 0 | HL3: =IF(Naslovnica!108:108,"AAAAAHHfYNs=",0) -> 0 | HM3: =IF(Naslovnica!109:109,"AAAAAHHfYNw=",0) -> 0 | HN3: =IF(Naslovnica!110:110,"AAAAAHHfYN0=",0) -> 0 | HO3: =IF(Naslovnica!111:111,"AAAAAHHfYN4=",0) -> 0 | HP3: =IF(Naslovnica!112:112,"AAAAAHHfYN8=",0) -> 0 | HQ3: =IF(Naslovnica!113:113,"AAAAAHHfYOA=",0) -> 0 | HR3: =IF(Naslovnica!114:114,"AAAAAHHfYOE=",0) -> 0 | HS3: =IF(Naslovnica!115:115,"AAAAAHHfYOI=",0) -> 0 | HT3: =IF(Naslovnica!116:116,"AAAAAHHfYOM=",0) -> 0 | HU3: =IF(Naslovnica!117:117,"AAAAAHHfYOQ=",0) -> 0 | HV3: =IF(Naslovnica!118:118,"AAAAAHHfYOU=",0) -> 0 | HW3: =IF(Naslovnica!119:119,"AAAAAHHfYOY=",0) -> 0 | HX3: =IF(Naslovnica!120:120,"AAAAAHHfYOc=",0) -> 0 | HY3: =IF(Naslovnica!121:121,"AAAAAHHfYOg=",0) -> 0 | HZ3: =IF(Naslovnica!A:A,"AAAAAHHfYOk=",0) -> 0 | IA3: =IF(Naslovnica!B:B,"AAAAAHHfYOo=",0) -> #VALUE! | IB3: =IF(Naslovnica!C:C,"AAAAAHHfYOs=",0) -> 0 | IC3: =IF(Naslovnica!D:D,"AAAAAHHfYOw=",0) -> 0 | ID3: =IF(Naslovnica!E:E,"AAAAAHHfYO0=",0) -> 0 | IE3: =IF(Naslovnica!F:F,"AAAAAHHfYO4=",0) -> 0 | IF3: =IF(Naslovnica!G:G,"AAAAAHHfYO8=",0) -> 0 | IG3: =IF(Naslovnica!H:H,"AAAAAHHfYPA=",0) -> 0 | IH3: =IF(Naslovnica!I:I,"AAAAAHHfYPE=",0) -> 0 | II3: =IF(Naslovnica!J:J,"AAAAAHHfYPI=",0) -> 0 | IJ3: =IF(Naslovnica!K:K,"AAAAAHHfYPM=",0) -> 0 | IK3: =IF(Naslovnica!L:L,"AAAAAHHfYPQ=",0) -> 0 | IL3: =IF(Naslovnica!M:M,"AAAAAHHfYPU=",0) -> 0 | IM3: =IF(#REF!,"AAAAAHHfYPY=",0) -> #REF! | IN3: =AND(#REF!,"AAAAAHHfYPc=") -> #REF! | IO3: =AND(#REF!,"AAAAAHHfYPg=") -> #REF! | IP3: =AND(#REF!,"AAAAAHHfYPk=") -> #REF! | IQ3: =AND(#REF!,"AAAAAHHfYPo=") -> #REF! | IR3: =AND(#REF!,"AAAAAHHfYPs=") -> #REF! | IS3: =AND(#REF!,"AAAAAHHfYPw=") -> #REF! | IT3: =AND(#REF!,"AAAAAHHfYP0=") -> #REF! | IU3: =AND(#REF!,"AAAAAHHfYP4=") -> #REF! | IV3: =AND(#REF!,"AAAAAHHfYP8=") -> #REF!
A4: =AND(#REF!,"AAAAAH9/5wA=") -> #REF! | B4: =AND(#REF!,"AAAAAH9/5wE=") -> #REF! | C4: =AND(#REF!,"AAAAAH9/5wI=") -> #REF! | D4: =IF(#REF!,"AAAAAH9/5wM=",0) -> #REF! | E4: =AND(#REF!,"AAAAAH9/5wQ=") -> #REF! | F4: =AND(#REF!,"AAAAAH9/5wU=") -> #REF! | G4: =AND(#REF!,"AAAAAH9/5wY=") -> #REF! | H4: =AND(#REF!,"AAAAAH9/5wc=") -> #REF! | I4: =AND(#REF!,"AAAAAH9/5wg=") -> #REF! | J4: =AND(#REF!,"AAAAAH9/5wk=") -> #REF! | K4: =AND(#REF!,"AAAAAH9/5wo=") -> #REF! | L4: =AND(#REF!,"AAAAAH9/5ws=") -> #REF! | M4: =AND(#REF!,"AAAAAH9/5ww=") -> #REF! | N4: =AND(#REF!,"AAAAAH9/5w0=") -> #REF! | O4: =AND(#REF!,"AAAAAH9/5w4=") -> #REF! | P4: =AND(#REF!,"AAAAAH9/5w8=") -> #REF! | Q4: =IF(#REF!,"AAAAAH9/5xA=",0) -> #REF! | R4: =AND(#REF!,"AAAAAH9/5xE=") -> #REF! | S4: =AND(#REF!,"AAAAAH9/5xI=") -> #REF! | T4: =AND(#REF!,"AAAAAH9/5xM=") -> #REF! | U4: =AND(#REF!,"AAAAAH9/5xQ=") -> #REF! | V4: =AND(#REF!,"AAAAAH9/5xU=") -> #REF! | W4: =AND(#REF!,"AAAAAH9/5xY=") -> #REF! | X4: =AND(#REF!,"AAAAAH9/5xc=") -> #REF! | Y4: =AND(#REF!,"AAAAAH9/5xg=") -> #REF! | Z4: =AND(#REF!,"AAAAAH9/5xk=") -> #REF! | AA4: =AND(#REF!,"AAAAAH9/5xo=") -> #REF! | AB4: =AND(#REF!,"AAAAAH9/5xs=") -> #REF! | AC4: =AND(#REF!,"AAAAAH9/5xw=") -> #REF! | AD4: =IF(#REF!,"AAAAAH9/5x0=",0) -> #REF! | AE4: =AND(#REF!,"AAAAAH9/5x4=") -> #REF! | AF4: =AND(#REF!,"AAAAAH9/5x8=") -> #REF! | AG4: =AND(#REF!,"AAAAAH9/5yA=") -> #REF! | AH4: =AND(#REF!,"AAAAAH9/5yE=") -> #REF! | AI4: =AND(#REF!,"AAAAAH9/5yI=") -> #REF! | AJ4: =AND(#REF!,"AAAAAH9/5yM=") -> #REF! | AK4: =AND(#REF!,"AAAAAH9/5yQ=") -> #REF! | AL4: =AND(#REF!,"AAAAAH9/5yU=") -> #REF! | AM4: =AND(#REF!,"AAAAAH9/5yY=") -> #REF! | AN4: =AND(#REF!,"AAAAAH9/5yc=") -> #REF! | AO4: =AND(#REF!,"AAAAAH9/5yg=") -> #REF! | AP4: =AND(#REF!,"AAAAAH9/5yk=") -> #REF! | AQ4: =IF(#REF!,"AAAAAH9/5yo=",0) -> #REF! | AR4: =AND(#REF!,"AAAAAH9/5ys=") -> #REF! | AS4: =AND(#REF!,"AAAAAH9/5yw=") -> #REF! | AT4: =AND(#REF!,"AAAAAH9/5y0=") -> #REF! | AU4: =AND(#REF!,"AAAAAH9/5y4=") -> #REF! | AV4: =AND(#REF!,"AAAAAH9/5y8=") -> #REF! | AW4: =AND(#REF!,"AAAAAH9/5zA=") -> #REF! | AX4: =AND(#REF!,"AAAAAH9/5zE=") -> #REF! | AY4: =AND(#REF!,"AAAAAH9/5zI=") -> #REF! | AZ4: =AND(#REF!,"AAAAAH9/5zM=") -> #REF! | BA4: =AND(#REF!,"AAAAAH9/5zQ=") -> #REF! | BB4: =AND(#REF!,"AAAAAH9/5zU=") -> #REF! | BC4: =AND(#REF!,"AAAAAH9/5zY=") -> #REF! | BD4: =IF(#REF!,"AAAAAH9/5zc=",0) -> #REF! | BE4: =AND(#REF!,"AAAAAH9/5zg=") -> #REF! | BF4: =AND(#REF!,"AAAAAH9/5zk=") -> #REF! | BG4: =AND(#REF!,"AAAAAH9/5zo=") -> #REF! | BH4: =AND(#REF!,"AAAAAH9/5zs=") -> #REF! | BI4: =AND(#REF!,"AAAAAH9/5zw=") -> #REF! | BJ4: =AND(#REF!,"AAAAAH9/5z0=") -> #REF! | BK4: =AND(#REF!,"AAAAAH9/5z4=") -> #REF! | BL4: =AND(#REF!,"AAAAAH9/5z8=") -> #REF! | BM4: =AND(#REF!,"AAAAAH9/50A=") -> #REF! | BN4: =AND(#REF!,"AAAAAH9/50E=") -> #REF! | BO4: =AND(#REF!,"AAAAAH9/50I=") -> #REF! | BP4: =AND(#REF!,"AAAAAH9/50M=") -> #REF! | BQ4: =IF(#REF!,"AAAAAH9/50Q=",0) -> #REF! | BR4: =AND(#REF!,"AAAAAH9/50U=") -> #REF! | BS4: =AND(#REF!,"AAAAAH9/50Y=") -> #REF! | BT4: =AND(#REF!,"AAAAAH9/50c=") -> #REF! | BU4: =AND(#REF!,"AAAAAH9/50g=") -> #REF! | BV4: =AND(#REF!,"AAAAAH9/50k=") -> #REF! | BW4: =AND(#REF!,"AAAAAH9/50o=") -> #REF! | BX4: =AND(#REF!,"AAAAAH9/50s=") -> #REF! | BY4: =AND(#REF!,"AAAAAH9/50w=") -> #REF! | BZ4: =AND(#REF!,"AAAAAH9/500=") -> #REF! | CA4: =AND(#REF!,"AAAAAH9/504=") -> #REF! | CB4: =AND(#REF!,"AAAAAH9/508=") -> #REF! | CC4: =AND(#REF!,"AAAAAH9/51A=") -> #REF! | CD4: =IF(#REF!,"AAAAAH9/51E=",0) -> #REF! | CE4: =AND(#REF!,"AAAAAH9/51I=") -> #REF! | CF4: =AND(#REF!,"AAAAAH9/51M=") -> #REF! | CG4: =AND(#REF!,"AAAAAH9/51Q=") -> #REF! | CH4: =AND(#REF!,"AAAAAH9/51U=") -> #REF! | CI4: =AND(#REF!,"AAAAAH9/51Y=") -> #REF! | CJ4: =AND(#REF!,"AAAAAH9/51c=") -> #REF! | CK4: =AND(#REF!,"AAAAAH9/51g=") -> #REF! | CL4: =AND(#REF!,"AAAAAH9/51k=") -> #REF! | CM4: =AND(#REF!,"AAAAAH9/51o=") -> #REF! | CN4: =AND(#REF!,"AAAAAH9/51s=") -> #REF! | CO4: =AND(#REF!,"AAAAAH9/51w=") -> #REF! | CP4: =AND(#REF!,"AAAAAH9/510=") -> #REF! | CQ4: =IF(#REF!,"AAAAAH9/514=",0) -> #REF! | CR4: =AND(#REF!,"AAAAAH9/518=") -> #REF! | CS4: =AND(#REF!,"AAAAAH9/52A=") -> #REF! | CT4: =AND(#REF!,"AAAAAH9/52E=") -> #REF! | CU4: =AND(#REF!,"AAAAAH9/52I=") -> #REF! | CV4: =AND(#REF!,"AAAAAH9/52M=") -> #REF! | CW4: =AND(#REF!,"AAAAAH9/52Q=") -> #REF! | CX4: =AND(#REF!,"AAAAAH9/52U=") -> #REF! | CY4: =AND(#REF!,"AAAAAH9/52Y=") -> #REF! | CZ4: =AND(#REF!,"AAAAAH9/52c=") -> #REF! | DA4: =AND(#REF!,"AAAAAH9/52g=") -> #REF! | DB4: =AND(#REF!,"AAAAAH9/52k=") -> #REF! | DC4: =AND(#REF!,"AAAAAH9/52o=") -> #REF! | DD4: =IF(#REF!,"AAAAAH9/52s=",0) -> #REF! | DE4: =AND(#REF!,"AAAAAH9/52w=") -> #REF! | DF4: =AND(#REF!,"AAAAAH9/520=") -> #REF! | DG4: =AND(#REF!,"AAAAAH9/524=") -> #REF! | DH4: =AND(#REF!,"AAAAAH9/528=") -> #REF! | DI4: =AND(#REF!,"AAAAAH9/53A=") -> #REF! | DJ4: =AND(#REF!,"AAAAAH9/53E=") -> #REF! | DK4: =AND(#REF!,"AAAAAH9/53I=") -> #REF! | DL4: =AND(#REF!,"AAAAAH9/53M=") -> #REF! | DM4: =AND(#REF!,"AAAAAH9/53Q=") -> #REF! | DN4: =AND(#REF!,"AAAAAH9/53U=") -> #REF! | DO4: =AND(#REF!,"AAAAAH9/53Y=") -> #REF! | DP4: =AND(#REF!,"AAAAAH9/53c=") -> #REF! | DQ4: =IF(#REF!,"AAAAAH9/53g=",0) -> #REF! | DR4: =AND(#REF!,"AAAAAH9/53k=") -> #REF! | DS4: =AND(#REF!,"AAAAAH9/53o=") -> #REF! | DT4: =AND(#REF!,"AAAAAH9/53s=") -> #REF! | DU4: =AND(#REF!,"AAAAAH9/53w=") -> #REF! | DV4: =AND(#REF!,"AAAAAH9/530=") -> #REF! | DW4: =AND(#REF!,"AAAAAH9/534=") -> #REF! | DX4: =AND(#REF!,"AAAAAH9/538=") -> #REF! | DY4: =AND(#REF!,"AAAAAH9/54A=") -> #REF! | DZ4: =AND(#REF!,"AAAAAH9/54E=") -> #REF! | EA4: =AND(#REF!,"AAAAAH9/54I=") -> #REF! | EB4: =AND(#REF!,"AAAAAH9/54M=") -> #REF! | EC4: =AND(#REF!,"AAAAAH9/54Q=") -> #REF! | ED4: =IF(#REF!,"AAAAAH9/54U=",0) -> #REF! | EE4: =AND(#REF!,"AAAAAH9/54Y=") -> #REF! | EF4: =AND(#REF!,"AAAAAH9/54c=") -> #REF! | EG4: =AND(#REF!,"AAAAAH9/54g=") -> #REF! | EH4: =AND(#REF!,"AAAAAH9/54k=") -> #REF! | EI4: =AND(#REF!,"AAAAAH9/54o=") -> #REF! | EJ4: =AND(#REF!,"AAAAAH9/54s=") -> #REF! | EK4: =AND(#REF!,"AAAAAH9/54w=") -> #REF! | EL4: =AND(#REF!,"AAAAAH9/540=") -> #REF! | EM4: =AND(#REF!,"AAAAAH9/544=") -> #REF! | EN4: =AND(#REF!,"AAAAAH9/548=") -> #REF! | EO4: =AND(#REF!,"AAAAAH9/55A=") -> #REF! | EP4: =AND(#REF!,"AAAAAH9/55E=") -> #REF! | EQ4: =IF(#REF!,"AAAAAH9/55I=",0) -> #REF! | ER4: =AND(#REF!,"AAAAAH9/55M=") -> #REF! | ES4: =AND(#REF!,"AAAAAH9/55Q=") -> #REF! | ET4: =AND(#REF!,"AAAAAH9/55U=") -> #REF! | EU4: =AND(#REF!,"AAAAAH9/55Y=") -> #REF! | EV4: =AND(#REF!,"AAAAAH9/55c=") -> #REF! | EW4: =AND(#REF!,"AAAAAH9/55g=") -> #REF! | EX4: =AND(#REF!,"AAAAAH9/55k=") -> #REF! | EY4: =AND(#REF!,"AAAAAH9/55o=") -> #REF! | EZ4: =AND(#REF!,"AAAAAH9/55s=") -> #REF! | FA4: =AND(#REF!,"AAAAAH9/55w=") -> #REF! | FB4: =AND(#REF!,"AAAAAH9/550=") -> #REF! | FC4: =AND(#REF!,"AAAAAH9/554=") -> #REF! | FD4: =IF(#REF!,"AAAAAH9/558=",0) -> #REF! | FE4: =AND(#REF!,"AAAAAH9/56A=") -> #REF! | FF4: =AND(#REF!,"AAAAAH9/56E=") -> #REF! | FG4: =AND(#REF!,"AAAAAH9/56I=") -> #REF! | FH4: =AND(#REF!,"AAAAAH9/56M=") -> #REF! | FI4: =AND(#REF!,"AAAAAH9/56Q=") -> #REF! | FJ4: =AND(#REF!,"AAAAAH9/56U=") -> #REF! | FK4: =AND(#REF!,"AAAAAH9/56Y=") -> #REF! | FL4: =AND(#REF!,"AAAAAH9/56c=") -> #REF! | FM4: =AND(#REF!,"AAAAAH9/56g=") -> #REF! | FN4: =AND(#REF!,"AAAAAH9/56k=") -> #REF! | FO4: =AND(#REF!,"AAAAAH9/56o=") -> #REF! | FP4: =AND(#REF!,"AAAAAH9/56s=") -> #REF! | FQ4: =IF(#REF!,"AAAAAH9/56w=",0) -> #REF! | FR4: =AND(#REF!,"AAAAAH9/560=") -> #REF! | FS4: =AND(#REF!,"AAAAAH9/564=") -> #REF! | FT4: =AND(#REF!,"AAAAAH9/568=") -> #REF! | FU4: =AND(#REF!,"AAAAAH9/57A=") -> #REF! | FV4: =AND(#REF!,"AAAAAH9/57E=") -> #REF! | FW4: =AND(#REF!,"AAAAAH9/57I=") -> #REF! | FX4: =AND(#REF!,"AAAAAH9/57M=") -> #REF! | FY4: =AND(#REF!,"AAAAAH9/57Q=") -> #REF! | FZ4: =AND(#REF!,"AAAAAH9/57U=") -> #REF! | GA4: =AND(#REF!,"AAAAAH9/57Y=") -> #REF! | GB4: =AND(#REF!,"AAAAAH9/57c=") -> #REF! | GC4: =AND(#REF!,"AAAAAH9/57g=") -> #REF! | GD4: =IF(#REF!,"AAAAAH9/57k=",0) -> #REF! | GE4: =AND(#REF!,"AAAAAH9/57o=") -> #REF! | GF4: =AND(#REF!,"AAAAAH9/57s=") -> #REF! | GG4: =AND(#REF!,"AAAAAH9/57w=") -> #REF! | GH4: =AND(#REF!,"AAAAAH9/570=") -> #REF! | GI4: =AND(#REF!,"AAAAAH9/574=") -> #REF! | GJ4: =AND(#REF!,"AAAAAH9/578=") -> #REF! | GK4: =AND(#REF!,"AAAAAH9/58A=") -> #REF! | GL4: =AND(#REF!,"AAAAAH9/58E=") -> #REF! | GM4: =AND(#REF!,"AAAAAH9/58I=") -> #REF! | GN4: =AND(#REF!,"AAAAAH9/58M=") -> #REF! | GO4: =AND(#REF!,"AAAAAH9/58Q=") -> #REF! | GP4: =AND(#REF!,"AAAAAH9/58U=") -> #REF! | GQ4: =IF(#REF!,"AAAAAH9/58Y=",0) -> #REF! | GR4: =AND(#REF!,"AAAAAH9/58c=") -> #REF! | GS4: =AND(#REF!,"AAAAAH9/58g=") -> #REF! | GT4: =AND(#REF!,"AAAAAH9/58k=") -> #REF! | GU4: =AND(#REF!,"AAAAAH9/58o=") -> #REF! | GV4: =AND(#REF!,"AAAAAH9/58s=") -> #REF! | GW4: =AND(#REF!,"AAAAAH9/58w=") -> #REF! | GX4: =AND(#REF!,"AAAAAH9/580=") -> #REF! | GY4: =AND(#REF!,"AAAAAH9/584=") -> #REF! | GZ4: =AND(#REF!,"AAAAAH9/588=") -> #REF! | HA4: =AND(#REF!,"AAAAAH9/59A=") -> #REF! | HB4: =AND(#REF!,"AAAAAH9/59E=") -> #REF! | HC4: =AND(#REF!,"AAAAAH9/59I=") -> #REF! | HD4: =IF(#REF!,"AAAAAH9/59M=",0) -> #REF! | HE4: =AND(#REF!,"AAAAAH9/59Q=") -> #REF! | HF4: =AND(#REF!,"AAAAAH9/59U=") -> #REF! | HG4: =AND(#REF!,"AAAAAH9/59Y=") -> #REF! | HH4: =AND(#REF!,"AAAAAH9/59c=") -> #REF! | HI4: =AND(#REF!,"AAAAAH9/59g=") -> #REF! | HJ4: =AND(#REF!,"AAAAAH9/59k=") -> #REF! | HK4: =AND(#REF!,"AAAAAH9/59o=") -> #REF! | HL4: =AND(#REF!,"AAAAAH9/59s=") -> #REF! | HM4: =AND(#REF!,"AAAAAH9/59w=") -> #REF! | HN4: =AND(#REF!,"AAAAAH9/590=") -> #REF! | HO4: =AND(#REF!,"AAAAAH9/594=") -> #REF! | HP4: =AND(#REF!,"AAAAAH9/598=") -> #REF! | HQ4: =IF(#REF!,"AAAAAH9/5+A=",0) -> #REF! | HR4: =AND(#REF!,"AAAAAH9/5+E=") -> #REF! | HS4: =AND(#REF!,"AAAAAH9/5+I=") -> #REF! | HT4: =AND(#REF!,"AAAAAH9/5+M=") -> #REF! | HU4: =AND(#REF!,"AAAAAH9/5+Q=") -> #REF! | HV4: =AND(#REF!,"AAAAAH9/5+U=") -> #REF! | HW4: =AND(#REF!,"AAAAAH9/5+Y=") -> #REF! | HX4: =AND(#REF!,"AAAAAH9/5+c=") -> #REF! | HY4: =AND(#REF!,"AAAAAH9/5+g=") -> #REF! | HZ4: =AND(#REF!,"AAAAAH9/5+k=") -> #REF! | IA4: =AND(#REF!,"AAAAAH9/5+o=") -> #REF! | IB4: =AND(#REF!,"AAAAAH9/5+s=") -> #REF! | IC4: =AND(#REF!,"AAAAAH9/5+w=") -> #REF! | ID4: =IF(#REF!,"AAAAAH9/5+0=",0) -> #REF! | IE4: =AND(#REF!,"AAAAAH9/5+4=") -> #REF! | IF4: =AND(#REF!,"AAAAAH9/5+8=") -> #REF! | IG4: =AND(#REF!,"AAAAAH9/5/A=") -> #REF! | IH4: =AND(#REF!,"AAAAAH9/5/E=") -> #REF! | II4: =AND(#REF!,"AAAAAH9/5/I=") -> #REF! | IJ4: =AND(#REF!,"AAAAAH9/5/M=") -> #REF! | IK4: =AND(#REF!,"AAAAAH9/5/Q=") -> #REF! | IL4: =AND(#REF!,"AAAAAH9/5/U=") -> #REF! | IM4: =AND(#REF!,"AAAAAH9/5/Y=") -> #REF! | IN4: =AND(#REF!,"AAAAAH9/5/c=") -> #REF! | IO4: =AND(#REF!,"AAAAAH9/5/g=") -> #REF! | IP4: =AND(#REF!,"AAAAAH9/5/k=") -> #REF! | IQ4: =IF(#REF!,"AAAAAH9/5/o=",0) -> #REF! | IR4: =AND(#REF!,"AAAAAH9/5/s=") -> #REF! | IS4: =AND(#REF!,"AAAAAH9/5/w=") -> #REF! | IT4: =AND(#REF!,"AAAAAH9/5/0=") -> #REF! | IU4: =AND(#REF!,"AAAAAH9/5/4=") -> #REF! | IV4: =AND(#REF!,"AAAAAH9/5/8=") -> #REF!
A5: =AND(#REF!,"AAAAAHj7/QA=") -> #REF! | B5: =AND(#REF!,"AAAAAHj7/QE=") -> #REF! | C5: =AND(#REF!,"AAAAAHj7/QI=") -> #REF! | D5: =AND(#REF!,"AAAAAHj7/QM=") -> #REF! | E5: =AND(#REF!,"AAAAAHj7/QQ=") -> #REF! | F5: =AND(#REF!,"AAAAAHj7/QU=") -> #REF! | G5: =AND(#REF!,"AAAAAHj7/QY=") -> #REF! | H5: =IF(#REF!,"AAAAAHj7/Qc=",0) -> #REF! | I5: =AND(#REF!,"AAAAAHj7/Qg=") -> #REF! | J5: =AND(#REF!,"AAAAAHj7/Qk=") -> #REF! | K5: =AND(#REF!,"AAAAAHj7/Qo=") -> #REF! | L5: =AND(#REF!,"AAAAAHj7/Qs=") -> #REF! | M5: =AND(#REF!,"AAAAAHj7/Qw=") -> #REF! | N5: =AND(#REF!,"AAAAAHj7/Q0=") -> #REF! | O5: =AND(#REF!,"AAAAAHj7/Q4=") -> #REF! | P5: =AND(#REF!,"AAAAAHj7/Q8=") -> #REF! | Q5: =AND(#REF!,"AAAAAHj7/RA=") -> #REF! | R5: =AND(#REF!,"AAAAAHj7/RE=") -> #REF! | S5: =AND(#REF!,"AAAAAHj7/RI=") -> #REF! | T5: =AND(#REF!,"AAAAAHj7/RM=") -> #REF! | U5: =IF(#REF!,"AAAAAHj7/RQ=",0) -> #REF! | V5: =AND(#REF!,"AAAAAHj7/RU=") -> #REF! | W5: =AND(#REF!,"AAAAAHj7/RY=") -> #REF! | X5: =AND(#REF!,"AAAAAHj7/Rc=") -> #REF! | Y5: =AND(#REF!,"AAAAAHj7/Rg=") -> #REF! | Z5: =AND(#REF!,"AAAAAHj7/Rk=") -> #REF! | AA5: =AND(#REF!,"AAAAAHj7/Ro=") -> #REF! | AB5: =AND(#REF!,"AAAAAHj7/Rs=") -> #REF! | AC5: =AND(#REF!,"AAAAAHj7/Rw=") -> #REF! | AD5: =AND(#REF!,"AAAAAHj7/R0=") -> #REF! | AE5: =AND(#REF!,"AAAAAHj7/R4=") -> #REF! | AF5: =AND(#REF!,"AAAAAHj7/R8=") -> #REF! | AG5: =AND(#REF!,"AAAAAHj7/SA=") -> #REF! | AH5: =IF(#REF!,"AAAAAHj7/SE=",0) -> #REF! | AI5: =AND(#REF!,"AAAAAHj7/SI=") -> #REF! | AJ5: =AND(#REF!,"AAAAAHj7/SM=") -> #REF! | AK5: =AND(#REF!,"AAAAAHj7/SQ=") -> #REF! | AL5: =AND(#REF!,"AAAAAHj7/SU=") -> #REF! | AM5: =AND(#REF!,"AAAAAHj7/SY=") -> #REF! | AN5: =AND(#REF!,"AAAAAHj7/Sc=") -> #REF! | AO5: =AND(#REF!,"AAAAAHj7/Sg=") -> #REF! | AP5: =AND(#REF!,"AAAAAHj7/Sk=") -> #REF! | AQ5: =AND(#REF!,"AAAAAHj7/So=") -> #REF! | AR5: =AND(#REF!,"AAAAAHj7/Ss=") -> #REF! | AS5: =AND(#REF!,"AAAAAHj7/Sw=") -> #REF! | AT5: =AND(#REF!,"AAAAAHj7/S0=") -> #REF! | AU5: =IF(#REF!,"AAAAAHj7/S4=",0) -> #REF! | AV5: =AND(#REF!,"AAAAAHj7/S8=") -> #REF! | AW5: =AND(#REF!,"AAAAAHj7/TA=") -> #REF! | AX5: =AND(#REF!,"AAAAAHj7/TE=") -> #REF! | AY5: =AND(#REF!,"AAAAAHj7/TI=") -> #REF! | AZ5: =AND(#REF!,"AAAAAHj7/TM=") -> #REF! | BA5: =AND(#REF!,"AAAAAHj7/TQ=") -> #REF! | BB5: =AND(#REF!,"AAAAAHj7/TU=") -> #REF! | BC5: =AND(#REF!,"AAAAAHj7/TY=") -> #REF! | BD5: =AND(#REF!,"AAAAAHj7/Tc=") -> #REF! | BE5: =AND(#REF!,"AAAAAHj7/Tg=") -> #REF! | BF5: =AND(#REF!,"AAAAAHj7/Tk=") -> #REF! | BG5: =AND(#REF!,"AAAAAHj7/To=") -> #REF! | BH5: =IF(#REF!,"AAAAAHj7/Ts=",0) -> #REF! | BI5: =AND(#REF!,"AAAAAHj7/Tw=") -> #REF! | BJ5: =AND(#REF!,"AAAAAHj7/T0=") -> #REF! | BK5: =AND(#REF!,"AAAAAHj7/T4=") -> #REF! | BL5: =AND(#REF!,"AAAAAHj7/T8=") -> #REF! | BM5: =AND(#REF!,"AAAAAHj7/UA=") -> #REF! | BN5: =AND(#REF!,"AAAAAHj7/UE=") -> #REF! | BO5: =AND(#REF!,"AAAAAHj7/UI=") -> #REF! | BP5: =AND(#REF!,"AAAAAHj7/UM=") -> #REF! | BQ5: =AND(#REF!,"AAAAAHj7/UQ=") -> #REF! | BR5: =AND(#REF!,"AAAAAHj7/UU=") -> #REF! | BS5: =AND(#REF!,"AAAAAHj7/UY=") -> #REF! | BT5: =AND(#REF!,"AAAAAHj7/Uc=") -> #REF! | BU5: =IF(#REF!,"AAAAAHj7/Ug=",0) -> #REF! | BV5: =AND(#REF!,"AAAAAHj7/Uk=") -> #REF! | BW5: =AND(#REF!,"AAAAAHj7/Uo=") -> #REF! | BX5: =AND(#REF!,"AAAAAHj7/Us=") -> #REF! | BY5: =AND(#REF!,"AAAAAHj7/Uw=") -> #REF! | BZ5: =AND(#REF!,"AAAAAHj7/U0=") -> #REF! | CA5: =AND(#REF!,"AAAAAHj7/U4=") -> #REF! | CB5: =AND(#REF!,"AAAAAHj7/U8=") -> #REF! | CC5: =AND(#REF!,"AAAAAHj7/VA=") -> #REF! | CD5: =AND(#REF!,"AAAAAHj7/VE=") -> #REF! | CE5: =AND(#REF!,"AAAAAHj7/VI=") -> #REF! | CF5: =AND(#REF!,"AAAAAHj7/VM=") -> #REF! | CG5: =AND(#REF!,"AAAAAHj7/VQ=") -> #REF! | CH5: =IF(#REF!,"AAAAAHj7/VU=",0) -> #REF! | CI5: =AND(#REF!,"AAAAAHj7/VY=") -> #REF! | CJ5: =AND(#REF!,"AAAAAHj7/Vc=") -> #REF! | CK5: =AND(#REF!,"AAAAAHj7/Vg=") -> #REF! | CL5: =AND(#REF!,"AAAAAHj7/Vk=") -> #REF! | CM5: =AND(#REF!,"AAAAAHj7/Vo=") -> #REF! | CN5: =AND(#REF!,"AAAAAHj7/Vs=") -> #REF! | CO5: =AND(#REF!,"AAAAAHj7/Vw=") -> #REF! | CP5: =AND(#REF!,"AAAAAHj7/V0=") -> #REF! | CQ5: =AND(#REF!,"AAAAAHj7/V4=") -> #REF! | CR5: =AND(#REF!,"AAAAAHj7/V8=") -> #REF! | CS5: =AND(#REF!,"AAAAAHj7/WA=") -> #REF! | CT5: =AND(#REF!,"AAAAAHj7/WE=") -> #REF! | CU5: =IF(#REF!,"AAAAAHj7/WI=",0) -> #REF! | CV5: =AND(#REF!,"AAAAAHj7/WM=") -> #REF! | CW5: =AND(#REF!,"AAAAAHj7/WQ=") -> #REF! | CX5: =AND(#REF!,"AAAAAHj7/WU=") -> #REF! | CY5: =AND(#REF!,"AAAAAHj7/WY=") -> #REF! | CZ5: =AND(#REF!,"AAAAAHj7/Wc=") -> #REF! | DA5: =AND(#REF!,"AAAAAHj7/Wg=") -> #REF! | DB5: =AND(#REF!,"AAAAAHj7/Wk=") -> #REF! | DC5: =AND(#REF!,"AAAAAHj7/Wo=") -> #REF! | DD5: =AND(#REF!,"AAAAAHj7/Ws=") -> #REF! | DE5: =AND(#REF!,"AAAAAHj7/Ww=") -> #REF! | DF5: =AND(#REF!,"AAAAAHj7/W0=") -> #REF! | DG5: =AND(#REF!,"AAAAAHj7/W4=") -> #REF! | DH5: =IF(#REF!,"AAAAAHj7/W8=",0) -> #REF! | DI5: =AND(#REF!,"AAAAAHj7/XA=") -> #REF! | DJ5: =AND(#REF!,"AAAAAHj7/XE=") -> #REF! | DK5: =AND(#REF!,"AAAAAHj7/XI=") -> #REF! | DL5: =AND(#REF!,"AAAAAHj7/XM=") -> #REF! | DM5: =AND(#REF!,"AAAAAHj7/XQ=") -> #REF! | DN5: =AND(#REF!,"AAAAAHj7/XU=") -> #REF! | DO5: =AND(#REF!,"AAAAAHj7/XY=") -> #REF! | DP5: =AND(#REF!,"AAAAAHj7/Xc=") -> #REF! | DQ5: =AND(#REF!,"AAAAAHj7/Xg=") -> #REF! | DR5: =AND(#REF!,"AAAAAHj7/Xk=") -> #REF! | DS5: =AND(#REF!,"AAAAAHj7/Xo=") -> #REF! | DT5: =AND(#REF!,"AAAAAHj7/Xs=") -> #REF! | DU5: =IF(#REF!,"AAAAAHj7/Xw=",0) -> #REF! | DV5: =AND(#REF!,"AAAAAHj7/X0=") -> #REF! | DW5: =AND(#REF!,"AAAAAHj7/X4=") -> #REF! | DX5: =AND(#REF!,"AAAAAHj7/X8=") -> #REF! | DY5: =AND(#REF!,"AAAAAHj7/YA=") -> #REF! | DZ5: =AND(#REF!,"AAAAAHj7/YE=") -> #REF! | EA5: =AND(#REF!,"AAAAAHj7/YI=") -> #REF! | EB5: =AND(#REF!,"AAAAAHj7/YM=") -> #REF! | EC5: =AND(#REF!,"AAAAAHj7/YQ=") -> #REF! | ED5: =AND(#REF!,"AAAAAHj7/YU=") -> #REF! | EE5: =AND(#REF!,"AAAAAHj7/YY=") -> #REF! | EF5: =AND(#REF!,"AAAAAHj7/Yc=") -> #REF! | EG5: =AND(#REF!,"AAAAAHj7/Yg=") -> #REF! | EH5: =IF(#REF!,"AAAAAHj7/Yk=",0) -> #REF! | EI5: =AND(#REF!,"AAAAAHj7/Yo=") -> #REF! | EJ5: =AND(#REF!,"AAAAAHj7/Ys=") -> #REF! | EK5: =AND(#REF!,"AAAAAHj7/Yw=") -> #REF! | EL5: =AND(#REF!,"AAAAAHj7/Y0=") -> #REF! | EM5: =AND(#REF!,"AAAAAHj7/Y4=") -> #REF! | EN5: =AND(#REF!,"AAAAAHj7/Y8=") -> #REF! | EO5: =AND(#REF!,"AAAAAHj7/ZA=") -> #REF! | EP5: =AND(#REF!,"AAAAAHj7/ZE=") -> #REF! | EQ5: =AND(#REF!,"AAAAAHj7/ZI=") -> #REF! | ER5: =AND(#REF!,"AAAAAHj7/ZM=") -> #REF! | ES5: =AND(#REF!,"AAAAAHj7/ZQ=") -> #REF! | ET5: =AND(#REF!,"AAAAAHj7/ZU=") -> #REF! | EU5: =IF(#REF!,"AAAAAHj7/ZY=",0) -> #REF! | EV5: =AND(#REF!,"AAAAAHj7/Zc=") -> #REF! | EW5: =AND(#REF!,"AAAAAHj7/Zg=") -> #REF! | EX5: =AND(#REF!,"AAAAAHj7/Zk=") -> #REF! | EY5: =AND(#REF!,"AAAAAHj7/Zo=") -> #REF! | EZ5: =AND(#REF!,"AAAAAHj7/Zs=") -> #REF! | FA5: =AND(#REF!,"AAAAAHj7/Zw=") -> #REF! | FB5: =AND(#REF!,"AAAAAHj7/Z0=") -> #REF! | FC5: =AND(#REF!,"AAAAAHj7/Z4=") -> #REF! | FD5: =AND(#REF!,"AAAAAHj7/Z8=") -> #REF! | FE5: =AND(#REF!,"AAAAAHj7/aA=") -> #REF! | FF5: =AND(#REF!,"AAAAAHj7/aE=") -> #REF! | FG5: =AND(#REF!,"AAAAAHj7/aI=") -> #REF! | FH5: =IF(#REF!,"AAAAAHj7/aM=",0) -> #REF! | FI5: =AND(#REF!,"AAAAAHj7/aQ=") -> #REF! | FJ5: =AND(#REF!,"AAAAAHj7/aU=") -> #REF! | FK5: =AND(#REF!,"AAAAAHj7/aY=") -> #REF! | FL5: =AND(#REF!,"AAAAAHj7/ac=") -> #REF! | FM5: =AND(#REF!,"AAAAAHj7/ag=") -> #REF! | FN5: =AND(#REF!,"AAAAAHj7/ak=") -> #REF! | FO5: =AND(#REF!,"AAAAAHj7/ao=") -> #REF! | FP5: =AND(#REF!,"AAAAAHj7/as=") -> #REF! | FQ5: =AND(#REF!,"AAAAAHj7/aw=") -> #REF! | FR5: =AND(#REF!,"AAAAAHj7/a0=") -> #REF! | FS5: =AND(#REF!,"AAAAAHj7/a4=") -> #REF! | FT5: =AND(#REF!,"AAAAAHj7/a8=") -> #REF! | FU5: =IF(#REF!,"AAAAAHj7/bA=",0) -> #REF! | FV5: =AND(#REF!,"AAAAAHj7/bE=") -> #REF! | FW5: =AND(#REF!,"AAAAAHj7/bI=") -> #REF! | FX5: =AND(#REF!,"AAAAAHj7/bM=") -> #REF! | FY5: =AND(#REF!,"AAAAAHj7/bQ=") -> #REF! | FZ5: =AND(#REF!,"AAAAAHj7/bU=") -> #REF! | GA5: =AND(#REF!,"AAAAAHj7/bY=") -> #REF! | GB5: =AND(#REF!,"AAAAAHj7/bc=") -> #REF! | GC5: =AND(#REF!,"AAAAAHj7/bg=") -> #REF! | GD5: =AND(#REF!,"AAAAAHj7/bk=") -> #REF! | GE5: =AND(#REF!,"AAAAAHj7/bo=") -> #REF! | GF5: =AND(#REF!,"AAAAAHj7/bs=") -> #REF! | GG5: =AND(#REF!,"AAAAAHj7/bw=") -> #REF! | GH5: =IF(#REF!,"AAAAAHj7/b0=",0) -> #REF! | GI5: =AND(#REF!,"AAAAAHj7/b4=") -> #REF! | GJ5: =AND(#REF!,"AAAAAHj7/b8=") -> #REF! | GK5: =AND(#REF!,"AAAAAHj7/cA=") -> #REF! | GL5: =AND(#REF!,"AAAAAHj7/cE=") -> #REF! | GM5: =AND(#REF!,"AAAAAHj7/cI=") -> #REF! | GN5: =AND(#REF!,"AAAAAHj7/cM=") -> #REF! | GO5: =AND(#REF!,"AAAAAHj7/cQ=") -> #REF! | GP5: =AND(#REF!,"AAAAAHj7/cU=") -> #REF! | GQ5: =AND(#REF!,"AAAAAHj7/cY=") -> #REF! | GR5: =AND(#REF!,"AAAAAHj7/cc=") -> #REF! | GS5: =AND(#REF!,"AAAAAHj7/cg=") -> #REF! | GT5: =AND(#REF!,"AAAAAHj7/ck=") -> #REF! | GU5: =IF(#REF!,"AAAAAHj7/co=",0) -> #REF! | GV5: =AND(#REF!,"AAAAAHj7/cs=") -> #REF! | GW5: =AND(#REF!,"AAAAAHj7/cw=") -> #REF! | GX5: =AND(#REF!,"AAAAAHj7/c0=") -> #REF! | GY5: =AND(#REF!,"AAAAAHj7/c4=") -> #REF! | GZ5: =AND(#REF!,"AAAAAHj7/c8=") -> #REF! | HA5: =AND(#REF!,"AAAAAHj7/dA=") -> #REF! | HB5: =AND(#REF!,"AAAAAHj7/dE=") -> #REF! | HC5: =AND(#REF!,"AAAAAHj7/dI=") -> #REF! | HD5: =AND(#REF!,"AAAAAHj7/dM=") -> #REF! | HE5: =AND(#REF!,"AAAAAHj7/dQ=") -> #REF! | HF5: =AND(#REF!,"AAAAAHj7/dU=") -> #REF! | HG5: =AND(#REF!,"AAAAAHj7/dY=") -> #REF! | HH5: =IF(#REF!,"AAAAAHj7/dc=",0) -> #REF! | HI5: =AND(#REF!,"AAAAAHj7/dg=") -> #REF! | HJ5: =AND(#REF!,"AAAAAHj7/dk=") -> #REF! | HK5: =AND(#REF!,"AAAAAHj7/do=") -> #REF! | HL5: =AND(#REF!,"AAAAAHj7/ds=") -> #REF! | HM5: =AND(#REF!,"AAAAAHj7/dw=") -> #REF! | HN5: =AND(#REF!,"AAAAAHj7/d0=") -> #REF! | HO5: =AND(#REF!,"AAAAAHj7/d4=") -> #REF! | HP5: =AND(#REF!,"AAAAAHj7/d8=") -> #REF! | HQ5: =AND(#REF!,"AAAAAHj7/eA=") -> #REF! | HR5: =AND(#REF!,"AAAAAHj7/eE=") -> #REF! | HS5: =AND(#REF!,"AAAAAHj7/eI=") -> #REF! | HT5: =AND(#REF!,"AAAAAHj7/eM=") -> #REF! | HU5: =IF(#REF!,"AAAAAHj7/eQ=",0) -> #REF! | HV5: =AND(#REF!,"AAAAAHj7/eU=") -> #REF! | HW5: =AND(#REF!,"AAAAAHj7/eY=") -> #REF! | HX5: =AND(#REF!,"AAAAAHj7/ec=") -> #REF! | HY5: =AND(#REF!,"AAAAAHj7/eg=") -> #REF! | HZ5: =AND(#REF!,"AAAAAHj7/ek=") -> #REF! | IA5: =AND(#REF!,"AAAAAHj7/eo=") -> #REF! | IB5: =AND(#REF!,"AAAAAHj7/es=") -> #REF! | IC5: =AND(#REF!,"AAAAAHj7/ew=") -> #REF! | ID5: =AND(#REF!,"AAAAAHj7/e0=") -> #REF! | IE5: =AND(#REF!,"AAAAAHj7/e4=") -> #REF! | IF5: =AND(#REF!,"AAAAAHj7/e8=") -> #REF! | IG5: =AND(#REF!,"AAAAAHj7/fA=") -> #REF! | IH5: =IF(#REF!,"AAAAAHj7/fE=",0) -> #REF! | II5: =AND(#REF!,"AAAAAHj7/fI=") -> #REF! | IJ5: =AND(#REF!,"AAAAAHj7/fM=") -> #REF! | IK5: =AND(#REF!,"AAAAAHj7/fQ=") -> #REF! | IL5: =AND(#REF!,"AAAAAHj7/fU=") -> #REF! | IM5: =AND(#REF!,"AAAAAHj7/fY=") -> #REF! | IN5: =AND(#REF!,"AAAAAHj7/fc=") -> #REF! | IO5: =AND(#REF!,"AAAAAHj7/fg=") -> #REF! | IP5: =AND(#REF!,"AAAAAHj7/fk=") -> #REF! | IQ5: =AND(#REF!,"AAAAAHj7/fo=") -> #REF! | IR5: =AND(#REF!,"AAAAAHj7/fs=") -> #REF! | IS5: =AND(#REF!,"AAAAAHj7/fw=") -> #REF! | IT5: =AND(#REF!,"AAAAAHj7/f0=") -> #REF! | IU5: =IF(#REF!,"AAAAAHj7/f4=",0) -> #REF! | IV5: =AND(#REF!,"AAAAAHj7/f8=") -> #REF!
A6: =AND(#REF!,"AAAAAH3elgA=") -> #REF! | B6: =AND(#REF!,"AAAAAH3elgE=") -> #REF! | C6: =AND(#REF!,"AAAAAH3elgI=") -> #REF! | D6: =AND(#REF!,"AAAAAH3elgM=") -> #REF! | E6: =AND(#REF!,"AAAAAH3elgQ=") -> #REF! | F6: =AND(#REF!,"AAAAAH3elgU=") -> #REF! | G6: =AND(#REF!,"AAAAAH3elgY=") -> #REF! | H6: =AND(#REF!,"AAAAAH3elgc=") -> #REF! | I6: =AND(#REF!,"AAAAAH3elgg=") -> #REF! | J6: =AND(#REF!,"AAAAAH3elgk=") -> #REF! | K6: =AND(#REF!,"AAAAAH3elgo=") -> #REF! | L6: =IF(#REF!,"AAAAAH3elgs=",0) -> #REF! | M6: =AND(#REF!,"AAAAAH3elgw=") -> #REF! | N6: =AND(#REF!,"AAAAAH3elg0=") -> #REF! | O6: =AND(#REF!,"AAAAAH3elg4=") -> #REF! | P6: =AND(#REF!,"AAAAAH3elg8=") -> #REF! | Q6: =AND(#REF!,"AAAAAH3elhA=") -> #REF! | R6: =AND(#REF!,"AAAAAH3elhE=") -> #REF! | S6: =AND(#REF!,"AAAAAH3elhI=") -> #REF! | T6: =AND(#REF!,"AAAAAH3elhM=") -> #REF! | U6: =AND(#REF!,"AAAAAH3elhQ=") -> #REF! | V6: =AND(#REF!,"AAAAAH3elhU=") -> #REF! | W6: =AND(#REF!,"AAAAAH3elhY=") -> #REF! | X6: =AND(#REF!,"AAAAAH3elhc=") -> #REF! | Y6: =IF(#REF!,"AAAAAH3elhg=",0) -> #REF! | Z6: =AND(#REF!,"AAAAAH3elhk=") -> #REF! | AA6: =AND(#REF!,"AAAAAH3elho=") -> #REF! | AB6: =AND(#REF!,"AAAAAH3elhs=") -> #REF! | AC6: =AND(#REF!,"AAAAAH3elhw=") -> #REF! | AD6: =AND(#REF!,"AAAAAH3elh0=") -> #REF! | AE6: =AND(#REF!,"AAAAAH3elh4=") -> #REF! | AF6: =AND(#REF!,"AAAAAH3elh8=") -> #REF! | AG6: =AND(#REF!,"AAAAAH3eliA=") -> #REF! | AH6: =AND(#REF!,"AAAAAH3eliE=") -> #REF! | AI6: =AND(#REF!,"AAAAAH3eliI=") -> #REF! | AJ6: =AND(#REF!,"AAAAAH3eliM=") -> #REF! | AK6: =AND(#REF!,"AAAAAH3eliQ=") -> #REF! | AL6: =IF(#REF!,"AAAAAH3eliU=",0) -> #REF! | AM6: =AND(#REF!,"AAAAAH3eliY=") -> #REF! | AN6: =AND(#REF!,"AAAAAH3elic=") -> #REF! | AO6: =AND(#REF!,"AAAAAH3elig=") -> #REF! | AP6: =AND(#REF!,"AAAAAH3elik=") -> #REF! | AQ6: =AND(#REF!,"AAAAAH3elio=") -> #REF! | AR6: =AND(#REF!,"AAAAAH3elis=") -> #REF! | AS6: =AND(#REF!,"AAAAAH3eliw=") -> #REF! | AT6: =AND(#REF!,"AAAAAH3eli0=") -> #REF! | AU6: =AND(#REF!,"AAAAAH3eli4=") -> #REF! | AV6: =AND(#REF!,"AAAAAH3eli8=") -> #REF! | AW6: =AND(#REF!,"AAAAAH3eljA=") -> #REF! | AX6: =AND(#REF!,"AAAAAH3eljE=") -> #REF! | AY6: =IF(#REF!,"AAAAAH3eljI=",0) -> #REF! | AZ6: =AND(#REF!,"AAAAAH3eljM=") -> #REF! | BA6: =AND(#REF!,"AAAAAH3eljQ=") -> #REF! | BB6: =AND(#REF!,"AAAAAH3eljU=") -> #REF! | BC6: =AND(#REF!,"AAAAAH3eljY=") -> #REF! | BD6: =AND(#REF!,"AAAAAH3eljc=") -> #REF! | BE6: =AND(#REF!,"AAAAAH3eljg=") -> #REF! | BF6: =AND(#REF!,"AAAAAH3eljk=") -> #REF! | BG6: =AND(#REF!,"AAAAAH3eljo=") -> #REF! | BH6: =AND(#REF!,"AAAAAH3eljs=") -> #REF! | BI6: =AND(#REF!,"AAAAAH3eljw=") -> #REF! | BJ6: =AND(#REF!,"AAAAAH3elj0=") -> #REF! | BK6: =AND(#REF!,"AAAAAH3elj4=") -> #REF! | BL6: =IF(#REF!,"AAAAAH3elj8=",0) -> #REF! | BM6: =AND(#REF!,"AAAAAH3elkA=") -> #REF! | BN6: =AND(#REF!,"AAAAAH3elkE=") -> #REF! | BO6: =AND(#REF!,"AAAAAH3elkI=") -> #REF! | BP6: =AND(#REF!,"AAAAAH3elkM=") -> #REF! | BQ6: =AND(#REF!,"AAAAAH3elkQ=") -> #REF! | BR6: =AND(#REF!,"AAAAAH3elkU=") -> #REF! | BS6: =AND(#REF!,"AAAAAH3elkY=") -> #REF! | BT6: =AND(#REF!,"AAAAAH3elkc=") -> #REF! | BU6: =AND(#REF!,"AAAAAH3elkg=") -> #REF! | BV6: =AND(#REF!,"AAAAAH3elkk=") -> #REF! | BW6: =AND(#REF!,"AAAAAH3elko=") -> #REF! | BX6: =AND(#REF!,"AAAAAH3elks=") -> #REF! | BY6: =IF(#REF!,"AAAAAH3elkw=",0) -> #REF! | BZ6: =AND(#REF!,"AAAAAH3elk0=") -> #REF! | CA6: =AND(#REF!,"AAAAAH3elk4=") -> #REF! | CB6: =AND(#REF!,"AAAAAH3elk8=") -> #REF! | CC6: =AND(#REF!,"AAAAAH3ellA=") -> #REF! | CD6: =AND(#REF!,"AAAAAH3ellE=") -> #REF! | CE6: =AND(#REF!,"AAAAAH3ellI=") -> #REF! | CF6: =AND(#REF!,"AAAAAH3ellM=") -> #REF! | CG6: =AND(#REF!,"AAAAAH3ellQ=") -> #REF! | CH6: =AND(#REF!,"AAAAAH3ellU=") -> #REF! | CI6: =AND(#REF!,"AAAAAH3ellY=") -> #REF! | CJ6: =AND(#REF!,"AAAAAH3ellc=") -> #REF! | CK6: =AND(#REF!,"AAAAAH3ellg=") -> #REF! | CL6: =IF(#REF!,"AAAAAH3ellk=",0) -> #REF! | CM6: =AND(#REF!,"AAAAAH3ello=") -> #REF! | CN6: =AND(#REF!,"AAAAAH3ells=") -> #REF! | CO6: =AND(#REF!,"AAAAAH3ellw=") -> #REF! | CP6: =AND(#REF!,"AAAAAH3ell0=") -> #REF! | CQ6: =AND(#REF!,"AAAAAH3ell4=") -> #REF! | CR6: =AND(#REF!,"AAAAAH3ell8=") -> #REF! | CS6: =AND(#REF!,"AAAAAH3elmA=") -> #REF! | CT6: =AND(#REF!,"AAAAAH3elmE=") -> #REF! | CU6: =AND(#REF!,"AAAAAH3elmI=") -> #REF! | CV6: =AND(#REF!,"AAAAAH3elmM=") -> #REF! | CW6: =AND(#REF!,"AAAAAH3elmQ=") -> #REF! | CX6: =AND(#REF!,"AAAAAH3elmU=") -> #REF! | CY6: =IF(#REF!,"AAAAAH3elmY=",0) -> #REF! | CZ6: =AND(#REF!,"AAAAAH3elmc=") -> #REF! | DA6: =AND(#REF!,"AAAAAH3elmg=") -> #REF! | DB6: =AND(#REF!,"AAAAAH3elmk=") -> #REF! | DC6: =AND(#REF!,"AAAAAH3elmo=") -> #REF! | DD6: =AND(#REF!,"AAAAAH3elms=") -> #REF! | DE6: =AND(#REF!,"AAAAAH3elmw=") -> #REF! | DF6: =AND(#REF!,"AAAAAH3elm0=") -> #REF! | DG6: =AND(#REF!,"AAAAAH3elm4=") -> #REF! | DH6: =AND(#REF!,"AAAAAH3elm8=") -> #REF! | DI6: =AND(#REF!,"AAAAAH3elnA=") -> #REF! | DJ6: =AND(#REF!,"AAAAAH3elnE=") -> #REF! | DK6: =AND(#REF!,"AAAAAH3elnI=") -> #REF! | DL6: =IF(#REF!,"AAAAAH3elnM=",0) -> #REF! | DM6: =AND(#REF!,"AAAAAH3elnQ=") -> #REF! | DN6: =AND(#REF!,"AAAAAH3elnU=") -> #REF! | DO6: =AND(#REF!,"AAAAAH3elnY=") -> #REF! | DP6: =AND(#REF!,"AAAAAH3elnc=") -> #REF! | DQ6: =AND(#REF!,"AAAAAH3elng=") -> #REF! | DR6: =AND(#REF!,"AAAAAH3elnk=") -> #REF! | DS6: =AND(#REF!,"AAAAAH3elno=") -> #REF! | DT6: =AND(#REF!,"AAAAAH3elns=") -> #REF! | DU6: =AND(#REF!,"AAAAAH3elnw=") -> #REF! | DV6: =AND(#REF!,"AAAAAH3eln0=") -> #REF! | DW6: =AND(#REF!,"AAAAAH3eln4=") -> #REF! | DX6: =AND(#REF!,"AAAAAH3eln8=") -> #REF! | DY6: =IF(#REF!,"AAAAAH3eloA=",0) -> #REF! | DZ6: =AND(#REF!,"AAAAAH3eloE=") -> #REF! | EA6: =AND(#REF!,"AAAAAH3eloI=") -> #REF! | EB6: =AND(#REF!,"AAAAAH3eloM=") -> #REF! | EC6: =AND(#REF!,"AAAAAH3eloQ=") -> #REF! | ED6: =AND(#REF!,"AAAAAH3eloU=") -> #REF! | EE6: =AND(#REF!,"AAAAAH3eloY=") -> #REF! | EF6: =AND(#REF!,"AAAAAH3eloc=") -> #REF! | EG6: =AND(#REF!,"AAAAAH3elog=") -> #REF! | EH6: =AND(#REF!,"AAAAAH3elok=") -> #REF! | EI6: =AND(#REF!,"AAAAAH3eloo=") -> #REF! | EJ6: =AND(#REF!,"AAAAAH3elos=") -> #REF! | EK6: =AND(#REF!,"AAAAAH3elow=") -> #REF! | EL6: =IF(#REF!,"AAAAAH3elo0=",0) -> #REF! | EM6: =AND(#REF!,"AAAAAH3elo4=") -> #REF! | EN6: =AND(#REF!,"AAAAAH3elo8=") -> #REF! | EO6: =AND(#REF!,"AAAAAH3elpA=") -> #REF! | EP6: =AND(#REF!,"AAAAAH3elpE=") -> #REF! | EQ6: =AND(#REF!,"AAAAAH3elpI=") -> #REF! | ER6: =AND(#REF!,"AAAAAH3elpM=") -> #REF! | ES6: =AND(#REF!,"AAAAAH3elpQ=") -> #REF! | ET6: =AND(#REF!,"AAAAAH3elpU=") -> #REF! | EU6: =AND(#REF!,"AAAAAH3elpY=") -> #REF! | EV6: =AND(#REF!,"AAAAAH3elpc=") -> #REF! | EW6: =AND(#REF!,"AAAAAH3elpg=") -> #REF! | EX6: =AND(#REF!,"AAAAAH3elpk=") -> #REF! | EY6: =IF(#REF!,"AAAAAH3elpo=",0) -> #REF! | EZ6: =AND(#REF!,"AAAAAH3elps=") -> #REF! | FA6: =AND(#REF!,"AAAAAH3elpw=") -> #REF! | FB6: =AND(#REF!,"AAAAAH3elp0=") -> #REF! | FC6: =AND(#REF!,"AAAAAH3elp4=") -> #REF! | FD6: =AND(#REF!,"AAAAAH3elp8=") -> #REF! | FE6: =AND(#REF!,"AAAAAH3elqA=") -> #REF! | FF6: =AND(#REF!,"AAAAAH3elqE=") -> #REF! | FG6: =AND(#REF!,"AAAAAH3elqI=") -> #REF! | FH6: =AND(#REF!,"AAAAAH3elqM=") -> #REF! | FI6: =AND(#REF!,"AAAAAH3elqQ=") -> #REF! | FJ6: =AND(#REF!,"AAAAAH3elqU=") -> #REF! | FK6: =AND(#REF!,"AAAAAH3elqY=") -> #REF! | FL6: =IF(#REF!,"AAAAAH3elqc=",0) -> #REF! | FM6: =AND(#REF!,"AAAAAH3elqg=") -> #REF! | FN6: =AND(#REF!,"AAAAAH3elqk=") -> #REF! | FO6: =AND(#REF!,"AAAAAH3elqo=") -> #REF! | FP6: =AND(#REF!,"AAAAAH3elqs=") -> #REF! | FQ6: =AND(#REF!,"AAAAAH3elqw=") -> #REF! | FR6: =AND(#REF!,"AAAAAH3elq0=") -> #REF! | FS6: =AND(#REF!,"AAAAAH3elq4=") -> #REF! | FT6: =AND(#REF!,"AAAAAH3elq8=") -> #REF! | FU6: =AND(#REF!,"AAAAAH3elrA=") -> #REF! | FV6: =AND(#REF!,"AAAAAH3elrE=") -> #REF! | FW6: =AND(#REF!,"AAAAAH3elrI=") -> #REF! | FX6: =AND(#REF!,"AAAAAH3elrM=") -> #REF! | FY6: =IF(#REF!,"AAAAAH3elrQ=",0) -> #REF! | FZ6: =AND(#REF!,"AAAAAH3elrU=") -> #REF! | GA6: =AND(#REF!,"AAAAAH3elrY=") -> #REF! | GB6: =AND(#REF!,"AAAAAH3elrc=") -> #REF! | GC6: =AND(#REF!,"AAAAAH3elrg=") -> #REF! | GD6: =AND(#REF!,"AAAAAH3elrk=") -> #REF! | GE6: =AND(#REF!,"AAAAAH3elro=") -> #REF! | GF6: =AND(#REF!,"AAAAAH3elrs=") -> #REF! | GG6: =AND(#REF!,"AAAAAH3elrw=") -> #REF! | GH6: =AND(#REF!,"AAAAAH3elr0=") -> #REF! | GI6: =AND(#REF!,"AAAAAH3elr4=") -> #REF! | GJ6: =AND(#REF!,"AAAAAH3elr8=") -> #REF! | GK6: =AND(#REF!,"AAAAAH3elsA=") -> #REF! | GL6: =IF(#REF!,"AAAAAH3elsE=",0) -> #REF! | GM6: =AND(#REF!,"AAAAAH3elsI=") -> #REF! | GN6: =AND(#REF!,"AAAAAH3elsM=") -> #REF! | GO6: =AND(#REF!,"AAAAAH3elsQ=") -> #REF! | GP6: =AND(#REF!,"AAAAAH3elsU=") -> #REF! | GQ6: =AND(#REF!,"AAAAAH3elsY=") -> #REF! | GR6: =AND(#REF!,"AAAAAH3elsc=") -> #REF! | GS6: =AND(#REF!,"AAAAAH3elsg=") -> #REF! | GT6: =AND(#REF!,"AAAAAH3elsk=") -> #REF! | GU6: =AND(#REF!,"AAAAAH3elso=") -> #REF! | GV6: =AND(#REF!,"AAAAAH3elss=") -> #REF! | GW6: =AND(#REF!,"AAAAAH3elsw=") -> #REF! | GX6: =AND(#REF!,"AAAAAH3els0=") -> #REF! | GY6: =IF(#REF!,"AAAAAH3els4=",0) -> #REF! | GZ6: =AND(#REF!,"AAAAAH3els8=") -> #REF! | HA6: =AND(#REF!,"AAAAAH3eltA=") -> #REF! | HB6: =AND(#REF!,"AAAAAH3eltE=") -> #REF! | HC6: =AND(#REF!,"AAAAAH3eltI=") -> #REF! | HD6: =AND(#REF!,"AAAAAH3eltM=") -> #REF! | HE6: =AND(#REF!,"AAAAAH3eltQ=") -> #REF! | HF6: =AND(#REF!,"AAAAAH3eltU=") -> #REF! | HG6: =AND(#REF!,"AAAAAH3eltY=") -> #REF! | HH6: =AND(#REF!,"AAAAAH3eltc=") -> #REF! | HI6: =AND(#REF!,"AAAAAH3eltg=") -> #REF! | HJ6: =AND(#REF!,"AAAAAH3eltk=") -> #REF! | HK6: =AND(#REF!,"AAAAAH3elto=") -> #REF! | HL6: =IF(#REF!,"AAAAAH3elts=",0) -> #REF! | HM6: =AND(#REF!,"AAAAAH3eltw=") -> #REF! | HN6: =AND(#REF!,"AAAAAH3elt0=") -> #REF! | HO6: =AND(#REF!,"AAAAAH3elt4=") -> #REF! | HP6: =AND(#REF!,"AAAAAH3elt8=") -> #REF! | HQ6: =AND(#REF!,"AAAAAH3eluA=") -> #REF! | HR6: =AND(#REF!,"AAAAAH3eluE=") -> #REF! | HS6: =AND(#REF!,"AAAAAH3eluI=") -> #REF! | HT6: =AND(#REF!,"AAAAAH3eluM=") -> #REF! | HU6: =AND(#REF!,"AAAAAH3eluQ=") -> #REF! | HV6: =AND(#REF!,"AAAAAH3eluU=") -> #REF! | HW6: =AND(#REF!,"AAAAAH3eluY=") -> #REF! | HX6: =AND(#REF!,"AAAAAH3eluc=") -> #REF! | HY6: =IF(#REF!,"AAAAAH3elug=",0) -> #REF! | HZ6: =AND(#REF!,"AAAAAH3eluk=") -> #REF! | IA6: =AND(#REF!,"AAAAAH3eluo=") -> #REF! | IB6: =AND(#REF!,"AAAAAH3elus=") -> #REF! | IC6: =AND(#REF!,"AAAAAH3eluw=") -> #REF! | ID6: =AND(#REF!,"AAAAAH3elu0=") -> #REF! | IE6: =AND(#REF!,"AAAAAH3elu4=") -> #REF! | IF6: =AND(#REF!,"AAAAAH3elu8=") -> #REF! | IG6: =AND(#REF!,"AAAAAH3elvA=") -> #REF! | IH6: =AND(#REF!,"AAAAAH3elvE=") -> #REF! | II6: =AND(#REF!,"AAAAAH3elvI=") -> #REF! | IJ6: =AND(#REF!,"AAAAAH3elvM=") -> #REF! | IK6: =AND(#REF!,"AAAAAH3elvQ=") -> #REF! | IL6: =IF(#REF!,"AAAAAH3elvU=",0) -> #REF! | IM6: =AND(#REF!,"AAAAAH3elvY=") -> #REF! | IN6: =AND(#REF!,"AAAAAH3elvc=") -> #REF! | IO6: =AND(#REF!,"AAAAAH3elvg=") -> #REF! | IP6: =AND(#REF!,"AAAAAH3elvk=") -> #REF! | IQ6: =AND(#REF!,"AAAAAH3elvo=") -> #REF! | IR6: =AND(#REF!,"AAAAAH3elvs=") -> #REF! | IS6: =AND(#REF!,"AAAAAH3elvw=") -> #REF! | IT6: =AND(#REF!,"AAAAAH3elv0=") -> #REF! | IU6: =AND(#REF!,"AAAAAH3elv4=") -> #REF! | IV6: =AND(#REF!,"AAAAAH3elv8=") -> #REF!
A7: =AND(#REF!,"AAAAAF9pnQA=") -> #REF! | B7: =AND(#REF!,"AAAAAF9pnQE=") -> #REF! | C7: =IF(#REF!,"AAAAAF9pnQI=",0) -> #REF! | D7: =AND(#REF!,"AAAAAF9pnQM=") -> #REF! | E7: =AND(#REF!,"AAAAAF9pnQQ=") -> #REF! | F7: =AND(#REF!,"AAAAAF9pnQU=") -> #REF! | G7: =AND(#REF!,"AAAAAF9pnQY=") -> #REF! | H7: =AND(#REF!,"AAAAAF9pnQc=") -> #REF! | I7: =AND(#REF!,"AAAAAF9pnQg=") -> #REF! | J7: =AND(#REF!,"AAAAAF9pnQk=") -> #REF! | K7: =AND(#REF!,"AAAAAF9pnQo=") -> #REF! | L7: =AND(#REF!,"AAAAAF9pnQs=") -> #REF! | M7: =AND(#REF!,"AAAAAF9pnQw=") -> #REF! | N7: =AND(#REF!,"AAAAAF9pnQ0=") -> #REF! | O7: =AND(#REF!,"AAAAAF9pnQ4=") -> #REF! | P7: =IF(#REF!,"AAAAAF9pnQ8=",0) -> #REF! | Q7: =AND(#REF!,"AAAAAF9pnRA=") -> #REF! | R7: =AND(#REF!,"AAAAAF9pnRE=") -> #REF! | S7: =AND(#REF!,"AAAAAF9pnRI=") -> #REF! | T7: =AND(#REF!,"AAAAAF9pnRM=") -> #REF! | U7: =AND(#REF!,"AAAAAF9pnRQ=") -> #REF! | V7: =AND(#REF!,"AAAAAF9pnRU=") -> #REF! | W7: =AND(#REF!,"AAAAAF9pnRY=") -> #REF! | X7: =AND(#REF!,"AAAAAF9pnRc=") -> #REF! | Y7: =AND(#REF!,"AAAAAF9pnRg=") -> #REF! | Z7: =AND(#REF!,"AAAAAF9pnRk=") -> #REF! | AA7: =AND(#REF!,"AAAAAF9pnRo=") -> #REF! | AB7: =AND(#REF!,"AAAAAF9pnRs=") -> #REF! | AC7: =IF(#REF!,"AAAAAF9pnRw=",0) -> #REF! | AD7: =AND(#REF!,"AAAAAF9pnR0=") -> #REF! | AE7: =AND(#REF!,"AAAAAF9pnR4=") -> #REF! | AF7: =AND(#REF!,"AAAAAF9pnR8=") -> #REF! | AG7: =AND(#REF!,"AAAAAF9pnSA=") -> #REF! | AH7: =AND(#REF!,"AAAAAF9pnSE=") -> #REF! | AI7: =AND(#REF!,"AAAAAF9pnSI=") -> #REF! | AJ7: =AND(#REF!,"AAAAAF9pnSM=") -> #REF! | AK7: =AND(#REF!,"AAAAAF9pnSQ=") -> #REF! | AL7: =AND(#REF!,"AAAAAF9pnSU=") -> #REF! | AM7: =AND(#REF!,"AAAAAF9pnSY=") -> #REF! | AN7: =AND(#REF!,"AAAAAF9pnSc=") -> #REF! | AO7: =AND(#REF!,"AAAAAF9pnSg=") -> #REF! | AP7: =IF(#REF!,"AAAAAF9pnSk=",0) -> #REF! | AQ7: =AND(#REF!,"AAAAAF9pnSo=") -> #REF! | AR7: =AND(#REF!,"AAAAAF9pnSs=") -> #REF! | AS7: =AND(#REF!,"AAAAAF9pnSw=") -> #REF! | AT7: =AND(#REF!,"AAAAAF9pnS0=") -> #REF! | AU7: =AND(#REF!,"AAAAAF9pnS4=") -> #REF! | AV7: =AND(#REF!,"AAAAAF9pnS8=") -> #REF! | AW7: =AND(#REF!,"AAAAAF9pnTA=") -> #REF! | AX7: =AND(#REF!,"AAAAAF9pnTE=") -> #REF! | AY7: =AND(#REF!,"AAAAAF9pnTI=") -> #REF! | AZ7: =AND(#REF!,"AAAAAF9pnTM=") -> #REF! | BA7: =AND(#REF!,"AAAAAF9pnTQ=") -> #REF! | BB7: =AND(#REF!,"AAAAAF9pnTU=") -> #REF! | BC7: =IF(#REF!,"AAAAAF9pnTY=",0) -> #REF! | BD7: =AND(#REF!,"AAAAAF9pnTc=") -> #REF! | BE7: =AND(#REF!,"AAAAAF9pnTg=") -> #REF! | BF7: =AND(#REF!,"AAAAAF9pnTk=") -> #REF! | BG7: =AND(#REF!,"AAAAAF9pnTo=") -> #REF! | BH7: =AND(#REF!,"AAAAAF9pnTs=") -> #REF! | BI7: =AND(#REF!,"AAAAAF9pnTw=") -> #REF! | BJ7: =AND(#REF!,"AAAAAF9pnT0=") -> #REF! | BK7: =AND(#REF!,"AAAAAF9pnT4=") -> #REF! | BL7: =AND(#REF!,"AAAAAF9pnT8=") -> #REF! | BM7: =AND(#REF!,"AAAAAF9pnUA=") -> #REF! | BN7: =AND(#REF!,"AAAAAF9pnUE=") -> #REF! | BO7: =AND(#REF!,"AAAAAF9pnUI=") -> #REF! | BP7: =IF(#REF!,"AAAAAF9pnUM=",0) -> #REF! | BQ7: =AND(#REF!,"AAAAAF9pnUQ=") -> #REF! | BR7: =AND(#REF!,"AAAAAF9pnUU=") -> #REF! | BS7: =AND(#REF!,"AAAAAF9pnUY=") -> #REF! | BT7: =AND(#REF!,"AAAAAF9pnUc=") -> #REF! | BU7: =AND(#REF!,"AAAAAF9pnUg=") -> #REF! | BV7: =AND(#REF!,"AAAAAF9pnUk=") -> #REF! | BW7: =AND(#REF!,"AAAAAF9pnUo=") -> #REF! | BX7: =AND(#REF!,"AAAAAF9pnUs=") -> #REF! | BY7: =AND(#REF!,"AAAAAF9pnUw=") -> #REF! | BZ7: =AND(#REF!,"AAAAAF9pnU0=") -> #REF! | CA7: =AND(#REF!,"AAAAAF9pnU4=") -> #REF! | CB7: =AND(#REF!,"AAAAAF9pnU8=") -> #REF! | CC7: =IF(#REF!,"AAAAAF9pnVA=",0) -> #REF! | CD7: =AND(#REF!,"AAAAAF9pnVE=") -> #REF! | CE7: =AND(#REF!,"AAAAAF9pnVI=") -> #REF! | CF7: =AND(#REF!,"AAAAAF9pnVM=") -> #REF! | CG7: =AND(#REF!,"AAAAAF9pnVQ=") -> #REF! | CH7: =AND(#REF!,"AAAAAF9pnVU=") -> #REF! | CI7: =AND(#REF!,"AAAAAF9pnVY=") -> #REF! | CJ7: =AND(#REF!,"AAAAAF9pnVc=") -> #REF! | CK7: =AND(#REF!,"AAAAAF9pnVg=") -> #REF! | CL7: =AND(#REF!,"AAAAAF9pnVk=") -> #REF! | CM7: =AND(#REF!,"AAAAAF9pnVo=") -> #REF! | CN7: =AND(#REF!,"AAAAAF9pnVs=") -> #REF! | CO7: =AND(#REF!,"AAAAAF9pnVw=") -> #REF! | CP7: =IF(#REF!,"AAAAAF9pnV0=",0) -> #REF! | CQ7: =AND(#REF!,"AAAAAF9pnV4=") -> #REF! | CR7: =AND(#REF!,"AAAAAF9pnV8=") -> #REF! | CS7: =AND(#REF!,"AAAAAF9pnWA=") -> #REF! | CT7: =AND(#REF!,"AAAAAF9pnWE=") -> #REF! | CU7: =AND(#REF!,"AAAAAF9pnWI=") -> #REF! | CV7: =AND(#REF!,"AAAAAF9pnWM=") -> #REF! | CW7: =AND(#REF!,"AAAAAF9pnWQ=") -> #REF! | CX7: =AND(#REF!,"AAAAAF9pnWU=") -> #REF! | CY7: =AND(#REF!,"AAAAAF9pnWY=") -> #REF! | CZ7: =AND(#REF!,"AAAAAF9pnWc=") -> #REF! | DA7: =AND(#REF!,"AAAAAF9pnWg=") -> #REF! | DB7: =AND(#REF!,"AAAAAF9pnWk=") -> #REF! | DC7: =IF(#REF!,"AAAAAF9pnWo=",0) -> #REF! | DD7: =AND(#REF!,"AAAAAF9pnWs=") -> #REF! | DE7: =AND(#REF!,"AAAAAF9pnWw=") -> #REF! | DF7: =AND(#REF!,"AAAAAF9pnW0=") -> #REF! | DG7: =AND(#REF!,"AAAAAF9pnW4=") -> #REF! | DH7: =AND(#REF!,"AAAAAF9pnW8=") -> #REF! | DI7: =AND(#REF!,"AAAAAF9pnXA=") -> #REF! | DJ7: =AND(#REF!,"AAAAAF9pnXE=") -> #REF! | DK7: =AND(#REF!,"AAAAAF9pnXI=") -> #REF! | DL7: =AND(#REF!,"AAAAAF9pnXM=") -> #REF! | DM7: =AND(#REF!,"AAAAAF9pnXQ=") -> #REF! | DN7: =AND(#REF!,"AAAAAF9pnXU=") -> #REF! | DO7: =AND(#REF!,"AAAAAF9pnXY=") -> #REF! | DP7: =IF(#REF!,"AAAAAF9pnXc=",0) -> #REF! | DQ7: =AND(#REF!,"AAAAAF9pnXg=") -> #REF! | DR7: =AND(#REF!,"AAAAAF9pnXk=") -> #REF! | DS7: =AND(#REF!,"AAAAAF9pnXo=") -> #REF! | DT7: =AND(#REF!,"AAAAAF9pnXs=") -> #REF! | DU7: =AND(#REF!,"AAAAAF9pnXw=") -> #REF! | DV7: =AND(#REF!,"AAAAAF9pnX0=") -> #REF! | DW7: =AND(#REF!,"AAAAAF9pnX4=") -> #REF! | DX7: =AND(#REF!,"AAAAAF9pnX8=") -> #REF! | DY7: =AND(#REF!,"AAAAAF9pnYA=") -> #REF! | DZ7: =AND(#REF!,"AAAAAF9pnYE=") -> #REF! | EA7: =AND(#REF!,"AAAAAF9pnYI=") -> #REF! | EB7: =AND(#REF!,"AAAAAF9pnYM=") -> #REF! | EC7: =IF(#REF!,"AAAAAF9pnYQ=",0) -> #REF! | ED7: =AND(#REF!,"AAAAAF9pnYU=") -> #REF! | EE7: =AND(#REF!,"AAAAAF9pnYY=") -> #REF! | EF7: =AND(#REF!,"AAAAAF9pnYc=") -> #REF! | EG7: =AND(#REF!,"AAAAAF9pnYg=") -> #REF! | EH7: =AND(#REF!,"AAAAAF9pnYk=") -> #REF! | EI7: =AND(#REF!,"AAAAAF9pnYo=") -> #REF! | EJ7: =AND(#REF!,"AAAAAF9pnYs=") -> #REF! | EK7: =AND(#REF!,"AAAAAF9pnYw=") -> #REF! | EL7: =AND(#REF!,"AAAAAF9pnY0=") -> #REF! | EM7: =AND(#REF!,"AAAAAF9pnY4=") -> #REF! | EN7: =AND(#REF!,"AAAAAF9pnY8=") -> #REF! | EO7: =AND(#REF!,"AAAAAF9pnZA=") -> #REF! | EP7: =IF(#REF!,"AAAAAF9pnZE=",0) -> #REF! | EQ7: =AND(#REF!,"AAAAAF9pnZI=") -> #REF! | ER7: =AND(#REF!,"AAAAAF9pnZM=") -> #REF! | ES7: =AND(#REF!,"AAAAAF9pnZQ=") -> #REF! | ET7: =AND(#REF!,"AAAAAF9pnZU=") -> #REF! | EU7: =AND(#REF!,"AAAAAF9pnZY=") -> #REF! | EV7: =AND(#REF!,"AAAAAF9pnZc=") -> #REF! | EW7: =AND(#REF!,"AAAAAF9pnZg=") -> #REF! | EX7: =AND(#REF!,"AAAAAF9pnZk=") -> #REF! | EY7: =AND(#REF!,"AAAAAF9pnZo=") -> #REF! | EZ7: =AND(#REF!,"AAAAAF9pnZs=") -> #REF! | FA7: =AND(#REF!,"AAAAAF9pnZw=") -> #REF! | FB7: =AND(#REF!,"AAAAAF9pnZ0=") -> #REF! | FC7: =IF(#REF!,"AAAAAF9pnZ4=",0) -> #REF! | FD7: =AND(#REF!,"AAAAAF9pnZ8=") -> #REF! | FE7: =AND(#REF!,"AAAAAF9pnaA=") -> #REF! | FF7: =AND(#REF!,"AAAAAF9pnaE=") -> #REF! | FG7: =AND(#REF!,"AAAAAF9pnaI=") -> #REF! | FH7: =AND(#REF!,"AAAAAF9pnaM=") -> #REF! | FI7: =AND(#REF!,"AAAAAF9pnaQ=") -> #REF! | FJ7: =AND(#REF!,"AAAAAF9pnaU=") -> #REF! | FK7: =AND(#REF!,"AAAAAF9pnaY=") -> #REF! | FL7: =AND(#REF!,"AAAAAF9pnac=") -> #REF! | FM7: =AND(#REF!,"AAAAAF9pnag=") -> #REF! | FN7: =AND(#REF!,"AAAAAF9pnak=") -> #REF! | FO7: =AND(#REF!,"AAAAAF9pnao=") -> #REF! | FP7: =IF(#REF!,"AAAAAF9pnas=",0) -> #REF! | FQ7: =AND(#REF!,"AAAAAF9pnaw=") -> #REF! | FR7: =AND(#REF!,"AAAAAF9pna0=") -> #REF! | FS7: =AND(#REF!,"AAAAAF9pna4=") -> #REF! | FT7: =AND(#REF!,"AAAAAF9pna8=") -> #REF! | FU7: =AND(#REF!,"AAAAAF9pnbA=") -> #REF! | FV7: =AND(#REF!,"AAAAAF9pnbE=") -> #REF! | FW7: =AND(#REF!,"AAAAAF9pnbI=") -> #REF! | FX7: =AND(#REF!,"AAAAAF9pnbM=") -> #REF! | FY7: =AND(#REF!,"AAAAAF9pnbQ=") -> #REF! | FZ7: =AND(#REF!,"AAAAAF9pnbU=") -> #REF! | GA7: =AND(#REF!,"AAAAAF9pnbY=") -> #REF! | GB7: =AND(#REF!,"AAAAAF9pnbc=") -> #REF! | GC7: =IF(#REF!,"AAAAAF9pnbg=",0) -> #REF! | GD7: =AND(#REF!,"AAAAAF9pnbk=") -> #REF! | GE7: =AND(#REF!,"AAAAAF9pnbo=") -> #REF! | GF7: =AND(#REF!,"AAAAAF9pnbs=") -> #REF! | GG7: =AND(#REF!,"AAAAAF9pnbw=") -> #REF! | GH7: =AND(#REF!,"AAAAAF9pnb0=") -> #REF! | GI7: =AND(#REF!,"AAAAAF9pnb4=") -> #REF! | GJ7: =AND(#REF!,"AAAAAF9pnb8=") -> #REF! | GK7: =AND(#REF!,"AAAAAF9pncA=") -> #REF! | GL7: =AND(#REF!,"AAAAAF9pncE=") -> #REF! | GM7: =AND(#REF!,"AAAAAF9pncI=") -> #REF! | GN7: =AND(#REF!,"AAAAAF9pncM=") -> #REF! | GO7: =AND(#REF!,"AAAAAF9pncQ=") -> #REF! | GP7: =IF(#REF!,"AAAAAF9pncU=",0) -> #REF! | GQ7: =AND(#REF!,"AAAAAF9pncY=") -> #REF! | GR7: =AND(#REF!,"AAAAAF9pncc=") -> #REF! | GS7: =AND(#REF!,"AAAAAF9pncg=") -> #REF! | GT7: =AND(#REF!,"AAAAAF9pnck=") -> #REF! | GU7: =AND(#REF!,"AAAAAF9pnco=") -> #REF! | GV7: =AND(#REF!,"AAAAAF9pncs=") -> #REF! | GW7: =AND(#REF!,"AAAAAF9pncw=") -> #REF! | GX7: =AND(#REF!,"AAAAAF9pnc0=") -> #REF! | GY7: =AND(#REF!,"AAAAAF9pnc4=") -> #REF! | GZ7: =AND(#REF!,"AAAAAF9pnc8=") -> #REF! | HA7: =AND(#REF!,"AAAAAF9pndA=") -> #REF! | HB7: =AND(#REF!,"AAAAAF9pndE=") -> #REF! | HC7: =IF(#REF!,"AAAAAF9pndI=",0) -> #REF! | HD7: =AND(#REF!,"AAAAAF9pndM=") -> #REF! | HE7: =AND(#REF!,"AAAAAF9pndQ=") -> #REF! | HF7: =AND(#REF!,"AAAAAF9pndU=") -> #REF! | HG7: =AND(#REF!,"AAAAAF9pndY=") -> #REF! | HH7: =AND(#REF!,"AAAAAF9pndc=") -> #REF! | HI7: =AND(#REF!,"AAAAAF9pndg=") -> #REF! | HJ7: =AND(#REF!,"AAAAAF9pndk=") -> #REF! | HK7: =AND(#REF!,"AAAAAF9pndo=") -> #REF! | HL7: =AND(#REF!,"AAAAAF9pnds=") -> #REF! | HM7: =AND(#REF!,"AAAAAF9pndw=") -> #REF! | HN7: =AND(#REF!,"AAAAAF9pnd0=") -> #REF! | HO7: =AND(#REF!,"AAAAAF9pnd4=") -> #REF! | HP7: =IF(#REF!,"AAAAAF9pnd8=",0) -> #REF! | HQ7: =AND(#REF!,"AAAAAF9pneA=") -> #REF! | HR7: =AND(#REF!,"AAAAAF9pneE=") -> #REF! | HS7: =AND(#REF!,"AAAAAF9pneI=") -> #REF! | HT7: =AND(#REF!,"AAAAAF9pneM=") -> #REF! | HU7: =AND(#REF!,"AAAAAF9pneQ=") -> #REF! | HV7: =AND(#REF!,"AAAAAF9pneU=") -> #REF! | HW7: =AND(#REF!,"AAAAAF9pneY=") -> #REF! | HX7: =AND(#REF!,"AAAAAF9pnec=") -> #REF! | HY7: =AND(#REF!,"AAAAAF9pneg=") -> #REF! | HZ7: =AND(#REF!,"AAAAAF9pnek=") -> #REF! | IA7: =AND(#REF!,"AAAAAF9pneo=") -> #REF! | IB7: =AND(#REF!,"AAAAAF9pnes=") -> #REF! | IC7: =IF(#REF!,"AAAAAF9pnew=",0) -> #REF! | ID7: =AND(#REF!,"AAAAAF9pne0=") -> #REF! | IE7: =AND(#REF!,"AAAAAF9pne4=") -> #REF! | IF7: =AND(#REF!,"AAAAAF9pne8=") -> #REF! | IG7: =AND(#REF!,"AAAAAF9pnfA=") -> #REF! | IH7: =AND(#REF!,"AAAAAF9pnfE=") -> #REF! | II7: =AND(#REF!,"AAAAAF9pnfI=") -> #REF! | IJ7: =AND(#REF!,"AAAAAF9pnfM=") -> #REF! | IK7: =AND(#REF!,"AAAAAF9pnfQ=") -> #REF! | IL7: =AND(#REF!,"AAAAAF9pnfU=") -> #REF! | IM7: =AND(#REF!,"AAAAAF9pnfY=") -> #REF! | IN7: =AND(#REF!,"AAAAAF9pnfc=") -> #REF! | IO7: =AND(#REF!,"AAAAAF9pnfg=") -> #REF! | IP7: =IF(#REF!,"AAAAAF9pnfk=",0) -> #REF! | IQ7: =AND(#REF!,"AAAAAF9pnfo=") -> #REF! | IR7: =AND(#REF!,"AAAAAF9pnfs=") -> #REF! | IS7: =AND(#REF!,"AAAAAF9pnfw=") -> #REF! | IT7: =AND(#REF!,"AAAAAF9pnf0=") -> #REF! | IU7: =AND(#REF!,"AAAAAF9pnf4=") -> #REF! | IV7: =AND(#REF!,"AAAAAF9pnf8=") -> #REF!
A8: =AND(#REF!,"AAAAAHJ2fwA=") -> #REF! | B8: =AND(#REF!,"AAAAAHJ2fwE=") -> #REF! | C8: =AND(#REF!,"AAAAAHJ2fwI=") -> #REF! | D8: =AND(#REF!,"AAAAAHJ2fwM=") -> #REF! | E8: =AND(#REF!,"AAAAAHJ2fwQ=") -> #REF! | F8: =AND(#REF!,"AAAAAHJ2fwU=") -> #REF! | G8: =IF(#REF!,"AAAAAHJ2fwY=",0) -> #REF! | H8: =AND(#REF!,"AAAAAHJ2fwc=") -> #REF! | I8: =AND(#REF!,"AAAAAHJ2fwg=") -> #REF! | J8: =AND(#REF!,"AAAAAHJ2fwk=") -> #REF! | K8: =AND(#REF!,"AAAAAHJ2fwo=") -> #REF! | L8: =AND(#REF!,"AAAAAHJ2fws=") -> #REF! | M8: =AND(#REF!,"AAAAAHJ2fww=") -> #REF! | N8: =AND(#REF!,"AAAAAHJ2fw0=") -> #REF! | O8: =AND(#REF!,"AAAAAHJ2fw4=") -> #REF! | P8: =AND(#REF!,"AAAAAHJ2fw8=") -> #REF! | Q8: =AND(#REF!,"AAAAAHJ2fxA=") -> #REF! | R8: =AND(#REF!,"AAAAAHJ2fxE=") -> #REF! | S8: =AND(#REF!,"AAAAAHJ2fxI=") -> #REF! | T8: =IF(#REF!,"AAAAAHJ2fxM=",0) -> #REF! | U8: =AND(#REF!,"AAAAAHJ2fxQ=") -> #REF! | V8: =AND(#REF!,"AAAAAHJ2fxU=") -> #REF! | W8: =AND(#REF!,"AAAAAHJ2fxY=") -> #REF! | X8: =AND(#REF!,"AAAAAHJ2fxc=") -> #REF! | Y8: =AND(#REF!,"AAAAAHJ2fxg=") -> #REF! | Z8: =AND(#REF!,"AAAAAHJ2fxk=") -> #REF! | AA8: =AND(#REF!,"AAAAAHJ2fxo=") -> #REF! | AB8: =AND(#REF!,"AAAAAHJ2fxs=") -> #REF! | AC8: =AND(#REF!,"AAAAAHJ2fxw=") -> #REF! | AD8: =AND(#REF!,"AAAAAHJ2fx0=") -> #REF! | AE8: =AND(#REF!,"AAAAAHJ2fx4=") -> #REF! | AF8: =AND(#REF!,"AAAAAHJ2fx8=") -> #REF! | AG8: =IF(#REF!,"AAAAAHJ2fyA=",0) -> #REF! | AH8: =AND(#REF!,"AAAAAHJ2fyE=") -> #REF! | AI8: =AND(#REF!,"AAAAAHJ2fyI=") -> #REF! | AJ8: =AND(#REF!,"AAAAAHJ2fyM=") -> #REF! | AK8: =AND(#REF!,"AAAAAHJ2fyQ=") -> #REF! | AL8: =AND(#REF!,"AAAAAHJ2fyU=") -> #REF! | AM8: =AND(#REF!,"AAAAAHJ2fyY=") -> #REF! | AN8: =AND(#REF!,"AAAAAHJ2fyc=") -> #REF! | AO8: =AND(#REF!,"AAAAAHJ2fyg=") -> #REF! | AP8: =AND(#REF!,"AAAAAHJ2fyk=") -> #REF! | AQ8: =AND(#REF!,"AAAAAHJ2fyo=") -> #REF! | AR8: =AND(#REF!,"AAAAAHJ2fys=") -> #REF! | AS8: =AND(#REF!,"AAAAAHJ2fyw=") -> #REF! | AT8: =IF(#REF!,"AAAAAHJ2fy0=",0) -> #REF! | AU8: =AND(#REF!,"AAAAAHJ2fy4=") -> #REF! | AV8: =AND(#REF!,"AAAAAHJ2fy8=") -> #REF! | AW8: =AND(#REF!,"AAAAAHJ2fzA=") -> #REF! | AX8: =AND(#REF!,"AAAAAHJ2fzE=") -> #REF! | AY8: =AND(#REF!,"AAAAAHJ2fzI=") -> #REF! | AZ8: =AND(#REF!,"AAAAAHJ2fzM=") -> #REF! | BA8: =AND(#REF!,"AAAAAHJ2fzQ=") -> #REF! | BB8: =AND(#REF!,"AAAAAHJ2fzU=") -> #REF! | BC8: =AND(#REF!,"AAAAAHJ2fzY=") -> #REF! | BD8: =AND(#REF!,"AAAAAHJ2fzc=") -> #REF! | BE8: =AND(#REF!,"AAAAAHJ2fzg=") -> #REF! | BF8: =AND(#REF!,"AAAAAHJ2fzk=") -> #REF! | BG8: =IF(#REF!,"AAAAAHJ2fzo=",0) -> #REF! | BH8: =AND(#REF!,"AAAAAHJ2fzs=") -> #REF! | BI8: =AND(#REF!,"AAAAAHJ2fzw=") -> #REF! | BJ8: =AND(#REF!,"AAAAAHJ2fz0=") -> #REF! | BK8: =AND(#REF!,"AAAAAHJ2fz4=") -> #REF! | BL8: =AND(#REF!,"AAAAAHJ2fz8=") -> #REF! | BM8: =AND(#REF!,"AAAAAHJ2f0A=") -> #REF! | BN8: =AND(#REF!,"AAAAAHJ2f0E=") -> #REF! | BO8: =AND(#REF!,"AAAAAHJ2f0I=") -> #REF! | BP8: =AND(#REF!,"AAAAAHJ2f0M=") -> #REF! | BQ8: =AND(#REF!,"AAAAAHJ2f0Q=") -> #REF! | BR8: =AND(#REF!,"AAAAAHJ2f0U=") -> #REF! | BS8: =AND(#REF!,"AAAAAHJ2f0Y=") -> #REF! | BT8: =IF(#REF!,"AAAAAHJ2f0c=",0) -> #REF! | BU8: =AND(#REF!,"AAAAAHJ2f0g=") -> #REF! | BV8: =AND(#REF!,"AAAAAHJ2f0k=") -> #REF! | BW8: =AND(#REF!,"AAAAAHJ2f0o=") -> #REF! | BX8: =AND(#REF!,"AAAAAHJ2f0s=") -> #REF! | BY8: =AND(#REF!,"AAAAAHJ2f0w=") -> #REF! | BZ8: =AND(#REF!,"AAAAAHJ2f00=") -> #REF! | CA8: =AND(#REF!,"AAAAAHJ2f04=") -> #REF! | CB8: =AND(#REF!,"AAAAAHJ2f08=") -> #REF! | CC8: =AND(#REF!,"AAAAAHJ2f1A=") -> #REF! | CD8: =AND(#REF!,"AAAAAHJ2f1E=") -> #REF! | CE8: =AND(#REF!,"AAAAAHJ2f1I=") -> #REF! | CF8: =AND(#REF!,"AAAAAHJ2f1M=") -> #REF! | CG8: =IF(#REF!,"AAAAAHJ2f1Q=",0) -> #REF! | CH8: =AND(#REF!,"AAAAAHJ2f1U=") -> #REF! | CI8: =AND(#REF!,"AAAAAHJ2f1Y=") -> #REF! | CJ8: =AND(#REF!,"AAAAAHJ2f1c=") -> #REF! | CK8: =AND(#REF!,"AAAAAHJ2f1g=") -> #REF! | CL8: =AND(#REF!,"AAAAAHJ2f1k=") -> #REF! | CM8: =AND(#REF!,"AAAAAHJ2f1o=") -> #REF! | CN8: =AND(#REF!,"AAAAAHJ2f1s=") -> #REF! | CO8: =AND(#REF!,"AAAAAHJ2f1w=") -> #REF! | CP8: =AND(#REF!,"AAAAAHJ2f10=") -> #REF! | CQ8: =AND(#REF!,"AAAAAHJ2f14=") -> #REF! | CR8: =AND(#REF!,"AAAAAHJ2f18=") -> #REF! | CS8: =AND(#REF!,"AAAAAHJ2f2A=") -> #REF! | CT8: =IF(#REF!,"AAAAAHJ2f2E=",0) -> #REF! | CU8: =AND(#REF!,"AAAAAHJ2f2I=") -> #REF! | CV8: =AND(#REF!,"AAAAAHJ2f2M=") -> #REF! | CW8: =AND(#REF!,"AAAAAHJ2f2Q=") -> #REF! | CX8: =AND(#REF!,"AAAAAHJ2f2U=") -> #REF! | CY8: =AND(#REF!,"AAAAAHJ2f2Y=") -> #REF! | CZ8: =AND(#REF!,"AAAAAHJ2f2c=") -> #REF! | DA8: =AND(#REF!,"AAAAAHJ2f2g=") -> #REF! | DB8: =AND(#REF!,"AAAAAHJ2f2k=") -> #REF! | DC8: =AND(#REF!,"AAAAAHJ2f2o=") -> #REF! | DD8: =AND(#REF!,"AAAAAHJ2f2s=") -> #REF! | DE8: =AND(#REF!,"AAAAAHJ2f2w=") -> #REF! | DF8: =AND(#REF!,"AAAAAHJ2f20=") -> #REF! | DG8: =IF(#REF!,"AAAAAHJ2f24=",0) -> #REF! | DH8: =AND(#REF!,"AAAAAHJ2f28=") -> #REF! | DI8: =AND(#REF!,"AAAAAHJ2f3A=") -> #REF! | DJ8: =AND(#REF!,"AAAAAHJ2f3E=") -> #REF! | DK8: =AND(#REF!,"AAAAAHJ2f3I=") -> #REF! | DL8: =AND(#REF!,"AAAAAHJ2f3M=") -> #REF! | DM8: =AND(#REF!,"AAAAAHJ2f3Q=") -> #REF! | DN8: =AND(#REF!,"AAAAAHJ2f3U=") -> #REF! | DO8: =AND(#REF!,"AAAAAHJ2f3Y=") -> #REF! | DP8: =AND(#REF!,"AAAAAHJ2f3c=") -> #REF! | DQ8: =AND(#REF!,"AAAAAHJ2f3g=") -> #REF! | DR8: =AND(#REF!,"AAAAAHJ2f3k=") -> #REF! | DS8: =AND(#REF!,"AAAAAHJ2f3o=") -> #REF! | DT8: =IF(#REF!,"AAAAAHJ2f3s=",0) -> #REF! | DU8: =AND(#REF!,"AAAAAHJ2f3w=") -> #REF! | DV8: =AND(#REF!,"AAAAAHJ2f30=") -> #REF! | DW8: =AND(#REF!,"AAAAAHJ2f34=") -> #REF! | DX8: =AND(#REF!,"AAAAAHJ2f38=") -> #REF! | DY8: =AND(#REF!,"AAAAAHJ2f4A=") -> #REF! | DZ8: =AND(#REF!,"AAAAAHJ2f4E=") -> #REF! | EA8: =AND(#REF!,"AAAAAHJ2f4I=") -> #REF! | EB8: =AND(#REF!,"AAAAAHJ2f4M=") -> #REF! | EC8: =AND(#REF!,"AAAAAHJ2f4Q=") -> #REF! | ED8: =AND(#REF!,"AAAAAHJ2f4U=") -> #REF! | EE8: =AND(#REF!,"AAAAAHJ2f4Y=") -> #REF! | EF8: =AND(#REF!,"AAAAAHJ2f4c=") -> #REF! | EG8: =IF(#REF!,"AAAAAHJ2f4g=",0) -> #REF! | EH8: =AND(#REF!,"AAAAAHJ2f4k=") -> #REF! | EI8: =AND(#REF!,"AAAAAHJ2f4o=") -> #REF! | EJ8: =AND(#REF!,"AAAAAHJ2f4s=") -> #REF! | EK8: =AND(#REF!,"AAAAAHJ2f4w=") -> #REF! | EL8: =AND(#REF!,"AAAAAHJ2f40=") -> #REF! | EM8: =AND(#REF!,"AAAAAHJ2f44=") -> #REF! | EN8: =AND(#REF!,"AAAAAHJ2f48=") -> #REF! | EO8: =AND(#REF!,"AAAAAHJ2f5A=") -> #REF! | EP8: =AND(#REF!,"AAAAAHJ2f5E=") -> #REF! | EQ8: =AND(#REF!,"AAAAAHJ2f5I=") -> #REF! | ER8: =AND(#REF!,"AAAAAHJ2f5M=") -> #REF! | ES8: =AND(#REF!,"AAAAAHJ2f5Q=") -> #REF! | ET8: =IF(#REF!,"AAAAAHJ2f5U=",0) -> #REF! | EU8: =AND(#REF!,"AAAAAHJ2f5Y=") -> #REF! | EV8: =AND(#REF!,"AAAAAHJ2f5c=") -> #REF! | EW8: =AND(#REF!,"AAAAAHJ2f5g=") -> #REF! | EX8: =AND(#REF!,"AAAAAHJ2f5k=") -> #REF! | EY8: =AND(#REF!,"AAAAAHJ2f5o=") -> #REF! | EZ8: =AND(#REF!,"AAAAAHJ2f5s=") -> #REF! | FA8: =AND(#REF!,"AAAAAHJ2f5w=") -> #REF! | FB8: =AND(#REF!,"AAAAAHJ2f50=") -> #REF! | FC8: =AND(#REF!,"AAAAAHJ2f54=") -> #REF! | FD8: =AND(#REF!,"AAAAAHJ2f58=") -> #REF! | FE8: =AND(#REF!,"AAAAAHJ2f6A=") -> #REF! | FF8: =AND(#REF!,"AAAAAHJ2f6E=") -> #REF! | FG8: =IF(#REF!,"AAAAAHJ2f6I=",0) -> #REF! | FH8: =AND(#REF!,"AAAAAHJ2f6M=") -> #REF! | FI8: =AND(#REF!,"AAAAAHJ2f6Q=") -> #REF! | FJ8: =AND(#REF!,"AAAAAHJ2f6U=") -> #REF! | FK8: =AND(#REF!,"AAAAAHJ2f6Y=") -> #REF! | FL8: =AND(#REF!,"AAAAAHJ2f6c=") -> #REF! | FM8: =AND(#REF!,"AAAAAHJ2f6g=") -> #REF! | FN8: =AND(#REF!,"AAAAAHJ2f6k=") -> #REF! | FO8: =AND(#REF!,"AAAAAHJ2f6o=") -> #REF! | FP8: =AND(#REF!,"AAAAAHJ2f6s=") -> #REF! | FQ8: =AND(#REF!,"AAAAAHJ2f6w=") -> #REF! | FR8: =AND(#REF!,"AAAAAHJ2f60=") -> #REF! | FS8: =AND(#REF!,"AAAAAHJ2f64=") -> #REF! | FT8: =IF(#REF!,"AAAAAHJ2f68=",0) -> #REF! | FU8: =AND(#REF!,"AAAAAHJ2f7A=") -> #REF! | FV8: =AND(#REF!,"AAAAAHJ2f7E=") -> #REF! | FW8: =AND(#REF!,"AAAAAHJ2f7I=") -> #REF! | FX8: =AND(#REF!,"AAAAAHJ2f7M=") -> #REF! | FY8: =AND(#REF!,"AAAAAHJ2f7Q=") -> #REF! | FZ8: =AND(#REF!,"AAAAAHJ2f7U=") -> #REF! | GA8: =AND(#REF!,"AAAAAHJ2f7Y=") -> #REF! | GB8: =AND(#REF!,"AAAAAHJ2f7c=") -> #REF! | GC8: =AND(#REF!,"AAAAAHJ2f7g=") -> #REF! | GD8: =AND(#REF!,"AAAAAHJ2f7k=") -> #REF! | GE8: =AND(#REF!,"AAAAAHJ2f7o=") -> #REF! | GF8: =AND(#REF!,"AAAAAHJ2f7s=") -> #REF! | GG8: =IF(#REF!,"AAAAAHJ2f7w=",0) -> #REF! | GH8: =AND(#REF!,"AAAAAHJ2f70=") -> #REF! | GI8: =AND(#REF!,"AAAAAHJ2f74=") -> #REF! | GJ8: =AND(#REF!,"AAAAAHJ2f78=") -> #REF! | GK8: =AND(#REF!,"AAAAAHJ2f8A=") -> #REF! | GL8: =AND(#REF!,"AAAAAHJ2f8E=") -> #REF! | GM8: =AND(#REF!,"AAAAAHJ2f8I=") -> #REF! | GN8: =AND(#REF!,"AAAAAHJ2f8M=") -> #REF! | GO8: =AND(#REF!,"AAAAAHJ2f8Q=") -> #REF! | GP8: =AND(#REF!,"AAAAAHJ2f8U=") -> #REF! | GQ8: =AND(#REF!,"AAAAAHJ2f8Y=") -> #REF! | GR8: =AND(#REF!,"AAAAAHJ2f8c=") -> #REF! | GS8: =AND(#REF!,"AAAAAHJ2f8g=") -> #REF! | GT8: =IF(#REF!,"AAAAAHJ2f8k=",0) -> #REF! | GU8: =AND(#REF!,"AAAAAHJ2f8o=") -> #REF! | GV8: =AND(#REF!,"AAAAAHJ2f8s=") -> #REF! | GW8: =AND(#REF!,"AAAAAHJ2f8w=") -> #REF! | GX8: =AND(#REF!,"AAAAAHJ2f80=") -> #REF! | GY8: =AND(#REF!,"AAAAAHJ2f84=") -> #REF! | GZ8: =AND(#REF!,"AAAAAHJ2f88=") -> #REF! | HA8: =AND(#REF!,"AAAAAHJ2f9A=") -> #REF! | HB8: =AND(#REF!,"AAAAAHJ2f9E=") -> #REF! | HC8: =AND(#REF!,"AAAAAHJ2f9I=") -> #REF! | HD8: =AND(#REF!,"AAAAAHJ2f9M=") -> #REF! | HE8: =AND(#REF!,"AAAAAHJ2f9Q=") -> #REF! | HF8: =AND(#REF!,"AAAAAHJ2f9U=") -> #REF! | HG8: =IF(#REF!,"AAAAAHJ2f9Y=",0) -> #REF! | HH8: =AND(#REF!,"AAAAAHJ2f9c=") -> #REF! | HI8: =AND(#REF!,"AAAAAHJ2f9g=") -> #REF! | HJ8: =AND(#REF!,"AAAAAHJ2f9k=") -> #REF! | HK8: =AND(#REF!,"AAAAAHJ2f9o=") -> #REF! | HL8: =AND(#REF!,"AAAAAHJ2f9s=") -> #REF! | HM8: =AND(#REF!,"AAAAAHJ2f9w=") -> #REF! | HN8: =AND(#REF!,"AAAAAHJ2f90=") -> #REF! | HO8: =AND(#REF!,"AAAAAHJ2f94=") -> #REF! | HP8: =AND(#REF!,"AAAAAHJ2f98=") -> #REF! | HQ8: =AND(#REF!,"AAAAAHJ2f+A=") -> #REF! | HR8: =AND(#REF!,"AAAAAHJ2f+E=") -> #REF! | HS8: =AND(#REF!,"AAAAAHJ2f+I=") -> #REF! | HT8: =IF(#REF!,"AAAAAHJ2f+M=",0) -> #REF! | HU8: =AND(#REF!,"AAAAAHJ2f+Q=") -> #REF! | HV8: =AND(#REF!,"AAAAAHJ2f+U=") -> #REF! | HW8: =AND(#REF!,"AAAAAHJ2f+Y=") -> #REF! | HX8: =AND(#REF!,"AAAAAHJ2f+c=") -> #REF! | HY8: =AND(#REF!,"AAAAAHJ2f+g=") -> #REF! | HZ8: =AND(#REF!,"AAAAAHJ2f+k=") -> #REF! | IA8: =AND(#REF!,"AAAAAHJ2f+o=") -> #REF! | IB8: =AND(#REF!,"AAAAAHJ2f+s=") -> #REF! | IC8: =AND(#REF!,"AAAAAHJ2f+w=") -> #REF! | ID8: =AND(#REF!,"AAAAAHJ2f+0=") -> #REF! | IE8: =AND(#REF!,"AAAAAHJ2f+4=") -> #REF! | IF8: =AND(#REF!,"AAAAAHJ2f+8=") -> #REF! | IG8: =IF(#REF!,"AAAAAHJ2f/A=",0) -> #REF! | IH8: =AND(#REF!,"AAAAAHJ2f/E=") -> #REF! | II8: =AND(#REF!,"AAAAAHJ2f/I=") -> #REF! | IJ8: =AND(#REF!,"AAAAAHJ2f/M=") -> #REF! | IK8: =AND(#REF!,"AAAAAHJ2f/Q=") -> #REF! | IL8: =AND(#REF!,"AAAAAHJ2f/U=") -> #REF! | IM8: =AND(#REF!,"AAAAAHJ2f/Y=") -> #REF! | IN8: =AND(#REF!,"AAAAAHJ2f/c=") -> #REF! | IO8: =AND(#REF!,"AAAAAHJ2f/g=") -> #REF! | IP8: =AND(#REF!,"AAAAAHJ2f/k=") -> #REF! | IQ8: =AND(#REF!,"AAAAAHJ2f/o=") -> #REF! | IR8: =AND(#REF!,"AAAAAHJ2f/s=") -> #REF! | IS8: =AND(#REF!,"AAAAAHJ2f/w=") -> #REF! | IT8: =IF(#REF!,"AAAAAHJ2f/0=",0) -> #REF! | IU8: =AND(#REF!,"AAAAAHJ2f/4=") -> #REF! | IV8: =AND(#REF!,"AAAAAHJ2f/8=") -> #REF!
A9: =AND(#REF!,"AAAAAH9v9gA=") -> #REF! | B9: =AND(#REF!,"AAAAAH9v9gE=") -> #REF! | C9: =AND(#REF!,"AAAAAH9v9gI=") -> #REF! | D9: =AND(#REF!,"AAAAAH9v9gM=") -> #REF! | E9: =AND(#REF!,"AAAAAH9v9gQ=") -> #REF! | F9: =AND(#REF!,"AAAAAH9v9gU=") -> #REF! | G9: =AND(#REF!,"AAAAAH9v9gY=") -> #REF! | H9: =AND(#REF!,"AAAAAH9v9gc=") -> #REF! | I9: =AND(#REF!,"AAAAAH9v9gg=") -> #REF! | J9: =AND(#REF!,"AAAAAH9v9gk=") -> #REF! | K9: =IF(#REF!,"AAAAAH9v9go=",0) -> #REF! | L9: =AND(#REF!,"AAAAAH9v9gs=") -> #REF! | M9: =AND(#REF!,"AAAAAH9v9gw=") -> #REF! | N9: =AND(#REF!,"AAAAAH9v9g0=") -> #REF! | O9: =AND(#REF!,"AAAAAH9v9g4=") -> #REF! | P9: =AND(#REF!,"AAAAAH9v9g8=") -> #REF! | Q9: =AND(#REF!,"AAAAAH9v9hA=") -> #REF! | R9: =AND(#REF!,"AAAAAH9v9hE=") -> #REF! | S9: =AND(#REF!,"AAAAAH9v9hI=") -> #REF! | T9: =AND(#REF!,"AAAAAH9v9hM=") -> #REF! | U9: =AND(#REF!,"AAAAAH9v9hQ=") -> #REF! | V9: =AND(#REF!,"AAAAAH9v9hU=") -> #REF! | W9: =AND(#REF!,"AAAAAH9v9hY=") -> #REF! | X9: =IF(#REF!,"AAAAAH9v9hc=",0) -> #REF! | Y9: =AND(#REF!,"AAAAAH9v9hg=") -> #REF! | Z9: =AND(#REF!,"AAAAAH9v9hk=") -> #REF! | AA9: =AND(#REF!,"AAAAAH9v9ho=") -> #REF! | AB9: =AND(#REF!,"AAAAAH9v9hs=") -> #REF! | AC9: =AND(#REF!,"AAAAAH9v9hw=") -> #REF! | AD9: =AND(#REF!,"AAAAAH9v9h0=") -> #REF! | AE9: =AND(#REF!,"AAAAAH9v9h4=") -> #REF! | AF9: =AND(#REF!,"AAAAAH9v9h8=") -> #REF! | AG9: =AND(#REF!,"AAAAAH9v9iA=") -> #REF! | AH9: =AND(#REF!,"AAAAAH9v9iE=") -> #REF! | AI9: =AND(#REF!,"AAAAAH9v9iI=") -> #REF! | AJ9: =AND(#REF!,"AAAAAH9v9iM=") -> #REF! | AK9: =IF(#REF!,"AAAAAH9v9iQ=",0) -> #REF! | AL9: =AND(#REF!,"AAAAAH9v9iU=") -> #REF! | AM9: =AND(#REF!,"AAAAAH9v9iY=") -> #REF! | AN9: =AND(#REF!,"AAAAAH9v9ic=") -> #REF! | AO9: =AND(#REF!,"AAAAAH9v9ig=") -> #REF! | AP9: =AND(#REF!,"AAAAAH9v9ik=") -> #REF! | AQ9: =AND(#REF!,"AAAAAH9v9io=") -> #REF! | AR9: =AND(#REF!,"AAAAAH9v9is=") -> #REF! | AS9: =AND(#REF!,"AAAAAH9v9iw=") -> #REF! | AT9: =AND(#REF!,"AAAAAH9v9i0=") -> #REF! | AU9: =AND(#REF!,"AAAAAH9v9i4=") -> #REF! | AV9: =AND(#REF!,"AAAAAH9v9i8=") -> #REF! | AW9: =AND(#REF!,"AAAAAH9v9jA=") -> #REF! | AX9: =IF(#REF!,"AAAAAH9v9jE=",0) -> #REF! | AY9: =AND(#REF!,"AAAAAH9v9jI=") -> #REF! | AZ9: =AND(#REF!,"AAAAAH9v9jM=") -> #REF! | BA9: =AND(#REF!,"AAAAAH9v9jQ=") -> #REF! | BB9: =AND(#REF!,"AAAAAH9v9jU=") -> #REF! | BC9: =AND(#REF!,"AAAAAH9v9jY=") -> #REF! | BD9: =AND(#REF!,"AAAAAH9v9jc=") -> #REF! | BE9: =AND(#REF!,"AAAAAH9v9jg=") -> #REF! | BF9: =AND(#REF!,"AAAAAH9v9jk=") -> #REF! | BG9: =AND(#REF!,"AAAAAH9v9jo=") -> #REF! | BH9: =AND(#REF!,"AAAAAH9v9js=") -> #REF! | BI9: =AND(#REF!,"AAAAAH9v9jw=") -> #REF! | BJ9: =AND(#REF!,"AAAAAH9v9j0=") -> #REF! | BK9: =IF(#REF!,"AAAAAH9v9j4=",0) -> #REF! | BL9: =AND(#REF!,"AAAAAH9v9j8=") -> #REF! | BM9: =AND(#REF!,"AAAAAH9v9kA=") -> #REF! | BN9: =AND(#REF!,"AAAAAH9v9kE=") -> #REF! | BO9: =AND(#REF!,"AAAAAH9v9kI=") -> #REF! | BP9: =AND(#REF!,"AAAAAH9v9kM=") -> #REF! | BQ9: =AND(#REF!,"AAAAAH9v9kQ=") -> #REF! | BR9: =AND(#REF!,"AAAAAH9v9kU=") -> #REF! | BS9: =AND(#REF!,"AAAAAH9v9kY=") -> #REF! | BT9: =AND(#REF!,"AAAAAH9v9kc=") -> #REF! | BU9: =AND(#REF!,"AAAAAH9v9kg=") -> #REF! | BV9: =AND(#REF!,"AAAAAH9v9kk=") -> #REF! | BW9: =AND(#REF!,"AAAAAH9v9ko=") -> #REF! | BX9: =IF(#REF!,"AAAAAH9v9ks=",0) -> #REF! | BY9: =AND(#REF!,"AAAAAH9v9kw=") -> #REF! | BZ9: =AND(#REF!,"AAAAAH9v9k0=") -> #REF! | CA9: =AND(#REF!,"AAAAAH9v9k4=") -> #REF! | CB9: =AND(#REF!,"AAAAAH9v9k8=") -> #REF! | CC9: =AND(#REF!,"AAAAAH9v9lA=") -> #REF! | CD9: =AND(#REF!,"AAAAAH9v9lE=") -> #REF! | CE9: =AND(#REF!,"AAAAAH9v9lI=") -> #REF! | CF9: =AND(#REF!,"AAAAAH9v9lM=") -> #REF! | CG9: =AND(#REF!,"AAAAAH9v9lQ=") -> #REF! | CH9: =AND(#REF!,"AAAAAH9v9lU=") -> #REF! | CI9: =AND(#REF!,"AAAAAH9v9lY=") -> #REF! | CJ9: =AND(#REF!,"AAAAAH9v9lc=") -> #REF! | CK9: =IF(#REF!,"AAAAAH9v9lg=",0) -> #REF! | CL9: =AND(#REF!,"AAAAAH9v9lk=") -> #REF! | CM9: =AND(#REF!,"AAAAAH9v9lo=") -> #REF! | CN9: =AND(#REF!,"AAAAAH9v9ls=") -> #REF! | CO9: =AND(#REF!,"AAAAAH9v9lw=") -> #REF! | CP9: =AND(#REF!,"AAAAAH9v9l0=") -> #REF! | CQ9: =AND(#REF!,"AAAAAH9v9l4=") -> #REF! | CR9: =AND(#REF!,"AAAAAH9v9l8=") -> #REF! | CS9: =AND(#REF!,"AAAAAH9v9mA=") -> #REF! | CT9: =AND(#REF!,"AAAAAH9v9mE=") -> #REF! | CU9: =AND(#REF!,"AAAAAH9v9mI=") -> #REF! | CV9: =AND(#REF!,"AAAAAH9v9mM=") -> #REF! | CW9: =AND(#REF!,"AAAAAH9v9mQ=") -> #REF! | CX9: =IF(#REF!,"AAAAAH9v9mU=",0) -> #REF! | CY9: =AND(#REF!,"AAAAAH9v9mY=") -> #REF! | CZ9: =AND(#REF!,"AAAAAH9v9mc=") -> #REF! | DA9: =AND(#REF!,"AAAAAH9v9mg=") -> #REF! | DB9: =AND(#REF!,"AAAAAH9v9mk=") -> #REF! | DC9: =AND(#REF!,"AAAAAH9v9mo=") -> #REF! | DD9: =AND(#REF!,"AAAAAH9v9ms=") -> #REF! | DE9: =AND(#REF!,"AAAAAH9v9mw=") -> #REF! | DF9: =AND(#REF!,"AAAAAH9v9m0=") -> #REF! | DG9: =AND(#REF!,"AAAAAH9v9m4=") -> #REF! | DH9: =AND(#REF!,"AAAAAH9v9m8=") -> #REF! | DI9: =AND(#REF!,"AAAAAH9v9nA=") -> #REF! | DJ9: =AND(#REF!,"AAAAAH9v9nE=") -> #REF! | DK9: =IF(#REF!,"AAAAAH9v9nI=",0) -> #REF! | DL9: =AND(#REF!,"AAAAAH9v9nM=") -> #REF! | DM9: =AND(#REF!,"AAAAAH9v9nQ=") -> #REF! | DN9: =AND(#REF!,"AAAAAH9v9nU=") -> #REF! | DO9: =AND(#REF!,"AAAAAH9v9nY=") -> #REF! | DP9: =AND(#REF!,"AAAAAH9v9nc=") -> #REF! | DQ9: =AND(#REF!,"AAAAAH9v9ng=") -> #REF! | DR9: =AND(#REF!,"AAAAAH9v9nk=") -> #REF! | DS9: =AND(#REF!,"AAAAAH9v9no=") -> #REF! | DT9: =AND(#REF!,"AAAAAH9v9ns=") -> #REF! | DU9: =AND(#REF!,"AAAAAH9v9nw=") -> #REF! | DV9: =AND(#REF!,"AAAAAH9v9n0=") -> #REF! | DW9: =AND(#REF!,"AAAAAH9v9n4=") -> #REF! | DX9: =IF(#REF!,"AAAAAH9v9n8=",0) -> #REF! | DY9: =AND(#REF!,"AAAAAH9v9oA=") -> #REF! | DZ9: =AND(#REF!,"AAAAAH9v9oE=") -> #REF! | EA9: =AND(#REF!,"AAAAAH9v9oI=") -> #REF! | EB9: =AND(#REF!,"AAAAAH9v9oM=") -> #REF! | EC9: =AND(#REF!,"AAAAAH9v9oQ=") -> #REF! | ED9: =AND(#REF!,"AAAAAH9v9oU=") -> #REF! | EE9: =AND(#REF!,"AAAAAH9v9oY=") -> #REF! | EF9: =AND(#REF!,"AAAAAH9v9oc=") -> #REF! | EG9: =AND(#REF!,"AAAAAH9v9og=") -> #REF! | EH9: =AND(#REF!,"AAAAAH9v9ok=") -> #REF! | EI9: =AND(#REF!,"AAAAAH9v9oo=") -> #REF! | EJ9: =AND(#REF!,"AAAAAH9v9os=") -> #REF! | EK9: =IF(#REF!,"AAAAAH9v9ow=",0) -> #REF! | EL9: =AND(#REF!,"AAAAAH9v9o0=") -> #REF! | EM9: =AND(#REF!,"AAAAAH9v9o4=") -> #REF! | EN9: =AND(#REF!,"AAAAAH9v9o8=") -> #REF! | EO9: =AND(#REF!,"AAAAAH9v9pA=") -> #REF! | EP9: =AND(#REF!,"AAAAAH9v9pE=") -> #REF! | EQ9: =AND(#REF!,"AAAAAH9v9pI=") -> #REF! | ER9: =AND(#REF!,"AAAAAH9v9pM=") -> #REF! | ES9: =AND(#REF!,"AAAAAH9v9pQ=") -> #REF! | ET9: =AND(#REF!,"AAAAAH9v9pU=") -> #REF! | EU9: =AND(#REF!,"AAAAAH9v9pY=") -> #REF! | EV9: =AND(#REF!,"AAAAAH9v9pc=") -> #REF! | EW9: =AND(#REF!,"AAAAAH9v9pg=") -> #REF! | EX9: =IF(#REF!,"AAAAAH9v9pk=",0) -> #REF! | EY9: =AND(#REF!,"AAAAAH9v9po=") -> #REF! | EZ9: =AND(#REF!,"AAAAAH9v9ps=") -> #REF! | FA9: =AND(#REF!,"AAAAAH9v9pw=") -> #REF! | FB9: =AND(#REF!,"AAAAAH9v9p0=") -> #REF! | FC9: =AND(#REF!,"AAAAAH9v9p4=") -> #REF! | FD9: =AND(#REF!,"AAAAAH9v9p8=") -> #REF! | FE9: =AND(#REF!,"AAAAAH9v9qA=") -> #REF! | FF9: =AND(#REF!,"AAAAAH9v9qE=") -> #REF! | FG9: =AND(#REF!,"AAAAAH9v9qI=") -> #REF! | FH9: =AND(#REF!,"AAAAAH9v9qM=") -> #REF! | FI9: =AND(#REF!,"AAAAAH9v9qQ=") -> #REF! | FJ9: =AND(#REF!,"AAAAAH9v9qU=") -> #REF! | FK9: =IF(#REF!,"AAAAAH9v9qY=",0) -> #REF! | FL9: =AND(#REF!,"AAAAAH9v9qc=") -> #REF! | FM9: =AND(#REF!,"AAAAAH9v9qg=") -> #REF! | FN9: =AND(#REF!,"AAAAAH9v9qk=") -> #REF! | FO9: =AND(#REF!,"AAAAAH9v9qo=") -> #REF! | FP9: =AND(#REF!,"AAAAAH9v9qs=") -> #REF! | FQ9: =AND(#REF!,"AAAAAH9v9qw=") -> #REF! | FR9: =AND(#REF!,"AAAAAH9v9q0=") -> #REF! | FS9: =AND(#REF!,"AAAAAH9v9q4=") -> #REF! | FT9: =AND(#REF!,"AAAAAH9v9q8=") -> #REF! | FU9: =AND(#REF!,"AAAAAH9v9rA=") -> #REF! | FV9: =AND(#REF!,"AAAAAH9v9rE=") -> #REF! | FW9: =AND(#REF!,"AAAAAH9v9rI=") -> #REF! | FX9: =IF(#REF!,"AAAAAH9v9rM=",0) -> #REF! | FY9: =AND(#REF!,"AAAAAH9v9rQ=") -> #REF! | FZ9: =AND(#REF!,"AAAAAH9v9rU=") -> #REF! | GA9: =AND(#REF!,"AAAAAH9v9rY=") -> #REF! | GB9: =AND(#REF!,"AAAAAH9v9rc=") -> #REF! | GC9: =AND(#REF!,"AAAAAH9v9rg=") -> #REF! | GD9: =AND(#REF!,"AAAAAH9v9rk=") -> #REF! | GE9: =AND(#REF!,"AAAAAH9v9ro=") -> #REF! | GF9: =AND(#REF!,"AAAAAH9v9rs=") -> #REF! | GG9: =AND(#REF!,"AAAAAH9v9rw=") -> #REF! | GH9: =AND(#REF!,"AAAAAH9v9r0=") -> #REF! | GI9: =AND(#REF!,"AAAAAH9v9r4=") -> #REF! | GJ9: =AND(#REF!,"AAAAAH9v9r8=") -> #REF! | GK9: =IF(#REF!,"AAAAAH9v9sA=",0) -> #REF! | GL9: =AND(#REF!,"AAAAAH9v9sE=") -> #REF! | GM9: =AND(#REF!,"AAAAAH9v9sI=") -> #REF! | GN9: =AND(#REF!,"AAAAAH9v9sM=") -> #REF! | GO9: =AND(#REF!,"AAAAAH9v9sQ=") -> #REF! | GP9: =AND(#REF!,"AAAAAH9v9sU=") -> #REF! | GQ9: =AND(#REF!,"AAAAAH9v9sY=") -> #REF! | GR9: =AND(#REF!,"AAAAAH9v9sc=") -> #REF! | GS9: =AND(#REF!,"AAAAAH9v9sg=") -> #REF! | GT9: =AND(#REF!,"AAAAAH9v9sk=") -> #REF! | GU9: =AND(#REF!,"AAAAAH9v9so=") -> #REF! | GV9: =AND(#REF!,"AAAAAH9v9ss=") -> #REF! | GW9: =AND(#REF!,"AAAAAH9v9sw=") -> #REF! | GX9: =IF(#REF!,"AAAAAH9v9s0=",0) -> #REF! | GY9: =AND(#REF!,"AAAAAH9v9s4=") -> #REF! | GZ9: =AND(#REF!,"AAAAAH9v9s8=") -> #REF! | HA9: =AND(#REF!,"AAAAAH9v9tA=") -> #REF! | HB9: =AND(#REF!,"AAAAAH9v9tE=") -> #REF! | HC9: =AND(#REF!,"AAAAAH9v9tI=") -> #REF! | HD9: =AND(#REF!,"AAAAAH9v9tM=") -> #REF! | HE9: =AND(#REF!,"AAAAAH9v9tQ=") -> #REF! | HF9: =AND(#REF!,"AAAAAH9v9tU=") -> #REF! | HG9: =AND(#REF!,"AAAAAH9v9tY=") -> #REF! | HH9: =AND(#REF!,"AAAAAH9v9tc=") -> #REF! | HI9: =AND(#REF!,"AAAAAH9v9tg=") -> #REF! | HJ9: =AND(#REF!,"AAAAAH9v9tk=") -> #REF! | HK9: =IF(#REF!,"AAAAAH9v9to=",0) -> #REF! | HL9: =AND(#REF!,"AAAAAH9v9ts=") -> #REF! | HM9: =AND(#REF!,"AAAAAH9v9tw=") -> #REF! | HN9: =AND(#REF!,"AAAAAH9v9t0=") -> #REF! | HO9: =AND(#REF!,"AAAAAH9v9t4=") -> #REF! | HP9: =AND(#REF!,"AAAAAH9v9t8=") -> #REF! | HQ9: =AND(#REF!,"AAAAAH9v9uA=") -> #REF! | HR9: =AND(#REF!,"AAAAAH9v9uE=") -> #REF! | HS9: =AND(#REF!,"AAAAAH9v9uI=") -> #REF! | HT9: =AND(#REF!,"AAAAAH9v9uM=") -> #REF! | HU9: =AND(#REF!,"AAAAAH9v9uQ=") -> #REF! | HV9: =AND(#REF!,"AAAAAH9v9uU=") -> #REF! | HW9: =AND(#REF!,"AAAAAH9v9uY=") -> #REF! | HX9: =IF(#REF!,"AAAAAH9v9uc=",0) -> #REF! | HY9: =AND(#REF!,"AAAAAH9v9ug=") -> #REF! | HZ9: =AND(#REF!,"AAAAAH9v9uk=") -> #REF! | IA9: =AND(#REF!,"AAAAAH9v9uo=") -> #REF! | IB9: =AND(#REF!,"AAAAAH9v9us=") -> #REF! | IC9: =AND(#REF!,"AAAAAH9v9uw=") -> #REF! | ID9: =AND(#REF!,"AAAAAH9v9u0=") -> #REF! | IE9: =AND(#REF!,"AAAAAH9v9u4=") -> #REF! | IF9: =AND(#REF!,"AAAAAH9v9u8=") -> #REF! | IG9: =AND(#REF!,"AAAAAH9v9vA=") -> #REF! | IH9: =AND(#REF!,"AAAAAH9v9vE=") -> #REF! | II9: =AND(#REF!,"AAAAAH9v9vI=") -> #REF! | IJ9: =AND(#REF!,"AAAAAH9v9vM=") -> #REF! | IK9: =IF(#REF!,"AAAAAH9v9vQ=",0) -> #REF! | IL9: =AND(#REF!,"AAAAAH9v9vU=") -> #REF! | IM9: =AND(#REF!,"AAAAAH9v9vY=") -> #REF! | IN9: =AND(#REF!,"AAAAAH9v9vc=") -> #REF! | IO9: =AND(#REF!,"AAAAAH9v9vg=") -> #REF! | IP9: =AND(#REF!,"AAAAAH9v9vk=") -> #REF! | IQ9: =AND(#REF!,"AAAAAH9v9vo=") -> #REF! | IR9: =AND(#REF!,"AAAAAH9v9vs=") -> #REF! | IS9: =AND(#REF!,"AAAAAH9v9vw=") -> #REF! | IT9: =AND(#REF!,"AAAAAH9v9v0=") -> #REF! | IU9: =AND(#REF!,"AAAAAH9v9v4=") -> #REF! | IV9: =AND(#REF!,"AAAAAH9v9v8=") -> #REF!
A10: =AND(#REF!,"AAAAAFVXzwA=") -> #REF! | B10: =IF(#REF!,"AAAAAFVXzwE=",0) -> #REF! | C10: =AND(#REF!,"AAAAAFVXzwI=") -> #REF! | D10: =AND(#REF!,"AAAAAFVXzwM=") -> #REF! | E10: =AND(#REF!,"AAAAAFVXzwQ=") -> #REF! | F10: =AND(#REF!,"AAAAAFVXzwU=") -> #REF! | G10: =AND(#REF!,"AAAAAFVXzwY=") -> #REF! | H10: =AND(#REF!,"AAAAAFVXzwc=") -> #REF! | I10: =AND(#REF!,"AAAAAFVXzwg=") -> #REF! | J10: =AND(#REF!,"AAAAAFVXzwk=") -> #REF! | K10: =AND(#REF!,"AAAAAFVXzwo=") -> #REF! | L10: =AND(#REF!,"AAAAAFVXzws=") -> #REF! | M10: =AND(#REF!,"AAAAAFVXzww=") -> #REF! | N10: =AND(#REF!,"AAAAAFVXzw0=") -> #REF! | O10: =IF(#REF!,"AAAAAFVXzw4=",0) -> #REF! | P10: =AND(#REF!,"AAAAAFVXzw8=") -> #REF! | Q10: =AND(#REF!,"AAAAAFVXzxA=") -> #REF! | R10: =AND(#REF!,"AAAAAFVXzxE=") -> #REF! | S10: =AND(#REF!,"AAAAAFVXzxI=") -> #REF! | T10: =AND(#REF!,"AAAAAFVXzxM=") -> #REF! | U10: =AND(#REF!,"AAAAAFVXzxQ=") -> #REF! | V10: =AND(#REF!,"AAAAAFVXzxU=") -> #REF! | W10: =AND(#REF!,"AAAAAFVXzxY=") -> #REF! | X10: =AND(#REF!,"AAAAAFVXzxc=") -> #REF! | Y10: =AND(#REF!,"AAAAAFVXzxg=") -> #REF! | Z10: =AND(#REF!,"AAAAAFVXzxk=") -> #REF! | AA10: =AND(#REF!,"AAAAAFVXzxo=") -> #REF! | AB10: =IF(#REF!,"AAAAAFVXzxs=",0) -> #REF! | AC10: =AND(#REF!,"AAAAAFVXzxw=") -> #REF! | AD10: =AND(#REF!,"AAAAAFVXzx0=") -> #REF! | AE10: =AND(#REF!,"AAAAAFVXzx4=") -> #REF! | AF10: =AND(#REF!,"AAAAAFVXzx8=") -> #REF! | AG10: =AND(#REF!,"AAAAAFVXzyA=") -> #REF! | AH10: =AND(#REF!,"AAAAAFVXzyE=") -> #REF! | AI10: =AND(#REF!,"AAAAAFVXzyI=") -> #REF! | AJ10: =AND(#REF!,"AAAAAFVXzyM=") -> #REF! | AK10: =AND(#REF!,"AAAAAFVXzyQ=") -> #REF! | AL10: =AND(#REF!,"AAAAAFVXzyU=") -> #REF! | AM10: =AND(#REF!,"AAAAAFVXzyY=") -> #REF! | AN10: =AND(#REF!,"AAAAAFVXzyc=") -> #REF! | AO10: =IF(#REF!,"AAAAAFVXzyg=",0) -> #REF! | AP10: =AND(#REF!,"AAAAAFVXzyk=") -> #REF! | AQ10: =AND(#REF!,"AAAAAFVXzyo=") -> #REF! | AR10: =AND(#REF!,"AAAAAFVXzys=") -> #REF! | AS10: =AND(#REF!,"AAAAAFVXzyw=") -> #REF! | AT10: =AND(#REF!,"AAAAAFVXzy0=") -> #REF! | AU10: =AND(#REF!,"AAAAAFVXzy4=") -> #REF! | AV10: =AND(#REF!,"AAAAAFVXzy8=") -> #REF! | AW10: =AND(#REF!,"AAAAAFVXzzA=") -> #REF! | AX10: =AND(#REF!,"AAAAAFVXzzE=") -> #REF! | AY10: =AND(#REF!,"AAAAAFVXzzI=") -> #REF! | AZ10: =AND(#REF!,"AAAAAFVXzzM=") -> #REF! | BA10: =AND(#REF!,"AAAAAFVXzzQ=") -> #REF! | BB10: =IF(#REF!,"AAAAAFVXzzU=",0) -> #REF! | BC10: =AND(#REF!,"AAAAAFVXzzY=") -> #REF! | BD10: =AND(#REF!,"AAAAAFVXzzc=") -> #REF! | BE10: =AND(#REF!,"AAAAAFVXzzg=") -> #REF! | BF10: =AND(#REF!,"AAAAAFVXzzk=") -> #REF! | BG10: =AND(#REF!,"AAAAAFVXzzo=") -> #REF! | BH10: =AND(#REF!,"AAAAAFVXzzs=") -> #REF! | BI10: =AND(#REF!,"AAAAAFVXzzw=") -> #REF! | BJ10: =AND(#REF!,"AAAAAFVXzz0=") -> #REF! | BK10: =AND(#REF!,"AAAAAFVXzz4=") -> #REF! | BL10: =AND(#REF!,"AAAAAFVXzz8=") -> #REF! | BM10: =AND(#REF!,"AAAAAFVXz0A=") -> #REF! | BN10: =AND(#REF!,"AAAAAFVXz0E=") -> #REF! | BO10: =IF(#REF!,"AAAAAFVXz0I=",0) -> #REF! | BP10: =AND(#REF!,"AAAAAFVXz0M=") -> #REF! | BQ10: =AND(#REF!,"AAAAAFVXz0Q=") -> #REF! | BR10: =AND(#REF!,"AAAAAFVXz0U=") -> #REF! | BS10: =AND(#REF!,"AAAAAFVXz0Y=") -> #REF! | BT10: =AND(#REF!,"AAAAAFVXz0c=") -> #REF! | BU10: =AND(#REF!,"AAAAAFVXz0g=") -> #REF! | BV10: =AND(#REF!,"AAAAAFVXz0k=") -> #REF! | BW10: =AND(#REF!,"AAAAAFVXz0o=") -> #REF! | BX10: =AND(#REF!,"AAAAAFVXz0s=") -> #REF! | BY10: =AND(#REF!,"AAAAAFVXz0w=") -> #REF! | BZ10: =AND(#REF!,"AAAAAFVXz00=") -> #REF! | CA10: =AND(#REF!,"AAAAAFVXz04=") -> #REF! | CB10: =IF(#REF!,"AAAAAFVXz08=",0) -> #REF! | CC10: =AND(#REF!,"AAAAAFVXz1A=") -> #REF! | CD10: =AND(#REF!,"AAAAAFVXz1E=") -> #REF! | CE10: =AND(#REF!,"AAAAAFVXz1I=") -> #REF! | CF10: =AND(#REF!,"AAAAAFVXz1M=") -> #REF! | CG10: =AND(#REF!,"AAAAAFVXz1Q=") -> #REF! | CH10: =AND(#REF!,"AAAAAFVXz1U=") -> #REF! | CI10: =AND(#REF!,"AAAAAFVXz1Y=") -> #REF! | CJ10: =AND(#REF!,"AAAAAFVXz1c=") -> #REF! | CK10: =AND(#REF!,"AAAAAFVXz1g=") -> #REF! | CL10: =AND(#REF!,"AAAAAFVXz1k=") -> #REF! | CM10: =AND(#REF!,"AAAAAFVXz1o=") -> #REF! | CN10: =AND(#REF!,"AAAAAFVXz1s=") -> #REF! | CO10: =IF(#REF!,"AAAAAFVXz1w=",0) -> #REF! | CP10: =AND(#REF!,"AAAAAFVXz10=") -> #REF! | CQ10: =AND(#REF!,"AAAAAFVXz14=") -> #REF! | CR10: =AND(#REF!,"AAAAAFVXz18=") -> #REF! | CS10: =AND(#REF!,"AAAAAFVXz2A=") -> #REF! | CT10: =AND(#REF!,"AAAAAFVXz2E=") -> #REF! | CU10: =AND(#REF!,"AAAAAFVXz2I=") -> #REF! | CV10: =AND(#REF!,"AAAAAFVXz2M=") -> #REF! | CW10: =AND(#REF!,"AAAAAFVXz2Q=") -> #REF! | CX10: =AND(#REF!,"AAAAAFVXz2U=") -> #REF! | CY10: =AND(#REF!,"AAAAAFVXz2Y=") -> #REF! | CZ10: =AND(#REF!,"AAAAAFVXz2c=") -> #REF! | DA10: =AND(#REF!,"AAAAAFVXz2g=") -> #REF! | DB10: =IF(#REF!,"AAAAAFVXz2k=",0) -> #REF! | DC10: =AND(#REF!,"AAAAAFVXz2o=") -> #REF! | DD10: =AND(#REF!,"AAAAAFVXz2s=") -> #REF! | DE10: =AND(#REF!,"AAAAAFVXz2w=") -> #REF! | DF10: =AND(#REF!,"AAAAAFVXz20=") -> #REF! | DG10: =AND(#REF!,"AAAAAFVXz24=") -> #REF! | DH10: =AND(#REF!,"AAAAAFVXz28=") -> #REF! | DI10: =AND(#REF!,"AAAAAFVXz3A=") -> #REF! | DJ10: =AND(#REF!,"AAAAAFVXz3E=") -> #REF! | DK10: =AND(#REF!,"AAAAAFVXz3I=") -> #REF! | DL10: =AND(#REF!,"AAAAAFVXz3M=") -> #REF! | DM10: =AND(#REF!,"AAAAAFVXz3Q=") -> #REF! | DN10: =AND(#REF!,"AAAAAFVXz3U=") -> #REF! | DO10: =IF(#REF!,"AAAAAFVXz3Y=",0) -> #REF! | DP10: =AND(#REF!,"AAAAAFVXz3c=") -> #REF! | DQ10: =AND(#REF!,"AAAAAFVXz3g=") -> #REF! | DR10: =AND(#REF!,"AAAAAFVXz3k=") -> #REF! | DS10: =AND(#REF!,"AAAAAFVXz3o=") -> #REF! | DT10: =AND(#REF!,"AAAAAFVXz3s=") -> #REF! | DU10: =AND(#REF!,"AAAAAFVXz3w=") -> #REF! | DV10: =AND(#REF!,"AAAAAFVXz30=") -> #REF! | DW10: =AND(#REF!,"AAAAAFVXz34=") -> #REF! | DX10: =AND(#REF!,"AAAAAFVXz38=") -> #REF! | DY10: =AND(#REF!,"AAAAAFVXz4A=") -> #REF! | DZ10: =AND(#REF!,"AAAAAFVXz4E=") -> #REF! | EA10: =AND(#REF!,"AAAAAFVXz4I=") -> #REF! | EB10: =IF(#REF!,"AAAAAFVXz4M=",0) -> #REF! | EC10: =AND(#REF!,"AAAAAFVXz4Q=") -> #REF! | ED10: =AND(#REF!,"AAAAAFVXz4U=") -> #REF! | EE10: =AND(#REF!,"AAAAAFVXz4Y=") -> #REF! | EF10: =AND(#REF!,"AAAAAFVXz4c=") -> #REF! | EG10: =AND(#REF!,"AAAAAFVXz4g=") -> #REF! | EH10: =AND(#REF!,"AAAAAFVXz4k=") -> #REF! | EI10: =AND(#REF!,"AAAAAFVXz4o=") -> #REF! | EJ10: =AND(#REF!,"AAAAAFVXz4s=") -> #REF! | EK10: =AND(#REF!,"AAAAAFVXz4w=") -> #REF! | EL10: =AND(#REF!,"AAAAAFVXz40=") -> #REF! | EM10: =AND(#REF!,"AAAAAFVXz44=") -> #REF! | EN10: =AND(#REF!,"AAAAAFVXz48=") -> #REF! | EO10: =IF(#REF!,"AAAAAFVXz5A=",0) -> #REF! | EP10: =AND(#REF!,"AAAAAFVXz5E=") -> #REF! | EQ10: =AND(#REF!,"AAAAAFVXz5I=") -> #REF! | ER10: =AND(#REF!,"AAAAAFVXz5M=") -> #REF! | ES10: =AND(#REF!,"AAAAAFVXz5Q=") -> #REF! | ET10: =AND(#REF!,"AAAAAFVXz5U=") -> #REF! | EU10: =AND(#REF!,"AAAAAFVXz5Y=") -> #REF! | EV10: =AND(#REF!,"AAAAAFVXz5c=") -> #REF! | EW10: =AND(#REF!,"AAAAAFVXz5g=") -> #REF! | EX10: =AND(#REF!,"AAAAAFVXz5k=") -> #REF! | EY10: =AND(#REF!,"AAAAAFVXz5o=") -> #REF! | EZ10: =AND(#REF!,"AAAAAFVXz5s=") -> #REF! | FA10: =AND(#REF!,"AAAAAFVXz5w=") -> #REF! | FB10: =IF(#REF!,"AAAAAFVXz50=",0) -> #REF! | FC10: =AND(#REF!,"AAAAAFVXz54=") -> #REF! | FD10: =AND(#REF!,"AAAAAFVXz58=") -> #REF! | FE10: =AND(#REF!,"AAAAAFVXz6A=") -> #REF! | FF10: =AND(#REF!,"AAAAAFVXz6E=") -> #REF! | FG10: =AND(#REF!,"AAAAAFVXz6I=") -> #REF! | FH10: =AND(#REF!,"AAAAAFVXz6M=") -> #REF! | FI10: =AND(#REF!,"AAAAAFVXz6Q=") -> #REF! | FJ10: =AND(#REF!,"AAAAAFVXz6U=") -> #REF! | FK10: =AND(#REF!,"AAAAAFVXz6Y=") -> #REF! | FL10: =AND(#REF!,"AAAAAFVXz6c=") -> #REF! | FM10: =AND(#REF!,"AAAAAFVXz6g=") -> #REF! | FN10: =AND(#REF!,"AAAAAFVXz6k=") -> #REF! | FO10: =IF(#REF!,"AAAAAFVXz6o=",0) -> #REF! | FP10: =AND(#REF!,"AAAAAFVXz6s=") -> #REF! | FQ10: =AND(#REF!,"AAAAAFVXz6w=") -> #REF! | FR10: =AND(#REF!,"AAAAAFVXz60=") -> #REF! | FS10: =AND(#REF!,"AAAAAFVXz64=") -> #REF! | FT10: =AND(#REF!,"AAAAAFVXz68=") -> #REF! | FU10: =AND(#REF!,"AAAAAFVXz7A=") -> #REF! | FV10: =AND(#REF!,"AAAAAFVXz7E=") -> #REF! | FW10: =AND(#REF!,"AAAAAFVXz7I=") -> #REF! | FX10: =AND(#REF!,"AAAAAFVXz7M=") -> #REF! | FY10: =AND(#REF!,"AAAAAFVXz7Q=") -> #REF! | FZ10: =AND(#REF!,"AAAAAFVXz7U=") -> #REF! | GA10: =AND(#REF!,"AAAAAFVXz7Y=") -> #REF! | GB10: =IF(#REF!,"AAAAAFVXz7c=",0) -> #REF! | GC10: =AND(#REF!,"AAAAAFVXz7g=") -> #REF! | GD10: =AND(#REF!,"AAAAAFVXz7k=") -> #REF! | GE10: =AND(#REF!,"AAAAAFVXz7o=") -> #REF! | GF10: =AND(#REF!,"AAAAAFVXz7s=") -> #REF! | GG10: =AND(#REF!,"AAAAAFVXz7w=") -> #REF! | GH10: =AND(#REF!,"AAAAAFVXz70=") -> #REF! | GI10: =AND(#REF!,"AAAAAFVXz74=") -> #REF! | GJ10: =AND(#REF!,"AAAAAFVXz78=") -> #REF! | GK10: =AND(#REF!,"AAAAAFVXz8A=") -> #REF! | GL10: =AND(#REF!,"AAAAAFVXz8E=") -> #REF! | GM10: =AND(#REF!,"AAAAAFVXz8I=") -> #REF! | GN10: =AND(#REF!,"AAAAAFVXz8M=") -> #REF! | GO10: =IF(#REF!,"AAAAAFVXz8Q=",0) -> #REF! | GP10: =AND(#REF!,"AAAAAFVXz8U=") -> #REF! | GQ10: =AND(#REF!,"AAAAAFVXz8Y=") -> #REF! | GR10: =AND(#REF!,"AAAAAFVXz8c=") -> #REF! | GS10: =AND(#REF!,"AAAAAFVXz8g=") -> #REF! | GT10: =AND(#REF!,"AAAAAFVXz8k=") -> #REF! | GU10: =AND(#REF!,"AAAAAFVXz8o=") -> #REF! | GV10: =AND(#REF!,"AAAAAFVXz8s=") -> #REF! | GW10: =AND(#REF!,"AAAAAFVXz8w=") -> #REF! | GX10: =AND(#REF!,"AAAAAFVXz80=") -> #REF! | GY10: =AND(#REF!,"AAAAAFVXz84=") -> #REF! | GZ10: =AND(#REF!,"AAAAAFVXz88=") -> #REF! | HA10: =AND(#REF!,"AAAAAFVXz9A=") -> #REF! | HB10: =IF(#REF!,"AAAAAFVXz9E=",0) -> #REF! | HC10: =AND(#REF!,"AAAAAFVXz9I=") -> #REF! | HD10: =AND(#REF!,"AAAAAFVXz9M=") -> #REF! | HE10: =AND(#REF!,"AAAAAFVXz9Q=") -> #REF! | HF10: =AND(#REF!,"AAAAAFVXz9U=") -> #REF! | HG10: =AND(#REF!,"AAAAAFVXz9Y=") -> #REF! | HH10: =AND(#REF!,"AAAAAFVXz9c=") -> #REF! | HI10: =AND(#REF!,"AAAAAFVXz9g=") -> #REF! | HJ10: =AND(#REF!,"AAAAAFVXz9k=") -> #REF! | HK10: =AND(#REF!,"AAAAAFVXz9o=") -> #REF! | HL10: =AND(#REF!,"AAAAAFVXz9s=") -> #REF! | HM10: =AND(#REF!,"AAAAAFVXz9w=") -> #REF! | HN10: =AND(#REF!,"AAAAAFVXz90=") -> #REF! | HO10: =IF(#REF!,"AAAAAFVXz94=",0) -> #REF! | HP10: =AND(#REF!,"AAAAAFVXz98=") -> #REF! | HQ10: =AND(#REF!,"AAAAAFVXz+A=") -> #REF! | HR10: =AND(#REF!,"AAAAAFVXz+E=") -> #REF! | HS10: =AND(#REF!,"AAAAAFVXz+I=") -> #REF! | HT10: =AND(#REF!,"AAAAAFVXz+M=") -> #REF! | HU10: =AND(#REF!,"AAAAAFVXz+Q=") -> #REF! | HV10: =AND(#REF!,"AAAAAFVXz+U=") -> #REF! | HW10: =AND(#REF!,"AAAAAFVXz+Y=") -> #REF! | HX10: =AND(#REF!,"AAAAAFVXz+c=") -> #REF! | HY10: =AND(#REF!,"AAAAAFVXz+g=") -> #REF! | HZ10: =AND(#REF!,"AAAAAFVXz+k=") -> #REF! | IA10: =AND(#REF!,"AAAAAFVXz+o=") -> #REF! | IB10: =IF(#REF!,"AAAAAFVXz+s=",0) -> #REF! | IC10: =AND(#REF!,"AAAAAFVXz+w=") -> #REF! | ID10: =AND(#REF!,"AAAAAFVXz+0=") -> #REF! | IE10: =AND(#REF!,"AAAAAFVXz+4=") -> #REF! | IF10: =AND(#REF!,"AAAAAFVXz+8=") -> #REF! | IG10: =AND(#REF!,"AAAAAFVXz/A=") -> #REF! | IH10: =AND(#REF!,"AAAAAFVXz/E=") -> #REF! | II10: =AND(#REF!,"AAAAAFVXz/I=") -> #REF! | IJ10: =AND(#REF!,"AAAAAFVXz/M=") -> #REF! | IK10: =AND(#REF!,"AAAAAFVXz/Q=") -> #REF! | IL10: =AND(#REF!,"AAAAAFVXz/U=") -> #REF! | IM10: =AND(#REF!,"AAAAAFVXz/Y=") -> #REF! | IN10: =AND(#REF!,"AAAAAFVXz/c=") -> #REF! | IO10: =IF(#REF!,"AAAAAFVXz/g=",0) -> #REF! | IP10: =AND(#REF!,"AAAAAFVXz/k=") -> #REF! | IQ10: =AND(#REF!,"AAAAAFVXz/o=") -> #REF! | IR10: =AND(#REF!,"AAAAAFVXz/s=") -> #REF! | IS10: =AND(#REF!,"AAAAAFVXz/w=") -> #REF! | IT10: =AND(#REF!,"AAAAAFVXz/0=") -> #REF! | IU10: =AND(#REF!,"AAAAAFVXz/4=") -> #REF! | IV10: =AND(#REF!,"AAAAAFVXz/8=") -> #REF!
A11: =AND(#REF!,"AAAAAF1X/wA=") -> #REF! | B11: =AND(#REF!,"AAAAAF1X/wE=") -> #REF! | C11: =AND(#REF!,"AAAAAF1X/wI=") -> #REF! | D11: =AND(#REF!,"AAAAAF1X/wM=") -> #REF! | E11: =AND(#REF!,"AAAAAF1X/wQ=") -> #REF! | F11: =IF(#REF!,"AAAAAF1X/wU=",0) -> #REF! | G11: =AND(#REF!,"AAAAAF1X/wY=") -> #REF! | H11: =AND(#REF!,"AAAAAF1X/wc=") -> #REF! | I11: =AND(#REF!,"AAAAAF1X/wg=") -> #REF! | J11: =AND(#REF!,"AAAAAF1X/wk=") -> #REF! | K11: =AND(#REF!,"AAAAAF1X/wo=") -> #REF! | L11: =AND(#REF!,"AAAAAF1X/ws=") -> #REF! | M11: =AND(#REF!,"AAAAAF1X/ww=") -> #REF! | N11: =AND(#REF!,"AAAAAF1X/w0=") -> #REF! | O11: =AND(#REF!,"AAAAAF1X/w4=") -> #REF! | P11: =AND(#REF!,"AAAAAF1X/w8=") -> #REF! | Q11: =AND(#REF!,"AAAAAF1X/xA=") -> #REF! | R11: =AND(#REF!,"AAAAAF1X/xE=") -> #REF! | S11: =IF(#REF!,"AAAAAF1X/xI=",0) -> #REF! | T11: =AND(#REF!,"AAAAAF1X/xM=") -> #REF! | U11: =AND(#REF!,"AAAAAF1X/xQ=") -> #REF! | V11: =AND(#REF!,"AAAAAF1X/xU=") -> #REF! | W11: =AND(#REF!,"AAAAAF1X/xY=") -> #REF! | X11: =AND(#REF!,"AAAAAF1X/xc=") -> #REF! | Y11: =AND(#REF!,"AAAAAF1X/xg=") -> #REF! | Z11: =AND(#REF!,"AAAAAF1X/xk=") -> #REF! | AA11: =AND(#REF!,"AAAAAF1X/xo=") -> #REF! | AB11: =AND(#REF!,"AAAAAF1X/xs=") -> #REF! | AC11: =AND(#REF!,"AAAAAF1X/xw=") -> #REF! | AD11: =AND(#REF!,"AAAAAF1X/x0=") -> #REF! | AE11: =AND(#REF!,"AAAAAF1X/x4=") -> #REF! | AF11: =IF(#REF!,"AAAAAF1X/x8=",0) -> #REF! | AG11: =AND(#REF!,"AAAAAF1X/yA=") -> #REF! | AH11: =AND(#REF!,"AAAAAF1X/yE=") -> #REF! | AI11: =AND(#REF!,"AAAAAF1X/yI=") -> #REF! | AJ11: =AND(#REF!,"AAAAAF1X/yM=") -> #REF! | AK11: =AND(#REF!,"AAAAAF1X/yQ=") -> #REF! | AL11: =AND(#REF!,"AAAAAF1X/yU=") -> #REF! | AM11: =AND(#REF!,"AAAAAF1X/yY=") -> #REF! | AN11: =AND(#REF!,"AAAAAF1X/yc=") -> #REF! | AO11: =AND(#REF!,"AAAAAF1X/yg=") -> #REF! | AP11: =AND(#REF!,"AAAAAF1X/yk=") -> #REF! | AQ11: =AND(#REF!,"AAAAAF1X/yo=") -> #REF! | AR11: =AND(#REF!,"AAAAAF1X/ys=") -> #REF! | AS11: =IF(#REF!,"AAAAAF1X/yw=",0) -> #REF! | AT11: =AND(#REF!,"AAAAAF1X/y0=") -> #REF! | AU11: =AND(#REF!,"AAAAAF1X/y4=") -> #REF! | AV11: =AND(#REF!,"AAAAAF1X/y8=") -> #REF! | AW11: =AND(#REF!,"AAAAAF1X/zA=") -> #REF! | AX11: =AND(#REF!,"AAAAAF1X/zE=") -> #REF! | AY11: =AND(#REF!,"AAAAAF1X/zI=") -> #REF! | AZ11: =AND(#REF!,"AAAAAF1X/zM=") -> #REF! | BA11: =AND(#REF!,"AAAAAF1X/zQ=") -> #REF! | BB11: =AND(#REF!,"AAAAAF1X/zU=") -> #REF! | BC11: =AND(#REF!,"AAAAAF1X/zY=") -> #REF! | BD11: =AND(#REF!,"AAAAAF1X/zc=") -> #REF! | BE11: =AND(#REF!,"AAAAAF1X/zg=") -> #REF! | BF11: =IF(#REF!,"AAAAAF1X/zk=",0) -> #REF! | BG11: =AND(#REF!,"AAAAAF1X/zo=") -> #REF! | BH11: =AND(#REF!,"AAAAAF1X/zs=") -> #REF! | BI11: =AND(#REF!,"AAAAAF1X/zw=") -> #REF! | BJ11: =AND(#REF!,"AAAAAF1X/z0=") -> #REF! | BK11: =AND(#REF!,"AAAAAF1X/z4=") -> #REF! | BL11: =AND(#REF!,"AAAAAF1X/z8=") -> #REF! | BM11: =AND(#REF!,"AAAAAF1X/0A=") -> #REF! | BN11: =AND(#REF!,"AAAAAF1X/0E=") -> #REF! | BO11: =AND(#REF!,"AAAAAF1X/0I=") -> #REF! | BP11: =AND(#REF!,"AAAAAF1X/0M=") -> #REF! | BQ11: =AND(#REF!,"AAAAAF1X/0Q=") -> #REF! | BR11: =AND(#REF!,"AAAAAF1X/0U=") -> #REF! | BS11: =IF(#REF!,"AAAAAF1X/0Y=",0) -> #REF! | BT11: =AND(#REF!,"AAAAAF1X/0c=") -> #REF! | BU11: =AND(#REF!,"AAAAAF1X/0g=") -> #REF! | BV11: =AND(#REF!,"AAAAAF1X/0k=") -> #REF! | BW11: =AND(#REF!,"AAAAAF1X/0o=") -> #REF! | BX11: =AND(#REF!,"AAAAAF1X/0s=") -> #REF! | BY11: =AND(#REF!,"AAAAAF1X/0w=") -> #REF! | BZ11: =AND(#REF!,"AAAAAF1X/00=") -> #REF! | CA11: =AND(#REF!,"AAAAAF1X/04=") -> #REF! | CB11: =AND(#REF!,"AAAAAF1X/08=") -> #REF! | CC11: =AND(#REF!,"AAAAAF1X/1A=") -> #REF! | CD11: =AND(#REF!,"AAAAAF1X/1E=") -> #REF! | CE11: =AND(#REF!,"AAAAAF1X/1I=") -> #REF! | CF11: =IF(#REF!,"AAAAAF1X/1M=",0) -> #REF! | CG11: =AND(#REF!,"AAAAAF1X/1Q=") -> #REF! | CH11: =AND(#REF!,"AAAAAF1X/1U=") -> #REF! | CI11: =AND(#REF!,"AAAAAF1X/1Y=") -> #REF! | CJ11: =AND(#REF!,"AAAAAF1X/1c=") -> #REF! | CK11: =AND(#REF!,"AAAAAF1X/1g=") -> #REF! | CL11: =AND(#REF!,"AAAAAF1X/1k=") -> #REF! | CM11: =AND(#REF!,"AAAAAF1X/1o=") -> #REF! | CN11: =AND(#REF!,"AAAAAF1X/1s=") -> #REF! | CO11: =AND(#REF!,"AAAAAF1X/1w=") -> #REF! | CP11: =AND(#REF!,"AAAAAF1X/10=") -> #REF! | CQ11: =AND(#REF!,"AAAAAF1X/14=") -> #REF! | CR11: =AND(#REF!,"AAAAAF1X/18=") -> #REF! | CS11: =IF(#REF!,"AAAAAF1X/2A=",0) -> #REF! | CT11: =AND(#REF!,"AAAAAF1X/2E=") -> #REF! | CU11: =AND(#REF!,"AAAAAF1X/2I=") -> #REF! | CV11: =AND(#REF!,"AAAAAF1X/2M=") -> #REF! | CW11: =AND(#REF!,"AAAAAF1X/2Q=") -> #REF! | CX11: =AND(#REF!,"AAAAAF1X/2U=") -> #REF! | CY11: =AND(#REF!,"AAAAAF1X/2Y=") -> #REF! | CZ11: =AND(#REF!,"AAAAAF1X/2c=") -> #REF! | DA11: =AND(#REF!,"AAAAAF1X/2g=") -> #REF! | DB11: =AND(#REF!,"AAAAAF1X/2k=") -> #REF! | DC11: =AND(#REF!,"AAAAAF1X/2o=") -> #REF! | DD11: =AND(#REF!,"AAAAAF1X/2s=") -> #REF! | DE11: =AND(#REF!,"AAAAAF1X/2w=") -> #REF! | DF11: =IF(#REF!,"AAAAAF1X/20=",0) -> #REF! | DG11: =AND(#REF!,"AAAAAF1X/24=") -> #REF! | DH11: =AND(#REF!,"AAAAAF1X/28=") -> #REF! | DI11: =AND(#REF!,"AAAAAF1X/3A=") -> #REF! | DJ11: =AND(#REF!,"AAAAAF1X/3E=") -> #REF! | DK11: =AND(#REF!,"AAAAAF1X/3I=") -> #REF! | DL11: =AND(#REF!,"AAAAAF1X/3M=") -> #REF! | DM11: =AND(#REF!,"AAAAAF1X/3Q=") -> #REF! | DN11: =AND(#REF!,"AAAAAF1X/3U=") -> #REF! | DO11: =AND(#REF!,"AAAAAF1X/3Y=") -> #REF! | DP11: =AND(#REF!,"AAAAAF1X/3c=") -> #REF! | DQ11: =AND(#REF!,"AAAAAF1X/3g=") -> #REF! | DR11: =AND(#REF!,"AAAAAF1X/3k=") -> #REF! | DS11: =IF(#REF!,"AAAAAF1X/3o=",0) -> #REF! | DT11: =AND(#REF!,"AAAAAF1X/3s=") -> #REF! | DU11: =AND(#REF!,"AAAAAF1X/3w=") -> #REF! | DV11: =AND(#REF!,"AAAAAF1X/30=") -> #REF! | DW11: =AND(#REF!,"AAAAAF1X/34=") -> #REF! | DX11: =AND(#REF!,"AAAAAF1X/38=") -> #REF! | DY11: =AND(#REF!,"AAAAAF1X/4A=") -> #REF! | DZ11: =AND(#REF!,"AAAAAF1X/4E=") -> #REF! | EA11: =AND(#REF!,"AAAAAF1X/4I=") -> #REF! | EB11: =AND(#REF!,"AAAAAF1X/4M=") -> #REF! | EC11: =AND(#REF!,"AAAAAF1X/4Q=") -> #REF! | ED11: =AND(#REF!,"AAAAAF1X/4U=") -> #REF! | EE11: =AND(#REF!,"AAAAAF1X/4Y=") -> #REF! | EF11: =IF(#REF!,"AAAAAF1X/4c=",0) -> #REF! | EG11: =AND(#REF!,"AAAAAF1X/4g=") -> #REF! | EH11: =AND(#REF!,"AAAAAF1X/4k=") -> #REF! | EI11: =AND(#REF!,"AAAAAF1X/4o=") -> #REF! | EJ11: =AND(#REF!,"AAAAAF1X/4s=") -> #REF! | EK11: =AND(#REF!,"AAAAAF1X/4w=") -> #REF! | EL11: =AND(#REF!,"AAAAAF1X/40=") -> #REF! | EM11: =AND(#REF!,"AAAAAF1X/44=") -> #REF! | EN11: =AND(#REF!,"AAAAAF1X/48=") -> #REF! | EO11: =AND(#REF!,"AAAAAF1X/5A=") -> #REF! | EP11: =AND(#REF!,"AAAAAF1X/5E=") -> #REF! | EQ11: =AND(#REF!,"AAAAAF1X/5I=") -> #REF! | ER11: =AND(#REF!,"AAAAAF1X/5M=") -> #REF! | ES11: =IF(#REF!,"AAAAAF1X/5Q=",0) -> #REF! | ET11: =AND(#REF!,"AAAAAF1X/5U=") -> #REF! | EU11: =AND(#REF!,"AAAAAF1X/5Y=") -> #REF! | EV11: =AND(#REF!,"AAAAAF1X/5c=") -> #REF! | EW11: =AND(#REF!,"AAAAAF1X/5g=") -> #REF! | EX11: =AND(#REF!,"AAAAAF1X/5k=") -> #REF! | EY11: =AND(#REF!,"AAAAAF1X/5o=") -> #REF! | EZ11: =AND(#REF!,"AAAAAF1X/5s=") -> #REF! | FA11: =AND(#REF!,"AAAAAF1X/5w=") -> #REF! | FB11: =AND(#REF!,"AAAAAF1X/50=") -> #REF! | FC11: =AND(#REF!,"AAAAAF1X/54=") -> #REF! | FD11: =AND(#REF!,"AAAAAF1X/58=") -> #REF! | FE11: =AND(#REF!,"AAAAAF1X/6A=") -> #REF! | FF11: =IF(#REF!,"AAAAAF1X/6E=",0) -> #REF! | FG11: =AND(#REF!,"AAAAAF1X/6I=") -> #REF! | FH11: =AND(#REF!,"AAAAAF1X/6M=") -> #REF! | FI11: =AND(#REF!,"AAAAAF1X/6Q=") -> #REF! | FJ11: =AND(#REF!,"AAAAAF1X/6U=") -> #REF! | FK11: =AND(#REF!,"AAAAAF1X/6Y=") -> #REF! | FL11: =AND(#REF!,"AAAAAF1X/6c=") -> #REF! | FM11: =AND(#REF!,"AAAAAF1X/6g=") -> #REF! | FN11: =AND(#REF!,"AAAAAF1X/6k=") -> #REF! | FO11: =AND(#REF!,"AAAAAF1X/6o=") -> #REF! | FP11: =AND(#REF!,"AAAAAF1X/6s=") -> #REF! | FQ11: =AND(#REF!,"AAAAAF1X/6w=") -> #REF! | FR11: =AND(#REF!,"AAAAAF1X/60=") -> #REF! | FS11: =IF(#REF!,"AAAAAF1X/64=",0) -> #REF! | FT11: =AND(#REF!,"AAAAAF1X/68=") -> #REF! | FU11: =AND(#REF!,"AAAAAF1X/7A=") -> #REF! | FV11: =AND(#REF!,"AAAAAF1X/7E=") -> #REF! | FW11: =AND(#REF!,"AAAAAF1X/7I=") -> #REF! | FX11: =AND(#REF!,"AAAAAF1X/7M=") -> #REF! | FY11: =AND(#REF!,"AAAAAF1X/7Q=") -> #REF! | FZ11: =AND(#REF!,"AAAAAF1X/7U=") -> #REF! | GA11: =AND(#REF!,"AAAAAF1X/7Y=") -> #REF! | GB11: =AND(#REF!,"AAAAAF1X/7c=") -> #REF! | GC11: =AND(#REF!,"AAAAAF1X/7g=") -> #REF! | GD11: =AND(#REF!,"AAAAAF1X/7k=") -> #REF! | GE11: =AND(#REF!,"AAAAAF1X/7o=") -> #REF! | GF11: =IF(#REF!,"AAAAAF1X/7s=",0) -> #REF! | GG11: =AND(#REF!,"AAAAAF1X/7w=") -> #REF! | GH11: =AND(#REF!,"AAAAAF1X/70=") -> #REF! | GI11: =AND(#REF!,"AAAAAF1X/74=") -> #REF! | GJ11: =AND(#REF!,"AAAAAF1X/78=") -> #REF! | GK11: =AND(#REF!,"AAAAAF1X/8A=") -> #REF! | GL11: =AND(#REF!,"AAAAAF1X/8E=") -> #REF! | GM11: =AND(#REF!,"AAAAAF1X/8I=") -> #REF! | GN11: =AND(#REF!,"AAAAAF1X/8M=") -> #REF! | GO11: =AND(#REF!,"AAAAAF1X/8Q=") -> #REF! | GP11: =AND(#REF!,"AAAAAF1X/8U=") -> #REF! | GQ11: =AND(#REF!,"AAAAAF1X/8Y=") -> #REF! | GR11: =AND(#REF!,"AAAAAF1X/8c=") -> #REF! | GS11: =IF(#REF!,"AAAAAF1X/8g=",0) -> #REF! | GT11: =AND(#REF!,"AAAAAF1X/8k=") -> #REF! | GU11: =AND(#REF!,"AAAAAF1X/8o=") -> #REF! | GV11: =AND(#REF!,"AAAAAF1X/8s=") -> #REF! | GW11: =AND(#REF!,"AAAAAF1X/8w=") -> #REF! | GX11: =AND(#REF!,"AAAAAF1X/80=") -> #REF! | GY11: =AND(#REF!,"AAAAAF1X/84=") -> #REF! | GZ11: =AND(#REF!,"AAAAAF1X/88=") -> #REF! | HA11: =AND(#REF!,"AAAAAF1X/9A=") -> #REF! | HB11: =AND(#REF!,"AAAAAF1X/9E=") -> #REF! | HC11: =AND(#REF!,"AAAAAF1X/9I=") -> #REF! | HD11: =AND(#REF!,"AAAAAF1X/9M=") -> #REF! | HE11: =AND(#REF!,"AAAAAF1X/9Q=") -> #REF! | HF11: =IF(#REF!,"AAAAAF1X/9U=",0) -> #REF! | HG11: =AND(#REF!,"AAAAAF1X/9Y=") -> #REF! | HH11: =AND(#REF!,"AAAAAF1X/9c=") -> #REF! | HI11: =AND(#REF!,"AAAAAF1X/9g=") -> #REF! | HJ11: =AND(#REF!,"AAAAAF1X/9k=") -> #REF! | HK11: =AND(#REF!,"AAAAAF1X/9o=") -> #REF! | HL11: =AND(#REF!,"AAAAAF1X/9s=") -> #REF! | HM11: =AND(#REF!,"AAAAAF1X/9w=") -> #REF! | HN11: =AND(#REF!,"AAAAAF1X/90=") -> #REF! | HO11: =AND(#REF!,"AAAAAF1X/94=") -> #REF! | HP11: =AND(#REF!,"AAAAAF1X/98=") -> #REF! | HQ11: =AND(#REF!,"AAAAAF1X/+A=") -> #REF! | HR11: =AND(#REF!,"AAAAAF1X/+E=") -> #REF! | HS11: =IF(#REF!,"AAAAAF1X/+I=",0) -> #REF! | HT11: =AND(#REF!,"AAAAAF1X/+M=") -> #REF! | HU11: =AND(#REF!,"AAAAAF1X/+Q=") -> #REF! | HV11: =AND(#REF!,"AAAAAF1X/+U=") -> #REF! | HW11: =AND(#REF!,"AAAAAF1X/+Y=") -> #REF! | HX11: =AND(#REF!,"AAAAAF1X/+c=") -> #REF! | HY11: =AND(#REF!,"AAAAAF1X/+g=") -> #REF! | HZ11: =AND(#REF!,"AAAAAF1X/+k=") -> #REF! | IA11: =AND(#REF!,"AAAAAF1X/+o=") -> #REF! | IB11: =AND(#REF!,"AAAAAF1X/+s=") -> #REF! | IC11: =AND(#REF!,"AAAAAF1X/+w=") -> #REF! | ID11: =AND(#REF!,"AAAAAF1X/+0=") -> #REF! | IE11: =AND(#REF!,"AAAAAF1X/+4=") -> #REF! | IF11: =IF(#REF!,"AAAAAF1X/+8=",0) -> #REF! | IG11: =AND(#REF!,"AAAAAF1X//A=") -> #REF! | IH11: =AND(#REF!,"AAAAAF1X//E=") -> #REF! | II11: =AND(#REF!,"AAAAAF1X//I=") -> #REF! | IJ11: =AND(#REF!,"AAAAAF1X//M=") -> #REF! | IK11: =AND(#REF!,"AAAAAF1X//Q=") -> #REF! | IL11: =AND(#REF!,"AAAAAF1X//U=") -> #REF! | IM11: =AND(#REF!,"AAAAAF1X//Y=") -> #REF! | IN11: =AND(#REF!,"AAAAAF1X//c=") -> #REF! | IO11: =AND(#REF!,"AAAAAF1X//g=") -> #REF! | IP11: =AND(#REF!,"AAAAAF1X//k=") -> #REF! | IQ11: =AND(#REF!,"AAAAAF1X//o=") -> #REF! | IR11: =AND(#REF!,"AAAAAF1X//s=") -> #REF! | IS11: =IF(#REF!,"AAAAAF1X//w=",0) -> #REF! | IT11: =AND(#REF!,"AAAAAF1X//0=") -> #REF! | IU11: =AND(#REF!,"AAAAAF1X//4=") -> #REF! | IV11: =AND(#REF!,"AAAAAF1X//8=") -> #REF!
A12: =AND(#REF!,"AAAAAH1H/wA=") -> #REF! | B12: =AND(#REF!,"AAAAAH1H/wE=") -> #REF! | C12: =AND(#REF!,"AAAAAH1H/wI=") -> #REF! | D12: =AND(#REF!,"AAAAAH1H/wM=") -> #REF! | E12: =AND(#REF!,"AAAAAH1H/wQ=") -> #REF! | F12: =AND(#REF!,"AAAAAH1H/wU=") -> #REF! | G12: =AND(#REF!,"AAAAAH1H/wY=") -> #REF! | H12: =AND(#REF!,"AAAAAH1H/wc=") -> #REF! | I12: =AND(#REF!,"AAAAAH1H/wg=") -> #REF! | J12: =IF(#REF!,"AAAAAH1H/wk=",0) -> #REF! | K12: =AND(#REF!,"AAAAAH1H/wo=") -> #REF! | L12: =AND(#REF!,"AAAAAH1H/ws=") -> #REF! | M12: =AND(#REF!,"AAAAAH1H/ww=") -> #REF! | N12: =AND(#REF!,"AAAAAH1H/w0=") -> #REF! | O12: =AND(#REF!,"AAAAAH1H/w4=") -> #REF! | P12: =AND(#REF!,"AAAAAH1H/w8=") -> #REF! | Q12: =AND(#REF!,"AAAAAH1H/xA=") -> #REF! | R12: =AND(#REF!,"AAAAAH1H/xE=") -> #REF! | S12: =AND(#REF!,"AAAAAH1H/xI=") -> #REF! | T12: =AND(#REF!,"AAAAAH1H/xM=") -> #REF! | U12: =AND(#REF!,"AAAAAH1H/xQ=") -> #REF! | V12: =AND(#REF!,"AAAAAH1H/xU=") -> #REF! | W12: =IF(#REF!,"AAAAAH1H/xY=",0) -> #REF! | X12: =AND(#REF!,"AAAAAH1H/xc=") -> #REF! | Y12: =AND(#REF!,"AAAAAH1H/xg=") -> #REF! | Z12: =AND(#REF!,"AAAAAH1H/xk=") -> #REF! | AA12: =AND(#REF!,"AAAAAH1H/xo=") -> #REF! | AB12: =AND(#REF!,"AAAAAH1H/xs=") -> #REF! | AC12: =AND(#REF!,"AAAAAH1H/xw=") -> #REF! | AD12: =AND(#REF!,"AAAAAH1H/x0=") -> #REF! | AE12: =AND(#REF!,"AAAAAH1H/x4=") -> #REF! | AF12: =AND(#REF!,"AAAAAH1H/x8=") -> #REF! | AG12: =AND(#REF!,"AAAAAH1H/yA=") -> #REF! | AH12: =AND(#REF!,"AAAAAH1H/yE=") -> #REF! | AI12: =AND(#REF!,"AAAAAH1H/yI=") -> #REF! | AJ12: =IF(#REF!,"AAAAAH1H/yM=",0) -> #REF! | AK12: =AND(#REF!,"AAAAAH1H/yQ=") -> #REF! | AL12: =AND(#REF!,"AAAAAH1H/yU=") -> #REF! | AM12: =AND(#REF!,"AAAAAH1H/yY=") -> #REF! | AN12: =AND(#REF!,"AAAAAH1H/yc=") -> #REF! | AO12: =AND(#REF!,"AAAAAH1H/yg=") -> #REF! | AP12: =AND(#REF!,"AAAAAH1H/yk=") -> #REF! | AQ12: =AND(#REF!,"AAAAAH1H/yo=") -> #REF! | AR12: =AND(#REF!,"AAAAAH1H/ys=") -> #REF! | AS12: =AND(#REF!,"AAAAAH1H/yw=") -> #REF! | AT12: =AND(#REF!,"AAAAAH1H/y0=") -> #REF! | AU12: =AND(#REF!,"AAAAAH1H/y4=") -> #REF! | AV12: =AND(#REF!,"AAAAAH1H/y8=") -> #REF! | AW12: =IF(#REF!,"AAAAAH1H/zA=",0) -> #REF! | AX12: =AND(#REF!,"AAAAAH1H/zE=") -> #REF! | AY12: =AND(#REF!,"AAAAAH1H/zI=") -> #REF! | AZ12: =AND(#REF!,"AAAAAH1H/zM=") -> #REF! | BA12: =AND(#REF!,"AAAAAH1H/zQ=") -> #REF! | BB12: =AND(#REF!,"AAAAAH1H/zU=") -> #REF! | BC12: =AND(#REF!,"AAAAAH1H/zY=") -> #REF! | BD12: =AND(#REF!,"AAAAAH1H/zc=") -> #REF! | BE12: =AND(#REF!,"AAAAAH1H/zg=") -> #REF! | BF12: =AND(#REF!,"AAAAAH1H/zk=") -> #REF! | BG12: =AND(#REF!,"AAAAAH1H/zo=") -> #REF! | BH12: =AND(#REF!,"AAAAAH1H/zs=") -> #REF! | BI12: =AND(#REF!,"AAAAAH1H/zw=") -> #REF! | BJ12: =IF(#REF!,"AAAAAH1H/z0=",0) -> #REF! | BK12: =AND(#REF!,"AAAAAH1H/z4=") -> #REF! | BL12: =AND(#REF!,"AAAAAH1H/z8=") -> #REF! | BM12: =AND(#REF!,"AAAAAH1H/0A=") -> #REF! | BN12: =AND(#REF!,"AAAAAH1H/0E=") -> #REF! | BO12: =AND(#REF!,"AAAAAH1H/0I=") -> #REF! | BP12: =AND(#REF!,"AAAAAH1H/0M=") -> #REF! | BQ12: =AND(#REF!,"AAAAAH1H/0Q=") -> #REF! | BR12: =AND(#REF!,"AAAAAH1H/0U=") -> #REF! | BS12: =AND(#REF!,"AAAAAH1H/0Y=") -> #REF! | BT12: =AND(#REF!,"AAAAAH1H/0c=") -> #REF! | BU12: =AND(#REF!,"AAAAAH1H/0g=") -> #REF! | BV12: =AND(#REF!,"AAAAAH1H/0k=") -> #REF! | BW12: =IF(#REF!,"AAAAAH1H/0o=",0) -> #REF! | BX12: =AND(#REF!,"AAAAAH1H/0s=") -> #REF! | BY12: =AND(#REF!,"AAAAAH1H/0w=") -> #REF! | BZ12: =AND(#REF!,"AAAAAH1H/00=") -> #REF! | CA12: =AND(#REF!,"AAAAAH1H/04=") -> #REF! | CB12: =AND(#REF!,"AAAAAH1H/08=") -> #REF! | CC12: =AND(#REF!,"AAAAAH1H/1A=") -> #REF! | CD12: =AND(#REF!,"AAAAAH1H/1E=") -> #REF! | CE12: =AND(#REF!,"AAAAAH1H/1I=") -> #REF! | CF12: =AND(#REF!,"AAAAAH1H/1M=") -> #REF! | CG12: =AND(#REF!,"AAAAAH1H/1Q=") -> #REF! | CH12: =AND(#REF!,"AAAAAH1H/1U=") -> #REF! | CI12: =AND(#REF!,"AAAAAH1H/1Y=") -> #REF! | CJ12: =IF(#REF!,"AAAAAH1H/1c=",0) -> #REF! | CK12: =AND(#REF!,"AAAAAH1H/1g=") -> #REF! | CL12: =AND(#REF!,"AAAAAH1H/1k=") -> #REF! | CM12: =AND(#REF!,"AAAAAH1H/1o=") -> #REF! | CN12: =AND(#REF!,"AAAAAH1H/1s=") -> #REF! | CO12: =AND(#REF!,"AAAAAH1H/1w=") -> #REF! | CP12: =AND(#REF!,"AAAAAH1H/10=") -> #REF! | CQ12: =AND(#REF!,"AAAAAH1H/14=") -> #REF! | CR12: =AND(#REF!,"AAAAAH1H/18=") -> #REF! | CS12: =AND(#REF!,"AAAAAH1H/2A=") -> #REF! | CT12: =AND(#REF!,"AAAAAH1H/2E=") -> #REF! | CU12: =AND(#REF!,"AAAAAH1H/2I=") -> #REF! | CV12: =AND(#REF!,"AAAAAH1H/2M=") -> #REF! | CW12: =IF(#REF!,"AAAAAH1H/2Q=",0) -> #REF! | CX12: =AND(#REF!,"AAAAAH1H/2U=") -> #REF! | CY12: =AND(#REF!,"AAAAAH1H/2Y=") -> #REF! | CZ12: =AND(#REF!,"AAAAAH1H/2c=") -> #REF! | DA12: =AND(#REF!,"AAAAAH1H/2g=") -> #REF! | DB12: =AND(#REF!,"AAAAAH1H/2k=") -> #REF! | DC12: =AND(#REF!,"AAAAAH1H/2o=") -> #REF! | DD12: =AND(#REF!,"AAAAAH1H/2s=") -> #REF! | DE12: =AND(#REF!,"AAAAAH1H/2w=") -> #REF! | DF12: =AND(#REF!,"AAAAAH1H/20=") -> #REF! | DG12: =AND(#REF!,"AAAAAH1H/24=") -> #REF! | DH12: =AND(#REF!,"AAAAAH1H/28=") -> #REF! | DI12: =AND(#REF!,"AAAAAH1H/3A=") -> #REF! | DJ12: =IF(#REF!,"AAAAAH1H/3E=",0) -> #REF! | DK12: =AND(#REF!,"AAAAAH1H/3I=") -> #REF! | DL12: =AND(#REF!,"AAAAAH1H/3M=") -> #REF! | DM12: =AND(#REF!,"AAAAAH1H/3Q=") -> #REF! | DN12: =AND(#REF!,"AAAAAH1H/3U=") -> #REF! | DO12: =AND(#REF!,"AAAAAH1H/3Y=") -> #REF! | DP12: =AND(#REF!,"AAAAAH1H/3c=") -> #REF! | DQ12: =AND(#REF!,"AAAAAH1H/3g=") -> #REF! | DR12: =AND(#REF!,"AAAAAH1H/3k=") -> #REF! | DS12: =AND(#REF!,"AAAAAH1H/3o=") -> #REF! | DT12: =AND(#REF!,"AAAAAH1H/3s=") -> #REF! | DU12: =AND(#REF!,"AAAAAH1H/3w=") -> #REF! | DV12: =AND(#REF!,"AAAAAH1H/30=") -> #REF! | DW12: =IF(#REF!,"AAAAAH1H/34=",0) -> #REF! | DX12: =AND(#REF!,"AAAAAH1H/38=") -> #REF! | DY12: =AND(#REF!,"AAAAAH1H/4A=") -> #REF! | DZ12: =AND(#REF!,"AAAAAH1H/4E=") -> #REF! | EA12: =AND(#REF!,"AAAAAH1H/4I=") -> #REF! | EB12: =AND(#REF!,"AAAAAH1H/4M=") -> #REF! | EC12: =AND(#REF!,"AAAAAH1H/4Q=") -> #REF! | ED12: =AND(#REF!,"AAAAAH1H/4U=") -> #REF! | EE12: =AND(#REF!,"AAAAAH1H/4Y=") -> #REF! | EF12: =AND(#REF!,"AAAAAH1H/4c=") -> #REF! | EG12: =AND(#REF!,"AAAAAH1H/4g=") -> #REF! | EH12: =AND(#REF!,"AAAAAH1H/4k=") -> #REF! | EI12: =AND(#REF!,"AAAAAH1H/4o=") -> #REF! | EJ12: =IF(#REF!,"AAAAAH1H/4s=",0) -> #REF! | EK12: =AND(#REF!,"AAAAAH1H/4w=") -> #REF! | EL12: =AND(#REF!,"AAAAAH1H/40=") -> #REF! | EM12: =AND(#REF!,"AAAAAH1H/44=") -> #REF! | EN12: =AND(#REF!,"AAAAAH1H/48=") -> #REF! | EO12: =AND(#REF!,"AAAAAH1H/5A=") -> #REF! | EP12: =AND(#REF!,"AAAAAH1H/5E=") -> #REF! | EQ12: =AND(#REF!,"AAAAAH1H/5I=") -> #REF! | ER12: =AND(#REF!,"AAAAAH1H/5M=") -> #REF! | ES12: =AND(#REF!,"AAAAAH1H/5Q=") -> #REF! | ET12: =AND(#REF!,"AAAAAH1H/5U=") -> #REF! | EU12: =AND(#REF!,"AAAAAH1H/5Y=") -> #REF! | EV12: =AND(#REF!,"AAAAAH1H/5c=") -> #REF! | EW12: =IF(#REF!,"AAAAAH1H/5g=",0) -> #REF! | EX12: =AND(#REF!,"AAAAAH1H/5k=") -> #REF! | EY12: =AND(#REF!,"AAAAAH1H/5o=") -> #REF! | EZ12: =AND(#REF!,"AAAAAH1H/5s=") -> #REF! | FA12: =AND(#REF!,"AAAAAH1H/5w=") -> #REF! | FB12: =AND(#REF!,"AAAAAH1H/50=") -> #REF! | FC12: =AND(#REF!,"AAAAAH1H/54=") -> #REF! | FD12: =AND(#REF!,"AAAAAH1H/58=") -> #REF! | FE12: =AND(#REF!,"AAAAAH1H/6A=") -> #REF! | FF12: =AND(#REF!,"AAAAAH1H/6E=") -> #REF! | FG12: =AND(#REF!,"AAAAAH1H/6I=") -> #REF! | FH12: =AND(#REF!,"AAAAAH1H/6M=") -> #REF! | FI12: =AND(#REF!,"AAAAAH1H/6Q=") -> #REF! | FJ12: =IF(#REF!,"AAAAAH1H/6U=",0) -> #REF! | FK12: =AND(#REF!,"AAAAAH1H/6Y=") -> #REF! | FL12: =AND(#REF!,"AAAAAH1H/6c=") -> #REF! | FM12: =AND(#REF!,"AAAAAH1H/6g=") -> #REF! | FN12: =AND(#REF!,"AAAAAH1H/6k=") -> #REF! | FO12: =AND(#REF!,"AAAAAH1H/6o=") -> #REF! | FP12: =AND(#REF!,"AAAAAH1H/6s=") -> #REF! | FQ12: =AND(#REF!,"AAAAAH1H/6w=") -> #REF! | FR12: =AND(#REF!,"AAAAAH1H/60=") -> #REF! | FS12: =AND(#REF!,"AAAAAH1H/64=") -> #REF! | FT12: =AND(#REF!,"AAAAAH1H/68=") -> #REF! | FU12: =AND(#REF!,"AAAAAH1H/7A=") -> #REF! | FV12: =AND(#REF!,"AAAAAH1H/7E=") -> #REF! | FW12: =IF(#REF!,"AAAAAH1H/7I=",0) -> #REF! | FX12: =AND(#REF!,"AAAAAH1H/7M=") -> #REF! | FY12: =AND(#REF!,"AAAAAH1H/7Q=") -> #REF! | FZ12: =AND(#REF!,"AAAAAH1H/7U=") -> #REF! | GA12: =AND(#REF!,"AAAAAH1H/7Y=") -> #REF! | GB12: =AND(#REF!,"AAAAAH1H/7c=") -> #REF! | GC12: =AND(#REF!,"AAAAAH1H/7g=") -> #REF! | GD12: =AND(#REF!,"AAAAAH1H/7k=") -> #REF! | GE12: =AND(#REF!,"AAAAAH1H/7o=") -> #REF! | GF12: =AND(#REF!,"AAAAAH1H/7s=") -> #REF! | GG12: =AND(#REF!,"AAAAAH1H/7w=") -> #REF! | GH12: =AND(#REF!,"AAAAAH1H/70=") -> #REF! | GI12: =AND(#REF!,"AAAAAH1H/74=") -> #REF! | GJ12: =IF(#REF!,"AAAAAH1H/78=",0) -> #REF! | GK12: =AND(#REF!,"AAAAAH1H/8A=") -> #REF! | GL12: =AND(#REF!,"AAAAAH1H/8E=") -> #REF! | GM12: =AND(#REF!,"AAAAAH1H/8I=") -> #REF! | GN12: =AND(#REF!,"AAAAAH1H/8M=") -> #REF! | GO12: =AND(#REF!,"AAAAAH1H/8Q=") -> #REF! | GP12: =AND(#REF!,"AAAAAH1H/8U=") -> #REF! | GQ12: =AND(#REF!,"AAAAAH1H/8Y=") -> #REF! | GR12: =AND(#REF!,"AAAAAH1H/8c=") -> #REF! | GS12: =AND(#REF!,"AAAAAH1H/8g=") -> #REF! | GT12: =AND(#REF!,"AAAAAH1H/8k=") -> #REF! | GU12: =AND(#REF!,"AAAAAH1H/8o=") -> #REF! | GV12: =AND(#REF!,"AAAAAH1H/8s=") -> #REF! | GW12: =IF(#REF!,"AAAAAH1H/8w=",0) -> #REF! | GX12: =AND(#REF!,"AAAAAH1H/80=") -> #REF! | GY12: =AND(#REF!,"AAAAAH1H/84=") -> #REF! | GZ12: =AND(#REF!,"AAAAAH1H/88=") -> #REF! | HA12: =AND(#REF!,"AAAAAH1H/9A=") -> #REF! | HB12: =AND(#REF!,"AAAAAH1H/9E=") -> #REF! | HC12: =AND(#REF!,"AAAAAH1H/9I=") -> #REF! | HD12: =AND(#REF!,"AAAAAH1H/9M=") -> #REF! | HE12: =AND(#REF!,"AAAAAH1H/9Q=") -> #REF! | HF12: =AND(#REF!,"AAAAAH1H/9U=") -> #REF! | HG12: =AND(#REF!,"AAAAAH1H/9Y=") -> #REF! | HH12: =AND(#REF!,"AAAAAH1H/9c=") -> #REF! | HI12: =AND(#REF!,"AAAAAH1H/9g=") -> #REF! | HJ12: =IF(#REF!,"AAAAAH1H/9k=",0) -> #REF! | HK12: =AND(#REF!,"AAAAAH1H/9o=") -> #REF! | HL12: =AND(#REF!,"AAAAAH1H/9s=") -> #REF! | HM12: =AND(#REF!,"AAAAAH1H/9w=") -> #REF! | HN12: =AND(#REF!,"AAAAAH1H/90=") -> #REF! | HO12: =AND(#REF!,"AAAAAH1H/94=") -> #REF! | HP12: =AND(#REF!,"AAAAAH1H/98=") -> #REF! | HQ12: =AND(#REF!,"AAAAAH1H/+A=") -> #REF! | HR12: =AND(#REF!,"AAAAAH1H/+E=") -> #REF! | HS12: =AND(#REF!,"AAAAAH1H/+I=") -> #REF! | HT12: =AND(#REF!,"AAAAAH1H/+M=") -> #REF! | HU12: =AND(#REF!,"AAAAAH1H/+Q=") -> #REF! | HV12: =AND(#REF!,"AAAAAH1H/+U=") -> #REF! | HW12: =IF(#REF!,"AAAAAH1H/+Y=",0) -> #REF! | HX12: =AND(#REF!,"AAAAAH1H/+c=") -> #REF! | HY12: =AND(#REF!,"AAAAAH1H/+g=") -> #REF! | HZ12: =AND(#REF!,"AAAAAH1H/+k=") -> #REF! | IA12: =AND(#REF!,"AAAAAH1H/+o=") -> #REF! | IB12: =AND(#REF!,"AAAAAH1H/+s=") -> #REF! | IC12: =AND(#REF!,"AAAAAH1H/+w=") -> #REF! | ID12: =AND(#REF!,"AAAAAH1H/+0=") -> #REF! | IE12: =AND(#REF!,"AAAAAH1H/+4=") -> #REF! | IF12: =AND(#REF!,"AAAAAH1H/+8=") -> #REF! | IG12: =AND(#REF!,"AAAAAH1H//A=") -> #REF! | IH12: =AND(#REF!,"AAAAAH1H//E=") -> #REF! | II12: =AND(#REF!,"AAAAAH1H//I=") -> #REF! | IJ12: =IF(#REF!,"AAAAAH1H//M=",0) -> #REF! | IK12: =AND(#REF!,"AAAAAH1H//Q=") -> #REF! | IL12: =AND(#REF!,"AAAAAH1H//U=") -> #REF! | IM12: =AND(#REF!,"AAAAAH1H//Y=") -> #REF! | IN12: =AND(#REF!,"AAAAAH1H//c=") -> #REF! | IO12: =AND(#REF!,"AAAAAH1H//g=") -> #REF! | IP12: =AND(#REF!,"AAAAAH1H//k=") -> #REF! | IQ12: =AND(#REF!,"AAAAAH1H//o=") -> #REF! | IR12: =AND(#REF!,"AAAAAH1H//s=") -> #REF! | IS12: =AND(#REF!,"AAAAAH1H//w=") -> #REF! | IT12: =AND(#REF!,"AAAAAH1H//0=") -> #REF! | IU12: =AND(#REF!,"AAAAAH1H//4=") -> #REF! | IV12: =AND(#REF!,"AAAAAH1H//8=") -> #REF!
A13: =IF(#REF!,"AAAAAHXsvQA=",0) -> #REF! | B13: =AND(#REF!,"AAAAAHXsvQE=") -> #REF! | C13: =AND(#REF!,"AAAAAHXsvQI=") -> #REF! | D13: =AND(#REF!,"AAAAAHXsvQM=") -> #REF! | E13: =AND(#REF!,"AAAAAHXsvQQ=") -> #REF! | F13: =AND(#REF!,"AAAAAHXsvQU=") -> #REF! | G13: =AND(#REF!,"AAAAAHXsvQY=") -> #REF! | H13: =AND(#REF!,"AAAAAHXsvQc=") -> #REF! | I13: =AND(#REF!,"AAAAAHXsvQg=") -> #REF! | J13: =AND(#REF!,"AAAAAHXsvQk=") -> #REF! | K13: =AND(#REF!,"AAAAAHXsvQo=") -> #REF! | L13: =AND(#REF!,"AAAAAHXsvQs=") -> #REF! | M13: =AND(#REF!,"AAAAAHXsvQw=") -> #REF! | N13: =IF(#REF!,"AAAAAHXsvQ0=",0) -> #REF! | O13: =AND(#REF!,"AAAAAHXsvQ4=") -> #REF! | P13: =AND(#REF!,"AAAAAHXsvQ8=") -> #REF! | Q13: =AND(#REF!,"AAAAAHXsvRA=") -> #REF! | R13: =AND(#REF!,"AAAAAHXsvRE=") -> #REF! | S13: =AND(#REF!,"AAAAAHXsvRI=") -> #REF! | T13: =AND(#REF!,"AAAAAHXsvRM=") -> #REF! | U13: =AND(#REF!,"AAAAAHXsvRQ=") -> #REF! | V13: =AND(#REF!,"AAAAAHXsvRU=") -> #REF! | W13: =AND(#REF!,"AAAAAHXsvRY=") -> #REF! | X13: =AND(#REF!,"AAAAAHXsvRc=") -> #REF! | Y13: =AND(#REF!,"AAAAAHXsvRg=") -> #REF! | Z13: =AND(#REF!,"AAAAAHXsvRk=") -> #REF! | AA13: =IF(#REF!,"AAAAAHXsvRo=",0) -> #REF! | AB13: =AND(#REF!,"AAAAAHXsvRs=") -> #REF! | AC13: =AND(#REF!,"AAAAAHXsvRw=") -> #REF! | AD13: =AND(#REF!,"AAAAAHXsvR0=") -> #REF! | AE13: =AND(#REF!,"AAAAAHXsvR4=") -> #REF! | AF13: =AND(#REF!,"AAAAAHXsvR8=") -> #REF! | AG13: =AND(#REF!,"AAAAAHXsvSA=") -> #REF! | AH13: =AND(#REF!,"AAAAAHXsvSE=") -> #REF! | AI13: =AND(#REF!,"AAAAAHXsvSI=") -> #REF! | AJ13: =AND(#REF!,"AAAAAHXsvSM=") -> #REF! | AK13: =AND(#REF!,"AAAAAHXsvSQ=") -> #REF! | AL13: =AND(#REF!,"AAAAAHXsvSU=") -> #REF! | AM13: =AND(#REF!,"AAAAAHXsvSY=") -> #REF! | AN13: =IF(#REF!,"AAAAAHXsvSc=",0) -> #REF! | AO13: =AND(#REF!,"AAAAAHXsvSg=") -> #REF! | AP13: =AND(#REF!,"AAAAAHXsvSk=") -> #REF! | AQ13: =AND(#REF!,"AAAAAHXsvSo=") -> #REF! | AR13: =AND(#REF!,"AAAAAHXsvSs=") -> #REF! | AS13: =AND(#REF!,"AAAAAHXsvSw=") -> #REF! | AT13: =AND(#REF!,"AAAAAHXsvS0=") -> #REF! | AU13: =AND(#REF!,"AAAAAHXsvS4=") -> #REF! | AV13: =AND(#REF!,"AAAAAHXsvS8=") -> #REF! | AW13: =AND(#REF!,"AAAAAHXsvTA=") -> #REF! | AX13: =AND(#REF!,"AAAAAHXsvTE=") -> #REF! | AY13: =AND(#REF!,"AAAAAHXsvTI=") -> #REF! | AZ13: =AND(#REF!,"AAAAAHXsvTM=") -> #REF! | BA13: =IF(#REF!,"AAAAAHXsvTQ=",0) -> #REF! | BB13: =AND(#REF!,"AAAAAHXsvTU=") -> #REF! | BC13: =AND(#REF!,"AAAAAHXsvTY=") -> #REF! | BD13: =AND(#REF!,"AAAAAHXsvTc=") -> #REF! | BE13: =AND(#REF!,"AAAAAHXsvTg=") -> #REF! | BF13: =AND(#REF!,"AAAAAHXsvTk=") -> #REF! | BG13: =AND(#REF!,"AAAAAHXsvTo=") -> #REF! | BH13: =AND(#REF!,"AAAAAHXsvTs=") -> #REF! | BI13: =AND(#REF!,"AAAAAHXsvTw=") -> #REF! | BJ13: =AND(#REF!,"AAAAAHXsvT0=") -> #REF! | BK13: =AND(#REF!,"AAAAAHXsvT4=") -> #REF! | BL13: =AND(#REF!,"AAAAAHXsvT8=") -> #REF! | BM13: =AND(#REF!,"AAAAAHXsvUA=") -> #REF! | BN13: =IF(#REF!,"AAAAAHXsvUE=",0) -> #REF! | BO13: =AND(#REF!,"AAAAAHXsvUI=") -> #REF! | BP13: =AND(#REF!,"AAAAAHXsvUM=") -> #REF! | BQ13: =AND(#REF!,"AAAAAHXsvUQ=") -> #REF! | BR13: =AND(#REF!,"AAAAAHXsvUU=") -> #REF! | BS13: =AND(#REF!,"AAAAAHXsvUY=") -> #REF! | BT13: =AND(#REF!,"AAAAAHXsvUc=") -> #REF! | BU13: =AND(#REF!,"AAAAAHXsvUg=") -> #REF! | BV13: =AND(#REF!,"AAAAAHXsvUk=") -> #REF! | BW13: =AND(#REF!,"AAAAAHXsvUo=") -> #REF! | BX13: =AND(#REF!,"AAAAAHXsvUs=") -> #REF! | BY13: =AND(#REF!,"AAAAAHXsvUw=") -> #REF! | BZ13: =AND(#REF!,"AAAAAHXsvU0=") -> #REF! | CA13: =IF(#REF!,"AAAAAHXsvU4=",0) -> #REF! | CB13: =AND(#REF!,"AAAAAHXsvU8=") -> #REF! | CC13: =AND(#REF!,"AAAAAHXsvVA=") -> #REF! | CD13: =AND(#REF!,"AAAAAHXsvVE=") -> #REF! | CE13: =AND(#REF!,"AAAAAHXsvVI=") -> #REF! | CF13: =AND(#REF!,"AAAAAHXsvVM=") -> #REF! | CG13: =AND(#REF!,"AAAAAHXsvVQ=") -> #REF! | CH13: =AND(#REF!,"AAAAAHXsvVU=") -> #REF! | CI13: =AND(#REF!,"AAAAAHXsvVY=") -> #REF! | CJ13: =AND(#REF!,"AAAAAHXsvVc=") -> #REF! | CK13: =AND(#REF!,"AAAAAHXsvVg=") -> #REF! | CL13: =AND(#REF!,"AAAAAHXsvVk=") -> #REF! | CM13: =AND(#REF!,"AAAAAHXsvVo=") -> #REF! | CN13: =IF(#REF!,"AAAAAHXsvVs=",0) -> #REF! | CO13: =AND(#REF!,"AAAAAHXsvVw=") -> #REF! | CP13: =AND(#REF!,"AAAAAHXsvV0=") -> #REF! | CQ13: =AND(#REF!,"AAAAAHXsvV4=") -> #REF! | CR13: =AND(#REF!,"AAAAAHXsvV8=") -> #REF! | CS13: =AND(#REF!,"AAAAAHXsvWA=") -> #REF! | CT13: =AND(#REF!,"AAAAAHXsvWE=") -> #REF! | CU13: =AND(#REF!,"AAAAAHXsvWI=") -> #REF! | CV13: =AND(#REF!,"AAAAAHXsvWM=") -> #REF! | CW13: =AND(#REF!,"AAAAAHXsvWQ=") -> #REF! | CX13: =AND(#REF!,"AAAAAHXsvWU=") -> #REF! | CY13: =AND(#REF!,"AAAAAHXsvWY=") -> #REF! | CZ13: =AND(#REF!,"AAAAAHXsvWc=") -> #REF! | DA13: =IF(#REF!,"AAAAAHXsvWg=",0) -> #REF! | DB13: =AND(#REF!,"AAAAAHXsvWk=") -> #REF! | DC13: =AND(#REF!,"AAAAAHXsvWo=") -> #REF! | DD13: =AND(#REF!,"AAAAAHXsvWs=") -> #REF! | DE13: =AND(#REF!,"AAAAAHXsvWw=") -> #REF! | DF13: =AND(#REF!,"AAAAAHXsvW0=") -> #REF! | DG13: =AND(#REF!,"AAAAAHXsvW4=") -> #REF! | DH13: =AND(#REF!,"AAAAAHXsvW8=") -> #REF! | DI13: =AND(#REF!,"AAAAAHXsvXA=") -> #REF! | DJ13: =AND(#REF!,"AAAAAHXsvXE=") -> #REF! | DK13: =AND(#REF!,"AAAAAHXsvXI=") -> #REF! | DL13: =AND(#REF!,"AAAAAHXsvXM=") -> #REF! | DM13: =AND(#REF!,"AAAAAHXsvXQ=") -> #REF! | DN13: =IF(#REF!,"AAAAAHXsvXU=",0) -> #REF! | DO13: =AND(#REF!,"AAAAAHXsvXY=") -> #REF! | DP13: =AND(#REF!,"AAAAAHXsvXc=") -> #REF! | DQ13: =AND(#REF!,"AAAAAHXsvXg=") -> #REF! | DR13: =AND(#REF!,"AAAAAHXsvXk=") -> #REF! | DS13: =AND(#REF!,"AAAAAHXsvXo=") -> #REF! | DT13: =AND(#REF!,"AAAAAHXsvXs=") -> #REF! | DU13: =AND(#REF!,"AAAAAHXsvXw=") -> #REF! | DV13: =AND(#REF!,"AAAAAHXsvX0=") -> #REF! | DW13: =AND(#REF!,"AAAAAHXsvX4=") -> #REF! | DX13: =AND(#REF!,"AAAAAHXsvX8=") -> #REF! | DY13: =AND(#REF!,"AAAAAHXsvYA=") -> #REF! | DZ13: =AND(#REF!,"AAAAAHXsvYE=") -> #REF! | EA13: =IF(#REF!,"AAAAAHXsvYI=",0) -> #REF! | EB13: =AND(#REF!,"AAAAAHXsvYM=") -> #REF! | EC13: =AND(#REF!,"AAAAAHXsvYQ=") -> #REF! | ED13: =AND(#REF!,"AAAAAHXsvYU=") -> #REF! | EE13: =AND(#REF!,"AAAAAHXsvYY=") -> #REF! | EF13: =AND(#REF!,"AAAAAHXsvYc=") -> #REF! | EG13: =AND(#REF!,"AAAAAHXsvYg=") -> #REF! | EH13: =AND(#REF!,"AAAAAHXsvYk=") -> #REF! | EI13: =AND(#REF!,"AAAAAHXsvYo=") -> #REF! | EJ13: =AND(#REF!,"AAAAAHXsvYs=") -> #REF! | EK13: =AND(#REF!,"AAAAAHXsvYw=") -> #REF! | EL13: =AND(#REF!,"AAAAAHXsvY0=") -> #REF! | EM13: =AND(#REF!,"AAAAAHXsvY4=") -> #REF! | EN13: =IF(#REF!,"AAAAAHXsvY8=",0) -> #REF! | EO13: =AND(#REF!,"AAAAAHXsvZA=") -> #REF! | EP13: =AND(#REF!,"AAAAAHXsvZE=") -> #REF! | EQ13: =AND(#REF!,"AAAAAHXsvZI=") -> #REF! | ER13: =AND(#REF!,"AAAAAHXsvZM=") -> #REF! | ES13: =AND(#REF!,"AAAAAHXsvZQ=") -> #REF! | ET13: =AND(#REF!,"AAAAAHXsvZU=") -> #REF! | EU13: =AND(#REF!,"AAAAAHXsvZY=") -> #REF! | EV13: =AND(#REF!,"AAAAAHXsvZc=") -> #REF! | EW13: =AND(#REF!,"AAAAAHXsvZg=") -> #REF! | EX13: =AND(#REF!,"AAAAAHXsvZk=") -> #REF! | EY13: =AND(#REF!,"AAAAAHXsvZo=") -> #REF! | EZ13: =AND(#REF!,"AAAAAHXsvZs=") -> #REF! | FA13: =IF(#REF!,"AAAAAHXsvZw=",0) -> #REF! | FB13: =AND(#REF!,"AAAAAHXsvZ0=") -> #REF! | FC13: =AND(#REF!,"AAAAAHXsvZ4=") -> #REF! | FD13: =AND(#REF!,"AAAAAHXsvZ8=") -> #REF! | FE13: =AND(#REF!,"AAAAAHXsvaA=") -> #REF! | FF13: =AND(#REF!,"AAAAAHXsvaE=") -> #REF! | FG13: =AND(#REF!,"AAAAAHXsvaI=") -> #REF! | FH13: =AND(#REF!,"AAAAAHXsvaM=") -> #REF! | FI13: =AND(#REF!,"AAAAAHXsvaQ=") -> #REF! | FJ13: =AND(#REF!,"AAAAAHXsvaU=") -> #REF! | FK13: =AND(#REF!,"AAAAAHXsvaY=") -> #REF! | FL13: =AND(#REF!,"AAAAAHXsvac=") -> #REF! | FM13: =AND(#REF!,"AAAAAHXsvag=") -> #REF! | FN13: =IF(#REF!,"AAAAAHXsvak=",0) -> #REF! | FO13: =AND(#REF!,"AAAAAHXsvao=") -> #REF! | FP13: =AND(#REF!,"AAAAAHXsvas=") -> #REF! | FQ13: =AND(#REF!,"AAAAAHXsvaw=") -> #REF! | FR13: =AND(#REF!,"AAAAAHXsva0=") -> #REF! | FS13: =AND(#REF!,"AAAAAHXsva4=") -> #REF! | FT13: =AND(#REF!,"AAAAAHXsva8=") -> #REF! | FU13: =AND(#REF!,"AAAAAHXsvbA=") -> #REF! | FV13: =AND(#REF!,"AAAAAHXsvbE=") -> #REF! | FW13: =AND(#REF!,"AAAAAHXsvbI=") -> #REF! | FX13: =AND(#REF!,"AAAAAHXsvbM=") -> #REF! | FY13: =AND(#REF!,"AAAAAHXsvbQ=") -> #REF! | FZ13: =AND(#REF!,"AAAAAHXsvbU=") -> #REF! | GA13: =IF(#REF!,"AAAAAHXsvbY=",0) -> #REF! | GB13: =AND(#REF!,"AAAAAHXsvbc=") -> #REF! | GC13: =AND(#REF!,"AAAAAHXsvbg=") -> #REF! | GD13: =AND(#REF!,"AAAAAHXsvbk=") -> #REF! | GE13: =AND(#REF!,"AAAAAHXsvbo=") -> #REF! | GF13: =AND(#REF!,"AAAAAHXsvbs=") -> #REF! | GG13: =AND(#REF!,"AAAAAHXsvbw=") -> #REF! | GH13: =AND(#REF!,"AAAAAHXsvb0=") -> #REF! | GI13: =AND(#REF!,"AAAAAHXsvb4=") -> #REF! | GJ13: =AND(#REF!,"AAAAAHXsvb8=") -> #REF! | GK13: =AND(#REF!,"AAAAAHXsvcA=") -> #REF! | GL13: =AND(#REF!,"AAAAAHXsvcE=") -> #REF! | GM13: =AND(#REF!,"AAAAAHXsvcI=") -> #REF! | GN13: =IF(#REF!,"AAAAAHXsvcM=",0) -> #REF! | GO13: =AND(#REF!,"AAAAAHXsvcQ=") -> #REF! | GP13: =AND(#REF!,"AAAAAHXsvcU=") -> #REF! | GQ13: =AND(#REF!,"AAAAAHXsvcY=") -> #REF! | GR13: =AND(#REF!,"AAAAAHXsvcc=") -> #REF! | GS13: =AND(#REF!,"AAAAAHXsvcg=") -> #REF! | GT13: =AND(#REF!,"AAAAAHXsvck=") -> #REF! | GU13: =AND(#REF!,"AAAAAHXsvco=") -> #REF! | GV13: =AND(#REF!,"AAAAAHXsvcs=") -> #REF! | GW13: =AND(#REF!,"AAAAAHXsvcw=") -> #REF! | GX13: =AND(#REF!,"AAAAAHXsvc0=") -> #REF! | GY13: =AND(#REF!,"AAAAAHXsvc4=") -> #REF! | GZ13: =AND(#REF!,"AAAAAHXsvc8=") -> #REF! | HA13: =IF(#REF!,"AAAAAHXsvdA=",0) -> #REF! | HB13: =AND(#REF!,"AAAAAHXsvdE=") -> #REF! | HC13: =AND(#REF!,"AAAAAHXsvdI=") -> #REF! | HD13: =AND(#REF!,"AAAAAHXsvdM=") -> #REF! | HE13: =AND(#REF!,"AAAAAHXsvdQ=") -> #REF! | HF13: =AND(#REF!,"AAAAAHXsvdU=") -> #REF! | HG13: =AND(#REF!,"AAAAAHXsvdY=") -> #REF! | HH13: =AND(#REF!,"AAAAAHXsvdc=") -> #REF! | HI13: =AND(#REF!,"AAAAAHXsvdg=") -> #REF! | HJ13: =AND(#REF!,"AAAAAHXsvdk=") -> #REF! | HK13: =AND(#REF!,"AAAAAHXsvdo=") -> #REF! | HL13: =AND(#REF!,"AAAAAHXsvds=") -> #REF! | HM13: =AND(#REF!,"AAAAAHXsvdw=") -> #REF! | HN13: =IF(#REF!,"AAAAAHXsvd0=",0) -> #REF! | HO13: =AND(#REF!,"AAAAAHXsvd4=") -> #REF! | HP13: =AND(#REF!,"AAAAAHXsvd8=") -> #REF! | HQ13: =AND(#REF!,"AAAAAHXsveA=") -> #REF! | HR13: =AND(#REF!,"AAAAAHXsveE=") -> #REF! | HS13: =AND(#REF!,"AAAAAHXsveI=") -> #REF! | HT13: =AND(#REF!,"AAAAAHXsveM=") -> #REF! | HU13: =AND(#REF!,"AAAAAHXsveQ=") -> #REF! | HV13: =AND(#REF!,"AAAAAHXsveU=") -> #REF! | HW13: =AND(#REF!,"AAAAAHXsveY=") -> #REF! | HX13: =AND(#REF!,"AAAAAHXsvec=") -> #REF! | HY13: =AND(#REF!,"AAAAAHXsveg=") -> #REF! | HZ13: =AND(#REF!,"AAAAAHXsvek=") -> #REF! | IA13: =IF(#REF!,"AAAAAHXsveo=",0) -> #REF! | IB13: =AND(#REF!,"AAAAAHXsves=") -> #REF! | IC13: =AND(#REF!,"AAAAAHXsvew=") -> #REF! | ID13: =AND(#REF!,"AAAAAHXsve0=") -> #REF! | IE13: =AND(#REF!,"AAAAAHXsve4=") -> #REF! | IF13: =AND(#REF!,"AAAAAHXsve8=") -> #REF! | IG13: =AND(#REF!,"AAAAAHXsvfA=") -> #REF! | IH13: =AND(#REF!,"AAAAAHXsvfE=") -> #REF! | II13: =AND(#REF!,"AAAAAHXsvfI=") -> #REF! | IJ13: =AND(#REF!,"AAAAAHXsvfM=") -> #REF! | IK13: =AND(#REF!,"AAAAAHXsvfQ=") -> #REF! | IL13: =AND(#REF!,"AAAAAHXsvfU=") -> #REF! | IM13: =AND(#REF!,"AAAAAHXsvfY=") -> #REF! | IN13: =IF(#REF!,"AAAAAHXsvfc=",0) -> #REF! | IO13: =AND(#REF!,"AAAAAHXsvfg=") -> #REF! | IP13: =AND(#REF!,"AAAAAHXsvfk=") -> #REF! | IQ13: =AND(#REF!,"AAAAAHXsvfo=") -> #REF! | IR13: =AND(#REF!,"AAAAAHXsvfs=") -> #REF! | IS13: =AND(#REF!,"AAAAAHXsvfw=") -> #REF! | IT13: =AND(#REF!,"AAAAAHXsvf0=") -> #REF! | IU13: =AND(#REF!,"AAAAAHXsvf4=") -> #REF! | IV13: =AND(#REF!,"AAAAAHXsvf8=") -> #REF!
A14: =AND(#REF!,"AAAAAH9+twA=") -> #REF! | B14: =AND(#REF!,"AAAAAH9+twE=") -> #REF! | C14: =AND(#REF!,"AAAAAH9+twI=") -> #REF! | D14: =AND(#REF!,"AAAAAH9+twM=") -> #REF! | E14: =IF(#REF!,"AAAAAH9+twQ=",0) -> #REF! | F14: =AND(#REF!,"AAAAAH9+twU=") -> #REF! | G14: =AND(#REF!,"AAAAAH9+twY=") -> #REF! | H14: =AND(#REF!,"AAAAAH9+twc=") -> #REF! | I14: =AND(#REF!,"AAAAAH9+twg=") -> #REF! | J14: =AND(#REF!,"AAAAAH9+twk=") -> #REF! | K14: =AND(#REF!,"AAAAAH9+two=") -> #REF! | L14: =AND(#REF!,"AAAAAH9+tws=") -> #REF! | M14: =AND(#REF!,"AAAAAH9+tww=") -> #REF! | N14: =AND(#REF!,"AAAAAH9+tw0=") -> #REF! | O14: =AND(#REF!,"AAAAAH9+tw4=") -> #REF! | P14: =AND(#REF!,"AAAAAH9+tw8=") -> #REF! | Q14: =AND(#REF!,"AAAAAH9+txA=") -> #REF! | R14: =IF(#REF!,"AAAAAH9+txE=",0) -> #REF! | S14: =AND(#REF!,"AAAAAH9+txI=") -> #REF! | T14: =AND(#REF!,"AAAAAH9+txM=") -> #REF! | U14: =AND(#REF!,"AAAAAH9+txQ=") -> #REF! | V14: =AND(#REF!,"AAAAAH9+txU=") -> #REF! | W14: =AND(#REF!,"AAAAAH9+txY=") -> #REF! | X14: =AND(#REF!,"AAAAAH9+txc=") -> #REF! | Y14: =AND(#REF!,"AAAAAH9+txg=") -> #REF! | Z14: =AND(#REF!,"AAAAAH9+txk=") -> #REF! | AA14: =AND(#REF!,"AAAAAH9+txo=") -> #REF! | AB14: =AND(#REF!,"AAAAAH9+txs=") -> #REF! | AC14: =AND(#REF!,"AAAAAH9+txw=") -> #REF! | AD14: =AND(#REF!,"AAAAAH9+tx0=") -> #REF! | AE14: =IF(#REF!,"AAAAAH9+tx4=",0) -> #REF! | AF14: =AND(#REF!,"AAAAAH9+tx8=") -> #REF! | AG14: =AND(#REF!,"AAAAAH9+tyA=") -> #REF! | AH14: =AND(#REF!,"AAAAAH9+tyE=") -> #REF! | AI14: =AND(#REF!,"AAAAAH9+tyI=") -> #REF! | AJ14: =AND(#REF!,"AAAAAH9+tyM=") -> #REF! | AK14: =AND(#REF!,"AAAAAH9+tyQ=") -> #REF! | AL14: =AND(#REF!,"AAAAAH9+tyU=") -> #REF! | AM14: =AND(#REF!,"AAAAAH9+tyY=") -> #REF! | AN14: =AND(#REF!,"AAAAAH9+tyc=") -> #REF! | AO14: =AND(#REF!,"AAAAAH9+tyg=") -> #REF! | AP14: =AND(#REF!,"AAAAAH9+tyk=") -> #REF! | AQ14: =AND(#REF!,"AAAAAH9+tyo=") -> #REF! | AR14: =IF(#REF!,"AAAAAH9+tys=",0) -> #REF! | AS14: =AND(#REF!,"AAAAAH9+tyw=") -> #REF! | AT14: =AND(#REF!,"AAAAAH9+ty0=") -> #REF! | AU14: =AND(#REF!,"AAAAAH9+ty4=") -> #REF! | AV14: =AND(#REF!,"AAAAAH9+ty8=") -> #REF! | AW14: =AND(#REF!,"AAAAAH9+tzA=") -> #REF! | AX14: =AND(#REF!,"AAAAAH9+tzE=") -> #REF! | AY14: =AND(#REF!,"AAAAAH9+tzI=") -> #REF! | AZ14: =AND(#REF!,"AAAAAH9+tzM=") -> #REF! | BA14: =AND(#REF!,"AAAAAH9+tzQ=") -> #REF! | BB14: =AND(#REF!,"AAAAAH9+tzU=") -> #REF! | BC14: =AND(#REF!,"AAAAAH9+tzY=") -> #REF! | BD14: =AND(#REF!,"AAAAAH9+tzc=") -> #REF! | BE14: =IF(#REF!,"AAAAAH9+tzg=",0) -> #REF! | BF14: =AND(#REF!,"AAAAAH9+tzk=") -> #REF! | BG14: =AND(#REF!,"AAAAAH9+tzo=") -> #REF! | BH14: =AND(#REF!,"AAAAAH9+tzs=") -> #REF! | BI14: =AND(#REF!,"AAAAAH9+tzw=") -> #REF! | BJ14: =AND(#REF!,"AAAAAH9+tz0=") -> #REF! | BK14: =AND(#REF!,"AAAAAH9+tz4=") -> #REF! | BL14: =AND(#REF!,"AAAAAH9+tz8=") -> #REF! | BM14: =AND(#REF!,"AAAAAH9+t0A=") -> #REF! | BN14: =AND(#REF!,"AAAAAH9+t0E=") -> #REF! | BO14: =AND(#REF!,"AAAAAH9+t0I=") -> #REF! | BP14: =AND(#REF!,"AAAAAH9+t0M=") -> #REF! | BQ14: =AND(#REF!,"AAAAAH9+t0Q=") -> #REF! | BR14: =IF(#REF!,"AAAAAH9+t0U=",0) -> #REF! | BS14: =AND(#REF!,"AAAAAH9+t0Y=") -> #REF! | BT14: =AND(#REF!,"AAAAAH9+t0c=") -> #REF! | BU14: =AND(#REF!,"AAAAAH9+t0g=") -> #REF! | BV14: =AND(#REF!,"AAAAAH9+t0k=") -> #REF! | BW14: =AND(#REF!,"AAAAAH9+t0o=") -> #REF! | BX14: =AND(#REF!,"AAAAAH9+t0s=") -> #REF! | BY14: =AND(#REF!,"AAAAAH9+t0w=") -> #REF! | BZ14: =AND(#REF!,"AAAAAH9+t00=") -> #REF! | CA14: =AND(#REF!,"AAAAAH9+t04=") -> #REF! | CB14: =AND(#REF!,"AAAAAH9+t08=") -> #REF! | CC14: =AND(#REF!,"AAAAAH9+t1A=") -> #REF! | CD14: =AND(#REF!,"AAAAAH9+t1E=") -> #REF! | CE14: =IF(#REF!,"AAAAAH9+t1I=",0) -> #REF! | CF14: =AND(#REF!,"AAAAAH9+t1M=") -> #REF! | CG14: =AND(#REF!,"AAAAAH9+t1Q=") -> #REF! | CH14: =AND(#REF!,"AAAAAH9+t1U=") -> #REF! | CI14: =AND(#REF!,"AAAAAH9+t1Y=") -> #REF! | CJ14: =AND(#REF!,"AAAAAH9+t1c=") -> #REF! | CK14: =AND(#REF!,"AAAAAH9+t1g=") -> #REF! | CL14: =AND(#REF!,"AAAAAH9+t1k=") -> #REF! | CM14: =AND(#REF!,"AAAAAH9+t1o=") -> #REF! | CN14: =AND(#REF!,"AAAAAH9+t1s=") -> #REF! | CO14: =AND(#REF!,"AAAAAH9+t1w=") -> #REF! | CP14: =AND(#REF!,"AAAAAH9+t10=") -> #REF! | CQ14: =AND(#REF!,"AAAAAH9+t14=") -> #REF! | CR14: =IF(#REF!,"AAAAAH9+t18=",0) -> #REF! | CS14: =AND(#REF!,"AAAAAH9+t2A=") -> #REF! | CT14: =AND(#REF!,"AAAAAH9+t2E=") -> #REF! | CU14: =AND(#REF!,"AAAAAH9+t2I=") -> #REF! | CV14: =AND(#REF!,"AAAAAH9+t2M=") -> #REF! | CW14: =AND(#REF!,"AAAAAH9+t2Q=") -> #REF! | CX14: =AND(#REF!,"AAAAAH9+t2U=") -> #REF! | CY14: =AND(#REF!,"AAAAAH9+t2Y=") -> #REF! | CZ14: =AND(#REF!,"AAAAAH9+t2c=") -> #REF! | DA14: =AND(#REF!,"AAAAAH9+t2g=") -> #REF! | DB14: =AND(#REF!,"AAAAAH9+t2k=") -> #REF! | DC14: =AND(#REF!,"AAAAAH9+t2o=") -> #REF! | DD14: =AND(#REF!,"AAAAAH9+t2s=") -> #REF! | DE14: =IF(#REF!,"AAAAAH9+t2w=",0) -> #REF! | DF14: =AND(#REF!,"AAAAAH9+t20=") -> #REF! | DG14: =AND(#REF!,"AAAAAH9+t24=") -> #REF! | DH14: =AND(#REF!,"AAAAAH9+t28=") -> #REF! | DI14: =AND(#REF!,"AAAAAH9+t3A=") -> #REF! | DJ14: =AND(#REF!,"AAAAAH9+t3E=") -> #REF! | DK14: =AND(#REF!,"AAAAAH9+t3I=") -> #REF! | DL14: =AND(#REF!,"AAAAAH9+t3M=") -> #REF! | DM14: =AND(#REF!,"AAAAAH9+t3Q=") -> #REF! | DN14: =AND(#REF!,"AAAAAH9+t3U=") -> #REF! | DO14: =AND(#REF!,"AAAAAH9+t3Y=") -> #REF! | DP14: =AND(#REF!,"AAAAAH9+t3c=") -> #REF! | DQ14: =AND(#REF!,"AAAAAH9+t3g=") -> #REF! | DR14: =IF(#REF!,"AAAAAH9+t3k=",0) -> #REF! | DS14: =AND(#REF!,"AAAAAH9+t3o=") -> #REF! | DT14: =AND(#REF!,"AAAAAH9+t3s=") -> #REF! | DU14: =AND(#REF!,"AAAAAH9+t3w=") -> #REF! | DV14: =AND(#REF!,"AAAAAH9+t30=") -> #REF! | DW14: =AND(#REF!,"AAAAAH9+t34=") -> #REF! | DX14: =AND(#REF!,"AAAAAH9+t38=") -> #REF! | DY14: =AND(#REF!,"AAAAAH9+t4A=") -> #REF! | DZ14: =AND(#REF!,"AAAAAH9+t4E=") -> #REF! | EA14: =AND(#REF!,"AAAAAH9+t4I=") -> #REF! | EB14: =AND(#REF!,"AAAAAH9+t4M=") -> #REF! | EC14: =AND(#REF!,"AAAAAH9+t4Q=") -> #REF! | ED14: =AND(#REF!,"AAAAAH9+t4U=") -> #REF! | EE14: =IF(#REF!,"AAAAAH9+t4Y=",0) -> #REF! | EF14: =AND(#REF!,"AAAAAH9+t4c=") -> #REF! | EG14: =AND(#REF!,"AAAAAH9+t4g=") -> #REF! | EH14: =AND(#REF!,"AAAAAH9+t4k=") -> #REF! | EI14: =AND(#REF!,"AAAAAH9+t4o=") -> #REF! | EJ14: =AND(#REF!,"AAAAAH9+t4s=") -> #REF! | EK14: =AND(#REF!,"AAAAAH9+t4w=") -> #REF! | EL14: =AND(#REF!,"AAAAAH9+t40=") -> #REF! | EM14: =AND(#REF!,"AAAAAH9+t44=") -> #REF! | EN14: =AND(#REF!,"AAAAAH9+t48=") -> #REF! | EO14: =AND(#REF!,"AAAAAH9+t5A=") -> #REF! | EP14: =AND(#REF!,"AAAAAH9+t5E=") -> #REF! | EQ14: =AND(#REF!,"AAAAAH9+t5I=") -> #REF! | ER14: =IF(#REF!,"AAAAAH9+t5M=",0) -> #REF! | ES14: =AND(#REF!,"AAAAAH9+t5Q=") -> #REF! | ET14: =AND(#REF!,"AAAAAH9+t5U=") -> #REF! | EU14: =AND(#REF!,"AAAAAH9+t5Y=") -> #REF! | EV14: =AND(#REF!,"AAAAAH9+t5c=") -> #REF! | EW14: =AND(#REF!,"AAAAAH9+t5g=") -> #REF! | EX14: =AND(#REF!,"AAAAAH9+t5k=") -> #REF! | EY14: =AND(#REF!,"AAAAAH9+t5o=") -> #REF! | EZ14: =AND(#REF!,"AAAAAH9+t5s=") -> #REF! | FA14: =AND(#REF!,"AAAAAH9+t5w=") -> #REF! | FB14: =AND(#REF!,"AAAAAH9+t50=") -> #REF! | FC14: =AND(#REF!,"AAAAAH9+t54=") -> #REF! | FD14: =AND(#REF!,"AAAAAH9+t58=") -> #REF! | FE14: =IF(#REF!,"AAAAAH9+t6A=",0) -> #REF! | FF14: =AND(#REF!,"AAAAAH9+t6E=") -> #REF! | FG14: =AND(#REF!,"AAAAAH9+t6I=") -> #REF! | FH14: =AND(#REF!,"AAAAAH9+t6M=") -> #REF! | FI14: =AND(#REF!,"AAAAAH9+t6Q=") -> #REF! | FJ14: =AND(#REF!,"AAAAAH9+t6U=") -> #REF! | FK14: =AND(#REF!,"AAAAAH9+t6Y=") -> #REF! | FL14: =AND(#REF!,"AAAAAH9+t6c=") -> #REF! | FM14: =AND(#REF!,"AAAAAH9+t6g=") -> #REF! | FN14: =AND(#REF!,"AAAAAH9+t6k=") -> #REF! | FO14: =AND(#REF!,"AAAAAH9+t6o=") -> #REF! | FP14: =AND(#REF!,"AAAAAH9+t6s=") -> #REF! | FQ14: =AND(#REF!,"AAAAAH9+t6w=") -> #REF! | FR14: =IF(#REF!,"AAAAAH9+t60=",0) -> #REF! | FS14: =AND(#REF!,"AAAAAH9+t64=") -> #REF! | FT14: =AND(#REF!,"AAAAAH9+t68=") -> #REF! | FU14: =AND(#REF!,"AAAAAH9+t7A=") -> #REF! | FV14: =AND(#REF!,"AAAAAH9+t7E=") -> #REF! | FW14: =AND(#REF!,"AAAAAH9+t7I=") -> #REF! | FX14: =AND(#REF!,"AAAAAH9+t7M=") -> #REF! | FY14: =AND(#REF!,"AAAAAH9+t7Q=") -> #REF! | FZ14: =AND(#REF!,"AAAAAH9+t7U=") -> #REF! | GA14: =AND(#REF!,"AAAAAH9+t7Y=") -> #REF! | GB14: =AND(#REF!,"AAAAAH9+t7c=") -> #REF! | GC14: =AND(#REF!,"AAAAAH9+t7g=") -> #REF! | GD14: =AND(#REF!,"AAAAAH9+t7k=") -> #REF! | GE14: =IF(#REF!,"AAAAAH9+t7o=",0) -> #REF! | GF14: =AND(#REF!,"AAAAAH9+t7s=") -> #REF! | GG14: =AND(#REF!,"AAAAAH9+t7w=") -> #REF! | GH14: =AND(#REF!,"AAAAAH9+t70=") -> #REF! | GI14: =AND(#REF!,"AAAAAH9+t74=") -> #REF! | GJ14: =AND(#REF!,"AAAAAH9+t78=") -> #REF! | GK14: =AND(#REF!,"AAAAAH9+t8A=") -> #REF! | GL14: =AND(#REF!,"AAAAAH9+t8E=") -> #REF! | GM14: =AND(#REF!,"AAAAAH9+t8I=") -> #REF! | GN14: =AND(#REF!,"AAAAAH9+t8M=") -> #REF! | GO14: =AND(#REF!,"AAAAAH9+t8Q=") -> #REF! | GP14: =AND(#REF!,"AAAAAH9+t8U=") -> #REF! | GQ14: =AND(#REF!,"AAAAAH9+t8Y=") -> #REF! | GR14: =IF(#REF!,"AAAAAH9+t8c=",0) -> #REF! | GS14: =AND(#REF!,"AAAAAH9+t8g=") -> #REF! | GT14: =AND(#REF!,"AAAAAH9+t8k=") -> #REF! | GU14: =AND(#REF!,"AAAAAH9+t8o=") -> #REF! | GV14: =AND(#REF!,"AAAAAH9+t8s=") -> #REF! | GW14: =AND(#REF!,"AAAAAH9+t8w=") -> #REF! | GX14: =AND(#REF!,"AAAAAH9+t80=") -> #REF! | GY14: =AND(#REF!,"AAAAAH9+t84=") -> #REF! | GZ14: =AND(#REF!,"AAAAAH9+t88=") -> #REF! | HA14: =AND(#REF!,"AAAAAH9+t9A=") -> #REF! | HB14: =AND(#REF!,"AAAAAH9+t9E=") -> #REF! | HC14: =AND(#REF!,"AAAAAH9+t9I=") -> #REF! | HD14: =AND(#REF!,"AAAAAH9+t9M=") -> #REF! | HE14: =IF(#REF!,"AAAAAH9+t9Q=",0) -> #REF! | HF14: =AND(#REF!,"AAAAAH9+t9U=") -> #REF! | HG14: =AND(#REF!,"AAAAAH9+t9Y=") -> #REF! | HH14: =AND(#REF!,"AAAAAH9+t9c=") -> #REF! | HI14: =AND(#REF!,"AAAAAH9+t9g=") -> #REF! | HJ14: =AND(#REF!,"AAAAAH9+t9k=") -> #REF! | HK14: =AND(#REF!,"AAAAAH9+t9o=") -> #REF! | HL14: =AND(#REF!,"AAAAAH9+t9s=") -> #REF! | HM14: =AND(#REF!,"AAAAAH9+t9w=") -> #REF! | HN14: =AND(#REF!,"AAAAAH9+t90=") -> #REF! | HO14: =AND(#REF!,"AAAAAH9+t94=") -> #REF! | HP14: =AND(#REF!,"AAAAAH9+t98=") -> #REF! | HQ14: =AND(#REF!,"AAAAAH9+t+A=") -> #REF! | HR14: =IF(#REF!,"AAAAAH9+t+E=",0) -> #REF! | HS14: =AND(#REF!,"AAAAAH9+t+I=") -> #REF! | HT14: =AND(#REF!,"AAAAAH9+t+M=") -> #REF! | HU14: =AND(#REF!,"AAAAAH9+t+Q=") -> #REF! | HV14: =AND(#REF!,"AAAAAH9+t+U=") -> #REF! | HW14: =AND(#REF!,"AAAAAH9+t+Y=") -> #REF! | HX14: =AND(#REF!,"AAAAAH9+t+c=") -> #REF! | HY14: =AND(#REF!,"AAAAAH9+t+g=") -> #REF! | HZ14: =AND(#REF!,"AAAAAH9+t+k=") -> #REF! | IA14: =AND(#REF!,"AAAAAH9+t+o=") -> #REF! | IB14: =AND(#REF!,"AAAAAH9+t+s=") -> #REF! | IC14: =AND(#REF!,"AAAAAH9+t+w=") -> #REF! | ID14: =AND(#REF!,"AAAAAH9+t+0=") -> #REF! | IE14: =IF(#REF!,"AAAAAH9+t+4=",0) -> #REF! | IF14: =AND(#REF!,"AAAAAH9+t+8=") -> #REF! | IG14: =AND(#REF!,"AAAAAH9+t/A=") -> #REF! | IH14: =AND(#REF!,"AAAAAH9+t/E=") -> #REF! | II14: =AND(#REF!,"AAAAAH9+t/I=") -> #REF! | IJ14: =AND(#REF!,"AAAAAH9+t/M=") -> #REF! | IK14: =AND(#REF!,"AAAAAH9+t/Q=") -> #REF! | IL14: =AND(#REF!,"AAAAAH9+t/U=") -> #REF! | IM14: =AND(#REF!,"AAAAAH9+t/Y=") -> #REF! | IN14: =AND(#REF!,"AAAAAH9+t/c=") -> #REF! | IO14: =AND(#REF!,"AAAAAH9+t/g=") -> #REF! | IP14: =AND(#REF!,"AAAAAH9+t/k=") -> #REF! | IQ14: =AND(#REF!,"AAAAAH9+t/o=") -> #REF! | IR14: =IF(#REF!,"AAAAAH9+t/s=",0) -> #REF! | IS14: =AND(#REF!,"AAAAAH9+t/w=") -> #REF! | IT14: =AND(#REF!,"AAAAAH9+t/0=") -> #REF! | IU14: =AND(#REF!,"AAAAAH9+t/4=") -> #REF! | IV14: =AND(#REF!,"AAAAAH9+t/8=") -> #REF!
