Workbook
Name dsg: #REF!

Sheet Naslovnica
B2: CITARA d.o.o., Zagreb, Desinićka 20
B3: tel/fax: 01364 3421
B4: Projektantski ured strojarskih instalacija i postrojenja
B6: Broj projekta: | D6: 2439/17
B7: Broj mape: | D7: 3
B9: Investitor: | D9: ŠTED INVEST d.o.o.
D10: Sprečka 12, Zagreb
B12: Građevina: | D12: PAVILJONI AD TURRES
B15: Lokacija: | D15: Ulica Milovana Muževića 20
D16: Dramalj, k.o. Crikvenica
B19: TROŠKOVNIK INSTALACIJA
B20: GRIJANJA, HLAĐENJA I PRIPREME PTV-e
B29: Glavni projektant: | D29: Marina Balin-Fadejev, dipl.ing.arh.
D30: Potpis: | G30: M.P.
B34: Projektant: | D34: Marinko Zečević, dipl.ing.stroj.
D35: Potpis: | G35: M.P.
B37: Suradnici: | D37: Alex Hlušička, mag.ing.stroj.
D38: Dražen Jagatić, ing.stroj.
B40: Direktor: | D40: Marinko Zečević, dipl.ing.stroj.
D41: Potpis: | G41: M.P.
B45: Zagreb, | C45: lipanj | D45: 2017.
B47: CITARA d.o.o., Zagreb pridržava sva autorska prava te pravo korištenje i umnožavanja ove dokumentacije.
B48: Investitor ima pravo koristiti ovu dokumentaciju samo za navedenu građevinu u skladu sa ugovorom.

Sheet OU
A1: Stavka | B1: Vrsta i opis rada | C1: Jedinična mjera | D1: Količina | E1: Jedinična cijena [kn] | F1: Stavka
A3: 0. | B3: OPĆI UVJETI I OPĆI TROŠKOVI
A5: =I5 -> 0.1 | B5: Izvođač radova prije izrade ponude treba dobro pregledati tehničku dokumentaciju, upoznati se sa postojećim stanjem na terenu, te eventualno zatražiti sva potrebna objašnjenja od projektanta i investitora, kako bi ponuda bila realna. U tom smislu ponudbene stavke iz ovog troškovnika moraju sadržavati sve dobave materijala s točno određenim tipovima i vrstom opreme, potrebnim atestima i sl., kao i sve potrebne transporte, prijenos po gradilištu, te ugradnju do finalnog proizvoda, i to tako da su od ponuđača radova provjerene sve troškovničke količine i prema potrebi korigirane. | F5: =N5 -> 0 | H5: =IF(B5="","",1) -> 1 | I5: =IF(H5="","",$A$3&H5) -> 0.1
A6: =I6 -> 0.2 | B6: Sve radove izvesti od kvalitetnog materijala prema opisima i detaljima, i to sve u okviru ponuđene jedinične cijene. Sve štete učinjene prigodom rada vlastitim ili tuđim radovima imaju se ukloniti na račun počinitelja. | F6: =N6 -> 0 | H6: =IF(A5="",H5,H5+1) -> 2 | I6: =$A$3&H6 -> 0.2
A7: =I7 -> 0.3 | B7: Svi nekvalitetni radovi imaju se otkloniti i zamijeniti ispravnim, bez bilo kakve odštete od strane investitora. | F7: =N7 -> 0 | H7: =IF(A6="",H6,H6+1) -> 3 | I7: =$A$3&H7 -> 0.3
A8: =I8 -> 0.4 | B8: Ako opis koje stavke dovodi izvoditelja u sumnju o načinu izvedbe, treba pravovremeno prije predaje ponude tražiti objašnjenje od projektanta. | F8: =N8 -> 0 | H8: =IF(A7="",H7,H7+1) -> 4 | I8: =$A$3&H8 -> 0.4
A9: =I9 -> 0.5 | B9: Eventualne izmjene materijala te načina izvedbe tokom građenja moraju se izvršiti isključivo pismenim dogovorom s projektantom i nadzornim inženjerom. | F9: =N9 -> 0 | H9: =IF(A8="",H8,H8+1) -> 5 | I9: =$A$3&H9 -> 0.5
A10: =I10 -> 0.6 | B10: Sve više radnje koje neće biti na taj način utvrđene neće se moći priznati u obračunu. | F10: =N10 -> 0 | H10: =IF(A9="",H9,H9+1) -> 6 | I10: =$A$3&H10 -> 0.6
A11: =I11 -> 0.7 | B11: Jedinična cijena sadrži sve nabrojeno u opisu pojedine grupe radova, te se na taj način vrši i obračun istih. | F11: =N11 -> 0 | H11: =IF(A10="",H10,H10+1) -> 7 | I11: =$A$3&H11 -> 0.7
A12: =I12 -> 0.8 | B12: Jedinične cijene primjenjivat će se na izvedene količine bez obzira u kojem postotku iste odstupaju od količine u troškovniku. | F12: =N12 -> 0 | H12: =IF(A11="",H11,H11+1) -> 8 | I12: =$A$3&H12 -> 0.8
A13: =I13 -> 0.9 | B13: Izvedeni radovi moraju u cijelosti odgovarati opisu troškovnika, a u tu svrhu investitor ima pravo od izvoditelja tražiti prije početka radova uzorke koji se čuvaju u upravi gradilišta, te izvedeni radovi moraju istima u cijelosti odgovarati. | F13: =N13 -> 0 | H13: =IF(A12="",H12,H12+1) -> 9 | I13: =$A$3&H13 -> 0.9
A14: =I14 -> 0.10 | B14: Sastavni dio projektnog elaborata uz nacrte, tehnički opis i opće uvjete izvođenja je ovaj troškovnik. Ukoliko iz bilo kojih razloga dođe do odstupanja od podataka iz troškovnika, u odnosu na podatke iz nacrta, vrijede podaci iz nacrta. Uz opće uvjete ovog troškovnika, nužno je pratiti opis, koji se smatra sastavnim dijelom ovog troškovnika. | F14: =N14 -> 0 | H14: =IF(A13="",H13,H13+1) -> 10 | I14: =$A$3&H14 -> 0.10
B15: Sve eventualne nejasnoće dužan je izvođač razjasniti s projektantima prije podnošenja ponude, jer se naknadne primjedbe u tom smislu neće moći uvažiti. Radove treba izvesti po opisu pojedine stavke troškovnika, općim uvjetima pojedinih grupa radova i ovim općim uvjetima. | H15: =IF(A14="",H14,H14+1) -> 11 | I15: =$A$3&H15 -> 0.11
A16: =I16 -> 0.11 | B16: Izvođač radova je dužan prije početka radova detaljno pregledati projektni elaborat i staviti na njega primjedbe. Ukoliko pronađe nepravilnosti mora ih, kao i svoje prijedloge za bolja rješenja dati investitoru na vrijeme, kako ne bi trpio ugovoreni rok završetka radova. Izvoditelj radova je dužan prije narudžbe materijala i prije početka radova izaći na gradilište, pregledati ga i utvrditi stanje građevinskih radova, te na licu mjesta prekontrolirati projekt, sve mjere, kote i količine iznesene u ovom projektu, a naročito u odnosu na već izvedeni građevinski objekt, te o svim neusklađenostima izvjestiti investitora. U sIučaju nekih izmjena na terenu ili na objektu, ili ako to doprinosi racionalnijem radu instalacije odnosno smanjenju investicije, može izvoditelj s dovoljno obrazloženja tražiti da se projekt upotpuni ili prilagodi postojećem stanju. Projekt može izmjeniti samo ako od investitora ishodi odobrenje izmjene. U slučaju navedenih izmjena izvoditelj preuzima odgovornost za prerađeni projekt. | F16: =N16 -> 0 | H16: =IF(A15="",H15,H15+1) -> 11 | I16: =$A$3&H16 -> 0.11
A17: =I17 -> 0.12 | B17: Konačni obračun vrši se na osnovu stvarno izvedenih količina, a po jediničnim cijenama ugovornog troškovnika. Ovo važi ukoliko se drukčije ne ugovori. | F17: =N17 -> 0 | H17: =IF(A16="",H16,H16+1) -> 12 | I17: =$A$3&H17 -> 0.12
B18: U cijeni moraju biti sadržani i radovi koji se neće posebno platiti kao što su: | H18: =IF(A17="",H17,H17+1) -> 13 | I18: =$A$3&H18 -> 0.13
B19: - zaštita dijelova na kojima se ne vrši zahvat | H19: =IF(A18="",H18,H18+1) -> 13 | I19: =$A$3&H19 -> 0.13
B20: - svi režijski sati, osim troškovnikom predviđenih ili po nadzornom inženjeru ovjerenih | H20: =IF(A19="",H19,H19+1) -> 13 | I20: =$A$3&H20 -> 0.13
B21: - sva ispitivanja materijala prema programu osiguranja kvalitete | H21: =IF(A20="",H20,H20+1) -> 13 | I21: =$A$3&H21 -> 0.13
B22: - uređivanje gradilišta po završetku rada s otklanjanjem svih otpadaka, oplate i slično | H22: =IF(A21="",H21,H21+1) -> 13 | I22: =$A$3&H22 -> 0.13
B23: - uskladištenje materijala i elemenata za obrtničke i instalaterske radove do njihove ugradbe | H23: =IF(A22="",H22,H22+1) -> 13 | I23: =$A$3&H23 -> 0.13
B24: - sve radove vezane uz primjenu pravila zaštite na radu | H24: =IF(A23="",H23,H23+1) -> 13 | I24: =$A$3&H24 -> 0.13
A25: =I25 -> 0.13 | B25: Garantni rok za kvalitetu montažnih radova treba utanačiti prema zakonskim propisima, a za ugrađenu opremu garantni rok se određuje prema garanciji proizvođača opreme, računajući od dana tehničkog prijema instalacije. Svaki kvar koji se dogodi na instalaciji u garantnom roku, a prouzročen je isporukom Iošeg materijala ili nesolidnom izradom, dužan je izvoditelj na zahtjev investitora otkloniti o svom trošku. Ukoliko tako ne postupi, investitor ima pravo pozvati drugog izvođača da otkloni kvar i da mu isplati, a naplatu svojih troškova izvrši iz cjelokupne imovine prvog izvođača. | F25: =N25 -> 0 | H25: =IF(A24="",H24,H24+1) -> 13 | I25: =$A$3&H25 -> 0.13
A26: =I26 -> 0.14 | B26: Izvođač je odgovoran za kvalitetu montažnih radova i ugrađenog materijala kako su radovi izvođeni po odobrenom projektu, odnosno odobrenim izmjenama. Ukoliko izvođač izvrši izmjene bez suglasnosti projektanta i nadzornog tijela, snosi odgovornost za nepravilno funkcioniranje instalacija. | F26: =N26 -> 0 | H26: =IF(A25="",H25,H25+1) -> 14 | I26: =$A$3&H26 -> 0.14
A27: =I27 -> 0.15 | B27: Ugrađeni materijal i oprema moraju odgovarati tehničkim propisima i standardima. Ako nadzorno tijelo bude zahtjevalo ispitivanje nekog materijala izvođač će ga podnijeti na ispitivanje priznatoj ustanovi, a troškove, ukoliko materijal odgovara naplatiti će se kao višak rada, s time što ima pravo i na srazmjerno produženje roka. Ukoliko ne odgovara standardima, troškove snosi izvođač. | F27: =N27 -> 0 | H27: =IF(A26="",H26,H26+1) -> 15 | I27: =$A$3&H27 -> 0.15
A28: =I28 -> 0.16 | B28: Sav materijal i opremu, ukoliko nisu ispitani kod proizvođača ili o tome ne postoji dokumentacija, mora ispitati izvoditelj radova prije nego ih ugradi i o tome sastaviti dokumentaciju. Ispitivanje instalacije ima za cilj provjeru da li ugradnja opreme, uređaji i automatika odgovara projektiranim uvjetima za zimski i ljetni režim rada, ocjenu kvalitete montažnih radova, brzine i tlaka u karakterističnim točkama postrojenja. | F28: =N28 -> 0 | H28: =IF(A27="",H27,H27+1) -> 16 | I28: =$A$3&H28 -> 0.16
A29: =I29 -> 0.17 | B29: Kod provjere montažnih radova obratiti pozornost na slijedeće: | F29: =N29 -> 0 | H29: =IF(A28="",H28,H28+1) -> 17 | I29: =$A$3&H29 -> 0.17
B30: - nepropusnost spojeva | H30: =IF(A29="",H29,H29+1) -> 18 | I30: =$A$3&H30 -> 0.18
B31: - razina buke | H31: =IF(A30="",H30,H30+1) -> 18 | I31: =$A$3&H31 -> 0.18
B32: - zaštita od korozije
B33: - pravilna montaža armature, ogrjevnih i rashladnih tijela, elemenata za ubacivanje i izvlačenje zraka, kanala i sl. | H33: =IF(A31="",H31,H31+1) -> 18 | I33: =$A$3&H33 -> 0.18
A34: =I34 -> 0.18 | B34: Ako materijal ugrađuje Investitor, izvođač će ga pregledati, pa ako smatra da nije kvalitetan, odbiti će ugradnju pismenom konstatacijom u građevinskom dnevniku. Ako i pored toga od nadzornog tijela bude naređeno da ga ugradi on će postupiti prema naredbi, ali ne odgovara za njega, niti za posljedice. Također se izuzima garancija za ovaj dio instalacija. | F34: =N34 -> 0 | H34: =IF(A29="",H29,H29+1) -> 18 | I34: =$A$3&H34 -> 0.18
A35: =I35 -> 0.19 | B35: Za izvođenje radova izvođač mora postaviti stručno osoblje i rukovodstvo potrebnih kvalifikacija za izvođenje odnosnih radova. | F35: =N35 -> 0 | H35: =IF(A34="",H34,H34+1) -> 19 | I35: =$A$3&H35 -> 0.19
A36: =I36 -> 0.20 | B36: Izvođač montažnih radova dužan je sporazumno s nadzornim tijelom i izvođačem građevinskih radova izvršiti pravilnu organizaciju poslova, tako da međusobno ometanje bude najmanje. Ako stanje ili izvođenje građevinskih radova ometa neprikidnu montažu izvođač ima pravo prekinuti rad, produžiti rok i naplatiti troškove koje sporazumno utvrđuju s nadzornim tijelom u dnevniku. | F36: =N36 -> 0 | H36: =IF(A35="",H35,H35+1) -> 20 | I36: =$A$3&H36 -> 0.20
A37: =I37 -> 0.21 | B37: Izvođač je dužan na osnovu važećih zakonskih propisa s investitorom i ostalim izvođačima radova riješiti pitanje higijensko-tehničke zaštite zaposlenog osoblja - smještaja materijala i osigurati čuvanje istoga, također i osiguranja gradilišta. | F37: =N37 -> 0 | H37: =IF(A36="",H36,H36+1) -> 21 | I37: =$A$3&H37 -> 0.21
A38: =I38 -> 0.22 | B38: Ako izvođač nađe da će zbog eventualnih pogrešaka u projektu ili pogrešnih uputstava ili ostalih građevinskih činilaca, radovi biti izvedeni na štetu trajnosti i kvalitete instalacije, dužan je pismeno upozoriti Investitora, u protivnom će biti odgovoran. Za prijedloge poboljšanja i pojeftinjenja ako ih Investitor usvoji ima pravo na naknadnu nagradu koja se dogovorno određuje sporazumno učinjenoj uštedi. | F38: =N38 -> 0 | H38: =IF(A37="",H37,H37+1) -> 22 | I38: =$A$3&H38 -> 0.22
A39: =I39 -> 0.23 | B39: Ako izvođač utvrdi da montažni radovi neće biti završeni u ugovorenom roku, potrebno je najmanje 10 dana prije isteka roka obavijestiti investitora s obrazloženjem zakašnjenja. | F39: =N39 -> 0 | H39: =IF(A38="",H38,H38+1) -> 23 | I39: =$A$3&H39 -> 0.23
A40: =I40 -> 0.24 | B40: Za sve naknadne radove koji su potrebni, odnosno nisu predviđeni projektom, izvođač će dostaviti dopunsku ponudu Investitoru, preko nadzornog tijela ili direktno. Nakon usvajanja ovi radovi se mogu izvesti. | F40: =N40 -> 0 | H40: =IF(A39="",H39,H39+1) -> 24 | I40: =$A$3&H40 -> 0.24
A41: =I41 -> 0.25 | B41: Na dopunsku ponudu izvođač mora dobiti odgovor u roku od 8 dana, u protivnom će se smatrati da nije usvojena. | F41: =N41 -> 0 | H41: =IF(A40="",H40,H40+1) -> 25 | I41: =$A$3&H41 -> 0.25
A42: =I42 -> 0.26 | B42: Izvođač je na gradilištu odgovoran jedino nadzornom tijelu, i s njima kontaktira preko građevinskog dnevnika, naređenje nadzornog tijela telefonom ili pismeno, obavezno je za izvođenje tek kada se upiše u dnevnik. Za sve zahtjeve izvođača, nadzorno tijelo mora donijeti rješenje u roku od 8 dana. U protivnom izvođač ima pravo na srazmjerno produženje roka i naknadu štete uslijed zastoja. | F42: =N42 -> 0 | H42: =IF(A41="",H41,H41+1) -> 26 | I42: =$A$3&H42 -> 0.26
...

Sheet GR_HL
A1: Stavka | B1: Vrsta i opis rada | C1: Jednakovrijedna oprema | D1: Jedinična mjera | E1: Količina | F1: Jedinična cijena [kn] | G1: Ukupno [kn]
A3: 1. | B3: INSTALACIJA GRIJANJA/HLAĐENJA
A5: 1.1 | B5: Dobava DC INVERTER rashladnog kondenzatorsko / kompresorskog sustava za hlađenje i grijanje, koji obvezatno mora imati automatski restart po prekidu i ponovnom uspostavljanju napajanja s mikroprocerskom regulacionom automatikom i elektronskim ekspanzijskim ventilom (dizalica topline) "Split" izvedbe, koja se sastoji od jedne vanjske i više unutarnjih jedinica. | D5: komada | E5: 9 | G5: =IF(F5="","",E5*F5)
B6: Vanjska jedinica tehničkih karakteristika:
B7: Max. broj unutarnjih jedinica: 5 Učin hlađenja: min. 9,1 kW Učin grijanja: min. 10,6 kW
B8: SEER / Energetska klasa: min. 5,3 / A SCOP / Energetska klasa: min. 3,8 / A Razina buke: max. 53 dB
B9: Dimenzije (v/š/d): max. 915 x 900 x 320 mm Težina: max. 70 kg
B10: Promjer priključka cijevi: - plinska faza: 4 x ø9,52 (3/8) mm(") 1 x ø12,70 (1/2) mm(") - tekuća faza: 5 x ø6,35 (1/4) mm(")
B11: Maksimalna duljina cijevi: - ukupno: 80 m - po unutarnjoj jedinici: 25 m
B12: Maksimalna visinska razlika: - vanjska jedinica ispod unutarnje: 15 m - vanjska jedinica iznad unutarnje: 10 m
B13: Područje rada: - režim hlađenja: -10°C do +46°C - režim grijanja: -15°C do +24°C
B14: Napajanje: 230 V - 1 f - 50 Hz Medij: R410A
B15: Kao jednakovrijedna alternativa dopušteno je nuđenje 5 vanjskih jedinica koje po kapacitetu odgovaraju predviđenim unutarnjim jedinicama, te ostvaruju traženi kapacitet i učinkovitost.
A16: 1.2 | B16: Vanjska jedinica tehničkih karakteristika: | D16: komada | E16: 9 | G16: =IF(F16="","",E16*F16)
B17: Max. broj unutarnjih jedinica: 6 Učin hlađenja: 12,0 kW Učin grijanja: 14,0 kW
B18: SEER / Energetska klasa: 3,32 / A SCOP / Energetska klasa: 4,03 / A Razina buke: 57 dB
B19: Dimenzije (v/š/d): 1070 x 900 x 320 mm Težina: 88 kg
B20: Promjer priključka cijevi: - plinska faza: 5 x ø9,52 (3/8) mm(") 1 x ø12,70 (1/2) mm(") - tekuća faza: 6 x ø6,35 (1/4) mm(")
B21: Maksimalna duljina cijevi: - ukupno: 80 m - po unutarnjoj jedinici: 25 m
B22: Maksimalna visinska razlika: - vanjska jedinica ispod unutarnje: 15 m - vanjska jedinica iznad unutarnje: 10 m
B23: Područje rada: - režim hlađenja: -10°C do +46°C - režim grijanja: -15°C do +24°C
B24: Napajanje: 230 V - 1 f - 50 Hz Medij: R410A
B25: Kao jednakovrijedna alternativa dopušteno je nuđenje 6 vanjskih jedinica koje po kapacitetu odgovaraju predviđenim unutarnjim jedinicama, te ostvaruju traženi kapacitet i učinkovitost.
A26: 1.3 | B26: Dobava unutarnjih klima jedinica namijenjenih za montažu na zid, tehničkih karakteristika: | D26: komada | E26: 81 | G26: =IF(F26="","",E26*F26)
B27: Učin hlađenja: min. 1,82/2,00 kW Učin grijanja: min. 2,12/2,33 kW
B28: Razina buke (v/n): max. 36 / 20 dB Protok zraka: min. 672 m³/h
B29: Dimenzije (v/š/d): max. 295 x 798 x 257 mm Težina: max. 12 kg
B30: Promjer priključka cijevi: - plinska faza: ø9,52 (3/8) mm(") - tekuća faza: ø6,35 (1/4) mm(")
B31: Infracrveni daljinski upravljač sa tjednim timerom
A32: 1.4 | B32: Dobava unutarnjih klima jedinica namijenjenih za montažu na zid, tehničkih karakteristika: | D32: komada | E32: 9 | G32: =IF(F32="","",E32*F32)
B33: Učin hlađenja: min. 3,64 kW Učin grijanja: min. 4,24 kW
B34: Razina buke (v/n): max. 39 / 29 dB Protok zraka: min. 888 m³/h
B35: Dimenzije (v/š/d): max. 295 x 798 x 257 mm Težina: max. 12 kg
B36: Promjer priključka cijevi: - plinska faza: ø12,7 (1/2) mm(") - tekuća faza: ø6,35 (1/4) mm(")
B37: Infracrveni daljinski upravljač sa tjednim timerom
A38: 1.5 | B38: Izolirane frigo bakrene cijevi za izvedbu freonske instalacije parne i tekuće faze,cijevi moraju biti sa unutarnje strane odmašćene, prije ugradnje propuhane, u stavku cijevi uključen je sav pribor za spajanje, cijev-cijev te uređaj-cijev. | G38: =IF(F38="","",E38*F38)
B39: Ć 12,7 mm | D39: metara | E39: 90 | G39: =IF(F39="","",E39*F39)
B40: Ć 9,52 mm | D40: metara | E40: 1035 | G40: =IF(F40="","",E40*F40)
B41: Ć 6,35 mm | D41: metara | E41: 1125 | G41: =IF(F41="","",E41*F41)
A42: 1.6 | B42: PVC cijev za odvod kondenzata, dimenzija:
...

Sheet SOLAR
A1: Stavka | B1: Vrsta i opis rada | C1: Jednakovrijedna oprema | D1: Jedinična mjera | E1: Količina | F1: Jedinična cijena [kn] | G1: Ukupno [kn]
A3: 2. | B3: SOLARNO GRIJANJE PTV-e
A5: 2.1 | B5: Dobava bivalentnih spremnika tople vode (donja spirala spaja se na solarne panele, gornja na kotlovnicu na lož-ulje), volumena 500 litara, sa toplinskom izolacijom i uvojnim koljenima s uranjajućom čahurom, za montažu na pod prostorije. | D5: kompleta | E5: 9 | G5: =E5*F5 -> 0
B6: Uz spremnike isporučiti električne grijače tip, snage 6 kW.
A7: 2.2 | B7: Dobava solarnih kolektora, bruto površine 2,51 m2. | D7: kompleta | E7: 36 | G7: =E7*F7 -> 0
B8: Univerzalno primjenjiv za montažu na krov i slobodnu montažu, može se montirati okomito i vodoravno.
B9: Visoki stupanj učinkovitosti (>70%) zbog selektivno prevučenog apsorbera i poklopca od solarnog stakla postojanog na tuču.
B10: Trajno brtvljenje i visoka stabilnost zbog okolno svinutog aluminijskog okvira i izravno izvedenog zabrtvljenja ploče.
B11: Pričvrsni sustav mora biti jednostavan za montažu, opremljen statički ispitanim sastavnim dijelovima od plemenitog čelika i aluminija, otpornih na koroziju.
A12: 2.3 | B12: Dobava kompleta potrebnog za instalaciju solarnog grijanja, koji se sastoji od sljedećih komponenata: | D12: kompleta | E12: 3 | G12: =E12*F12 -> 0
B13: - priključnog seta
B14: - uranjajuće čahure
B15: - brzog odzračnika sa T-komadom i vijčanom spojkom sa steznim prstenom NO15
B16: - odvajačem zraka
A17: 2.4 | B17: Armatura za punjenje, komplet sa ručnom pumpom za punjenje solarnog medija | D17: komada | E17: 1 | G17: =E17*F17 -> 0
A18: 2.5 | B18: Solarni medij za punjenje instalacije | D18: litara | E18: 300 | G18: =E18*F18 -> 0
A19: 2.6 | B19: Dobava sigurnosnog seta za krug solarnog grijanja koji se sastoji od: | D19: kompleta | E19: 3 | G19: =E19*F19 -> 0
B20: - kuglasti ventil NO20
B21: - ekspanzijska posuda 100l, sa servisnim ventilom
B22: - sigurnosni ventil NO25, tlak otvaranja 6 bara, za temperature 120 °C
A23: 2.7 | B23: Dobava crpne stanice za krug kolektora, renomiranog proizvođača opreme. Stanica se sastoji od sljedećih komponenata: | D23: kompleta | E23: 3 | G23: =E23*F23 -> 0
B24: - dva termometra
B25: - tri kuglaste slavine sa nepovratnim zaklopkama
B26: - nepovratnog ventila
B27: - mjerača protoka
B28: - manometra
B29: - cirkulacijskom crpkom
A30: 2.8 | B30: Nosiva potkonstrukcija solarnih panela s dokumentacijom proizvoda i sa sastavnim dijelovima za montažu na krov paviljona, što uključuje montažno postolje za postavljanje kolektora pod nagibom od 45° u odnosu na horizontalu, pričvrsne vijke, matice i tiple. | D30: kompleta | E30: 36 | G30: =E30*F30 -> 0
B31: Postolje proračunati na udare bure radi smještaja na krovu!
A32: 2.9 | B32: Dobava solarne regulacije za regulaciju rada kolektora, odgovarajućeg modela za ponuđene kolektore. | D32: kompleta | E32: 3 | G32: =E32*F32 -> 0
B33: Regulacija se brine o tome da toplina dobivena sunčanim kolektorima što efektivnije koristi za ugrijavanje pitke vode.
B34: Regulaciju odlikuje jednostavno rukovanje i visok komfor upravljanja.
A35: 2.10 | B35: Dobava recirkulacijske crpke namijenjene za potrošnu toplu vodu, u kompletu s kuglastim i nepovratnim ventilom NO32. Crpka slijedećih karakteristika: | D35: kompleta | E35: 3 | G35: =E35*F35 -> 0
B36: - minimalni protok: 1,5 m3/h
B37: - minimalna dobava: 20 kPa
B38: - priključak: G 1 1/2
A39: 2.11 | B39: Dobava programabilnog timera za upravljanje radom recirkulacijske crpke. | D39: komada | E39: 1 | G39: =E39*F39 -> 0
A40: 2.12 | B40: Dobava membranske ekspanzijske posude maksimalnog radnog tlaka do 10 bara, volumena 50 litara i sigurnosnog ventila 6 bara, NO32. | D40: kompleta | E40: 9 | G40: =E40*F40 -> 0
A41: 2.13 | B41: Ventili za hidrauličko balansiranje sa proporcionalnom karakteristikom prigušenja, sa mjernim priključcima na instrument za balansiranje, opremljeni ručnim kolom sa dvostrukom digitalnom skalom za (pred)podešavanje, sa priključkom za ispuštanje vode. Stavka uključuje obvezno jednokratno balansiranje instalacije na ventilima sa mjernim instrumentom, i izradu zapisnika o postignutim protocima. Ventili su navojni, dimenzija: | D41: komada | E41: 9 | G41: =IF(F41="","",E41*F41)
B42: NO25
...

Sheet REKAPITULACIJA
B1: REKAPITULACIJA | C1: Ukupno [kn]
A3: 1. | B3: =GR_HL!B3 -> INSTALACIJA GRIJANJA/HLAĐENJA | C3: =GR_HL!G56 -> 0
A4: 2. | B4: =SOLAR!B3 -> SOLARNO GRIJANJE PTV-e | C4: =SOLAR!G87 -> 0
B6: UKUPNO | C6: =SUM(C3:C4) -> 0
B7: PDV | C7: =C6*0.25 -> 0
B8: UKUPNO S PDV-om | C8: =C6+C7 -> 0

Sheet DV-IDENTITY-0
A1: =IF(Naslovnica!1:1,"AAAAACN75QA=",0) -> 0 | B1: =AND(Naslovnica!A1,"AAAAACN75QE=") -> #VALUE! | C1: =AND(Naslovnica!B1,"AAAAACN75QI=") -> #VALUE! | D1: =AND(Naslovnica!C1,"AAAAACN75QM=") -> #VALUE! | E1: =AND(Naslovnica!D1,"AAAAACN75QQ=") -> #VALUE! | F1: =AND(Naslovnica!E1,"AAAAACN75QU=") -> #VALUE! | G1: =AND(Naslovnica!F1,"AAAAACN75QY=") -> #VALUE! | H1: =AND(Naslovnica!G1,"AAAAACN75Qc=") -> #VALUE! | I1: =AND(Naslovnica!H1,"AAAAACN75Qg=") -> #VALUE! | J1: =AND(Naslovnica!I1,"AAAAACN75Qk=") -> #VALUE! | K1: =AND(Naslovnica!J1,"AAAAACN75Qo=") -> #VALUE! | L1: =AND(Naslovnica!K1,"AAAAACN75Qs=") -> #VALUE! | M1: =AND(Naslovnica!L1,"AAAAACN75Qw=") -> #VALUE! | N1: =AND(Naslovnica!M1,"AAAAACN75Q0=") -> #VALUE! | O1: =IF(Naslovnica!2:2,"AAAAACN75Q4=",0) -> 0 | P1: =AND(Naslovnica!A2,"AAAAACN75Q8=") -> #VALUE! | Q1: =AND(Naslovnica!B2,"AAAAACN75RA=") -> #VALUE! | R1: =AND(Naslovnica!C2,"AAAAACN75RE=") -> #VALUE! | S1: =AND(Naslovnica!D2,"AAAAACN75RI=") -> #VALUE! | T1: =AND(Naslovnica!E2,"AAAAACN75RM=") -> #VALUE! | U1: =AND(Naslovnica!F2,"AAAAACN75RQ=") -> #VALUE! | V1: =AND(Naslovnica!G2,"AAAAACN75RU=") -> #VALUE! | W1: =AND(Naslovnica!H2,"AAAAACN75RY=") -> #VALUE! | X1: =AND(Naslovnica!I2,"AAAAACN75Rc=") -> #VALUE! | Y1: =AND(Naslovnica!J2,"AAAAACN75Rg=") -> #VALUE! | Z1: =AND(Naslovnica!K2,"AAAAACN75Rk=") -> #VALUE! | AA1: =AND(Naslovnica!L2,"AAAAACN75Ro=") -> #VALUE! | AB1: =AND(Naslovnica!M2,"AAAAACN75Rs=") -> #VALUE! | AC1: =IF(Naslovnica!3:3,"AAAAACN75Rw=",0) -> 0 | AD1: =AND(Naslovnica!A3,"AAAAACN75R0=") -> #VALUE! | AE1: =AND(Naslovnica!B3,"AAAAACN75R4=") -> #VALUE! | AF1: =AND(Naslovnica!C3,"AAAAACN75R8=") -> #VALUE! | AG1: =AND(Naslovnica!D3,"AAAAACN75SA=") -> #VALUE! | AH1: =AND(Naslovnica!E3,"AAAAACN75SE=") -> #VALUE! | AI1: =AND(Naslovnica!F3,"AAAAACN75SI=") -> #VALUE! | AJ1: =AND(Naslovnica!G3,"AAAAACN75SM=") -> #VALUE! | AK1: =AND(Naslovnica!H3,"AAAAACN75SQ=") -> #VALUE! | AL1: =AND(Naslovnica!I3,"AAAAACN75SU=") -> #VALUE! | AM1: =AND(Naslovnica!J3,"AAAAACN75SY=") -> #VALUE! | AN1: =AND(Naslovnica!K3,"AAAAACN75Sc=") -> #VALUE! | AO1: =AND(Naslovnica!L3,"AAAAACN75Sg=") -> #VALUE! | AP1: =AND(Naslovnica!M3,"AAAAACN75Sk=") -> #VALUE! | AQ1: =IF(Naslovnica!4:4,"AAAAACN75So=",0) -> 0 | AR1: =AND(Naslovnica!A4,"AAAAACN75Ss=") -> #VALUE! | AS1: =AND(Naslovnica!B4,"AAAAACN75Sw=") -> #VALUE! | AT1: =AND(Naslovnica!C4,"AAAAACN75S0=") -> #VALUE! | AU1: =AND(Naslovnica!D4,"AAAAACN75S4=") -> #VALUE! | AV1: =AND(Naslovnica!E4,"AAAAACN75S8=") -> #VALUE! | AW1: =AND(Naslovnica!F4,"AAAAACN75TA=") -> #VALUE! | AX1: =AND(Naslovnica!G4,"AAAAACN75TE=") -> #VALUE! | AY1: =AND(Naslovnica!H4,"AAAAACN75TI=") -> #VALUE! | AZ1: =AND(Naslovnica!I4,"AAAAACN75TM=") -> #VALUE! | BA1: =AND(Naslovnica!J4,"AAAAACN75TQ=") -> #VALUE! | BB1: =AND(Naslovnica!K4,"AAAAACN75TU=") -> #VALUE! | BC1: =AND(Naslovnica!L4,"AAAAACN75TY=") -> #VALUE! | BD1: =AND(Naslovnica!M4,"AAAAACN75Tc=") -> #VALUE! | BE1: =IF(Naslovnica!5:5,"AAAAACN75Tg=",0) -> 0 | BF1: =AND(Naslovnica!A5,"AAAAACN75Tk=") -> #VALUE! | BG1: =AND(Naslovnica!B5,"AAAAACN75To=") -> #VALUE! | BH1: =AND(Naslovnica!C5,"AAAAACN75Ts=") -> #VALUE! | BI1: =AND(Naslovnica!D5,"AAAAACN75Tw=") -> #VALUE! | BJ1: =AND(Naslovnica!E5,"AAAAACN75T0=") -> #VALUE! | BK1: =AND(Naslovnica!F5,"AAAAACN75T4=") -> #VALUE! | BL1: =AND(Naslovnica!G5,"AAAAACN75T8=") -> #VALUE! | BM1: =AND(Naslovnica!H5,"AAAAACN75UA=") -> #VALUE! | BN1: =AND(Naslovnica!I5,"AAAAACN75UE=") -> #VALUE! | BO1: =AND(Naslovnica!J5,"AAAAACN75UI=") -> #VALUE! | BP1: =AND(Naslovnica!K5,"AAAAACN75UM=") -> #VALUE! | BQ1: =AND(Naslovnica!L5,"AAAAACN75UQ=") -> #VALUE! | BR1: =AND(Naslovnica!M5,"AAAAACN75UU=") -> #VALUE! | BS1: =IF(Naslovnica!6:6,"AAAAACN75UY=",0) -> 0 | BT1: =AND(Naslovnica!A6,"AAAAACN75Uc=") -> #VALUE! | BU1: =AND(Naslovnica!B6,"AAAAACN75Ug=") -> #VALUE! | BV1: =AND(Naslovnica!C6,"AAAAACN75Uk=") -> #VALUE! | BW1: =AND(Naslovnica!D6,"AAAAACN75Uo=") -> #VALUE! | BX1: =AND(Naslovnica!E6,"AAAAACN75Us=") -> #VALUE! | BY1: =AND(Naslovnica!F6,"AAAAACN75Uw=") -> #VALUE! | BZ1: =AND(Naslovnica!G6,"AAAAACN75U0=") -> #VALUE! | CA1: =AND(Naslovnica!H6,"AAAAACN75U4=") -> #VALUE! | CB1: =AND(Naslovnica!I6,"AAAAACN75U8=") -> #VALUE! | CC1: =AND(Naslovnica!J6,"AAAAACN75VA=") -> #VALUE! | CD1: =AND(Naslovnica!K6,"AAAAACN75VE=") -> #VALUE! | CE1: =AND(Naslovnica!L6,"AAAAACN75VI=") -> #VALUE! | CF1: =AND(Naslovnica!M6,"AAAAACN75VM=") -> #VALUE! | CG1: =IF(Naslovnica!7:7,"AAAAACN75VQ=",0) -> 0 | CH1: =AND(Naslovnica!A7,"AAAAACN75VU=") -> #VALUE! | CI1: =AND(Naslovnica!B7,"AAAAACN75VY=") -> #VALUE! | CJ1: =AND(Naslovnica!C7,"AAAAACN75Vc=") -> #VALUE! | CK1: =AND(Naslovnica!D7,"AAAAACN75Vg=") -> #VALUE! | CL1: =AND(Naslovnica!E7,"AAAAACN75Vk=") -> #VALUE! | CM1: =AND(Naslovnica!F7,"AAAAACN75Vo=") -> #VALUE! | CN1: =AND(Naslovnica!G7,"AAAAACN75Vs=") -> #VALUE! | CO1: =AND(Naslovnica!H7,"AAAAACN75Vw=") -> #VALUE! | CP1: =AND(Naslovnica!I7,"AAAAACN75V0=") -> #VALUE! | CQ1: =AND(Naslovnica!J7,"AAAAACN75V4=") -> #VALUE! | CR1: =AND(Naslovnica!K7,"AAAAACN75V8=") -> #VALUE! | CS1: =AND(Naslovnica!L7,"AAAAACN75WA=") -> #VALUE! | CT1: =AND(Naslovnica!M7,"AAAAACN75WE=") -> #VALUE! | CU1: =IF(Naslovnica!8:8,"AAAAACN75WI=",0) -> 0 | CV1: =AND(Naslovnica!A8,"AAAAACN75WM=") -> #VALUE! | CW1: =AND(Naslovnica!B8,"AAAAACN75WQ=") -> #VALUE! | CX1: =AND(Naslovnica!C8,"AAAAACN75WU=") -> #VALUE! | CY1: =AND(Naslovnica!D8,"AAAAACN75WY=") -> #VALUE! | CZ1: =AND(Naslovnica!E8,"AAAAACN75Wc=") -> #VALUE! | DA1: =AND(Naslovnica!F8,"AAAAACN75Wg=") -> #VALUE! | DB1: =AND(Naslovnica!G8,"AAAAACN75Wk=") -> #VALUE! | DC1: =AND(Naslovnica!H8,"AAAAACN75Wo=") -> #VALUE! | DD1: =AND(Naslovnica!I8,"AAAAACN75Ws=") -> #VALUE! | DE1: =AND(Naslovnica!J8,"AAAAACN75Ww=") -> #VALUE! | DF1: =AND(Naslovnica!K8,"AAAAACN75W0=") -> #VALUE! | DG1: =AND(Naslovnica!L8,"AAAAACN75W4=") -> #VALUE! | DH1: =AND(Naslovnica!M8,"AAAAACN75W8=") -> #VALUE! | DI1: =IF(Naslovnica!9:9,"AAAAACN75XA=",0) -> 0 | DJ1: =AND(Naslovnica!A9,"AAAAACN75XE=") -> #VALUE! | DK1: =AND(Naslovnica!B9,"AAAAACN75XI=") -> #VALUE! | DL1: =AND(Naslovnica!C9,"AAAAACN75XM=") -> #VALUE! | DM1: =AND(Naslovnica!D9,"AAAAACN75XQ=") -> #VALUE! | DN1: =AND(Naslovnica!E9,"AAAAACN75XU=") -> #VALUE! | DO1: =AND(Naslovnica!F9,"AAAAACN75XY=") -> #VALUE! | DP1: =AND(Naslovnica!G9,"AAAAACN75Xc=") -> #VALUE! | DQ1: =AND(Naslovnica!H9,"AAAAACN75Xg=") -> #VALUE! | DR1: =AND(Naslovnica!I9,"AAAAACN75Xk=") -> #VALUE! | DS1: =AND(Naslovnica!J9,"AAAAACN75Xo=") -> #VALUE! | DT1: =AND(Naslovnica!K9,"AAAAACN75Xs=") -> #VALUE! | DU1: =AND(Naslovnica!L9,"AAAAACN75Xw=") -> #VALUE! | DV1: =AND(Naslovnica!M9,"AAAAACN75X0=") -> #VALUE! | DW1: =IF(Naslovnica!10:10,"AAAAACN75X4=",0) -> 0 | DX1: =AND(Naslovnica!A10,"AAAAACN75X8=") -> #VALUE! | DY1: =AND(Naslovnica!B10,"AAAAACN75YA=") -> #VALUE! | DZ1: =AND(Naslovnica!C10,"AAAAACN75YE=") -> #VALUE! | EA1: =AND(Naslovnica!D10,"AAAAACN75YI=") -> #VALUE! | EB1: =AND(Naslovnica!E10,"AAAAACN75YM=") -> #VALUE! | EC1: =AND(Naslovnica!F10,"AAAAACN75YQ=") -> #VALUE! | ED1: =AND(Naslovnica!G10,"AAAAACN75YU=") -> #VALUE! | EE1: =AND(Naslovnica!H10,"AAAAACN75YY=") -> #VALUE! | EF1: =AND(Naslovnica!I10,"AAAAACN75Yc=") -> #VALUE! | EG1: =AND(Naslovnica!J10,"AAAAACN75Yg=") -> #VALUE! | EH1: =AND(Naslovnica!K10,"AAAAACN75Yk=") -> #VALUE! | EI1: =AND(Naslovnica!L10,"AAAAACN75Yo=") -> #VALUE! | EJ1: =AND(Naslovnica!M10,"AAAAACN75Ys=") -> #VALUE! | EK1: =IF(Naslovnica!11:11,"AAAAACN75Yw=",0) -> 0 | EL1: =AND(Naslovnica!A11,"AAAAACN75Y0=") -> #VALUE! | EM1: =AND(Naslovnica!B11,"AAAAACN75Y4=") -> #VALUE! | EN1: =AND(Naslovnica!C11,"AAAAACN75Y8=") -> #VALUE! | EO1: =AND(Naslovnica!D11,"AAAAACN75ZA=") -> #VALUE! | EP1: =AND(Naslovnica!E11,"AAAAACN75ZE=") -> #VALUE! | EQ1: =AND(Naslovnica!F11,"AAAAACN75ZI=") -> #VALUE! | ER1: =AND(Naslovnica!G11,"AAAAACN75ZM=") -> #VALUE! | ES1: =AND(Naslovnica!H11,"AAAAACN75ZQ=") -> #VALUE! | ET1: =AND(Naslovnica!I11,"AAAAACN75ZU=") -> #VALUE! | EU1: =AND(Naslovnica!J11,"AAAAACN75ZY=") -> #VALUE! | EV1: =AND(Naslovnica!K11,"AAAAACN75Zc=") -> #VALUE! | EW1: =AND(Naslovnica!L11,"AAAAACN75Zg=") -> #VALUE! | EX1: =AND(Naslovnica!M11,"AAAAACN75Zk=") -> #VALUE! | EY1: =IF(Naslovnica!12:12,"AAAAACN75Zo=",0) -> 0 | EZ1: =AND(Naslovnica!A12,"AAAAACN75Zs=") -> #VALUE! | FA1: =AND(Naslovnica!B12,"AAAAACN75Zw=") -> #VALUE! | FB1: =AND(Naslovnica!C12,"AAAAACN75Z0=") -> #VALUE! | FC1: =AND(Naslovnica!D12,"AAAAACN75Z4=") -> #VALUE! | FD1: =AND(Naslovnica!E12,"AAAAACN75Z8=") -> #VALUE! | FE1: =AND(Naslovnica!F12,"AAAAACN75aA=") -> #VALUE! | FF1: =AND(Naslovnica!G12,"AAAAACN75aE=") -> #VALUE! | FG1: =AND(Naslovnica!H12,"AAAAACN75aI=") -> #VALUE! | FH1: =AND(Naslovnica!I12,"AAAAACN75aM=") -> #VALUE! | FI1: =AND(Naslovnica!J12,"AAAAACN75aQ=") -> #VALUE! | FJ1: =AND(Naslovnica!K12,"AAAAACN75aU=") -> #VALUE! | FK1: =AND(Naslovnica!L12,"AAAAACN75aY=") -> #VALUE! | FL1: =AND(Naslovnica!M12,"AAAAACN75ac=") -> #VALUE! | FM1: =IF(Naslovnica!13:13,"AAAAACN75ag=",0) -> 0 | FN1: =AND(Naslovnica!A13,"AAAAACN75ak=") -> #VALUE! | FO1: =AND(Naslovnica!B13,"AAAAACN75ao=") -> #VALUE! | FP1: =AND(Naslovnica!C13,"AAAAACN75as=") -> #VALUE! | FQ1: =AND(Naslovnica!D13,"AAAAACN75aw=") -> #VALUE! | FR1: =AND(Naslovnica!E13,"AAAAACN75a0=") -> #VALUE! | FS1: =AND(Naslovnica!F13,"AAAAACN75a4=") -> #VALUE! | FT1: =AND(Naslovnica!G13,"AAAAACN75a8=") -> #VALUE! | FU1: =AND(Naslovnica!H13,"AAAAACN75bA=") -> #VALUE! | FV1: =AND(Naslovnica!I13,"AAAAACN75bE=") -> #VALUE! | FW1: =AND(Naslovnica!J13,"AAAAACN75bI=") -> #VALUE! | FX1: =AND(Naslovnica!K13,"AAAAACN75bM=") -> #VALUE! | FY1: =AND(Naslovnica!L13,"AAAAACN75bQ=") -> #VALUE! | FZ1: =AND(Naslovnica!M13,"AAAAACN75bU=") -> #VALUE! | GA1: =IF(Naslovnica!14:14,"AAAAACN75bY=",0) -> 0 | GB1: =AND(Naslovnica!A14,"AAAAACN75bc=") -> #VALUE! | GC1: =AND(Naslovnica!B14,"AAAAACN75bg=") -> #VALUE! | GD1: =AND(Naslovnica!C14,"AAAAACN75bk=") -> #VALUE! | GE1: =AND(Naslovnica!D14,"AAAAACN75bo=") -> #VALUE! | GF1: =AND(Naslovnica!E14,"AAAAACN75bs=") -> #VALUE! | GG1: =AND(Naslovnica!F14,"AAAAACN75bw=") -> #VALUE! | GH1: =AND(Naslovnica!G14,"AAAAACN75b0=") -> #VALUE! | GI1: =AND(Naslovnica!H14,"AAAAACN75b4=") -> #VALUE! | GJ1: =AND(Naslovnica!I14,"AAAAACN75b8=") -> #VALUE! | GK1: =AND(Naslovnica!J14,"AAAAACN75cA=") -> #VALUE! | GL1: =AND(Naslovnica!K14,"AAAAACN75cE=") -> #VALUE! | GM1: =AND(Naslovnica!L14,"AAAAACN75cI=") -> #VALUE! | GN1: =AND(Naslovnica!M14,"AAAAACN75cM=") -> #VALUE! | GO1: =IF(Naslovnica!15:15,"AAAAACN75cQ=",0) -> 0 | GP1: =AND(Naslovnica!A15,"AAAAACN75cU=") -> #VALUE! | GQ1: =AND(Naslovnica!B15,"AAAAACN75cY=") -> #VALUE! | GR1: =AND(Naslovnica!C15,"AAAAACN75cc=") -> #VALUE! | GS1: =AND(Naslovnica!D15,"AAAAACN75cg=") -> #VALUE! | GT1: =AND(Naslovnica!E15,"AAAAACN75ck=") -> #VALUE! | GU1: =AND(Naslovnica!F15,"AAAAACN75co=") -> #VALUE! | GV1: =AND(Naslovnica!G15,"AAAAACN75cs=") -> #VALUE! | GW1: =AND(Naslovnica!H15,"AAAAACN75cw=") -> #VALUE! | GX1: =AND(Naslovnica!I15,"AAAAACN75c0=") -> #VALUE! | GY1: =AND(Naslovnica!J15,"AAAAACN75c4=") -> #VALUE! | GZ1: =AND(Naslovnica!K15,"AAAAACN75c8=") -> #VALUE! | HA1: =AND(Naslovnica!L15,"AAAAACN75dA=") -> #VALUE! | HB1: =AND(Naslovnica!M15,"AAAAACN75dE=") -> #VALUE! | HC1: =IF(Naslovnica!16:16,"AAAAACN75dI=",0) -> 0 | HD1: =AND(Naslovnica!A16,"AAAAACN75dM=") -> #VALUE! | HE1: =AND(Naslovnica!B16,"AAAAACN75dQ=") -> #VALUE! | HF1: =AND(Naslovnica!C16,"AAAAACN75dU=") -> #VALUE! | HG1: =AND(Naslovnica!D16,"AAAAACN75dY=") -> #VALUE! | HH1: =AND(Naslovnica!E16,"AAAAACN75dc=") -> #VALUE! | HI1: =AND(Naslovnica!F16,"AAAAACN75dg=") -> #VALUE! | HJ1: =AND(Naslovnica!G16,"AAAAACN75dk=") -> #VALUE! | HK1: =AND(Naslovnica!H16,"AAAAACN75do=") -> #VALUE! | HL1: =AND(Naslovnica!I16,"AAAAACN75ds=") -> #VALUE! | HM1: =AND(Naslovnica!J16,"AAAAACN75dw=") -> #VALUE! | HN1: =AND(Naslovnica!K16,"AAAAACN75d0=") -> #VALUE! | HO1: =AND(Naslovnica!L16,"AAAAACN75d4=") -> #VALUE! | HP1: =AND(Naslovnica!M16,"AAAAACN75d8=") -> #VALUE! | HQ1: =IF(Naslovnica!17:17,"AAAAACN75eA=",0) -> 0 | HR1: =AND(Naslovnica!A17,"AAAAACN75eE=") -> #VALUE! | HS1: =AND(Naslovnica!B17,"AAAAACN75eI=") -> #VALUE! | HT1: =AND(Naslovnica!C17,"AAAAACN75eM=") -> #VALUE! | HU1: =AND(Naslovnica!D17,"AAAAACN75eQ=") -> #VALUE! | HV1: =AND(Naslovnica!E17,"AAAAACN75eU=") -> #VALUE! | HW1: =AND(Naslovnica!F17,"AAAAACN75eY=") -> #VALUE! | HX1: =AND(Naslovnica!G17,"AAAAACN75ec=") -> #VALUE! | HY1: =AND(Naslovnica!H17,"AAAAACN75eg=") -> #VALUE! | HZ1: =AND(Naslovnica!I17,"AAAAACN75ek=") -> #VALUE! | IA1: =AND(Naslovnica!J17,"AAAAACN75eo=") -> #VALUE! | IB1: =AND(Naslovnica!K17,"AAAAACN75es=") -> #VALUE! | IC1: =AND(Naslovnica!L17,"AAAAACN75ew=") -> #VALUE! | ID1: =AND(Naslovnica!M17,"AAAAACN75e0=") -> #VALUE! | IE1: =IF(Naslovnica!18:18,"AAAAACN75e4=",0) -> 0 | IF1: =AND(Naslovnica!A18,"AAAAACN75e8=") -> #VALUE! | IG1: =AND(Naslovnica!B18,"AAAAACN75fA=") -> #VALUE! | IH1: =AND(Naslovnica!C18,"AAAAACN75fE=") -> #VALUE! | II1: =AND(Naslovnica!D18,"AAAAACN75fI=") -> #VALUE! | IJ1: =AND(Naslovnica!E18,"AAAAACN75fM=") -> #VALUE! | IK1: =AND(Naslovnica!F18,"AAAAACN75fQ=") -> #VALUE! | IL1: =AND(Naslovnica!G18,"AAAAACN75fU=") -> #VALUE! | IM1: =AND(Naslovnica!H18,"AAAAACN75fY=") -> #VALUE! | IN1: =AND(Naslovnica!I18,"AAAAACN75fc=") -> #VALUE! | IO1: =AND(Naslovnica!J18,"AAAAACN75fg=") -> #VALUE! | IP1: =AND(Naslovnica!K18,"AAAAACN75fk=") -> #VALUE! | IQ1: =AND(Naslovnica!L18,"AAAAACN75fo=") -> #VALUE! | IR1: =AND(Naslovnica!M18,"AAAAACN75fs=") -> #VALUE! | IS1: =IF(Naslovnica!19:19,"AAAAACN75fw=",0) -> 0 | IT1: =AND(Naslovnica!A19,"AAAAACN75f0=") -> #VALUE! | IU1: =AND(Naslovnica!B19,"AAAAACN75f4=") -> #VALUE! | IV1: =AND(Naslovnica!C19,"AAAAACN75f8=") -> #VALUE!
A2: =AND(Naslovnica!D19,"AAAAAF/70wA=") -> #VALUE! | B2: =AND(Naslovnica!E19,"AAAAAF/70wE=") -> #VALUE! | C2: =AND(Naslovnica!F19,"AAAAAF/70wI=") -> #VALUE! | D2: =AND(Naslovnica!G19,"AAAAAF/70wM=") -> #VALUE! | E2: =AND(Naslovnica!H19,"AAAAAF/70wQ=") -> #VALUE! | F2: =AND(Naslovnica!I19,"AAAAAF/70wU=") -> #VALUE! | G2: =AND(Naslovnica!J19,"AAAAAF/70wY=") -> #VALUE! | H2: =AND(Naslovnica!K19,"AAAAAF/70wc=") -> #VALUE! | I2: =AND(Naslovnica!L19,"AAAAAF/70wg=") -> #VALUE! | J2: =AND(Naslovnica!M19,"AAAAAF/70wk=") -> #VALUE! | K2: =IF(Naslovnica!20:20,"AAAAAF/70wo=",0) -> 0 | L2: =AND(Naslovnica!A20,"AAAAAF/70ws=") -> #VALUE! | M2: =AND(Naslovnica!B20,"AAAAAF/70ww=") -> #VALUE! | N2: =AND(Naslovnica!C20,"AAAAAF/70w0=") -> #VALUE! | O2: =AND(Naslovnica!D20,"AAAAAF/70w4=") -> #VALUE! | P2: =AND(Naslovnica!E20,"AAAAAF/70w8=") -> #VALUE! | Q2: =AND(Naslovnica!F20,"AAAAAF/70xA=") -> #VALUE! | R2: =AND(Naslovnica!G20,"AAAAAF/70xE=") -> #VALUE! | S2: =AND(Naslovnica!H20,"AAAAAF/70xI=") -> #VALUE! | T2: =AND(Naslovnica!I20,"AAAAAF/70xM=") -> #VALUE! | U2: =AND(Naslovnica!J20,"AAAAAF/70xQ=") -> #VALUE! | V2: =AND(Naslovnica!K20,"AAAAAF/70xU=") -> #VALUE! | W2: =AND(Naslovnica!L20,"AAAAAF/70xY=") -> #VALUE! | X2: =AND(Naslovnica!M20,"AAAAAF/70xc=") -> #VALUE! | Y2: =IF(Naslovnica!21:21,"AAAAAF/70xg=",0) -> 0 | Z2: =AND(Naslovnica!A21,"AAAAAF/70xk=") -> #VALUE! | AA2: =AND(Naslovnica!B21,"AAAAAF/70xo=") -> #VALUE! | AB2: =AND(Naslovnica!C21,"AAAAAF/70xs=") -> #VALUE! | AC2: =AND(Naslovnica!D21,"AAAAAF/70xw=") -> #VALUE! | AD2: =AND(Naslovnica!E21,"AAAAAF/70x0=") -> #VALUE! | AE2: =AND(Naslovnica!F21,"AAAAAF/70x4=") -> #VALUE! | AF2: =AND(Naslovnica!G21,"AAAAAF/70x8=") -> #VALUE! | AG2: =AND(Naslovnica!H21,"AAAAAF/70yA=") -> #VALUE! | AH2: =AND(Naslovnica!I21,"AAAAAF/70yE=") -> #VALUE! | AI2: =AND(Naslovnica!J21,"AAAAAF/70yI=") -> #VALUE! | AJ2: =AND(Naslovnica!K21,"AAAAAF/70yM=") -> #VALUE! | AK2: =AND(Naslovnica!L21,"AAAAAF/70yQ=") -> #VALUE! | AL2: =AND(Naslovnica!M21,"AAAAAF/70yU=") -> #VALUE! | AM2: =IF(Naslovnica!22:22,"AAAAAF/70yY=",0) -> 0 | AN2: =AND(Naslovnica!A22,"AAAAAF/70yc=") -> #VALUE! | AO2: =AND(Naslovnica!B22,"AAAAAF/70yg=") -> #VALUE! | AP2: =AND(Naslovnica!C22,"AAAAAF/70yk=") -> #VALUE! | AQ2: =AND(Naslovnica!D22,"AAAAAF/70yo=") -> #VALUE! | AR2: =AND(Naslovnica!E22,"AAAAAF/70ys=") -> #VALUE! | AS2: =AND(Naslovnica!F22,"AAAAAF/70yw=") -> #VALUE! | AT2: =AND(Naslovnica!G22,"AAAAAF/70y0=") -> #VALUE! | AU2: =AND(Naslovnica!H22,"AAAAAF/70y4=") -> #VALUE! | AV2: =AND(Naslovnica!I22,"AAAAAF/70y8=") -> #VALUE! | AW2: =AND(Naslovnica!J22,"AAAAAF/70zA=") -> #VALUE! | AX2: =AND(Naslovnica!K22,"AAAAAF/70zE=") -> #VALUE! | AY2: =AND(Naslovnica!L22,"AAAAAF/70zI=") -> #VALUE! | AZ2: =AND(Naslovnica!M22,"AAAAAF/70zM=") -> #VALUE! | BA2: =IF(Naslovnica!23:23,"AAAAAF/70zQ=",0) -> 0 | BB2: =AND(Naslovnica!A23,"AAAAAF/70zU=") -> #VALUE! | BC2: =AND(Naslovnica!B23,"AAAAAF/70zY=") -> #VALUE! | BD2: =AND(Naslovnica!C23,"AAAAAF/70zc=") -> #VALUE! | BE2: =AND(Naslovnica!D23,"AAAAAF/70zg=") -> #VALUE! | BF2: =AND(Naslovnica!E23,"AAAAAF/70zk=") -> #VALUE! | BG2: =AND(Naslovnica!F23,"AAAAAF/70zo=") -> #VALUE! | BH2: =AND(Naslovnica!G23,"AAAAAF/70zs=") -> #VALUE! | BI2: =AND(Naslovnica!H23,"AAAAAF/70zw=") -> #VALUE! | BJ2: =AND(Naslovnica!I23,"AAAAAF/70z0=") -> #VALUE! | BK2: =AND(Naslovnica!J23,"AAAAAF/70z4=") -> #VALUE! | BL2: =AND(Naslovnica!K23,"AAAAAF/70z8=") -> #VALUE! | BM2: =AND(Naslovnica!L23,"AAAAAF/700A=") -> #VALUE! | BN2: =AND(Naslovnica!M23,"AAAAAF/700E=") -> #VALUE! | BO2: =IF(Naslovnica!24:24,"AAAAAF/700I=",0) -> 0 | BP2: =AND(Naslovnica!A24,"AAAAAF/700M=") -> #VALUE! | BQ2: =AND(Naslovnica!B24,"AAAAAF/700Q=") -> #VALUE! | BR2: =AND(Naslovnica!C24,"AAAAAF/700U=") -> #VALUE! | BS2: =AND(Naslovnica!D24,"AAAAAF/700Y=") -> #VALUE! | BT2: =AND(Naslovnica!E24,"AAAAAF/700c=") -> #VALUE! | BU2: =AND(Naslovnica!F24,"AAAAAF/700g=") -> #VALUE! | BV2: =AND(Naslovnica!G24,"AAAAAF/700k=") -> #VALUE! | BW2: =AND(Naslovnica!H24,"AAAAAF/700o=") -> #VALUE! | BX2: =AND(Naslovnica!I24,"AAAAAF/700s=") -> #VALUE! | BY2: =AND(Naslovnica!J24,"AAAAAF/700w=") -> #VALUE! | BZ2: =AND(Naslovnica!K24,"AAAAAF/7000=") -> #VALUE! | CA2: =AND(Naslovnica!L24,"AAAAAF/7004=") -> #VALUE! | CB2: =AND(Naslovnica!M24,"AAAAAF/7008=") -> #VALUE! | CC2: =IF(Naslovnica!25:25,"AAAAAF/701A=",0) -> 0 | CD2: =AND(Naslovnica!A25,"AAAAAF/701E=") -> #VALUE! | CE2: =AND(Naslovnica!B25,"AAAAAF/701I=") -> #VALUE! | CF2: =AND(Naslovnica!C25,"AAAAAF/701M=") -> #VALUE! | CG2: =AND(Naslovnica!D25,"AAAAAF/701Q=") -> #VALUE! | CH2: =AND(Naslovnica!E25,"AAAAAF/701U=") -> #VALUE! | CI2: =AND(Naslovnica!F25,"AAAAAF/701Y=") -> #VALUE! | CJ2: =AND(Naslovnica!G25,"AAAAAF/701c=") -> #VALUE! | CK2: =AND(Naslovnica!H25,"AAAAAF/701g=") -> #VALUE! | CL2: =AND(Naslovnica!I25,"AAAAAF/701k=") -> #VALUE! | CM2: =AND(Naslovnica!J25,"AAAAAF/701o=") -> #VALUE! | CN2: =AND(Naslovnica!K25,"AAAAAF/701s=") -> #VALUE! | CO2: =AND(Naslovnica!L25,"AAAAAF/701w=") -> #VALUE! | CP2: =AND(Naslovnica!M25,"AAAAAF/7010=") -> #VALUE! | CQ2: =IF(Naslovnica!26:26,"AAAAAF/7014=",0) -> 0 | CR2: =AND(Naslovnica!A26,"AAAAAF/7018=") -> #VALUE! | CS2: =AND(Naslovnica!B26,"AAAAAF/702A=") -> #VALUE! | CT2: =AND(Naslovnica!C26,"AAAAAF/702E=") -> #VALUE! | CU2: =AND(Naslovnica!D26,"AAAAAF/702I=") -> #VALUE! | CV2: =AND(Naslovnica!E26,"AAAAAF/702M=") -> #VALUE! | CW2: =AND(Naslovnica!F26,"AAAAAF/702Q=") -> #VALUE! | CX2: =AND(Naslovnica!G26,"AAAAAF/702U=") -> #VALUE! | CY2: =AND(Naslovnica!H26,"AAAAAF/702Y=") -> #VALUE! | CZ2: =AND(Naslovnica!I26,"AAAAAF/702c=") -> #VALUE! | DA2: =AND(Naslovnica!J26,"AAAAAF/702g=") -> #VALUE! | DB2: =AND(Naslovnica!K26,"AAAAAF/702k=") -> #VALUE! | DC2: =AND(Naslovnica!L26,"AAAAAF/702o=") -> #VALUE! | DD2: =AND(Naslovnica!M26,"AAAAAF/702s=") -> #VALUE! | DE2: =IF(Naslovnica!27:27,"AAAAAF/702w=",0) -> 0 | DF2: =AND(Naslovnica!A27,"AAAAAF/7020=") -> #VALUE! | DG2: =AND(Naslovnica!B27,"AAAAAF/7024=") -> #VALUE! | DH2: =AND(Naslovnica!C27,"AAAAAF/7028=") -> #VALUE! | DI2: =AND(Naslovnica!D27,"AAAAAF/703A=") -> #VALUE! | DJ2: =AND(Naslovnica!E27,"AAAAAF/703E=") -> #VALUE! | DK2: =AND(Naslovnica!F27,"AAAAAF/703I=") -> #VALUE! | DL2: =AND(Naslovnica!G27,"AAAAAF/703M=") -> #VALUE! | DM2: =AND(Naslovnica!H27,"AAAAAF/703Q=") -> #VALUE! | DN2: =AND(Naslovnica!I27,"AAAAAF/703U=") -> #VALUE! | DO2: =AND(Naslovnica!J27,"AAAAAF/703Y=") -> #VALUE! | DP2: =AND(Naslovnica!K27,"AAAAAF/703c=") -> #VALUE! | DQ2: =AND(Naslovnica!L27,"AAAAAF/703g=") -> #VALUE! | DR2: =AND(Naslovnica!M27,"AAAAAF/703k=") -> #VALUE! | DS2: =IF(Naslovnica!28:28,"AAAAAF/703o=",0) -> 0 | DT2: =AND(Naslovnica!A28,"AAAAAF/703s=") -> #VALUE! | DU2: =AND(Naslovnica!B28,"AAAAAF/703w=") -> #VALUE! | DV2: =AND(Naslovnica!C28,"AAAAAF/7030=") -> #VALUE! | DW2: =AND(Naslovnica!D28,"AAAAAF/7034=") -> #VALUE! | DX2: =AND(Naslovnica!E28,"AAAAAF/7038=") -> #VALUE! | DY2: =AND(Naslovnica!F28,"AAAAAF/704A=") -> #VALUE! | DZ2: =AND(Naslovnica!G28,"AAAAAF/704E=") -> #VALUE! | EA2: =AND(Naslovnica!H28,"AAAAAF/704I=") -> #VALUE! | EB2: =AND(Naslovnica!I28,"AAAAAF/704M=") -> #VALUE! | EC2: =AND(Naslovnica!J28,"AAAAAF/704Q=") -> #VALUE! | ED2: =AND(Naslovnica!K28,"AAAAAF/704U=") -> #VALUE! | EE2: =AND(Naslovnica!L28,"AAAAAF/704Y=") -> #VALUE! | EF2: =AND(Naslovnica!M28,"AAAAAF/704c=") -> #VALUE! | EG2: =IF(Naslovnica!29:29,"AAAAAF/704g=",0) -> 0 | EH2: =AND(Naslovnica!A29,"AAAAAF/704k=") -> #VALUE! | EI2: =AND(Naslovnica!B29,"AAAAAF/704o=") -> #VALUE! | EJ2: =AND(Naslovnica!C29,"AAAAAF/704s=") -> #VALUE! | EK2: =AND(Naslovnica!D29,"AAAAAF/704w=") -> #VALUE! | EL2: =AND(Naslovnica!E29,"AAAAAF/7040=") -> #VALUE! | EM2: =AND(Naslovnica!F29,"AAAAAF/7044=") -> #VALUE! | EN2: =AND(Naslovnica!G29,"AAAAAF/7048=") -> #VALUE! | EO2: =AND(Naslovnica!H29,"AAAAAF/705A=") -> #VALUE! | EP2: =AND(Naslovnica!I29,"AAAAAF/705E=") -> #VALUE! | EQ2: =AND(Naslovnica!J29,"AAAAAF/705I=") -> #VALUE! | ER2: =AND(Naslovnica!K29,"AAAAAF/705M=") -> #VALUE! | ES2: =AND(Naslovnica!L29,"AAAAAF/705Q=") -> #VALUE! | ET2: =AND(Naslovnica!M29,"AAAAAF/705U=") -> #VALUE! | EU2: =IF(Naslovnica!30:30,"AAAAAF/705Y=",0) -> 0 | EV2: =AND(Naslovnica!A30,"AAAAAF/705c=") -> #VALUE! | EW2: =AND(Naslovnica!B30,"AAAAAF/705g=") -> #VALUE! | EX2: =AND(Naslovnica!C30,"AAAAAF/705k=") -> #VALUE! | EY2: =AND(Naslovnica!D30,"AAAAAF/705o=") -> #VALUE! | EZ2: =AND(Naslovnica!E30,"AAAAAF/705s=") -> #VALUE! | FA2: =AND(Naslovnica!F30,"AAAAAF/705w=") -> #VALUE! | FB2: =AND(Naslovnica!G30,"AAAAAF/7050=") -> #VALUE! | FC2: =AND(Naslovnica!H30,"AAAAAF/7054=") -> #VALUE! | FD2: =AND(Naslovnica!I30,"AAAAAF/7058=") -> #VALUE! | FE2: =AND(Naslovnica!J30,"AAAAAF/706A=") -> #VALUE! | FF2: =AND(Naslovnica!K30,"AAAAAF/706E=") -> #VALUE! | FG2: =AND(Naslovnica!L30,"AAAAAF/706I=") -> #VALUE! | FH2: =AND(Naslovnica!M30,"AAAAAF/706M=") -> #VALUE! | FI2: =IF(Naslovnica!31:31,"AAAAAF/706Q=",0) -> 0 | FJ2: =AND(Naslovnica!A31,"AAAAAF/706U=") -> #VALUE! | FK2: =AND(Naslovnica!B31,"AAAAAF/706Y=") -> #VALUE! | FL2: =AND(Naslovnica!C31,"AAAAAF/706c=") -> #VALUE! | FM2: =AND(Naslovnica!D31,"AAAAAF/706g=") -> #VALUE! | FN2: =AND(Naslovnica!E31,"AAAAAF/706k=") -> #VALUE! | FO2: =AND(Naslovnica!F31,"AAAAAF/706o=") -> #VALUE! | FP2: =AND(Naslovnica!G31,"AAAAAF/706s=") -> #VALUE! | FQ2: =AND(Naslovnica!H31,"AAAAAF/706w=") -> #VALUE! | FR2: =AND(Naslovnica!I31,"AAAAAF/7060=") -> #VALUE! | FS2: =AND(Naslovnica!J31,"AAAAAF/7064=") -> #VALUE! | FT2: =AND(Naslovnica!K31,"AAAAAF/7068=") -> #VALUE! | FU2: =AND(Naslovnica!L31,"AAAAAF/707A=") -> #VALUE! | FV2: =AND(Naslovnica!M31,"AAAAAF/707E=") -> #VALUE! | FW2: =IF(Naslovnica!32:32,"AAAAAF/707I=",0) -> 0 | FX2: =AND(Naslovnica!A32,"AAAAAF/707M=") -> #VALUE! | FY2: =AND(Naslovnica!B32,"AAAAAF/707Q=") -> #VALUE! | FZ2: =AND(Naslovnica!C32,"AAAAAF/707U=") -> #VALUE! | GA2: =AND(Naslovnica!D32,"AAAAAF/707Y=") -> #VALUE! | GB2: =AND(Naslovnica!E32,"AAAAAF/707c=") -> #VALUE! | GC2: =AND(Naslovnica!F32,"AAAAAF/707g=") -> #VALUE! | GD2: =AND(Naslovnica!G32,"AAAAAF/707k=") -> #VALUE! | GE2: =AND(Naslovnica!H32,"AAAAAF/707o=") -> #VALUE! | GF2: =AND(Naslovnica!I32,"AAAAAF/707s=") -> #VALUE! | GG2: =AND(Naslovnica!J32,"AAAAAF/707w=") -> #VALUE! | GH2: =AND(Naslovnica!K32,"AAAAAF/7070=") -> #VALUE! | GI2: =AND(Naslovnica!L32,"AAAAAF/7074=") -> #VALUE! | GJ2: =AND(Naslovnica!M32,"AAAAAF/7078=") -> #VALUE! | GK2: =IF(Naslovnica!33:33,"AAAAAF/708A=",0) -> 0 | GL2: =AND(Naslovnica!A33,"AAAAAF/708E=") -> #VALUE! | GM2: =AND(Naslovnica!B33,"AAAAAF/708I=") -> #VALUE! | GN2: =AND(Naslovnica!C33,"AAAAAF/708M=") -> #VALUE! | GO2: =AND(Naslovnica!D33,"AAAAAF/708Q=") -> #VALUE! | GP2: =AND(Naslovnica!E33,"AAAAAF/708U=") -> #VALUE! | GQ2: =AND(Naslovnica!F33,"AAAAAF/708Y=") -> #VALUE! | GR2: =AND(Naslovnica!G33,"AAAAAF/708c=") -> #VALUE! | GS2: =AND(Naslovnica!H33,"AAAAAF/708g=") -> #VALUE! | GT2: =AND(Naslovnica!I33,"AAAAAF/708k=") -> #VALUE! | GU2: =AND(Naslovnica!J33,"AAAAAF/708o=") -> #VALUE! | GV2: =AND(Naslovnica!K33,"AAAAAF/708s=") -> #VALUE! | GW2: =AND(Naslovnica!L33,"AAAAAF/708w=") -> #VALUE! | GX2: =AND(Naslovnica!M33,"AAAAAF/7080=") -> #VALUE! | GY2: =IF(Naslovnica!34:34,"AAAAAF/7084=",0) -> 0 | GZ2: =AND(Naslovnica!A34,"AAAAAF/7088=") -> #VALUE! | HA2: =AND(Naslovnica!B34,"AAAAAF/709A=") -> #VALUE! | HB2: =AND(Naslovnica!C34,"AAAAAF/709E=") -> #VALUE! | HC2: =AND(Naslovnica!D34,"AAAAAF/709I=") -> #VALUE! | HD2: =AND(Naslovnica!E34,"AAAAAF/709M=") -> #VALUE! | HE2: =AND(Naslovnica!F34,"AAAAAF/709Q=") -> #VALUE! | HF2: =AND(Naslovnica!G34,"AAAAAF/709U=") -> #VALUE! | HG2: =AND(Naslovnica!H34,"AAAAAF/709Y=") -> #VALUE! | HH2: =AND(Naslovnica!I34,"AAAAAF/709c=") -> #VALUE! | HI2: =AND(Naslovnica!J34,"AAAAAF/709g=") -> #VALUE! | HJ2: =AND(Naslovnica!K34,"AAAAAF/709k=") -> #VALUE! | HK2: =AND(Naslovnica!L34,"AAAAAF/709o=") -> #VALUE! | HL2: =AND(Naslovnica!M34,"AAAAAF/709s=") -> #VALUE! | HM2: =IF(Naslovnica!35:35,"AAAAAF/709w=",0) -> 0 | HN2: =AND(Naslovnica!A35,"AAAAAF/7090=") -> #VALUE! | HO2: =AND(Naslovnica!B35,"AAAAAF/7094=") -> #VALUE! | HP2: =AND(Naslovnica!C35,"AAAAAF/7098=") -> #VALUE! | HQ2: =AND(Naslovnica!D35,"AAAAAF/70+A=") -> #VALUE! | HR2: =AND(Naslovnica!E35,"AAAAAF/70+E=") -> #VALUE! | HS2: =AND(Naslovnica!F35,"AAAAAF/70+I=") -> #VALUE! | HT2: =AND(Naslovnica!G35,"AAAAAF/70+M=") -> #VALUE! | HU2: =AND(Naslovnica!H35,"AAAAAF/70+Q=") -> #VALUE! | HV2: =AND(Naslovnica!I35,"AAAAAF/70+U=") -> #VALUE! | HW2: =AND(Naslovnica!J35,"AAAAAF/70+Y=") -> #VALUE! | HX2: =AND(Naslovnica!K35,"AAAAAF/70+c=") -> #VALUE! | HY2: =AND(Naslovnica!L35,"AAAAAF/70+g=") -> #VALUE! | HZ2: =AND(Naslovnica!M35,"AAAAAF/70+k=") -> #VALUE! | IA2: =IF(Naslovnica!36:36,"AAAAAF/70+o=",0) -> 0 | IB2: =AND(Naslovnica!A36,"AAAAAF/70+s=") -> #VALUE! | IC2: =AND(Naslovnica!B36,"AAAAAF/70+w=") -> #VALUE! | ID2: =AND(Naslovnica!C36,"AAAAAF/70+0=") -> #VALUE! | IE2: =AND(Naslovnica!D36,"AAAAAF/70+4=") -> #VALUE! | IF2: =AND(Naslovnica!E36,"AAAAAF/70+8=") -> #VALUE! | IG2: =AND(Naslovnica!F36,"AAAAAF/70/A=") -> #VALUE! | IH2: =AND(Naslovnica!G36,"AAAAAF/70/E=") -> #VALUE! | II2: =AND(Naslovnica!H36,"AAAAAF/70/I=") -> #VALUE! | IJ2: =AND(Naslovnica!I36,"AAAAAF/70/M=") -> #VALUE! | IK2: =AND(Naslovnica!J36,"AAAAAF/70/Q=") -> #VALUE! | IL2: =AND(Naslovnica!K36,"AAAAAF/70/U=") -> #VALUE! | IM2: =AND(Naslovnica!L36,"AAAAAF/70/Y=") -> #VALUE! | IN2: =AND(Naslovnica!M36,"AAAAAF/70/c=") -> #VALUE! | IO2: =IF(Naslovnica!37:37,"AAAAAF/70/g=",0) -> 0 | IP2: =AND(Naslovnica!A37,"AAAAAF/70/k=") -> #VALUE! | IQ2: =AND(Naslovnica!B37,"AAAAAF/70/o=") -> #VALUE! | IR2: =AND(Naslovnica!C37,"AAAAAF/70/s=") -> #VALUE! | IS2: =AND(Naslovnica!D37,"AAAAAF/70/w=") -> #VALUE! | IT2: =AND(Naslovnica!E37,"AAAAAF/70/0=") -> #VALUE! | IU2: =AND(Naslovnica!F37,"AAAAAF/70/4=") -> #VALUE! | IV2: =AND(Naslovnica!G37,"AAAAAF/70/8=") -> #VALUE!
