Workbook

Sheet 1. FN
A1: TROŠKOVNIK FOTONAPONSKE ELEKTRANE
A2: st. | B2: Opis stavke | C2: jed.mj. | D2: kol. | E2: jed. cijena | F2: cijena ukupno
B3: NAPOMENA:
A5: F.1. | B5: OSNOVNA OPREMA
A7: =MID($A$5,3,5)&COUNTA($A$5:A6) -> 1.1 | B7: Dobava, isporuka i montaža fotonaponskih modula sa monokristalnim ćelijama (144 polućelija) halfcut, efikasnosti min. 20.4%, snage 445Wp, s tolerancijom snage od 0 do +5W, sa min. 3 ˝Bypass˝ diode, dimenzija 2102x1040x35mm 10 godina garancije na ispravnost proizvoda 25 godina garancije na izlaznu snagu, uz maksimalnu degradaciju 25% (stavka obuhvaća sav rad potreban za ugradnju i spajanje konstrukcije za prihvat fotonaponskih modula) | C7: kom | D7: 7807 | F7: =D7*E7 -> 0
A9: =MID($A$5,3,5)&COUNTA($A$5:A8) -> 1.2 | B9: Dobava, isporuka i montaža konstrukcije za smještaj fotonaponske opreme na građevinu sa kosim krovom krovom. (stavka obuhvaća sav potreban rad i montažni i pričvrsni pribor za stavljanje stavke u potpunu funkcionalnost)
B10: Montažni nosač od nehrđajućeg čelika za prihvat modula na pokrov od trapeznog lima (horizontalno polaganje) | C10: kom | D10: 4892 | F10: =D10*E10 -> 0
B11: Trapezni nosač od nehrđajućeg čelika za prihvat modula na pokrov od trapeznog lima (vertikalno polaganje) | C11: kom | D11: 14210 | F11: =D11*E11 -> 0
B12: Pred-montirni element za prihvat FN modula (srednji) | C12: kom | D12: 14316 | F12: =D12*E12 -> 0
B13: Pred-montirni element za prihvat FN modula (krajnji) | C13: kom | D13: 4441 | F13: =D13*E13 -> 0
B14: Samonarezni vijak s finim navojem za nosač, s podloškom i gumicom | C14: kom | D14: 76408 | F14: =D14*E14 -> 0
A16: =MID($A$5,3,5)&COUNTA($A$5:A15) -> 1.3 | B16: Dobava, isporuka i montaža fotonaponskog izmjenjivača snage izlazne AC snage 50kW sa ugrađenom prenaponskom zaštitom i zaštitom diferencijalne struje, sa min. 6 MPPT trakera (A i B ulaz), maks. ulazne DC snage 60 kW, zaštite IP65 ili jednakovrijedan za ugradnju na otvorenom, vlastite potrošnje (noćni režim) <1W, predviđen za rad u temperaturnim uvjetima od 25°C do +60°C te ukupno 12 + i 12 – DC ulaznih konektora. (stavka obuhvaća sav potreban rad te montažni i pričvrsni pribor za stavljanje stavke u potpunu funkcionalnost) | C16: kom | D16: 64 | F16: =D16*E16 -> 0
A18: =MID($A$5,3,5)&COUNTA($A$5:A17) -> 1.4 | B18: Dobava, isporuka i montaža uređaja za kontrolu i nadzor rada fotonaponske elektrane
B19: Uređaj za nadzor i kontrolu rada fotonaponske elektrane: - max broj spojenih uređaja: 80 - komunikacijaminimalno kompatibilno s: WAN, LAN, RS485, MBUS - digitalni ulazi: 4 - analogni ulazi : 2 - izlazi (analogni) : 4 - kompatibilan s otvorenim komunikacijskim protokolima - 2.0x1 USB - max duljina operativnog ranga: 4.000 m - AC napajanje: 100V~240V, 50 / 60 Hz - DC napajanje: 12 / 24 V | C19: kom | D19: 3 | F19: =D19*E19 -> 0
B20: WI-FI kontroler, mogućnost programiranja putem CPT alata: - 1.2 GHz četverojezgreni procesor - 48 MHz procesor za I/O - 512 MB RAM-a - 8 GB NAND Flash - Držač SD kartice - 1 x 10/100 Ethernet Port - 1 x Mini USB - 2x RS485 - 24 V AC/DC - 16 x UI | C20: kom | D20: 6 | F20: =D20*E20 -> 0
B21: DI modul: - broj ulaza: 16 - Snaga: 1.6 W - Napajanje: 24 V DC | C21: kom | D21: 30 | F21: =D21*E21 -> 0
B22: kabel J-Y(St)Y 2x2x0,8mm² | C22: m | D22: 20000 | F22: =D22*E22 -> 0
B23: kabel Cat.7 S/FTP 4x2xAWG23 | C23: m | D23: 1000 | F23: =D23*E23 -> 0
A25: =MID($A$5,3,5)&COUNTA($A$5:A24) -> 1.5 | B25: Dobava, isporuka i montaža MC4 konektora za fotonaponske module + pol. (stavka obuhvaća sav rad potreban za dovođenje stavke u potpunu funkcionalnost) | C25: kom | D25: 768 | F25: =D25*E25 -> 0
A27: =MID($A$5,3,5)&COUNTA($A$5:A26) -> 1.6 | B27: Dobava, isporuka i montaža MC4 konektora za fotonaponske module – pol. (stavka obuhvaća sav rad potreban za dovođenje stavke u potpunu funkcionalnost) | C27: kom | D27: 768 | F27: =D27*E27 -> 0
A29: =MID($A$5,3,5)&COUNTA($A$5:A28) -> 1.7 | B29: Dobava, postava i spajanje DC zaštite 50kW
B30: cilindrično kućište sa prihvatnim konektorima tipski atestirano za prekid struje kratkog spoja i nazivnih naponda DC 1000V | C30: kom | D30: 24
B31: ultrabrzi fotonaponski cilindrični osigurač , 1100 VDC, 12 A | C31: kom | D31: 24
B32: ="kompl.st."&MID($A$5,3,5)&COUNTA($A$5:A28) -> kompl.st.1.7 | C32: kom | D32: 64 | F32: =D32*E32 -> 0
A34: =MID($A$5,3,5)&COUNTA($A$5:A33) -> 1.8 | B34: Dogradnja RS-22B, RS-26-1, RS-14, RS-16 na trafostanici TS10
B35: Dogradnja opreme u postojeći razdjelnik "RS-22B, RS-26-1, RS-14, RS-16" prema jednopolnoj shemi:
B36: četverpolni osigurač-rastavljač sa mogučnošću dvostrukog rastavljanja energetskog kruga s gornje i donje strane, 4P, nazivne struje Ie=250A za nazivni napon 415V AC 50Hz, za ugradnju visokoučinskih rastalnih osigurača NH1 do 250 A, nazivnog napona do Ue=690V sa mogučnošću ugradnje ručice za upravljanje | C36: kom | D36: 1
B37: Rastalni umetak 400A sa indikacijom prorade | C37: kom | D37: 4
B38: rodužena ručica sklopke za ugradnju s prednje strane, sa mogučnošću zaključavanja u OFF položaju, za montažu na GSD rastavnu sklopku do 400A | C38: kom | D38: 1
B39: ="kompl.st."&MID($A$5,3,5)&COUNTA($A$5:A35) -> kompl.st.1.9 | C39: komplet | D39: 4 | F39: =D39*E39 -> 0
A41: =MID($A$5,3,5)&COUNTA($A$5:A40) -> 1.9 | B41: Razdjelnik RO-E1, RO-E2, RO-E3, RO-E4 na trafostanici TS10
B42: Dobava montaža i spajanje samostojećeg tipski testiranog niskonaponskog sklopnog bloka prema shemi "RO-E1, RO-E2, RO-E3, RO-E4", nazivnog napona izolacije glavnih sabirnica do 1000 V, podnošljive struje kratkog spoja Icw=100kA/1s, Ipk=220kA, stupnja zaštite IP55 ili jednakovrijedan, stukture od galvaniziranog čelika, sa punim vratima, sastavljen od; 1 aparatnog polja širine 700mm; ukupnih dimenzija 700x2108x500 mm ( Š x V x D ), uvod kabela s donje strane. Razdjelnik je s postoljem od 100 mm. Razdjelnik opremiti bravicama na vratima, nosačem za dokumentaciju, nosačima i pokrovnim pločama komponenata,stranicama i ostalim potrebnim mehaničkim priborom. Predviđene su vertikalne i horizontalne sabirnce za napajanje aparata. U razdjelnik ugraditi slijedeću opremu prema jednopolnoj shemi:
B43: odvodnik prenapona 3P+N, maksimalne struje odvoda Imax= 40kA, tip 2, izvedbe s ulošcima i indikacijom dotrajalosti | C43: kom | D43: 1
B44: minijaturni automatski prekidač, prekidne moći Icu=15kA kod 415V AC , četveropolni 4P, 40A, C krivulje | C44: kom | D44: 1
B45: Niskonaponski kompaktni zaštitni prekidač, nazivne struje tijela prekidača 250A, nazivnog napona Ue=690V, četveropolni 4P, fiksne izvedbe, nazivne granične prekidne moći Icu=25kA kod 415V AC elektronička zaštitna jedinica selektivnog tipa, In=250A, sa funkcijom mjerenja E ( I, U, P, S, Q, f, PF, cos (fi), opremljen naponskim okidačem isklopa MX 230V , sa pomoćnim kontaktom signalizacije stanja prekidača | C45: kom | D45: 1
B46: Trofazni naponski rejel za nadzor prenapona i nadnapona, s podesivim vremenom praga prorade od 0,3-30 sekundi | C46: kom | D46: 1
B47: minijaturni automatski prekidač, prekidne moći Icu=50kA kod 415V AC, tropolni 3P, 2A, B krivulje | C47: kom | D47: 1
B48: Frekvencijski relej sa 2 C/O kontakta za 2 rada frekvencijskog područja - 50Hz i 60Hz (odnosno podešenja praćenje frekvencije od 40-70Hz) | C48: kom | D48: 1
B49: minijaturni automatski prekidač prekidne moći Icu=10kA kod 415V AC jednopolni 1P, 6A, C krivulje | C49: kom | D49: 2
B50: gljivasto tipkalo za nužni isklop, otpuštanje zakretom | C50: kom | D50: 1
...

Sheet 2. MJERENJE
A1: TROŠKOVNIK MJERENJA I NADZORA POTROŠNJE ELEKTRIČNE ENERGIJE
A2: Stavka | B2: Opis | C2: Jedinica | E2: Cijena | F2: Cijena ukupno
B3: NAPOMENA:
A5: F.1. | B5: MJERENJE I NADZOR POTROŠNJE ELEKTRIČNE ENERGIJE
A7: =MID($A$5,3,5)&COUNTA($A5:A$6) -> 1.1 | B7: Dobava montaža i spajanje trofaznog indirektnog brojila potrošnje električne energije komplementarno s MID standardom, standardna serijska komunikacija
B8: ="kompl.st."&MID($A$5,3,5)&COUNTA($A5:A$6) -> kompl.st.1.1 | C8: kom | D8: 1 | F8: =D8*E8 -> 0
A10: =MID($A$5,3,5)&COUNTA($A$5:A8) -> 1.2 | B10: Dobava montaža i spajanje strujnog transformatora 400A/5A, 40x10
B11: ="kompl.st."&MID($A$5,3,5)&COUNTA($A$5:A9) -> kompl.st.1.2 | C11: kom | D11: 3 | F11: =D11*E11 -> 0
B13: =$A$5&" "&$B$5&" UKUPNO:" -> F.1. MJERENJE I NADZOR POTROŠNJE ELEKTRIČNE ENERGIJE UKUPNO: | F13: =SUM(F7:F12) -> 0
B15: UKUPNO bez PDV-a | F15: =F13 -> 0
B16: PDV
B17: SVEUKUPNO s PDV-om | F17: =F15+F16 -> 0

Sheet 3. OBNOVA OVOJNICE
A1: TROŠKOVNIK OBNOVE OVOJNICE ZGRADE
A2: Stavka | B2: Opis | C2: Jedinica | E2: Cijena | F2: Cijena ukupno
A4: I. | B4: PRIPREMNI RADOVI
A6: 1 | B6: Priprema gradilišta Priprema gradilišta koja uključuje zaštitu zgrade na način da tijekom radova ne dođe do oštećenja iste, osiguranje koridora za prolaz korisnika zgrade i njegova zaštita od šute i prašine, te osiguranje okoline kojom se sprečava prilaz nezaposlenima tijekom radova. Sav prostor za vrijeme i nakon rušenja i demontaža, te prilikom izvođenja novih konstrukcija zaštititi od vremenskih nepogoda (vlaženja, prokišnjavanja, rashlađivanja), te osigurati i zaštititi od ostalih uvjeta koji bi mogli ometati izvođenje radova vezani za postojeće instalacije (vodovod, odvodnja, grijanje, ventilacija, elekrika, plin i drugo). Sve radove treba izvoditi sukladno propisanim higijensko tehničkim mjerama zaštite na radu, tj. paziti na rad strojeva i alata, predvidjeti moguća urušavanja, te postaviti i održavati zaštitne oplate, ograde i skele, postaviti znakove upozorenja na opasnosti, te zaštititi fizičke osobe i objekt tijekom izveđenja radova.
B7: Stavka obuhvaća pregled, kontrolu mjera i veličina postojećeg stanja građevinske konstrukcije objekata, ispitivanje vertikalnosti i stabilnosti pročelja, pregled postojećeg stanja opreme, instalacija, te utvrđivanje točnih koridora instalacija u objektu i izvan objekta. Pipremne radove je obavezan izvršavati izvođač radova prije nego pristupi izvođenju i za vrijeme izvođenja radova. U pripremne radove uključiti i pregled projektne dokumentacije (građevinski i instalaterski dio) sa pripadajućim troškovnicima, a o svim nejasnoćama ili neusklađenostima pravovremeno izvjestiti investitora i projektanta. Obračun za izvođenje kompletnih pripremnih radove iz opisa stavke, po paušalnoj procjeni. | C7: komplet | D7: 1 | F7: =D7*E7 -> 0
A9: =A6+1 -> 2 | B9: Doprema, postava, skidanje i otprema cijevne fasadne skele od bešavnih cijevi. Skelu izvesti prema potrebi na pojedinim mikrolokacijama a prema postojećim HTZ propisima i u svemu kako je opisano u općim uvjetima. U jediničnu cijenu uključiti i zaštitni zastor od jutenih ili plastičnih traka, koje se postavljaju s vanjske strane skele po cijeloj površini. Skelu je potrebno osigurati od prevrtanja sidrenjem u objekat, a od udara groma uzemljenjem. Potrebno je izvesti pomočne željezne ili drvene ljestve – penjalice u svrhu osiguranja vertikalne komunikacije po skeli. Prije izvedbe skele izvođač je dužan izraditi projekt skele, što je u cijeni stavke. Obračun se vrši po m2 vertikalne projekcije površine skele.
B10: a) polaganje tunelske skele na terenu, visine do 3 m | C10: m2 | D10: 185 | F10: =D10*E10 -> 0
B11: b) polaganje skele na terenu. ukupna visina građevine do 32 m | C11: m2 | D11: 2160 | F11: =D11*E11 -> 0
B12: c) polaganje skele na već postavljenu tunelsku skelu na terenu. ukupna visina građevine do 17m | C12: m2 | D12: 785 | F12: =D12*E12 -> 0
B13: d) postavljanje skele na ravnom krovu, ukupna visina građevine do 16 m | C13: m2 | D13: 5000 | F13: =D13*E13 -> 0
B15: UKUPNO PRIPREMNI RADOVI | F15: =SUM(F7:F14) -> 0
A17: II. | B17: LIMARSKI RADOVI
A19: 1.PROČELJE - LIMARSKI RADOVI
A21: 1.1. | B21: Fasadni panel skrivenog spoja, d=8cm, na poziciji zida VZ1 i VZ4
B22: Dobava i montaža fasadnog izolacijskog panela skrivenog spoja, dvostruke hidro-termičke brtve na spoju, vanjski lim debljine 0,6 mm, u profilaciji po izboru projektanta, poliesterska boja debljine 25 my, po normi EN1042 i EN 10147-2000 ili jednakovrijedan. Širina panela 1000 mm.
B23: Izolacijska jezgra negoriva debljine 80 mm. Toplinska provodljivost izolacijske jezgre λ = 0,018 W/mK prema EN 14509:2013 ili jednakovrijedan, koja uključuje faktor starenja materijala.
B24: Koeficijent prolaska topline max. U = 0,25 W/m2K prema EN 14509:2013 ili jednakovrijedan s uračunatim gubicima na spojevima panela.
B25: Ral boja lima panela po izboru projektanta.
B26: Vatrootpornost panela: E30/EI15/EW30 prema EN 13501-2 ili jednakovrijedan.
B27: Reakcija na požar: B s1 d0
B28: razred reakcije na požar Euroklasa B prema normi EN 13501 ili jednakovrijedan
B29: - najviša, s1 klasa obzirom na razvoj dima
B30: - najviša, d0 klasa obzirom na goruće kapljice/otpale dijelove
B31: Tehničke karakteristike panela dokazati ovjerenom tvorničkom izjavom o svojstvima (DOP) te certifikatom o stalnosti svojstava na području EU izdanim od akreditirane certifikacijske kuće.
B32: Obavezna primjena svih propisanih uputa za montažu od strane proizvođača.
B33: Panel je s obje strane zaštićen sa PVC folijom, koja se u montaži odstranjuje.
... B35: U stavku uključen sav originalni spojni, brtveni i pričvrsni materijal i sl. prema uputama proizođača.
B36: Izvesti do pune funkcionalnosti. | C36: m2 | D36: 5350 | F36: =D36*E36 -> 0
A38: 1.2. | B38: Dobava, izrada i montaža kutnog vertikalnog opšava spoja dva panela prema standardnim detaljima proizvođača koji se izvode iz čeličnog plastificiranog lima, rš 60 cm debljine 0.60mm u boji prema RAL-u fasadnih panela sa svim spojnim i brtvenim materijalom prema uputstvima i detaljima proizvođača. Izvesti do pune funkcionalnosti.
B39: Obračun po m' opšava. | C39: m' | D39: 160 | F39: =D39*E39 -> 0
A41: 1.3. | B41: Dobava i montaža standardnog donjeg početnog opšava zida VZ1 i VZ4 prema standardnom detalju proizvođača panela za horizontalnu postavu panela sa termoizolacijskom ispunom koji se izvode iz čeličnog plastificiranog lima debljine 0.60mm sa svim spojnim i brtvenim materijalom prema uputstvima i detaljima proizvođača.
B42: Obračun po m2 ugrađenih panela.
B43: U stavku uključen sav originalni spojni, brtveni i pričvrsni materijal i sl. prema uputama proizođača. | C43: m' | D43: 370 | F43: =D43*E43 -> 0
B44: Izvesti do pune funkcionalnosti.
A46: 1.4. | B46: Dobava, izrada i montaža opšava oko otvora otvora u zidu VZ1 i VZ4 prema standardnim detaljima proizvođača koji se izvode iz čeličnog plastificiranog lima debljine 0.60mm u boji prema RAL-u fasadnih panela sa svim spojnim i brtvenim materijalom prema uputstvima i detaljima proizvođača. Izvesti do pune funkcionalnosti.
B47: Obračun po m' opšava. | C47: m' | D47: 300 | F47: =D47*E47 -> 0
A49: 1.5. | B49: Dobava i montaža omega profila za zatvaranje vertikalnog spoja horizontalne montaže panela zida VZ1 i VZ4 prema standardnom detalju proizvođača, boja prema RAL-u fasadnih panela uključivo sav spojni i brtveni materijal prema uputstvima i detaljima proizvođača. Obračun po m' profila
B50: Izvesti do pune funkcionalnosti. | C50: m' | D50: 370 | F50: =D50*E50 -> 0
A52: 1.6. | B52: Dobava i montaža fasadnog izolacijskog polikarbonatnog svjetlarnika skrivena spoja, debljine 38 mm. Širina panela 1000 mm. Koeficijent prolaska topline U = 1,26 W/m2K. Razika do debljine punog izolacijskog panela izvodi se originalnim alu profilima i sastavni je dio isporuke. Obavezna primjena svih propisanih uputa za montažu od strane proizvođača. Panel je s obje strane zaštićen sa PVC folijom, koja se u montaži odstranjuje. Obračun po m2 ugrađenih panela. U stavku uključen sav spojni, brtveni i pričvrsni materijal. | C52: m2 | D52: 2490 | F52: =D52*E52 -> 0
A54: 2. KROV - LIMARSKI RADOVI
...

Sheet 4. ODSISNA VENTILACIJA S REK.
A1: TROŠKOVNIK ODSISNE VENTILACIJE SA REKUPERATOROM
A2: Stavka | B2: Opis | C2: Jedinica | E2: Cijena | F2: Cijena ukupno
B3: ODSISNA VENTILACIJA SA REKUPERATOROM
A5: 1. | B5: VENTILATOR
A7: 1.1. | B7: Dobava, isporuka i montaža ventilatora protoka min. 24.000 m3 /h pri 4.500 Pa Napajanje: 400/690V, 50 Hz Direktni pogon D04 Motor Standard IEC ili jednakovrijedan Snaga motora: max. 50 kW Frekvencijski kontroliran motor Temperatura plinova: -20 to +80 °C Težina ventilatora: ne više od 770 kg Maksimalna brzina rotacije: max RPM 2068 Termička zaštita: 3xPTC | C7: kom | D7: 1 | F7: =E7*D7 -> 0
A9: 1.2. | B9: Dobava, isporuka i montaža pneumatskog crijeva dužine 100m
B10: 6/4 mm | C10: kom. | D10: 4 | F10: =D10*E10 -> 0
A12: 2. | B12: FILTER
A14: 2.1. | B14: Dobava, isporuka i montaža filtera za dimove nastale prilikom zavarivanja - Vodonepropusna konstrukcija - Protok: min.24.000 m3/h - Sistem za održavanje konstantnog tlaka i za vrijeme automatskog čišćenja filtera te smanjenu potrebu za komprimiranim zrakom. - Integrirani inverter za regulaciju brzine motora | C14: kom | D14: 1 | F14: =E14*D14 -> 0
A16: 3. | B16: SPOJEVI, KONEKTORI, VENTILI
A18: 3.1. | B18: Dobava, isporuka i montaža muška spojnice:
B19: ø 100 mm | C19: kom. | D19: 53 | F19: =D19*E19 -> 0
B20: ø 160 mm | C20: kom. | D20: 35 | F20: =D20*E20 -> 0
B21: ø 200 mm | C21: kom. | D21: 19 | F21: =D21*E21 -> 0
B22: ø 250 mm | C22: kom. | D22: 40 | F22: =D22*E22 -> 0
B23: ø 315 mm | C23: kom. | D23: 11 | F23: =D23*E23 -> 0
B24: ø 400 mm | C24: kom. | D24: 16 | F24: =D24*E24 -> 0
B25: ø 500 mm | C25: kom. | D25: 71 | F25: =D25*E25 -> 0
B26: ø 630 mm | C26: kom. | D26: 4 | F26: =D26*E26 -> 0
A28: 3.2. | B28: Dobava, isporuka i montaža redukcijskih spojeva:
B29: ø 160 100 mm | C29: kom. | D29: 18 | F29: =D29*E29 -> 0
B30: ø 200 160 mm | C30: kom. | D30: 17 | F30: =D30*E30 -> 0
B31: ø 250 160 mm | C31: kom. | D31: 1 | F31: =D31*E31 -> 0
B32: ø 250 200 mm | C32: kom. | D32: 15 | F32: =D32*E32 -> 0
B33: ø 315 200 mm | C33: kom. | D33: 2 | F33: =D33*E33 -> 0
B34: ø 315 250 mm | C34: kom. | D34: 8 | F34: =D34*E34 -> 0
B35: ø 400 250 mm | C35: kom. | D35: 4 | F35: =D35*E35 -> 0
B36: ø 400 315 mm | C36: kom. | D36: 2 | F36: =D36*E36 -> 0
B37: ø 500 315 mm | C37: kom. | D37: 3 | F37: =D37*E37 -> 0
B38: ø 500 400 mm | C38: kom. | D38: 3 | F38: =D38*E38 -> 0
B39: ø 630 500 mm | C39: kom. | D39: 7 | F39: =D39*E39 -> 0
A41: 3.3. | B41: Dobava, isporuka i montaža T-SPOJEVA:
B42: ø 100 mm | C42: kom. | D42: 9 | F42: =D42*E42 -> 0
B43: ø 160 mm | C43: kom. | D43: 17 | F43: =D43*E43 -> 0
B44: ø 200 mm | C44: kom. | D44: 12 | F44: =D44*E44 -> 0
B45: ø 250 mm | C45: kom. | D45: 11 | F45: =D45*E45 -> 0
B46: ø 315 mm | C46: kom. | D46: 5 | F46: =D46*E46 -> 0
B47: ø 400 mm | C47: kom. | D47: 4 | F47: =D47*E47 -> 0
B48: ø 500 mm | C48: kom. | D48: 3 | F48: =D48*E48 -> 0
B49: ø 630 mm | C49: kom. | D49: 3 | F49: =D49*E49 -> 0
...

Sheet 5. RASVJETA
A1: TROŠKOVNIK VANJSKE RASVJETE
A2: Stavka | B2: Opis | C2: Jedinica | E2: Cijena | F2: Cijena ukupno
A3: F.1. | B3: INSTALACIJA VANJSKE RASVJETE
A5: =MID($A$3,3,5)&COUNTA($A$3:A3) -> 1.1 | B5: Demontaža postojećih svjetiljki sa postojećih pozicija uz pomoć hidrauličke dizalice u cijelosti te zbrinjavanje prema zakonskoj regulativi. U cijeni stavke uključena demontaža i zbrinjavanje prema zakonskoj regulativi postojećih stupnih spojnih kabela i razdjelnica. | C5: kom | D5: 8 | F5: =D5*E5 -> 0
A7: =MID($A$3,3,5)&COUNTA($A$3:A5) -> 1.2 | B7: Dobava i ugradnja LED svjetiljke za ugradnju na krak ili direktno na vrh stupa, metalno kućište. IP66, IK09 zaštita svjetiljke, klasa izolacije II ili jednakovrijedan. Sustav raspršavanja svjetlosti pojedinačnim optičkim visokopropusnim lećama i dodijeljenim LED diodama radi zadržavanja jednolikosti rasvjetljenosti površine pri režimu rada pojedinačnih LED dioda. Izmjenjivi sustav leća i dioda u postojećem kućištu svjetiljke. Napajanje svjetiljke odvojeno od optičkog dijela svjetiljke u kućištu IP66 ili jedankovrijedan, omogućena zamjena napajanja po servisu. Asimetrična raspodjela svjetlosti. Faktor snage >0.95. Indeks uzvrata boje minimalno 70, radna temperatura od -25°C do +60°C. Napon: 230 VAC +- 10%. Snaga 50W +-5%, minimalna učinkovitost nakon gubitaka u kućištu i lećama: 125lm/W.
B8: Ugrađena zasebna prenaponska zaštita svjetiljke 10 kV. Max. masa svjetiljke komplet sa montažnim nastavkom i napajanjem: 6 kg. | C8: kom | D8: 4 | F8: =D8*E8 -> 0
A10: =MID($A$3,3,5)&COUNTA($A$3:A8) -> 1.3 | B10: Dobava i ugradnja LED svjetiljke za vanjsku ugradnju, metalno kućište. IP66 i IK09 stupanj zaštite ili jednakovrijedan Napajanje svjetiljke odvojeno od optičkog dijela svjetiljke u kućištu IP66 ili jednakovrijedan, omogućena zamjena napajanja po servisu. Faktor snage >0.95. Indeks uzvrata boje minimalno 70, radna temperatura od -25°C do +50°C. Napon: 230 VAC +- 10%. Maksimalna Snaga 240W +-5%, kut rasprostiranja svijetla 60°
B11: Ugrađena zasebna prenaponska zaštita svjetiljke 10 kV. Max. masa svjetiljke komplet sa montažnim nastavkom i napajanjem: 13 kg. | C11: kom | D11: 4 | F11: =D11*E11 -> 0
A15: =MID($A$3,3,5)&COUNTA($A$3:A14) -> 1.4 | B15: Dobava, polaganje i spajanje kabela NYY 3x1,5, dužine do 15m, do pune funkcionalnosti rasvjetnih tijela. | C15: kom | D15: 8 | F15: =D15*E15 -> 0
B17: =$A$3&" "&$B$3&" UKUPNO:" -> F.1. INSTALACIJA VANJSKE RASVJETE UKUPNO: | F17: =SUM(F3:F16) -> 0
B19: UKUPNO bez PDV-a | F19: =F17 -> 0
B20: PDV
B21: SVEUKUPNO s PDV-om | F21: =F19+F20 -> 0

Sheet 6. ZAMJENA LIFTA
A1: TROŠKOVNIK ZAMJENE DIZALA
A2: Stavka | B2: Opis | C2: Jedinica | E2: Cijena | F2: Cijena ukupno
A3: I. | B3: RADOVI NA DEMONTAŽI POSTOJEĆEG DIZALA
A5: =MID($A$3,3,5)&COUNTA($A$3:A3) -> 1 | B5: Demontaža postojećeg dizala sa strojarnicom iznad voznog okna. Nosivost postojećeg dizala je 1900 kg (kabina s povećanom površinom poda). Dizalo ima 2 postaje / 2 ulaza (oba ulaza su na istoj strani), visina dizanja je 14 m. Reduktorski elektromotor i upravljački ormar smješteni su u strojarnici. Demontaža uključuje kompletno sve elemente postojećeg dizala, te uklanjanje temelja pogonskog stroja u strojarnici. Postojeće dizalo potrebno je demonitirati i zbrinuti prema zakonskoj regulativi. Obračun po komplet demontiranom dizalu. | C5: komplet | D5: 1 | F5: =D5*E5 -> 0
A7: II. | B7: RADOVI NA UGRADNJI NOVOG DIZALA
A9: 2 | B9: Isporuka i ugradnja novog dizala sa strojarnicom iznad voznog okna. Novo dizalo ima sljedeće tehničke karakteristike : nosivost dizala minimalno 1150 kg, brzina vožnje minimalno 1,0 m/s, frekvencijski regulirana. Visina dizanja 14 m. Dizalo ima 2 postaje / 2 ulaza (oba ulaza su na istoj strani). Između postaja postavljena su dodatna vrata za pristup voznom oknu u svrhu nužnog izlaza. Pogon dizala je električni bezreduktorski, elektromotor snage do 8 kW. Pogonski elektromotor je postavljen na nosivi čelični okvir koji je učvršćen na vodilicama kabine i protuutega i nalazi se u strojarnici dizala. El. ormar s grupom upravljanja također je smješten u strojarnici dizala. Vrsta upravljanja : mikroprocesorsko, pozivno, automatska vožnja u bližu stanicu u slučaju nestanka stalnog napajanja električnom energijom. Požarni režim rada - dizalo po dojavi o požaru vozi u glavnu stanicu (0) i otvara vrata koja u takvom položaju ostaju do resetiranja vatrodojavnog sustava. Signalizacija po stanicama : potvrda zadanog poziva, digitalni pokazivač položaja kabine, digitalni pokazivač smjera daljnje vožnje, zvučni signal dolaska kabine u stanicu. Signalizacija u kabini: potvrde zadane naredbe, digitalni pokazivač položaja kabine, digitalni pokazivač smjera daljnje vožnje, zvučni i optički signal preopterećenja kabine, zvučni signal “alarm“. Vrata voznog okna izvedena su kao automatska teleskopska dvokrilna, dimenzije svijetlog otvora 900 x 2000 mm, izvedena iz nehrđajućeg čeličnog lima u vatrootpornoj izvedbi EI 60 ili jednakovrijedan.
B10: Kabina je dimenzija: širina 1200 mm, dužina 2100 mm, visina 2200 mm. Stranice kabine su izvedene iz nehrđajućeg čeličnog lima, pod iz protuklizne obloge, strop iz nehrđajućeg čeličnog lima sa integriranom LED rasvjetom. Kabina je opremljena ventilatorom, rukohvatima iz nehrđajućeg čeličnog lima, svjetlosnom zavjesom, govornom vezom s upravljačkim ormarom, upravljačkom kutijom s tipkalima na Braill pismu, dvosmjernom komunikacijom sa spasilačkom službom (telealarm), tipkalima otvaranja i zatvaranja vrata, tipkalom "ALARM", nužnom rasvjetom. Vrata kabine su automatska teleskopska, dvokrilna, dimenzije svijetlog otvora 900 x 2000 mm, izvedena iz nehrđajućeg čeličnog lima.
B11: Isporuka glavnog strojarskog projekta dizala, tehnički pregled od ovlaštene organizacije, te izdavanje potvrde o tehničkoj ispravnosti i predaja dizala Investitoru. | C11: komplet | D11: 1 | F11: =D11*E11 -> 0
A13: III. | B13: RADOVI NA IZVEDBI NUŽNOG IZLAZA
A15: 3 | B15: Isporuka i ugradnja metalnih ljestvi i podesta u svrhu pristupa voznom oknu zbog nužnog izlaza. Montaža uključuje kompletno sve elemente za izvedbu uz svu potrebnu prateću dokumentaciju koju je potrebno dostaviti Investitoru. | C15: komplet | D15: 1 | F15: =E15*D15 -> 0
B18: UKUPNO bez PDV-a | F18: =SUM(F5:F15) -> 0
B19: PDV
B20: SVEUKUPNO s PDV-om | F20: =F18+F19 -> 0

Sheet REKAPITULACIJA
A1: REKAPITULACIJA OBJEDINJENOG TROŠKOVNIKA
A3: RB STAVKE | B3: RB MJERE | C3: NAZIV MJERE | D3: UKUPNA CIJENA BEZ PDV-a [kn]
A4: 1 | B4: P9 | C4: FOTONAPONSKE ELEKTRANE U INDUSTRIJSKOM SEKTORU | D4: ='1. FN'!F375 -> 0
A5: 2 | B5: P10 | C5: UVOĐENJE SUSTAVA ZA UPRAVLJANJE ENERGIJOM - Mjerenje i nadzor potrošnje električne energije | D5: ='2. MJERENJE'!F15 -> 0
A6: 3 | B6: Z1 | C6: OBNOVA TOPLINSKE IZOLACIJE POJEDINIH DIJELOVA OVOJNICE ZGRADA - Obnova ovojnica zgrade (hala BSO-a) | D6: ='3. OBNOVA OVOJNICE'!F97 -> 0
A7: 5 | B7: Z3 | C7: OSTALO - Zamjena energetski neučinkovite ventilacije uz rekuperaciju otpadnog zraka | D7: ='4. ODSISNA VENTILACIJA S REK.'!F144 -> 0
A8: 4 | B8: Z2 | C8: ZAMJENA, POBOLJŠANJE ILI INSTALACIJA NOVIH RASVJETNIH SUSTAVA I NJEGOVIH KOMPONENTI U ZGRADAMA USLUŽNOG I INDUSTRIJSKOG SEKTORA | D8: ='5. RASVJETA'!F19 -> 0
A9: 6 | B9: Z4 | C9: OSTALO- Zamjena energetski neučinkovitog lifta | D9: ='6. ZAMJENA LIFTA'!F18 -> 0
C10: UKUPNO BEZ PDV-a / EUR | D10: =SUM(D4:D9) -> 0
C12: PDV / EUR | D12: ='1. FN'!F376+'2. MJERENJE'!F16+'3. OBNOVA OVOJNICE'!F98+'4. ODSISNA VENTILACIJA S REK.'!F145+'5. RASVJETA'!F20+'6. ZAMJENA LIFTA'!F19 -> 0
C14: SVEUKUPNO s PDV-om / EUR | D14: =D10+D12 -> 0
