Workbook

Sheet 1. FN
A1: TROŠKOVNIK FOTONAPONSKE ELEKTRANE
A2: st. | B2: Opis stavke | C2: jed.mj. | D2: kol. | E2: jed. cijena | F2: cijena ukupno
B3: NAPOMENA:
A5: F.1. | B5: OSNOVNA OPREMA
A7: =MID($A$5,3,5)&COUNTA($A$5:A6) -> 1.1 | B7: Dobava, isporuka i montaža fotonaponskih modula sa monokristalnim ćelijama (144 polućelija) halfcut, efikasnosti min. 20.4%, snage 445Wp, s tolerancijom snage od 0 do +5W, sa min. 3 ˝Bypass˝ diode, dimenzija 2102x1040x35mm 10 godina garancije na ispravnost proizvoda 25 godina garancije na izlaznu snagu, uz maksimalnu degradaciju 25% (stavka obuhvaća sav rad potreban za ugradnju i spajanje konstrukcije za prihvat fotonaponskih modula) | C7: kom | D7: 7807 | F7: =D7*E7 -> 0
A9: =MID($A$5,3,5)&COUNTA($A$5:A8) -> 1.2 | B9: Dobava, isporuka i montaža konstrukcije za smještaj fotonaponske opreme na građevinu sa kosim krovom krovom. (stavka obuhvaća sav potreban rad i montažni i pričvrsni pribor za stavljanje stavke u potpunu funkcionalnost)
B10: Montažni nosač od nehrđajućeg čelika za prihvat modula na pokrov od trapeznog lima (horizontalno polaganje) | C10: kom | D10: 4892 | F10: =D10*E10 -> 0
B11: Trapezni nosač od nehrđajućeg čelika za prihvat modula na pokrov od trapeznog lima (vertikalno polaganje) | C11: kom | D11: 14210 | F11: =D11*E11 -> 0
B12: Pred-montirni element za prihvat FN modula (srednji) | C12: kom | D12: 14316 | F12: =D12*E12 -> 0
B13: Pred-montirni element za prihvat FN modula (krajnji) | C13: kom | D13: 4441 | F13: =D13*E13 -> 0
B14: Samonarezni vijak s finim navojem za nosač, s podloškom i gumicom | C14: kom | D14: 76408 | F14: =D14*E14 -> 0
A16: =MID($A$5,3,5)&COUNTA($A$5:A15) -> 1.3 | B16: Dobava, isporuka i montaža fotonaponskog izmjenjivača snage izlazne AC snage 50kW sa ugrađenom prenaponskom zaštitom i zaštitom diferencijalne struje, sa min. 6 MPPT trakera (A i B ulaz), maks. ulazne DC snage 60 kW, zaštite IP65 ili jednakovrijedan za ugradnju na otvorenom, vlastite potrošnje (noćni režim) <1W, predviđen za rad u temperaturnim uvjetima od 25°C do +60°C te ukupno 12 + i 12 – DC ulaznih konektora. (stavka obuhvaća sav potreban rad te montažni i pričvrsni pribor za stavljanje stavke u potpunu funkcionalnost) | C16: kom | D16: 64 | F16: =D16*E16 -> 0
A18: =MID($A$5,3,5)&COUNTA($A$5:A17) -> 1.4 | B18: Dobava, isporuka i montaža uređaja za kontrolu i nadzor rada fotonaponske elektrane
B19: Uređaj za nadzor i kontrolu rada fotonaponske elektrane: - max broj spojenih uređaja: 80 - komunikacijaminimalno kompatibilno s: WAN, LAN, RS485, MBUS - digitalni ulazi: 4 - analogni ulazi : 2 - izlazi (analogni) : 4 - kompatibilan s otvorenim komunikacijskim protokolima - 2.0x1 USB - max duljina operativnog ranga: 4.000 m - AC napajanje: 100V~240V, 50 / 60 Hz - DC napajanje: 12 / 24 V | C19: kom | D19: 3 | F19: =D19*E19 -> 0
B20: WI-FI kontroler, mogućnost programiranja putem CPT alata: - 1.2 GHz četverojezgreni procesor - 48 MHz procesor za I/O - 512 MB RAM-a - 8 GB NAND Flash - Držač SD kartice - 1 x 10/100 Ethernet Port - 1 x Mini USB - 2x RS485 - 24 V AC/DC - 16 x UI | C20: kom | D20: 6 | F20: =D20*E20 -> 0
B21: DI modul: - broj ulaza: 16 - Snaga: 1.6 W - Napajanje: 24 V DC | C21: kom | D21: 30 | F21: =D21*E21 -> 0
B22: kabel J-Y(St)Y 2x2x0,8mm² | C22: m | D22: 20000 | F22: =D22*E22 -> 0
B23: kabel Cat.7 S/FTP 4x2xAWG23 | C23: m | D23: 1000 | F23: =D23*E23 -> 0
A25: =MID($A$5,3,5)&COUNTA($A$5:A24) -> 1.5 | B25: Dobava, isporuka i montaža MC4 konektora za fotonaponske module + pol. (stavka obuhvaća sav rad potreban za dovođenje stavke u potpunu funkcionalnost) | C25: kom | D25: 768 | F25: =D25*E25 -> 0
A27: =MID($A$5,3,5)&COUNTA($A$5:A26) -> 1.6 | B27: Dobava, isporuka i montaža MC4 konektora za fotonaponske module – pol. (stavka obuhvaća sav rad potreban za dovođenje stavke u potpunu funkcionalnost) | C27: kom | D27: 768 | F27: =D27*E27 -> 0
A29: =MID($A$5,3,5)&COUNTA($A$5:A28) -> 1.7 | B29: Dobava, postava i spajanje DC zaštite 50kW
B30: cilindrično kućište sa prihvatnim konektorima tipski atestirano za prekid struje kratkog spoja i nazivnih naponda DC 1000V | C30: kom | D30: 24
B31: ultrabrzi fotonaponski cilindrični osigurač , 1100 VDC, 12 A | C31: kom | D31: 24
B32: ="kompl.st."&MID($A$5,3,5)&COUNTA($A$5:A28) -> kompl.st.1.7 | C32: kom | D32: 64 | F32: =D32*E32 -> 0
A34: =MID($A$5,3,5)&COUNTA($A$5:A33) -> 1.8 | B34: Dogradnja RS-22B, RS-26-1, RS-14, RS-16 na trafostanici TS10
B35: Dogradnja opreme u postojeći razdjelnik "RS-22B, RS-26-1, RS-14, RS-16" prema jednopolnoj shemi:
B36: četverpolni osigurač-rastavljač sa mogučnošću dvostrukog rastavljanja energetskog kruga s gornje i donje strane, 4P, nazivne struje Ie=250A za nazivni napon 415V AC 50Hz, za ugradnju visokoučinskih rastalnih osigurača NH1 do 250 A, nazivnog napona do Ue=690V sa mogučnošću ugradnje ručice za upravljanje | C36: kom | D36: 1
B37: Rastalni umetak 400A sa indikacijom prorade | C37: kom | D37: 4
B38: rodužena ručica sklopke za ugradnju s prednje strane, sa mogučnošću zaključavanja u OFF položaju, za montažu na GSD rastavnu sklopku do 400A | C38: kom | D38: 1
B39: ="kompl.st."&MID($A$5,3,5)&COUNTA($A$5:A35) -> kompl.st.1.9 | C39: komplet | D39: 4 | F39: =D39*E39 -> 0
A41: =MID($A$5,3,5)&COUNTA($A$5:A40) -> 1.9 | B41: Razdjelnik RO-E1, RO-E2, RO-E3, RO-E4 na trafostanici TS10
B42: Dobava montaža i spajanje samostojećeg tipski testiranog niskonaponskog sklopnog bloka prema shemi "RO-E1, RO-E2, RO-E3, RO-E4", nazivnog napona izolacije glavnih sabirnica do 1000 V, podnošljive struje kratkog spoja Icw=100kA/1s, Ipk=220kA, stupnja zaštite IP55 ili jednakovrijedan, stukture od galvaniziranog čelika, sa punim vratima, sastavljen od; 1 aparatnog polja širine 700mm; ukupnih dimenzija 700x2108x500 mm ( Š x V x D ), uvod kabela s donje strane. Razdjelnik je s postoljem od 100 mm. Razdjelnik opremiti bravicama na vratima, nosačem za dokumentaciju, nosačima i pokrovnim pločama komponenata,stranicama i ostalim potrebnim mehaničkim priborom. Predviđene su vertikalne i horizontalne sabirnce za napajanje aparata. U razdjelnik ugraditi slijedeću opremu prema jednopolnoj shemi:
B43: odvodnik prenapona 3P+N, maksimalne struje odvoda Imax= 40kA, tip 2, izvedbe s ulošcima i indikacijom dotrajalosti | C43: kom | D43: 1
B44: minijaturni automatski prekidač, prekidne moći Icu=15kA kod 415V AC , četveropolni 4P, 40A, C krivulje | C44: kom | D44: 1
B45: Niskonaponski kompaktni zaštitni prekidač, nazivne struje tijela prekidača 250A, nazivnog napona Ue=690V, četveropolni 4P, fiksne izvedbe, nazivne granične prekidne moći Icu=25kA kod 415V AC elektronička zaštitna jedinica selektivnog tipa, In=250A, sa funkcijom mjerenja E ( I, U, P, S, Q, f, PF, cos (fi), opremljen naponskim okidačem isklopa MX 230V , sa pomoćnim kontaktom signalizacije stanja prekidača | C45: kom | D45: 1
B46: Trofazni naponski rejel za nadzor prenapona i nadnapona, s podesivim vremenom praga prorade od 0,3-30 sekundi | C46: kom | D46: 1
B47: minijaturni automatski prekidač, prekidne moći Icu=50kA kod 415V AC, tropolni 3P, 2A, B krivulje | C47: kom | D47: 1
B48: Frekvencijski relej sa 2 C/O kontakta za 2 rada frekvencijskog područja - 50Hz i 60Hz (odnosno podešenja praćenje frekvencije od 40-70Hz) | C48: kom | D48: 1
B49: minijaturni automatski prekidač prekidne moći Icu=10kA kod 415V AC jednopolni 1P, 6A, C krivulje | C49: kom | D49: 2
B50: gljivasto tipkalo za nužni isklop, otpuštanje zakretom | C50: kom | D50: 1
B51: transformator, jednofazni, napona primara 230-400V AC 50/60Hz, napona sekundara 24V AC | C51: kom | D51: 1
B52: minijaturni automatski prekidač prekidne moći Icu=15kA kod 415V AC, dvopolni 2P, 6A, C krivulje | C52: kom | D52: 2
B53: Relej minijaturni, dvopolni 2P, napona špule 24 V AC, s podnožjem releja 2P/4P | C53: kom | D53: 1
B54: ISKLOP SA WEB NADZORA | C54: kom | D54: 1
... B56: diferencijalna zaštitna sklopka, četveropolna 4P , nazivne struje 80A, osjetljivosti 300mA, tip A | C56: kom | D56: 3
B57: sva potrebna montažna i spojna oprema potrebna za ugradnju specificirane opreme u ormare do njegove pune fukcionalnosti; sabirnice, potporni izolatori, igličaste sabirnice, izolacijski poklopci osigurača/prekidača, redne stezaljke, sabirnice nule i zemlje, spojni vodovi, plastične kanalice, označavanje, funkcionalno ispitivanje prije isporuke, atesti, ispitni protokol, korisnička dokumentacija te ostali potrebni sitni spojni i montažni materijal i pribor do pune funkcionalnosti ormara.
B58: ="kompl.st."&MID($A$5,3,5)&COUNTA($A$5:A40) -> kompl.st.1.9 | C58: komplet | D58: 4 | F58: =D58*E58 -> 0
A60: =MID($A$5,3,5)&COUNTA($A$5:A59) -> 1.10 | B60: Dogradnja RS-12,RS-17 na trafostanici TS17
B61: Dogradnja opreme u postojeći razdjelnik "RS-12,RS-17, " prema jednopolnoj shemi:
B62: četverpolni osigurač-rastavljač sa mogučnošću dvostrukog rastavljanja energetskog kruga s gornje i donje strane, 4P, nazivne struje Ie=250A za nazivni napon 415V AC 50Hz, za ugradnju visokoučinskih rastalnih osigurača NH1 do 250 A, nazivnog napona do Ue=690V sa mogučnošću ugradnje ručice za upravljanje | C62: kom | D62: 1
B63: Rastalni umetak 250A s indikacijom prorade | C63: kom | D63: 4
B64: rodužena ručica sklopke za ugradnju s prednje strane, sa mogučnošću zaključavanja u OFF položaju, za montažu na GSD rastavnu sklopku do 400A | C64: kom | D64: 1
B65: ="kompl.st."&MID($A$5,3,5)&COUNTA($A$5:A47) -> kompl.st.1.10 | C65: komplet | D65: 2 | F65: =D65*E65 -> 0
A67: =MID($A$5,3,5)&COUNTA($A$5:A66) -> 1.11 | B67: Dogradnja RS-9,RS-26,RS-21,RS-25 na trafostanici TS17
B68: Dogradnja opreme u postojeći razdjelnik "RS-9,RS-26,RS-21,RS-25 " prema jednopolnoj shemi:
B69: četverpolni osigurač-rastavljač sa mogučnošću dvostrukog rastavljanja energetskog kruga s gornje i donje strane, 4P, nazivne struje Ie=250A za nazivni napon 415V AC 50Hz, za ugradnju visokoučinskih rastalnih osigurača NH1 do 250 A, nazivnog napona do Ue=690V sa mogučnošću ugradnje ručice za upravljanje | C69: kom | D69: 1
B70: Rastalni umetak 225A sa indikacijom prorade | C70: kom | D70: 4
B71: produžena ručica sklopke za ugradnju s prednje strane, sa mogučnošću zaključavanja u OFF položaju, za montažu na GSD rastavnu sklopku do 400A | C71: kom | D71: 1
B72: ="kompl.st."&MID($A$5,3,5)&COUNTA($A$5:A65) -> kompl.st.1.11 | C72: komplet | D72: 4 | F72: =D72*E72 -> 0
A74: =MID($A$5,3,5)&COUNTA($A$5:A73) -> 1.12 | B74: Razdjelnik RO-E3, RO-E6, RO-E9, RO-E10 na trafostanici TS17
B75: Dobava montaža i spajanje samostojećeg tipski testiranog niskonaponskog sklopnog bloka prema shemi "RO-E3, RO-E6, RO-E9, RO-E10", nazivnog napona izolacije glavnih sabirnica do 1000 V, podnošljive struje kratkog spoja Icw=100kA/1s, Ipk=220kA, stupnja zaštite IP55 ili jednakovrijedan, stukture od galvaniziranog čelika, sa punim vratima, sastavljen od; 1 aparatnog polja širine 700mm; ukupnih dimenzija 700x2108x500 mm ( Š x V x D ), uvod kabela s donje strane. Razdjelnik je s postoljem od 100 mm. Razdjelnik opremiti bravicama na vratima, nosačem za dokumentaciju, nosačima i pokrovnim pločama komponenata,stranicama i ostalim potrebnim mehaničkim priborom. Predviđene su vertikalne i horizontalne sabirnce za napajanje aparata. U razdjelnik ugraditi slijedeću opremu prema jednopolnoj shemi:
B76: odvodnik prenapona 3P+N, maksimalne struje odvoda Imax= 40kA, tip 2, izvedbe s ulošcima i indikacijom dotrajalosti | C76: kom | D76: 1
B77: minijaturni automatski prekidač prekidne moći Icu=10kA kod 415V AC, četveropolni 4P, 40A, C krivulje | C77: kom | D77: 1
B78: Niskonaponski kompaktni zaštitni prekidač, nazivne struje tijela prekidača 250A, nazivnog napona Ue=690V, četveropolni 4P, fiksne izvedbe, nazivne granične prekidne moći Icu=25kA kod 415V AC, elektronička zaštitna jedinica selektivnog tipa LSI, In=250A, sa funkcijom mjerenja E ( I, U, P, S, Q, f, PF, cos (fi), opremljen naponskim okidačem isklopa 230V AC, sa pomoćnim kontaktom signalizacije stanja prekidača | C78: kom | D78: 1
B79: Trofazni naponski rejel za nadzor prenapona i nadnapona, s podesivim vremenom praga prorade od 0,3-30 sekundi | C79: kom | D79: 1
B80: minijaturni automatski prekidač, prekidne moći Icu=50kA kod 415V AC, tropolni 3P, 2A, B krivulje | C80: kom | D80: 1
B81: Frekvencijski relej sa 2 C/O kontakta za 2 rada frekvencijskog područja - 50Hz i 60Hz (odnosno podešenja praćenje frekvencije od 40-70Hz) | C81: kom | D81: 1
B82: minijaturni automatski prekidač, prekidne moći Icu=10kA kod 415V AC, jednopolni 1P, 6A, C krivulje | C82: kom | D82: 2
B83: gljivasto tipkalo za nužni isklop, otpuštanje zakretom | C83: kom | D83: 1
B84: transformator, jednofazni, napona primara 230-400V AC 50/60Hz, napona sekundara 24V AC | C84: kom | D84: 1
B85: minijaturni automatski prekidač, prekidne moći Icu=10kA kod 415V AC, dvopolni 2P, 6A, C krivulje | C85: kom | D85: 2
B86: Relej minijaturni, dvopolni 2P, napona špule 24 V AC, s podnožjem releja 2P/4P | C86: kom | D86: 1
B87: ISKLOP SA WEB NADZORA | C87: kom | D87: 1
... B89: diferencijalna zaštitna sklopka, četveropolna 4P , nazivne struje 80A, osjetljivosti 300mA, tip A | C89: kom | D89: 3
B90: sva potrebna montažna i spojna oprema potrebna za ugradnju specificirane opreme u ormare do njegove pune fukcionalnosti; sabirnice, potporni izolatori, igličaste sabirnice, izolacijski poklopci osigurača/prekidača, redne stezaljke, sabirnice nule i zemlje, spojni vodovi, plastične kanalice, označavanje, funkcionalno ispitivanje prije isporuke, atesti, ispitni protokol, korisnička dokumentacija te ostali potrebni sitni spojni i montažni materijal i pribor do pune funkcionalnosti ormara.
B91: ="kompl.st."&MID($A$5,3,5)&COUNTA($A$5:A72) -> kompl.st.1.12 | C91: komplet | D91: 4 | F91: =D91*E91 -> 0
A93: =MID($A$5,3,5)&COUNTA($A$5:A92) -> 1.13 | B93: Razdjelnik RO-E4, RO-E5 na trafostanici TS17
B94: Dobava montaža i spajanje samostojećeg tipski testiranog niskonaponskog sklopnog bloka prema shemi "RO-E4, RO-E5", nazivnog napona izolacije glavnih sabirnica do 1000 V, podnošljive struje kratkog spoja Icw=100kA/1s, Ipk=220kA, stupnja zaštite IP55 ili jednakovrijedan ili jednakovrijedan, Forma 2b, stukture od galvaniziranog čelika, zaštićen sa polimer epoxy zaštitom u boji RAL 7035 ili jednakovrijedan, sa punim vratima, sastavljen od; 1 aparatnog polja širine 700mm; ukupnih dimenzija 700x2108x500 mm ( Š x V x D ), uvod kabela s donje strane. Razdjelnik je s postoljem od 100 mm. Razdjelnik opremiti bravicama na vratima, nosačem za dokumentaciju, nosačima i pokrovnim pločama komponenata,stranicama i ostalim potrebnim mehaničkim priborom. Predviđene su vertikalne i horizontalne sabirnce za napajanje aparata. U razdjelnik ugraditi slijedeću opremu prema jednopolnoj shemi:
B95: odvodnik prenapona 3P+N, maksimalne struje odvoda Imax= 40kA, tip 2, izvedbe s ulošcima i indikacijom dotrajalosti | D95: 1
B96: minijaturni automatski prekidač prekidne moći Icu=10kA kod 415V AC , četveropolni 4P, 40A, C krivulje | D96: 1
B97: Niskonaponski kompaktni zaštitni prekidač, nazivne struje tijela prekidača 160A, nazivnog napona Ue=690V, četveropolni 4P, fiksne izvedbe, nazivne granične prekidne moći Icu=25kA kod 415V AC elektronička zaštitna jedinica selektivnog tipa LSI, In=160A, sa funkcijom mjerenja E ( I, U, P, S, Q, f, PF, cos (fi), opremljen naponskim okidačem isklopa 230V AC, sa pomoćnim kontaktom signalizacije stanja prekidača | D97: 1
B98: Trofazni naponski rejel za nadzor prenapona i nadnapona, s podesivim vremenom praga prorade od 0,3-30 sekundi, sa opsegom mjerenja od 194-528V AC 50/60Hz | D98: 1
B99: minijaturni automatski prekidač , prekidne moći Icu=50kA kod 415V AC, tropolni 3P, 2A, B krivulje | D99: 1
B100: Frekvencijski relej sa 2 C/O kontakta za 2 rada frekvencijskog područja - 50Hz i 60Hz (odnosno podešenja praćenje frekvencije od 40-70Hz) | D100: 1
B101: minijaturni automatski prekidač, prekidne moći Icu=10kA kod 415V AC, jednopolni 1P, 6A, C krivulje | D101: 2
B102: gljivasto tipkalo za nužni isklop, otpuštanje zakretom | D102: 1
B103: transformator, jednofazni, napona primara 230-400V AC 50/60Hz, napona sekundara 24V AC | D103: 1
B104: minijaturni automatski prekidač, prekidne moći Icu=10kA kod 415V AC, dvopolni 2P, 6A, C krivulje | D104: 2
B105: Relej minijaturni, dvopolni 2P, napona špule 24 V AC, s podnožjem releja 2P/4P | D105: 1
B106: ISKLOP SA WEB NADZORA | D106: 1
... B108: diferencijalna zaštitna sklopka, četveropolna 4P , nazivne struje 80A, osjetljivosti 300mA, tip A | D108: 2
B109: sva potrebna montažna i spojna oprema potrebna za ugradnju specificirane opreme u ormare do njegove pune fukcionalnosti; sabirnice, potporni izolatori, igličaste sabirnice, izolacijski poklopci osigurača/prekidača, redne stezaljke, sabirnice nule i zemlje, spojni vodovi, plastične kanalice, označavanje, funkcionalno ispitivanje prije isporuke, atesti, ispitni protokol, korisnička dokumentacija te ostali potrebni sitni spojni i montažni materijal i pribor do pune funkcionalnosti ormara.
B110: ="kompl.st."&MID($A$5,3,5)&COUNTA($A$5:A91) -> kompl.st.1.13 | C110: komplet | D110: 2 | F110: =D110*E110 -> 0
A112: =MID($A$5,3,5)&COUNTA($A$5:A111) -> 1.14 | B112: Dogradnja RS-25, RS-26, RS-27 na trafostanici TS19
B113: Dogradnja opreme u postojeći razdjelnik "RS-25, RS-26, RS-27 " prema jednopolnoj shemi:
B114: četverpolni osigurač-rastavljač sa mogučnošću dvostrukog rastavljanja energetskog kruga s gornje i donje strane, 4P, nazivne struje Ie=400A za nazivni napon 415V AC 50Hz, za ugradnju visokoučinskih rastalnih osigurača tipa DIN NH2 do 400 A, nazivnog napona do Ue=690V sa mogučnošću ugradnje ručice za upravljanje | C114: kom | D114: 1
B115: Rastalni umetak 315A sa indikacijom prorade | C115: kom | D115: 4
B116: rodužena ručica sklopke za ugradnju s prednje strane, sa mogučnošću zaključavanja u OFF položaju, za montažu na GSD rastavnu sklopku do 400A | C116: kom | D116: 1
B117: ="kompl.st."&MID($A$5,3,5)&COUNTA($A$5:A98) -> kompl.st.1.14 | C117: komplet | D117: 3 | F117: =D117*E117 -> 0
A119: =MID($A$5,3,5)&COUNTA($A$5:A118) -> 1.15 | B119: Dogradnja RS-28,RS-29 na trafostanici TS19
...

Sheet 2. MJERENJE
A1: TROŠKOVNIK MJERENJA I NADZORA POTROŠNJE ELEKTRIČNE ENERGIJE
A2: Stavka | B2: Opis | C2: Jedinica | E2: Cijena | F2: Cijena ukupno
B3: NAPOMENA:
A5: F.1. | B5: MJERENJE I NADZOR POTROŠNJE ELEKTRIČNE ENERGIJE
A7: =MID($A$5,3,5)&COUNTA($A5:A$6) -> 1.1 | B7: Dobava montaža i spajanje trofaznog indirektnog brojila potrošnje električne energije komplementarno s MID standardom, standardna serijska komunikacija
B8: ="kompl.st."&MID($A$5,3,5)&COUNTA($A5:A$6) -> kompl.st.1.1 | C8: kom | D8: 1 | F8: =D8*E8 -> 0
A10: =MID($A$5,3,5)&COUNTA($A$5:A8) -> 1.2 | B10: Dobava montaža i spajanje strujnog transformatora 400A/5A, 40x10
B11: ="kompl.st."&MID($A$5,3,5)&COUNTA($A$5:A9) -> kompl.st.1.2 | C11: kom | D11: 3 | F11: =D11*E11 -> 0
B13: =$A$5&" "&$B$5&" UKUPNO:" -> F.1. MJERENJE I NADZOR POTROŠNJE ELEKTRIČNE ENERGIJE UKUPNO: | F13: =SUM(F7:F12) -> 0
B15: UKUPNO bez PDV-a | F15: =F13 -> 0
B16: PDV
B17: SVEUKUPNO s PDV-om | F17: =F15+F16 -> 0

Sheet 3. OBNOVA OVOJNICE
A1: TROŠKOVNIK OBNOVE OVOJNICE ZGRADE
A2: Stavka | B2: Opis | C2: Jedinica | E2: Cijena | F2: Cijena ukupno
A4: I. | B4: PRIPREMNI RADOVI
A6: 1 | B6: Priprema gradilišta Priprema gradilišta koja uključuje zaštitu zgrade na način da tijekom radova ne dođe do oštećenja iste, osiguranje koridora za prolaz korisnika zgrade i njegova zaštita od šute i prašine, te osiguranje okoline kojom se sprečava prilaz nezaposlenima tijekom radova. Sav prostor za vrijeme i nakon rušenja i demontaža, te prilikom izvođenja novih konstrukcija zaštititi od vremenskih nepogoda (vlaženja, prokišnjavanja, rashlađivanja), te osigurati i zaštititi od ostalih uvjeta koji bi mogli ometati izvođenje radova vezani za postojeće instalacije (vodovod, odvodnja, grijanje, ventilacija, elekrika, plin i drugo). Sve radove treba izvoditi sukladno propisanim higijensko tehničkim mjerama zaštite na radu, tj. paziti na rad strojeva i alata, predvidjeti moguća urušavanja, te postaviti i održavati zaštitne oplate, ograde i skele, postaviti znakove upozorenja na opasnosti, te zaštititi fizičke osobe i objekt tijekom izveđenja radova.
B7: Stavka obuhvaća pregled, kontrolu mjera i veličina postojećeg stanja građevinske konstrukcije objekata, ispitivanje vertikalnosti i stabilnosti pročelja, pregled postojećeg stanja opreme, instalacija, te utvrđivanje točnih koridora instalacija u objektu i izvan objekta. Pipremne radove je obavezan izvršavati izvođač radova prije nego pristupi izvođenju i za vrijeme izvođenja radova. U pripremne radove uključiti i pregled projektne dokumentacije (građevinski i instalaterski dio) sa pripadajućim troškovnicima, a o svim nejasnoćama ili neusklađenostima pravovremeno izvjestiti investitora i projektanta. Obračun za izvođenje kompletnih pripremnih radove iz opisa stavke, po paušalnoj procjeni. | C7: komplet | D7: 1 | F7: =D7*E7 -> 0
A9: =A6+1 -> 2 | B9: Doprema, postava, skidanje i otprema cijevne fasadne skele od bešavnih cijevi. Skelu izvesti prema potrebi na pojedinim mikrolokacijama a prema postojećim HTZ propisima i u svemu kako je opisano u općim uvjetima. U jediničnu cijenu uključiti i zaštitni zastor od jutenih ili plastičnih traka, koje se postavljaju s vanjske strane skele po cijeloj površini. Skelu je potrebno osigurati od prevrtanja sidrenjem u objekat, a od udara groma uzemljenjem. Potrebno je izvesti pomočne željezne ili drvene ljestve – penjalice u svrhu osiguranja vertikalne komunikacije po skeli. Prije izvedbe skele izvođač je dužan izraditi projekt skele, što je u cijeni stavke. Obračun se vrši po m2 vertikalne projekcije površine skele.
B10: a) polaganje tunelske skele na terenu, visine do 3 m | C10: m2 | D10: 185 | F10: =D10*E10 -> 0
B11: b) polaganje skele na terenu. ukupna visina građevine do 32 m | C11: m2 | D11: 2160 | F11: =D11*E11 -> 0
B12: c) polaganje skele na već postavljenu tunelsku skelu na terenu. ukupna visina građevine do 17m | C12: m2 | D12: 785 | F12: =D12*E12 -> 0
B13: d) postavljanje skele na ravnom krovu, ukupna visina građevine do 16 m | C13: m2 | D13: 5000 | F13: =D13*E13 -> 0
B15: UKUPNO PRIPREMNI RADOVI | F15: =SUM(F7:F14) -> 0
A17: II. | B17: LIMARSKI RADOVI
A19: 1.PROČELJE - LIMARSKI RADOVI
A21: 1.1. | B21: Fasadni panel skrivenog spoja, d=8cm, na poziciji zida VZ1 i VZ4
B22: Dobava i montaža fasadnog izolacijskog panela skrivenog spoja, dvostruke hidro-termičke brtve na spoju, vanjski lim debljine 0,6 mm, u profilaciji po izboru projektanta, poliesterska boja debljine 25 my, po normi EN1042 i EN 10147-2000 ili jednakovrijedan. Širina panela 1000 mm.
B23: Izolacijska jezgra negoriva debljine 80 mm. Toplinska provodljivost izolacijske jezgre λ = 0,018 W/mK prema EN 14509:2013 ili jednakovrijedan, koja uključuje faktor starenja materijala.
B24: Koeficijent prolaska topline max. U = 0,25 W/m2K prema EN 14509:2013 ili jednakovrijedan s uračunatim gubicima na spojevima panela.
B25: Ral boja lima panela po izboru projektanta.
B26: Vatrootpornost panela: E30/EI15/EW30 prema EN 13501-2 ili jednakovrijedan.
B27: Reakcija na požar: B s1 d0
B28: razred reakcije na požar Euroklasa B prema normi EN 13501 ili jednakovrijedan
B29: - najviša, s1 klasa obzirom na razvoj dima
B30: - najviša, d0 klasa obzirom na goruće kapljice/otpale dijelove
B31: Tehničke karakteristike panela dokazati ovjerenom tvorničkom izjavom o svojstvima (DOP) te certifikatom o stalnosti svojstava na području EU izdanim od akreditirane certifikacijske kuće.
B32: Obavezna primjena svih propisanih uputa za montažu od strane proizvođača.
B33: Panel je s obje strane zaštićen sa PVC folijom, koja se u montaži odstranjuje.
... B35: U stavku uključen sav originalni spojni, brtveni i pričvrsni materijal i sl. prema uputama proizođača.
B36: Izvesti do pune funkcionalnosti. | C36: m2 | D36: 5350 | F36: =D36*E36 -> 0
A38: 1.2. | B38: Dobava, izrada i montaža kutnog vertikalnog opšava spoja dva panela prema standardnim detaljima proizvođača koji se izvode iz čeličnog plastificiranog lima, rš 60 cm debljine 0.60mm u boji prema RAL-u fasadnih panela sa svim spojnim i brtvenim materijalom prema uputstvima i detaljima proizvođača. Izvesti do pune funkcionalnosti.
B39: Obračun po m' opšava. | C39: m' | D39: 160 | F39: =D39*E39 -> 0
A41: 1.3. | B41: Dobava i montaža standardnog donjeg početnog opšava zida VZ1 i VZ4 prema standardnom detalju proizvođača panela za horizontalnu postavu panela sa termoizolacijskom ispunom koji se izvode iz čeličnog plastificiranog lima debljine 0.60mm sa svim spojnim i brtvenim materijalom prema uputstvima i detaljima proizvođača.
B42: Obračun po m2 ugrađenih panela.
B43: U stavku uključen sav originalni spojni, brtveni i pričvrsni materijal i sl. prema uputama proizođača. | C43: m' | D43: 370 | F43: =D43*E43 -> 0
B44: Izvesti do pune funkcionalnosti.
A46: 1.4. | B46: Dobava, izrada i montaža opšava oko otvora otvora u zidu VZ1 i VZ4 prema standardnim detaljima proizvođača koji se izvode iz čeličnog plastificiranog lima debljine 0.60mm u boji prema RAL-u fasadnih panela sa svim spojnim i brtvenim materijalom prema uputstvima i detaljima proizvođača. Izvesti do pune funkcionalnosti.
B47: Obračun po m' opšava. | C47: m' | D47: 300 | F47: =D47*E47 -> 0
A49: 1.5. | B49: Dobava i montaža omega profila za zatvaranje vertikalnog spoja horizontalne montaže panela zida VZ1 i VZ4 prema standardnom detalju proizvođača, boja prema RAL-u fasadnih panela uključivo sav spojni i brtveni materijal prema uputstvima i detaljima proizvođača. Obračun po m' profila
B50: Izvesti do pune funkcionalnosti. | C50: m' | D50: 370 | F50: =D50*E50 -> 0
A52: 1.6. | B52: Dobava i montaža fasadnog izolacijskog polikarbonatnog svjetlarnika skrivena spoja, debljine 38 mm. Širina panela 1000 mm. Koeficijent prolaska topline U = 1,26 W/m2K. Razika do debljine punog izolacijskog panela izvodi se originalnim alu profilima i sastavni je dio isporuke. Obavezna primjena svih propisanih uputa za montažu od strane proizvođača. Panel je s obje strane zaštićen sa PVC folijom, koja se u montaži odstranjuje. Obračun po m2 ugrađenih panela. U stavku uključen sav spojni, brtveni i pričvrsni materijal. | C52: m2 | D52: 2490 | F52: =D52*E52 -> 0
A54: 2. KROV - LIMARSKI RADOVI
A56: 2.1. | B56: Krovni panel, d=8 cm, pozicija krova KK1, sa ispunom od termoizolacije
B57: Dobava i montaža visokovalnog kompozitnog termoizolacijskog panela za ravne krovove kao , sastavljen od visokovalnog unutarnjeg lima debljine 1,1 mm i sa vanjske strane tvornički apliciranom PVC hidroizolacijskom membranom 1,5mm. Širina panela 1000 mm. Koeficijent prolaska topline U ≤ 0,3 W/m2K prema EN 14509:2013 ili jednakovrijedan. Izolacijska jezgra negoriva, na tanjem dijelu debljine 80 mm.
B58: Na bočnom spoju tvornički aplicirana antikondenzacijska traka od standardne PE mase. Boja lima panela RAL 9002 ili jednakovrijedan. Priložiti certifikat svih tehničkih karakteristika panela. Vatrootpornost panela: REI30 ili jednakovrijedan. Obavezna primjena svih propisanih uputa za montažu od strane proizvođača. Obračun po m2 ugrađenih panela. U stavku uključen sav originalni spojni i pričvrsni materijal, EPDM brtve i podlošci.
B59: Obračun po m2 panela. | C59: m2 | D59: 4775 | F59: =D59*E59 -> 0
A61: 2.2. | B61: Dobava, izrada i montaža opšava sljemena krova K1 prema standardnom detalju proizvođača koji se izvode iz čeličnog plastificiranog lima rš 50 cm debljine 0.60mm u boji po RAL-u krovnih panela sa svim spojnim i brtvenim materijalom da bi se postigla potpuna vodonepropusnost i zrakonepropusnost sljemenog spoja po uputama proizvođača. Izvesti do pune funkcionalnosti.Obračun po m'. | C61: m1 | D61: 140 | F61: =D61*E61 -> 0
A63: 2.3. | B63: Dobava, izrada i montaža opšava krovnih kupola krova K1 prema standardnom detalju proizvođača koji se izvode iz čeličnog plastificiranog lima rš 60 cm debljine 0.60mm u boji po RAL-u krovnih panela sa svim spojnim i brtvenim materijalom da bi se postigla potpuna vodonepropusnost i zrakonepropusnost spoja po uputama proizvođača. Izvesti do pune funkcionalnosti.Obračun po m'. | C63: m1 | D63: 90 | F63: =D63*E63 -> 0
A65: 2.4. | B65: Dobava i izvedba standardnog detalja proizvođača spoja kosine krova K1 sa fasadom Z1 i Z4. Spoj se sastoji od opšava koji se izvodi iz čeličnog plastificiranog lima rš 60 cm debljine 0.60mm u boji po RAL-u krovnih panela, sa svim potrebnim brtvenim i spojnim materijalom. Sve izvesti prema uputstvima i detaljima proizvođača. Izvesti do pune funkcionalnosti. Obračun po m'. | C65: m1 | D65: 360 | F65: =D65*E65 -> 0
A67: 2.5. | B67: Dobava, izrada i montaža pravokutnog horizontalnog žlijeba prema standardnom detalju proizvođača koji se izvodi iz čeličnog plastificiranog lima debljine 0.60mm u boji po RAL-u fasadnih panela prema uputstvima i detaljima proizvođača. U cijenu uključiti držače te sav spojni i brtveni materijal:
B68: Izvesti do pune funkcionlanosti. Obračun po m'
B69: dimenzija 15/15cm RŠ 90cm | C69: m1 | D69: 980 | F69: =D69*E69 -> 0
A71: 2.6. | B71: Dobava, izrada i montaža vertikalnog žlijeba Ø150mm prema standardnom detalju koji se izvodi iz čeličnog plastificiranog lima debljine 0.60mm u boji prema RAL-u krovnih panela prema uputstvima i detaljima proizvođača. U cijenu uključiti i potrebne nosače žlijeba uključivo sav spojni i brtveni materijal.
B72: a. Vertikalni žljeb obračun po m' | C72: m1 | D72: 360 | F72: =D72*E72 -> 0
B73: b.spojni element horizontalne i vertikalne odvodnje | C73: kom | D73: 22 | F73: =D73*E73 -> 0
B74: c. Koljeno za etažiranje vertikalne odvodnje | C74: kom | D74: 44 | F74: =D74*E74 -> 0
A76: 2.7. | B76: Dobava, izrada i montaža opšava krova KK1 sa vertiklanom polikarbonatnom stijenom prema standardnom detalju proizvođača koji se izvode iz čeličnog plastificiranog lima rš 60 cm debljine 0.60mm u boji po RAL-u krovnih panela sa svim spojnim i brtvenim materijalom da bi se postigla potpuna vodonepropusnost i zrakonepropusnost spoja po uputama proizvođača. Izvesti do pune funkcionalnosti.Obračun po m'. | C76: m1 | D76: 46 | F76: =D76*E76 -> 0
B78: UKUPNO LIMARSKI RADOVI | F78: =SUM(F36:F77) -> 0
A80: III. | B80: DEMONTAŽNI I MONTAŽNI RADOVI
A82: 1. | B82: Demontaža i ponovna montaža kliznih vrata u zidovima VZ1 i VZ4
B83: a) vrata veličine do 210 m2 | C83: kom | D83: 2 | F83: =D83*E83 -> 0
B84: b) vrata veličine do 20 m2 | C84: kom | D84: 2 | F84: =D84*E84 -> 0
B86: UKUPNO DEMONTAŽNI I MONTAŽNI RADOVI | F86: =F83+F84 -> 0
A88: TROŠKOVNIK GRAĐEVINSKO - OBRTNIČKIH RADOVA
A90: REKAPITULACIJA GRAĐEVINSKO – OBRTNIČKIH RADOVA GLAVNI PROJEKT ENERGETSKE OBNOVE
A91: POSTOJEĆA ZGRADA, OBJEKT 1057, poznatija kao hala Brodosplita - Brodogradilišta specijalnij objekata d.o.o.l s pripadajućom dogradnjom
A93: I | B93: PRIPREMNI RADOVI | F93: =F15 -> 0
A94: II | B94: LIMARSKI RADOVI | F94: =F78 -> 0
A95: III | B95: DEMONTAŽNI I MONTAŽNI RADOVI | F95: =F86 -> 0
B97: UKUPNO bez PDV-a | F97: =SUM(F93:F95) -> 0
B98: PDV
B99: SVEUKUPNO s PDV-om | F99: =F97+F98 -> 0

Sheet 4. ODSISNA VENTILACIJA S REK.
A1: TROŠKOVNIK ODSISNE VENTILACIJE SA REKUPERATOROM
A2: Stavka | B2: Opis | C2: Jedinica | E2: Cijena | F2: Cijena ukupno
B3: ODSISNA VENTILACIJA SA REKUPERATOROM
A5: 1. | B5: VENTILATOR
A7: 1.1. | B7: Dobava, isporuka i montaža ventilatora protoka min. 24.000 m3 /h pri 4.500 Pa Napajanje: 400/690V, 50 Hz Direktni pogon D04 Motor Standard IEC ili jednakovrijedan Snaga motora: max. 50 kW Frekvencijski kontroliran motor Temperatura plinova: -20 to +80 °C Težina ventilatora: ne više od 770 kg Maksimalna brzina rotacije: max RPM 2068 Termička zaštita: 3xPTC | C7: kom | D7: 1 | F7: =E7*D7 -> 0
A9: 1.2. | B9: Dobava, isporuka i montaža pneumatskog crijeva dužine 100m
B10: 6/4 mm | C10: kom. | D10: 4 | F10: =D10*E10 -> 0
A12: 2. | B12: FILTER
A14: 2.1. | B14: Dobava, isporuka i montaža filtera za dimove nastale prilikom zavarivanja - Vodonepropusna konstrukcija - Protok: min.24.000 m3/h - Sistem za održavanje konstantnog tlaka i za vrijeme automatskog čišćenja filtera te smanjenu potrebu za komprimiranim zrakom. - Integrirani inverter za regulaciju brzine motora | C14: kom | D14: 1 | F14: =E14*D14 -> 0
A16: 3. | B16: SPOJEVI, KONEKTORI, VENTILI
A18: 3.1. | B18: Dobava, isporuka i montaža muška spojnice:
B19: ø 100 mm | C19: kom. | D19: 53 | F19: =D19*E19 -> 0
B20: ø 160 mm | C20: kom. | D20: 35 | F20: =D20*E20 -> 0
B21: ø 200 mm | C21: kom. | D21: 19 | F21: =D21*E21 -> 0
B22: ø 250 mm | C22: kom. | D22: 40 | F22: =D22*E22 -> 0
B23: ø 315 mm | C23: kom. | D23: 11 | F23: =D23*E23 -> 0
B24: ø 400 mm | C24: kom. | D24: 16 | F24: =D24*E24 -> 0
B25: ø 500 mm | C25: kom. | D25: 71 | F25: =D25*E25 -> 0
B26: ø 630 mm | C26: kom. | D26: 4 | F26: =D26*E26 -> 0
A28: 3.2. | B28: Dobava, isporuka i montaža redukcijskih spojeva:
B29: ø 160 100 mm | C29: kom. | D29: 18 | F29: =D29*E29 -> 0
B30: ø 200 160 mm | C30: kom. | D30: 17 | F30: =D30*E30 -> 0
B31: ø 250 160 mm | C31: kom. | D31: 1 | F31: =D31*E31 -> 0
B32: ø 250 200 mm | C32: kom. | D32: 15 | F32: =D32*E32 -> 0
B33: ø 315 200 mm | C33: kom. | D33: 2 | F33: =D33*E33 -> 0
B34: ø 315 250 mm | C34: kom. | D34: 8 | F34: =D34*E34 -> 0
B35: ø 400 250 mm | C35: kom. | D35: 4 | F35: =D35*E35 -> 0
B36: ø 400 315 mm | C36: kom. | D36: 2 | F36: =D36*E36 -> 0
B37: ø 500 315 mm | C37: kom. | D37: 3 | F37: =D37*E37 -> 0
B38: ø 500 400 mm | C38: kom. | D38: 3 | F38: =D38*E38 -> 0
B39: ø 630 500 mm | C39: kom. | D39: 7 | F39: =D39*E39 -> 0
A41: 3.3. | B41: Dobava, isporuka i montaža T-SPOJEVA:
B42: ø 100 mm | C42: kom. | D42: 9 | F42: =D42*E42 -> 0
B43: ø 160 mm | C43: kom. | D43: 17 | F43: =D43*E43 -> 0
B44: ø 200 mm | C44: kom. | D44: 12 | F44: =D44*E44 -> 0
B45: ø 250 mm | C45: kom. | D45: 11 | F45: =D45*E45 -> 0
B46: ø 315 mm | C46: kom. | D46: 5 | F46: =D46*E46 -> 0
B47: ø 400 mm | C47: kom. | D47: 4 | F47: =D47*E47 -> 0
B48: ø 500 mm | C48: kom. | D48: 3 | F48: =D48*E48 -> 0
B49: ø 630 mm | C49: kom. | D49: 3 | F49: =D49*E49 -> 0
A51: 3.4. | B51: Dobava, isporuka i montaža KOLJENA 90°:
B53: ø 100 mm | C53: kom. | D53: 18 | F53: =D53*E53 -> 0
B54: ø 250 mm | C54: kom. | D54: 2 | F54: =D54*E54 -> 0
B55: ø 315 mm | C55: kom. | D55: 1 | F55: =D55*E55 -> 0
B56: ø 500 mm | C56: kom. | D56: 7 | F56: =D56*E56 -> 0
B57: ø 630 mm | C57: kom. | D57: 3 | F57: =D57*E57 -> 0
A59: 3.5. | B59: Dobava, isporuka i montaža VENTILA SA KLAPNOM NA OPRUGU:
B60: ø 100 mm | C60: kom. | D60: 61 | F60: =D60*E60 -> 0
A62: 3.6. | B62: Dobava, isporuka i montaža SPIRO CIJEVI ZA ODSIS ZRAKA, DUŽINA 3m
B63: ø 100 mm | C63: kom. | D63: 56 | F63: =D63*E63 -> 0
B64: ø 160 mm | C64: kom. | D64: 53 | F64: =D64*E64 -> 0
B65: ø 200 mm | C65: kom. | D65: 38 | F65: =D65*E65 -> 0
B66: ø 250 mm | C66: kom. | D66: 54 | F66: =D66*E66 -> 0
B67: ø 315 mm | C67: kom. | D67: 15 | F67: =D67*E67 -> 0
B68: ø 400 mm | C68: kom. | D68: 18 | F68: =D68*E68 -> 0
B69: ø 500 mm | C69: kom. | D69: 70 | F69: =D69*E69 -> 0
B70: ø 630 mm | C70: kom. | D70: 5 | F70: =D70*E70 -> 0
A72: 4. | B72: USISNA CRIJEVA
A74: 4.1. | B74: Dobava, isporuka i montaža PVC USISNOG CRIJEVA DUŽINE 5 M:
B75: ø 100 mm | C75: kom. | D75: 60 | F75: =D75*E75 -> 0
B76: ø 80 mm | C76: kom. | D76: 60 | F76: =D76*E76 -> 0
A78: 4.2. | B78: Dobava, isporuka i montaža KONEKTORA:
B79: ø 100 - ø 80 mm | C79: kom. | D79: 30 | F79: =D79*E79 -> 0
B80: ø 80 - ø 80 mm | C80: kom. | D80: 30 | F80: =D80*E80 -> 0
B81: ø100 - ø 100mm | C81: kom. | D81: 30 | F81: =D81*E81 -> 0
A83: 4.3. | B83: Dobava, isporuka i montaža USISNOG PLASTIČNOG NASTAVKA S MAGNETOM 260x100mm:
B84: ø 80 | C84: kom. | D84: 30 | F84: =D84*E84 -> 0
A86: 5. | B86: KONTROLNI PANELI / STARTERI
A88: 5.1. | B88: Dobava, isporuka i montaža glavnog prekidača za Inverterski ventilator, EMC, max 50,0 kW(400V) | C88: kom | D88: 1 | F88: =E88*D88 -> 0
A90: 6. | B90: REKUPERACIJA OTPADNE TOPLINE ZRAKA
A92: 6.1. | B92: Dobava, isporuka i montaža jedinice za dovod i odvod zraka s povratom topline sljedećih karakteristika:
B93: Nominalna količina zraka: min. 11000 m³/h Protok zraka: min. 11000 m³/h Električna snaga: max. 8 kW
B94: Grijanje Temperaturna učinkovitost: min. 59 % Povrat energije u grijanju: min. 49,8 kW | C94: kom | D94: 2 | F94: =E94*D94 -> 0
A96: 6.2. | B96: Puštanje u pogon ventilacijskog sustava, te rekuperatora topline. Obuka osoblja za rukovanje sustavom, izrada primopredajnog protokola. | C96: kom | D96: 1 | F96: =E96*D96 -> 0
A98: 6.3. | B98: Dobava, isporuka, postavljanje i spajanje kabela FG16OR16 5×6mm2 u kompletu s zaštitnom cijevi SAPA St 40, uključujući sav spojni i montažni pribor za spajanje ormara. | C98: m | D98: 200 | F98: =D98*E98 -> 0
A100: 6.4. | B100: Dobava, isporuka, postavljanje i spajanje kabela FG16OR16 4x35mm2 u kompletu s zaštitnom cijevi SAPA St 40, uključujući sav spojni i montažni pribor za spajanje ormara. | C100: m | D100: 100 | F100: =D100*E100 -> 0
A102: 6.5. | B102: Dobava postavljanje i spajanje kabela te izvoda za priključak oreme u polju sa EMP-DDC razdjelnim ormarom . Stavku računati komplet polaganjem, te uvlačenjem kabela u zaštitne instalacione cijevi:
B103: BUS kabel J-Y(ST)-Y 2x2x0.8 | C103: m | D103: 100 | F103: =D103*E103 -> 0
A105: 6.6. | B105: Dobava, isporuka, postavljanje i povezivanje novog EMP+DDC ormara, sa ispitivanjem i izdavanjem atesta:
B106: osigurač-rastavna sklopka za osigurače veličine 00, vertikalna, 3-p, visoki priključci, 1 kom
B107: uložak osigurača gG/gL 500V 80A 00, 3 kom
B108: Redne stezaljke - prema shemi - koristiti katne redne stezaljke
B109: Stavka uključuje dogradnju postojećeg razdjelnika u polju sa kojeg se predviđa napajanje novog EMP+DDC ormara, s dobavom i isporukom spojnog i montažnog materijala. | C109: kpl. | D109: 1 | F109: =D109*E109 -> 0
A111: 6.7. | B111: Dobava, isporuka, postavljanje i povezivanje novog EMP+DDC ormara, sa ispitivanjem i izdavanjem atesta:
B112: osigurač-rastavna sklopka za osigurače veličine 00, vertikalna, 3-p, visoki priključci, 1 kom
B113: uložak osigurača gG/gL 500V 25A 00, 3 kom
B114: Redne stezaljke - prema shemi - koristiti katne redne stezaljke
B115: Stavka uključuje dogradnju postojećeg razdjelnika u polju sa kojeg se predviđa napajanje novog EMP+DDC ormara, s dobavom i isporukom spojnog i montažnog materijala. | C115: kpl. | D115: 2 | F115: =D115*E115 -> 0
A117: 6.8. | B117: Dobava materijala i izrada postolja jedinica dobavnih i odsisnih kanala između jedinica i filterske sekcije. | C117: kpl | D117: 2 | F117: =E117*D117 -> 0
A119: 6.9. | B119: Dobava, isporuka i instalacija varijabilnog protoka koji omogućuju regulaciju količine dovedenog ili odvedenog zraka u sustavima ventilacije. Reguliraju protok zraka u kanalu, neovisno o tlaku u sustavu. Regulatori su prikladni za ugradnju blizu koljena ili račvi, neosjetljivi su na povratno strujanje i turbulencije. Prikladni su za niske brzine strujanja od 0,6 - 6 m/s. Opremljeni su klemama za spajanje žica, gumbom za ispitivanje rada pogona, signaizacijskom lampicom i potenciometrima na kojima se može namjestiti Vmin-Vmax. Sastoje se od kućišta, zaklopke, osjetnika razlike tlaka i elektromotornog pogona. Propuštanje zatvorene lopatice prema EN 1751, klasa 2 ili jedankovrijedan, propuštanje kućišta prema EN 1751, klasa C ili jednakovrijedan. | C119: kom | D119: 2 | F119: =E119*D119 -> 0
A121: 6.10. | B121: Dobava, isporuka i ugradnja spiro kanala za razvod zraka izrađeni iz pocinčanog lima. | C121: kg | D121: 2200 | F121: =D121*E121 -> 0
B122: NAPOMENA:
B123: U cijenu ventilacijskih kanala potrebno je uključiti:
B124: Fazonske komade za dovod i odvod zraka, izrađene iz pocinčanog čaličnog lima, kao odvojke, lukove, grananja, prijelazne komade, debljine prema standardima, ovisno o dimenzijama.
A126: 7. | B126: Dobava, isporuka i ugradnja zavjesnog, pričvrsnog i brtvenog materijala za spajanje i montažu pravokutnih kanala. Brtvljenje sekcija kanala izvesti zrakonepropusno pomoću negorive teka-strip ili dec trake. | C126: kg | D126: 600 | F126: =D126*E126 -> 0
A128: 8. | B128: Dobava materijala, izrada i ugradnja konzola i nosača. Izrađuju se na licu mjesta prilikom montaže od čeličnih profila, lima, šipki i slično, te zaštićuju dvostrukim premazom temeljne boje i jednim premazom laka.
B129: - težina profila i sl. | C129: kg | D129: 500 | F129: =D129*E129 -> 0
B130: - površina za ličenje | C130: m2 | D130: 50 | F130: =D130*E130 -> 0
A132: 9. | B132: Dobava, isporuka i ugradnja toplinske izolacije limenih kanala svježeg, obrađenog i povratnog uzduha izolacijom, kvalitete prema HRN DIN 4102 - dio 1/klasifikacija B1 (N.N. broj 69/97) ili jednakovrijedan. Materijal izolacije mora imati parnu branu i slijedeće termodinamičke karakteristike: toplinska vodljivost kod 0oC: l (W/moC) £ 0,036, koef. otpora difuziji vodene pare: m ³ 7.500, te temperaturno područje primjene (-200) - 40 ¸ 105oC. Stavka uključuje potrebnu količinu ljepila te završne originalne trake za spojeve.
B133: izolacijski materijal (s = 25 mm) | C133: m2 | D133: 250 | F133: =D133*E133 -> 0
...

Sheet 5. RASVJETA
A1: TROŠKOVNIK VANJSKE RASVJETE
A2: Stavka | B2: Opis | C2: Jedinica | E2: Cijena | F2: Cijena ukupno
A3: F.1. | B3: INSTALACIJA VANJSKE RASVJETE
A5: =MID($A$3,3,5)&COUNTA($A$3:A3) -> 1.1 | B5: Demontaža postojećih svjetiljki sa postojećih pozicija uz pomoć hidrauličke dizalice u cijelosti te zbrinjavanje prema zakonskoj regulativi. U cijeni stavke uključena demontaža i zbrinjavanje prema zakonskoj regulativi postojećih stupnih spojnih kabela i razdjelnica. | C5: kom | D5: 8 | F5: =D5*E5 -> 0
A7: =MID($A$3,3,5)&COUNTA($A$3:A5) -> 1.2 | B7: Dobava i ugradnja LED svjetiljke za ugradnju na krak ili direktno na vrh stupa, metalno kućište. IP66, IK09 zaštita svjetiljke, klasa izolacije II ili jednakovrijedan. Sustav raspršavanja svjetlosti pojedinačnim optičkim visokopropusnim lećama i dodijeljenim LED diodama radi zadržavanja jednolikosti rasvjetljenosti površine pri režimu rada pojedinačnih LED dioda. Izmjenjivi sustav leća i dioda u postojećem kućištu svjetiljke. Napajanje svjetiljke odvojeno od optičkog dijela svjetiljke u kućištu IP66 ili jedankovrijedan, omogućena zamjena napajanja po servisu. Asimetrična raspodjela svjetlosti. Faktor snage >0.95. Indeks uzvrata boje minimalno 70, radna temperatura od -25°C do +60°C. Napon: 230 VAC +- 10%. Snaga 50W +-5%, minimalna učinkovitost nakon gubitaka u kućištu i lećama: 125lm/W.
B8: Ugrađena zasebna prenaponska zaštita svjetiljke 10 kV. Max. masa svjetiljke komplet sa montažnim nastavkom i napajanjem: 6 kg. | C8: kom | D8: 4 | F8: =D8*E8 -> 0
A10: =MID($A$3,3,5)&COUNTA($A$3:A8) -> 1.3 | B10: Dobava i ugradnja LED svjetiljke za vanjsku ugradnju, metalno kućište. IP66 i IK09 stupanj zaštite ili jednakovrijedan Napajanje svjetiljke odvojeno od optičkog dijela svjetiljke u kućištu IP66 ili jednakovrijedan, omogućena zamjena napajanja po servisu. Faktor snage >0.95. Indeks uzvrata boje minimalno 70, radna temperatura od -25°C do +50°C. Napon: 230 VAC +- 10%. Maksimalna Snaga 240W +-5%, kut rasprostiranja svijetla 60°
B11: Ugrađena zasebna prenaponska zaštita svjetiljke 10 kV. Max. masa svjetiljke komplet sa montažnim nastavkom i napajanjem: 13 kg. | C11: kom | D11: 4 | F11: =D11*E11 -> 0
A15: =MID($A$3,3,5)&COUNTA($A$3:A14) -> 1.4 | B15: Dobava, polaganje i spajanje kabela NYY 3x1,5, dužine do 15m, do pune funkcionalnosti rasvjetnih tijela. | C15: kom | D15: 8 | F15: =D15*E15 -> 0
B17: =$A$3&" "&$B$3&" UKUPNO:" -> F.1. INSTALACIJA VANJSKE RASVJETE UKUPNO: | F17: =SUM(F3:F16) -> 0
B19: UKUPNO bez PDV-a | F19: =F17 -> 0
B20: PDV
B21: SVEUKUPNO s PDV-om | F21: =F19+F20 -> 0

Sheet 6. ZAMJENA LIFTA
A1: TROŠKOVNIK ZAMJENE DIZALA
A2: Stavka | B2: Opis | C2: Jedinica | E2: Cijena | F2: Cijena ukupno
A3: I. | B3: RADOVI NA DEMONTAŽI POSTOJEĆEG DIZALA
A5: =MID($A$3,3,5)&COUNTA($A$3:A3) -> 1 | B5: Demontaža postojećeg dizala sa strojarnicom iznad voznog okna. Nosivost postojećeg dizala je 1900 kg (kabina s povećanom površinom poda). Dizalo ima 2 postaje / 2 ulaza (oba ulaza su na istoj strani), visina dizanja je 14 m. Reduktorski elektromotor i upravljački ormar smješteni su u strojarnici. Demontaža uključuje kompletno sve elemente postojećeg dizala, te uklanjanje temelja pogonskog stroja u strojarnici. Postojeće dizalo potrebno je demonitirati i zbrinuti prema zakonskoj regulativi. Obračun po komplet demontiranom dizalu. | C5: komplet | D5: 1 | F5: =D5*E5 -> 0
A7: II. | B7: RADOVI NA UGRADNJI NOVOG DIZALA
A9: 2 | B9: Isporuka i ugradnja novog dizala sa strojarnicom iznad voznog okna. Novo dizalo ima sljedeće tehničke karakteristike : nosivost dizala minimalno 1150 kg, brzina vožnje minimalno 1,0 m/s, frekvencijski regulirana. Visina dizanja 14 m. Dizalo ima 2 postaje / 2 ulaza (oba ulaza su na istoj strani). Između postaja postavljena su dodatna vrata za pristup voznom oknu u svrhu nužnog izlaza. Pogon dizala je električni bezreduktorski, elektromotor snage do 8 kW. Pogonski elektromotor je postavljen na nosivi čelični okvir koji je učvršćen na vodilicama kabine i protuutega i nalazi se u strojarnici dizala. El. ormar s grupom upravljanja također je smješten u strojarnici dizala. Vrsta upravljanja : mikroprocesorsko, pozivno, automatska vožnja u bližu stanicu u slučaju nestanka stalnog napajanja električnom energijom. Požarni režim rada - dizalo po dojavi o požaru vozi u glavnu stanicu (0) i otvara vrata koja u takvom položaju ostaju do resetiranja vatrodojavnog sustava. Signalizacija po stanicama : potvrda zadanog poziva, digitalni pokazivač položaja kabine, digitalni pokazivač smjera daljnje vožnje, zvučni signal dolaska kabine u stanicu. Signalizacija u kabini: potvrde zadane naredbe, digitalni pokazivač položaja kabine, digitalni pokazivač smjera daljnje vožnje, zvučni i optički signal preopterećenja kabine, zvučni signal “alarm“. Vrata voznog okna izvedena su kao automatska teleskopska dvokrilna, dimenzije svijetlog otvora 900 x 2000 mm, izvedena iz nehrđajućeg čeličnog lima u vatrootpornoj izvedbi EI 60 ili jednakovrijedan.
B10: Kabina je dimenzija: širina 1200 mm, dužina 2100 mm, visina 2200 mm. Stranice kabine su izvedene iz nehrđajućeg čeličnog lima, pod iz protuklizne obloge, strop iz nehrđajućeg čeličnog lima sa integriranom LED rasvjetom. Kabina je opremljena ventilatorom, rukohvatima iz nehrđajućeg čeličnog lima, svjetlosnom zavjesom, govornom vezom s upravljačkim ormarom, upravljačkom kutijom s tipkalima na Braill pismu, dvosmjernom komunikacijom sa spasilačkom službom (telealarm), tipkalima otvaranja i zatvaranja vrata, tipkalom "ALARM", nužnom rasvjetom. Vrata kabine su automatska teleskopska, dvokrilna, dimenzije svijetlog otvora 900 x 2000 mm, izvedena iz nehrđajućeg čeličnog lima.
B11: Isporuka glavnog strojarskog projekta dizala, tehnički pregled od ovlaštene organizacije, te izdavanje potvrde o tehničkoj ispravnosti i predaja dizala Investitoru. | C11: komplet | D11: 1 | F11: =D11*E11 -> 0
A13: III. | B13: RADOVI NA IZVEDBI NUŽNOG IZLAZA
A15: 3 | B15: Isporuka i ugradnja metalnih ljestvi i podesta u svrhu pristupa voznom oknu zbog nužnog izlaza. Montaža uključuje kompletno sve elemente za izvedbu uz svu potrebnu prateću dokumentaciju koju je potrebno dostaviti Investitoru. | C15: komplet | D15: 1 | F15: =E15*D15 -> 0
B18: UKUPNO bez PDV-a | F18: =SUM(F5:F15) -> 0
B19: PDV
B20: SVEUKUPNO s PDV-om | F20: =F18+F19 -> 0

Sheet REKAPITULACIJA
A1: REKAPITULACIJA OBJEDINJENOG TROŠKOVNIKA
A3: RB STAVKE | B3: RB MJERE | C3: NAZIV MJERE | D3: UKUPNA CIJENA BEZ PDV-a [kn]
A4: 1 | B4: P9 | C4: FOTONAPONSKE ELEKTRANE U INDUSTRIJSKOM SEKTORU | D4: ='1. FN'!F375 -> 0
A5: 2 | B5: P10 | C5: UVOĐENJE SUSTAVA ZA UPRAVLJANJE ENERGIJOM - Mjerenje i nadzor potrošnje električne energije | D5: ='2. MJERENJE'!F15 -> 0
A6: 3 | B6: Z1 | C6: OBNOVA TOPLINSKE IZOLACIJE POJEDINIH DIJELOVA OVOJNICE ZGRADA - Obnova ovojnica zgrade (hala BSO-a) | D6: ='3. OBNOVA OVOJNICE'!F97 -> 0
A7: 5 | B7: Z3 | C7: OSTALO - Zamjena energetski neučinkovite ventilacije uz rekuperaciju otpadnog zraka | D7: ='4. ODSISNA VENTILACIJA S REK.'!F144 -> 0
A8: 4 | B8: Z2 | C8: ZAMJENA, POBOLJŠANJE ILI INSTALACIJA NOVIH RASVJETNIH SUSTAVA I NJEGOVIH KOMPONENTI U ZGRADAMA USLUŽNOG I INDUSTRIJSKOG SEKTORA | D8: ='5. RASVJETA'!F19 -> 0
A9: 6 | B9: Z4 | C9: OSTALO- Zamjena energetski neučinkovitog lifta | D9: ='6. ZAMJENA LIFTA'!F18 -> 0
C10: UKUPNO BEZ PDV-a / EUR | D10: =SUM(D4:D9) -> 0
C12: PDV / EUR | D12: ='1. FN'!F376+'2. MJERENJE'!F16+'3. OBNOVA OVOJNICE'!F98+'4. ODSISNA VENTILACIJA S REK.'!F145+'5. RASVJETA'!F20+'6. ZAMJENA LIFTA'!F19 -> 0
C14: SVEUKUPNO s PDV-om / EUR | D14: =D10+D12 -> 0
